Workbook

Sheet Instrucciones
B2: Control de asistencia
B3: Plantilla gratuita de PlantillasDeCalculo.com
B5: CÓMO USARLA
B6: 1. Escribe la lista de alumnos y, en la fila gris, la fecha de cada sesión.
B7: 2. Marca cada casilla con A, F, J o R. Tienes desplegable en todas.
B8: 3. Las faltas se pintan en rojo, los retrasos en ámbar y las justificadas en azul.
B9: 4. Si un día no hubo clase, deja la columna vacía: no cuenta para el porcentaje de nadie.
B10: 5. El porcentaje de asistencia cuenta como presente al que llegó tarde, y se calcula solo sobre las sesiones registradas.
B11: 6. Por debajo del 80 % el alumno se marca en rojo. «Resumen» te dice cuántos están en esa situación.
B13: LEYENDA DE COLORES
B14: Fondo crema y texto azul — lo escribes tú
B15: Texto verde — se calcula solo, no lo toques
... B23: No afiliado a Microsoft. Excel® es una marca registrada de Microsoft Corporation.

Sheet Listas
A1: Código
A2: A
A3: F
A4: J
A5: R

Sheet Asistencia
B2: CONTROL DE ASISTENCIA
B4: Códigos: A = asistió · F = falta sin justificar · J = falta justificada · R = retraso. Deja la casilla vacía si ese día no hubo clase.
B5: Nº | C5: Apellidos y nombre | D5: S1 | E5: S2 | F5: S3 | G5: S4 | H5: S5 | I5: S6 | J5: S7 | K5: S8 | L5: S9 | M5: S10 | N5: S11 | O5: S12 | P5: S13 | Q5: S14 | R5: S15 | S5: S16 | T5: S17 | U5: S18 | V5: S19 | W5: S20 | X5: S21 | Y5: S22 | Z5: S23 | AA5: S24 | AB5: S25 | AC5: S26 | AD5: S27 | AE5: S28 | AF5: S29 | AG5: S30 | AH5: Faltas | AI5: Justif. | AJ5: Retrasos | AK5: % asistencia
B6: Fecha de cada sesión → | D6: 46280 | E6: 46282 | F6: 46287
B7: 1 | C7: Álvarez Ruiz, Marta | D7: A | E7: A | F7: A | AH7: =IF(C7="","",COUNTIF(D7:AG7,"F")) -> 0 | AI7: =IF(C7="","",COUNTIF(D7:AG7,"J")) -> 0 | AJ7: =IF(C7="","",COUNTIF(D7:AG7,"R")) -> 0 | AK7: =IF(OR(C7="",COUNTA(D7:AG7)=0),"",(COUNTIF(D7:AG7,"A")+COUNTIF(D7:AG7,"R"))/COUNTA(D7:AG7)) -> 1
B8: 2 | C8: Benítez Soto, Iván | D8: A | E8: F | F8: F | AH8: =IF(C8="","",COUNTIF(D8:AG8,"F")) -> 2 | AI8: =IF(C8="","",COUNTIF(D8:AG8,"J")) -> 0 | AJ8: =IF(C8="","",COUNTIF(D8:AG8,"R")) -> 0 | AK8: =IF(OR(C8="",COUNTA(D8:AG8)=0),"",(COUNTIF(D8:AG8,"A")+COUNTIF(D8:AG8,"R"))/COUNTA(D8:AG8)) -> 0.33333333
B9: 3 | C9: Cano Puig, Laia | D9: A | E9: J | F9: R | AH9: =IF(C9="","",COUNTIF(D9:AG9,"F")) -> 0 | AI9: =IF(C9="","",COUNTIF(D9:AG9,"J")) -> 1 | AJ9: =IF(C9="","",COUNTIF(D9:AG9,"R")) -> 1 | AK9: =IF(OR(C9="",COUNTA(D9:AG9)=0),"",(COUNTIF(D9:AG9,"A")+COUNTIF(D9:AG9,"R"))/COUNTA(D9:AG9)) -> 0.66666667
B10: 4 | AH10: =IF(C10="","",COUNTIF(D10:AG10,"F")) | AI10: =IF(C10="","",COUNTIF(D10:AG10,"J")) | AJ10: =IF(C10="","",COUNTIF(D10:AG10,"R")) | AK10: =IF(OR(C10="",COUNTA(D10:AG10)=0),"",(COUNTIF(D10:AG10,"A")+COUNTIF(D10:AG10,"R"))/COUNTA(D10:AG10))
B11: 5 | AH11: =IF(C11="","",COUNTIF(D11:AG11,"F")) | AI11: =IF(C11="","",COUNTIF(D11:AG11,"J")) | AJ11: =IF(C11="","",COUNTIF(D11:AG11,"R")) | AK11: =IF(OR(C11="",COUNTA(D11:AG11)=0),"",(COUNTIF(D11:AG11,"A")+COUNTIF(D11:AG11,"R"))/COUNTA(D11:AG11))
B12: 6 | AH12: =IF(C12="","",COUNTIF(D12:AG12,"F")) | AI12: =IF(C12="","",COUNTIF(D12:AG12,"J")) | AJ12: =IF(C12="","",COUNTIF(D12:AG12,"R")) | AK12: =IF(OR(C12="",COUNTA(D12:AG12)=0),"",(COUNTIF(D12:AG12,"A")+COUNTIF(D12:AG12,"R"))/COUNTA(D12:AG12))
B13: 7 | AH13: =IF(C13="","",COUNTIF(D13:AG13,"F")) | AI13: =IF(C13="","",COUNTIF(D13:AG13,"J")) | AJ13: =IF(C13="","",COUNTIF(D13:AG13,"R")) | AK13: =IF(OR(C13="",COUNTA(D13:AG13)=0),"",(COUNTIF(D13:AG13,"A")+COUNTIF(D13:AG13,"R"))/COUNTA(D13:AG13))
B14: 8 | AH14: =IF(C14="","",COUNTIF(D14:AG14,"F")) | AI14: =IF(C14="","",COUNTIF(D14:AG14,"J")) | AJ14: =IF(C14="","",COUNTIF(D14:AG14,"R")) | AK14: =IF(OR(C14="",COUNTA(D14:AG14)=0),"",(COUNTIF(D14:AG14,"A")+COUNTIF(D14:AG14,"R"))/COUNTA(D14:AG14))
B15: 9 | AH15: =IF(C15="","",COUNTIF(D15:AG15,"F")) | AI15: =IF(C15="","",COUNTIF(D15:AG15,"J")) | AJ15: =IF(C15="","",COUNTIF(D15:AG15,"R")) | AK15: =IF(OR(C15="",COUNTA(D15:AG15)=0),"",(COUNTIF(D15:AG15,"A")+COUNTIF(D15:AG15,"R"))/COUNTA(D15:AG15))
B16: 10 | AH16: =IF(C16="","",COUNTIF(D16:AG16,"F")) | AI16: =IF(C16="","",COUNTIF(D16:AG16,"J")) | AJ16: =IF(C16="","",COUNTIF(D16:AG16,"R")) | AK16: =IF(OR(C16="",COUNTA(D16:AG16)=0),"",(COUNTIF(D16:AG16,"A")+COUNTIF(D16:AG16,"R"))/COUNTA(D16:AG16))
B17: 11 | AH17: =IF(C17="","",COUNTIF(D17:AG17,"F")) | AI17: =IF(C17="","",COUNTIF(D17:AG17,"J")) | AJ17: =IF(C17="","",COUNTIF(D17:AG17,"R")) | AK17: =IF(OR(C17="",COUNTA(D17:AG17)=0),"",(COUNTIF(D17:AG17,"A")+COUNTIF(D17:AG17,"R"))/COUNTA(D17:AG17))
B18: 12 | AH18: =IF(C18="","",COUNTIF(D18:AG18,"F")) | AI18: =IF(C18="","",COUNTIF(D18:AG18,"J")) | AJ18: =IF(C18="","",COUNTIF(D18:AG18,"R")) | AK18: =IF(OR(C18="",COUNTA(D18:AG18)=0),"",(COUNTIF(D18:AG18,"A")+COUNTIF(D18:AG18,"R"))/COUNTA(D18:AG18))
B19: 13 | AH19: =IF(C19="","",COUNTIF(D19:AG19,"F")) | AI19: =IF(C19="","",COUNTIF(D19:AG19,"J")) | AJ19: =IF(C19="","",COUNTIF(D19:AG19,"R")) | AK19: =IF(OR(C19="",COUNTA(D19:AG19)=0),"",(COUNTIF(D19:AG19,"A")+COUNTIF(D19:AG19,"R"))/COUNTA(D19:AG19))
B20: 14 | AH20: =IF(C20="","",COUNTIF(D20:AG20,"F")) | AI20: =IF(C20="","",COUNTIF(D20:AG20,"J")) | AJ20: =IF(C20="","",COUNTIF(D20:AG20,"R")) | AK20: =IF(OR(C20="",COUNTA(D20:AG20)=0),"",(COUNTIF(D20:AG20,"A")+COUNTIF(D20:AG20,"R"))/COUNTA(D20:AG20))
B21: 15 | AH21: =IF(C21="","",COUNTIF(D21:AG21,"F")) | AI21: =IF(C21="","",COUNTIF(D21:AG21,"J")) | AJ21: =IF(C21="","",COUNTIF(D21:AG21,"R")) | AK21: =IF(OR(C21="",COUNTA(D21:AG21)=0),"",(COUNTIF(D21:AG21,"A")+COUNTIF(D21:AG21,"R"))/COUNTA(D21:AG21))
... B41: 35 | AH41: =IF(C41="","",COUNTIF(D41:AG41,"F")) | AI41: =IF(C41="","",COUNTIF(D41:AG41,"J")) | AJ41: =IF(C41="","",COUNTIF(D41:AG41,"R")) | AK41: =IF(OR(C41="",COUNTA(D41:AG41)=0),"",(COUNTIF(D41:AG41,"A")+COUNTIF(D41:AG41,"R"))/COUNTA(D41:AG41))

Sheet Resumen
B2: RESUMEN DEL GRUPO
B4: Alumnos en la lista | C4: =COUNTA(Asistencia!$C$7:$C$41) -> 3
B5: Sesiones registradas | C5: =COUNT(Asistencia!$D$6:$AG$6) -> 3
B6: Faltas sin justificar (total) | C6: =SUM(Asistencia!$AH$7:$AH$41) -> 2
B7: Faltas justificadas (total) | C7: =SUM(Asistencia!$AI$7:$AI$41) -> 1
B8: Retrasos (total) | C8: =SUM(Asistencia!$AJ$7:$AJ$41) -> 1
B9: Asistencia media del grupo | C9: =IFERROR(AVERAGE(Asistencia!$AK$7:$AK$41),"") -> 0.66666667
B10: Alumnos por debajo del 80 % | C10: =SUMPRODUCT((Asistencia!$AK$7:$AK$41<>"")*(Asistencia!$AK$7:$AK$41<0.8)) -> 2
B13: El umbral del 80 % es orientativo: cada centro y cada comunidad fija sus propios límites de faltas para la pérdida de evaluación continua. Ajusta el criterio al de tu centro.
