Workbook

Sheet Instrucciones
B2: Control de horas trabajadas
B3: Plantilla gratuita de PlantillasDeCalculo.com
B5: CÓMO USARLA
B6: 1. En «Tarifas» escribe tus clientes y el precio por hora de cada uno. Los que no tengan tarifa propia usan la de por defecto.
B7: 2. En «Registro», una línea por sesión de trabajo: fecha, cliente, tarea, hora de entrada y de salida.
B8: 3. Si has parado a comer, pon los minutos en «Pausa» y se descuentan.
B9: 4. Marca si esa sesión es facturable. Las reuniones internas o el trabajo comercial normalmente no lo son.
B10: 5. Las horas, la tarifa aplicada y el importe salen solos.
B11: 6. «Resumen» te da el mes a mes y, por cliente, el dato que de verdad importa: tu €/h real una vez descontado lo no facturable.
B13: LEYENDA DE COLORES
B14: Fondo crema y texto azul — lo escribes tú
B15: Texto verde — se calcula solo, no lo toques
... B23: No afiliado a Microsoft. Excel® es una marca registrada de Microsoft Corporation.

Sheet Registro
B2: REGISTRO DE HORAS
B4: Fecha | C4: Cliente/Proyecto | D4: Tarea | E4: Entrada | F4: Salida | G4: Pausa (min) | H4: Horas | I4: ¿Facturable? | J4: €/h aplicado | K4: Importe | L4: Mes
B5: 2026-08-03 | C5: Cliente A | D5: Maquetación de la home | E5: 09:00 | F5: 13:30 | G5: 15 | H5: =IF(OR(E5="",F5=""),0,((F5-E5)+(F5<E5))*24-N(G5)/60) -> 4.25 | I5: Sí | J5: =IF(C5="",0,IFERROR(INDEX(Tarifas!$C$7:$C$26,MATCH(C5,Tarifas!$B$7:$B$26,0)),Tarifas!$C$4)) -> 50 | K5: =IF(I5="Sí",H5*J5,0) -> 212.5 | L5: =IF(B5="","",MONTH(B5)) -> 8
H6: =IF(OR(E6="",F6=""),0,((F6-E6)+(F6<E6))*24-N(G6)/60) -> 0 | J6: =IF(C6="",0,IFERROR(INDEX(Tarifas!$C$7:$C$26,MATCH(C6,Tarifas!$B$7:$B$26,0)),Tarifas!$C$4)) -> 0 | K6: =IF(I6="Sí",H6*J6,0) -> 0 | L6: =IF(B6="","",MONTH(B6))
H7: =IF(OR(E7="",F7=""),0,((F7-E7)+(F7<E7))*24-N(G7)/60) -> 0 | J7: =IF(C7="",0,IFERROR(INDEX(Tarifas!$C$7:$C$26,MATCH(C7,Tarifas!$B$7:$B$26,0)),Tarifas!$C$4)) -> 0 | K7: =IF(I7="Sí",H7*J7,0) -> 0 | L7: =IF(B7="","",MONTH(B7))
H8: =IF(OR(E8="",F8=""),0,((F8-E8)+(F8<E8))*24-N(G8)/60) -> 0 | J8: =IF(C8="",0,IFERROR(INDEX(Tarifas!$C$7:$C$26,MATCH(C8,Tarifas!$B$7:$B$26,0)),Tarifas!$C$4)) -> 0 | K8: =IF(I8="Sí",H8*J8,0) -> 0 | L8: =IF(B8="","",MONTH(B8))
H9: =IF(OR(E9="",F9=""),0,((F9-E9)+(F9<E9))*24-N(G9)/60) -> 0 | J9: =IF(C9="",0,IFERROR(INDEX(Tarifas!$C$7:$C$26,MATCH(C9,Tarifas!$B$7:$B$26,0)),Tarifas!$C$4)) -> 0 | K9: =IF(I9="Sí",H9*J9,0) -> 0 | L9: =IF(B9="","",MONTH(B9))
H10: =IF(OR(E10="",F10=""),0,((F10-E10)+(F10<E10))*24-N(G10)/60) -> 0 | J10: =IF(C10="",0,IFERROR(INDEX(Tarifas!$C$7:$C$26,MATCH(C10,Tarifas!$B$7:$B$26,0)),Tarifas!$C$4)) -> 0 | K10: =IF(I10="Sí",H10*J10,0) -> 0 | L10: =IF(B10="","",MONTH(B10))
H11: =IF(OR(E11="",F11=""),0,((F11-E11)+(F11<E11))*24-N(G11)/60) -> 0 | J11: =IF(C11="",0,IFERROR(INDEX(Tarifas!$C$7:$C$26,MATCH(C11,Tarifas!$B$7:$B$26,0)),Tarifas!$C$4)) -> 0 | K11: =IF(I11="Sí",H11*J11,0) -> 0 | L11: =IF(B11="","",MONTH(B11))
H12: =IF(OR(E12="",F12=""),0,((F12-E12)+(F12<E12))*24-N(G12)/60) -> 0 | J12: =IF(C12="",0,IFERROR(INDEX(Tarifas!$C$7:$C$26,MATCH(C12,Tarifas!$B$7:$B$26,0)),Tarifas!$C$4)) -> 0 | K12: =IF(I12="Sí",H12*J12,0) -> 0 | L12: =IF(B12="","",MONTH(B12))
H13: =IF(OR(E13="",F13=""),0,((F13-E13)+(F13<E13))*24-N(G13)/60) -> 0 | J13: =IF(C13="",0,IFERROR(INDEX(Tarifas!$C$7:$C$26,MATCH(C13,Tarifas!$B$7:$B$26,0)),Tarifas!$C$4)) -> 0 | K13: =IF(I13="Sí",H13*J13,0) -> 0 | L13: =IF(B13="","",MONTH(B13))
H14: =IF(OR(E14="",F14=""),0,((F14-E14)+(F14<E14))*24-N(G14)/60) -> 0 | J14: =IF(C14="",0,IFERROR(INDEX(Tarifas!$C$7:$C$26,MATCH(C14,Tarifas!$B$7:$B$26,0)),Tarifas!$C$4)) -> 0 | K14: =IF(I14="Sí",H14*J14,0) -> 0 | L14: =IF(B14="","",MONTH(B14))
H15: =IF(OR(E15="",F15=""),0,((F15-E15)+(F15<E15))*24-N(G15)/60) -> 0 | J15: =IF(C15="",0,IFERROR(INDEX(Tarifas!$C$7:$C$26,MATCH(C15,Tarifas!$B$7:$B$26,0)),Tarifas!$C$4)) -> 0 | K15: =IF(I15="Sí",H15*J15,0) -> 0 | L15: =IF(B15="","",MONTH(B15))
H16: =IF(OR(E16="",F16=""),0,((F16-E16)+(F16<E16))*24-N(G16)/60) -> 0 | J16: =IF(C16="",0,IFERROR(INDEX(Tarifas!$C$7:$C$26,MATCH(C16,Tarifas!$B$7:$B$26,0)),Tarifas!$C$4)) -> 0 | K16: =IF(I16="Sí",H16*J16,0) -> 0 | L16: =IF(B16="","",MONTH(B16))
H17: =IF(OR(E17="",F17=""),0,((F17-E17)+(F17<E17))*24-N(G17)/60) -> 0 | J17: =IF(C17="",0,IFERROR(INDEX(Tarifas!$C$7:$C$26,MATCH(C17,Tarifas!$B$7:$B$26,0)),Tarifas!$C$4)) -> 0 | K17: =IF(I17="Sí",H17*J17,0) -> 0 | L17: =IF(B17="","",MONTH(B17))
... H404: =IF(OR(E404="",F404=""),0,((F404-E404)+(F404<E404))*24-N(G404)/60) -> 0 | J404: =IF(C404="",0,IFERROR(INDEX(Tarifas!$C$7:$C$26,MATCH(C404,Tarifas!$B$7:$B$26,0)),Tarifas!$C$4)) -> 0 | K404: =IF(I404="Sí",H404*J404,0) -> 0 | L404: =IF(B404="","",MONTH(B404))

Sheet Listas
A1: Sí/No
A2: Sí
A3: No

Sheet Tarifas
B2: TUS CLIENTES Y TARIFAS
B4: Tarifa por defecto (€/h) | C4: 45
B6: Cliente o proyecto | C6: Tarifa €/h | E6: Si un cliente no tiene tarifa propia, se usa la tarifa por defecto.
B7: Cliente A | C7: 50
B8: Cliente B | C8: 38

Sheet Resumen
B2: RESUMEN
H3: Por cliente o proyecto
B4: Mes | C4: Horas totales | D4: Horas facturables | E4: % facturable | F4: Importe | H4: Cliente/Proyecto | I4: Horas | J4: Importe | K4: €/h real
B5: Ene | C5: =SUMIFS(Registro!$H:$H,Registro!$L:$L,1) -> 0 | D5: =SUMIFS(Registro!$H:$H,Registro!$L:$L,1,Registro!$I:$I,"Sí") -> 0 | E5: =IF(C5=0,"",D5/C5) | F5: =SUMIFS(Registro!$K:$K,Registro!$L:$L,1) -> 0 | H5: =IF(Tarifas!B7="","",Tarifas!B7) -> Cliente A | I5: =IF(H5="","",SUMIF(Registro!$C:$C,H5,Registro!$H:$H)) -> 4.25 | J5: =IF(H5="","",SUMIF(Registro!$C:$C,H5,Registro!$K:$K)) -> 212.5 | K5: =IF(OR(H5="",I5=0),"",J5/I5) -> 50
B6: Feb | C6: =SUMIFS(Registro!$H:$H,Registro!$L:$L,2) -> 0 | D6: =SUMIFS(Registro!$H:$H,Registro!$L:$L,2,Registro!$I:$I,"Sí") -> 0 | E6: =IF(C6=0,"",D6/C6) | F6: =SUMIFS(Registro!$K:$K,Registro!$L:$L,2) -> 0 | H6: =IF(Tarifas!B8="","",Tarifas!B8) -> Cliente B | I6: =IF(H6="","",SUMIF(Registro!$C:$C,H6,Registro!$H:$H)) -> 0 | J6: =IF(H6="","",SUMIF(Registro!$C:$C,H6,Registro!$K:$K)) -> 0 | K6: =IF(OR(H6="",I6=0),"",J6/I6)
B7: Mar | C7: =SUMIFS(Registro!$H:$H,Registro!$L:$L,3) -> 0 | D7: =SUMIFS(Registro!$H:$H,Registro!$L:$L,3,Registro!$I:$I,"Sí") -> 0 | E7: =IF(C7=0,"",D7/C7) | F7: =SUMIFS(Registro!$K:$K,Registro!$L:$L,3) -> 0 | H7: =IF(Tarifas!B9="","",Tarifas!B9) | I7: =IF(H7="","",SUMIF(Registro!$C:$C,H7,Registro!$H:$H)) | J7: =IF(H7="","",SUMIF(Registro!$C:$C,H7,Registro!$K:$K)) | K7: =IF(OR(H7="",I7=0),"",J7/I7)
B8: Abr | C8: =SUMIFS(Registro!$H:$H,Registro!$L:$L,4) -> 0 | D8: =SUMIFS(Registro!$H:$H,Registro!$L:$L,4,Registro!$I:$I,"Sí") -> 0 | E8: =IF(C8=0,"",D8/C8) | F8: =SUMIFS(Registro!$K:$K,Registro!$L:$L,4) -> 0 | H8: =IF(Tarifas!B10="","",Tarifas!B10) | I8: =IF(H8="","",SUMIF(Registro!$C:$C,H8,Registro!$H:$H)) | J8: =IF(H8="","",SUMIF(Registro!$C:$C,H8,Registro!$K:$K)) | K8: =IF(OR(H8="",I8=0),"",J8/I8)
B9: May | C9: =SUMIFS(Registro!$H:$H,Registro!$L:$L,5) -> 0 | D9: =SUMIFS(Registro!$H:$H,Registro!$L:$L,5,Registro!$I:$I,"Sí") -> 0 | E9: =IF(C9=0,"",D9/C9) | F9: =SUMIFS(Registro!$K:$K,Registro!$L:$L,5) -> 0 | H9: =IF(Tarifas!B11="","",Tarifas!B11) | I9: =IF(H9="","",SUMIF(Registro!$C:$C,H9,Registro!$H:$H)) | J9: =IF(H9="","",SUMIF(Registro!$C:$C,H9,Registro!$K:$K)) | K9: =IF(OR(H9="",I9=0),"",J9/I9)
B10: Jun | C10: =SUMIFS(Registro!$H:$H,Registro!$L:$L,6) -> 0 | D10: =SUMIFS(Registro!$H:$H,Registro!$L:$L,6,Registro!$I:$I,"Sí") -> 0 | E10: =IF(C10=0,"",D10/C10) | F10: =SUMIFS(Registro!$K:$K,Registro!$L:$L,6) -> 0 | H10: =IF(Tarifas!B12="","",Tarifas!B12) | I10: =IF(H10="","",SUMIF(Registro!$C:$C,H10,Registro!$H:$H)) | J10: =IF(H10="","",SUMIF(Registro!$C:$C,H10,Registro!$K:$K)) | K10: =IF(OR(H10="",I10=0),"",J10/I10)
B11: Jul | C11: =SUMIFS(Registro!$H:$H,Registro!$L:$L,7) -> 0 | D11: =SUMIFS(Registro!$H:$H,Registro!$L:$L,7,Registro!$I:$I,"Sí") -> 0 | E11: =IF(C11=0,"",D11/C11) | F11: =SUMIFS(Registro!$K:$K,Registro!$L:$L,7) -> 0 | H11: =IF(Tarifas!B13="","",Tarifas!B13) | I11: =IF(H11="","",SUMIF(Registro!$C:$C,H11,Registro!$H:$H)) | J11: =IF(H11="","",SUMIF(Registro!$C:$C,H11,Registro!$K:$K)) | K11: =IF(OR(H11="",I11=0),"",J11/I11)
B12: Ago | C12: =SUMIFS(Registro!$H:$H,Registro!$L:$L,8) -> 4.25 | D12: =SUMIFS(Registro!$H:$H,Registro!$L:$L,8,Registro!$I:$I,"Sí") -> 4.25 | E12: =IF(C12=0,"",D12/C12) -> 1 | F12: =SUMIFS(Registro!$K:$K,Registro!$L:$L,8) -> 212.5 | H12: =IF(Tarifas!B14="","",Tarifas!B14) | I12: =IF(H12="","",SUMIF(Registro!$C:$C,H12,Registro!$H:$H)) | J12: =IF(H12="","",SUMIF(Registro!$C:$C,H12,Registro!$K:$K)) | K12: =IF(OR(H12="",I12=0),"",J12/I12)
B13: Sep | C13: =SUMIFS(Registro!$H:$H,Registro!$L:$L,9) -> 0 | D13: =SUMIFS(Registro!$H:$H,Registro!$L:$L,9,Registro!$I:$I,"Sí") -> 0 | E13: =IF(C13=0,"",D13/C13) | F13: =SUMIFS(Registro!$K:$K,Registro!$L:$L,9) -> 0 | H13: =IF(Tarifas!B15="","",Tarifas!B15) | I13: =IF(H13="","",SUMIF(Registro!$C:$C,H13,Registro!$H:$H)) | J13: =IF(H13="","",SUMIF(Registro!$C:$C,H13,Registro!$K:$K)) | K13: =IF(OR(H13="",I13=0),"",J13/I13)
B14: Oct | C14: =SUMIFS(Registro!$H:$H,Registro!$L:$L,10) -> 0 | D14: =SUMIFS(Registro!$H:$H,Registro!$L:$L,10,Registro!$I:$I,"Sí") -> 0 | E14: =IF(C14=0,"",D14/C14) | F14: =SUMIFS(Registro!$K:$K,Registro!$L:$L,10) -> 0 | H14: =IF(Tarifas!B16="","",Tarifas!B16) | I14: =IF(H14="","",SUMIF(Registro!$C:$C,H14,Registro!$H:$H)) | J14: =IF(H14="","",SUMIF(Registro!$C:$C,H14,Registro!$K:$K)) | K14: =IF(OR(H14="",I14=0),"",J14/I14)
B15: Nov | C15: =SUMIFS(Registro!$H:$H,Registro!$L:$L,11) -> 0 | D15: =SUMIFS(Registro!$H:$H,Registro!$L:$L,11,Registro!$I:$I,"Sí") -> 0 | E15: =IF(C15=0,"",D15/C15) | F15: =SUMIFS(Registro!$K:$K,Registro!$L:$L,11) -> 0 | H15: =IF(Tarifas!B17="","",Tarifas!B17) | I15: =IF(H15="","",SUMIF(Registro!$C:$C,H15,Registro!$H:$H)) | J15: =IF(H15="","",SUMIF(Registro!$C:$C,H15,Registro!$K:$K)) | K15: =IF(OR(H15="",I15=0),"",J15/I15)
B16: Dic | C16: =SUMIFS(Registro!$H:$H,Registro!$L:$L,12) -> 0 | D16: =SUMIFS(Registro!$H:$H,Registro!$L:$L,12,Registro!$I:$I,"Sí") -> 0 | E16: =IF(C16=0,"",D16/C16) | F16: =SUMIFS(Registro!$K:$K,Registro!$L:$L,12) -> 0 | H16: =IF(Tarifas!B18="","",Tarifas!B18) | I16: =IF(H16="","",SUMIF(Registro!$C:$C,H16,Registro!$H:$H)) | J16: =IF(H16="","",SUMIF(Registro!$C:$C,H16,Registro!$K:$K)) | K16: =IF(OR(H16="",I16=0),"",J16/I16)
B17: TOTAL | C17: =SUM(C5:C16) -> 4.25 | D17: =SUM(D5:D16) -> 4.25 | E17: =IF(C17=0,"",D17/C17) -> 1 | F17: =SUM(F5:F16) -> 212.5 | H17: =IF(Tarifas!B19="","",Tarifas!B19) | I17: =IF(H17="","",SUMIF(Registro!$C:$C,H17,Registro!$H:$H)) | J17: =IF(H17="","",SUMIF(Registro!$C:$C,H17,Registro!$K:$K)) | K17: =IF(OR(H17="",I17=0),"",J17/I17)
H18: =IF(Tarifas!B20="","",Tarifas!B20) | I18: =IF(H18="","",SUMIF(Registro!$C:$C,H18,Registro!$H:$H)) | J18: =IF(H18="","",SUMIF(Registro!$C:$C,H18,Registro!$K:$K)) | K18: =IF(OR(H18="",I18=0),"",J18/I18)
H19: =IF(Tarifas!B21="","",Tarifas!B21) | I19: =IF(H19="","",SUMIF(Registro!$C:$C,H19,Registro!$H:$H)) | J19: =IF(H19="","",SUMIF(Registro!$C:$C,H19,Registro!$K:$K)) | K19: =IF(OR(H19="",I19=0),"",J19/I19)
H20: =IF(Tarifas!B22="","",Tarifas!B22) | I20: =IF(H20="","",SUMIF(Registro!$C:$C,H20,Registro!$H:$H)) | J20: =IF(H20="","",SUMIF(Registro!$C:$C,H20,Registro!$K:$K)) | K20: =IF(OR(H20="",I20=0),"",J20/I20)
H21: =IF(Tarifas!B23="","",Tarifas!B23) | I21: =IF(H21="","",SUMIF(Registro!$C:$C,H21,Registro!$H:$H)) | J21: =IF(H21="","",SUMIF(Registro!$C:$C,H21,Registro!$K:$K)) | K21: =IF(OR(H21="",I21=0),"",J21/I21)
H22: =IF(Tarifas!B24="","",Tarifas!B24) | I22: =IF(H22="","",SUMIF(Registro!$C:$C,H22,Registro!$H:$H)) | J22: =IF(H22="","",SUMIF(Registro!$C:$C,H22,Registro!$K:$K)) | K22: =IF(OR(H22="",I22=0),"",J22/I22)
H23: =IF(Tarifas!B25="","",Tarifas!B25) | I23: =IF(H23="","",SUMIF(Registro!$C:$C,H23,Registro!$H:$H)) | J23: =IF(H23="","",SUMIF(Registro!$C:$C,H23,Registro!$K:$K)) | K23: =IF(OR(H23="",I23=0),"",J23/I23)
H24: =IF(Tarifas!B26="","",Tarifas!B26) | I24: =IF(H24="","",SUMIF(Registro!$C:$C,H24,Registro!$H:$H)) | J24: =IF(H24="","",SUMIF(Registro!$C:$C,H24,Registro!$K:$K)) | K24: =IF(OR(H24="",I24=0),"",J24/I24)
