Workbook

Sheet Panel
B2: PANEL DE LA OPOSICIÓN
B4: Fecha del examen | C4: 2027-05-15 | E4: Por bloque
B5: Horas que puedes estudiar al día | C5: 4 | E5: Bloque | F5: Temas | G5: Dominados | H5: %
B6: Días que quedan | C6: =IF(C4="","",C4-TODAY()) -> 277 | E6: Bloque I · Constitución | F6: =IF(E6="","",COUNTIF(Temario!$C$5:$C$154,E6)) -> 3 | G6: =IF(E6="","",COUNTIFS(Temario!$C$5:$C$154,E6,Temario!$F$5:$F$154,"Dominado")) -> 0 | H6: =IF(OR(E6="",F6=0),"",G6/F6) -> 0
B7: Semanas que quedan | C7: =IF(C4="","",(C4-TODAY())/7) -> 39.571429 | F7: =IF(E7="","",COUNTIF(Temario!$C$5:$C$154,E7)) | G7: =IF(E7="","",COUNTIFS(Temario!$C$5:$C$154,E7,Temario!$F$5:$F$154,"Dominado")) | H7: =IF(OR(E7="",F7=0),"",G7/F7)
B8: Temas en el temario | C8: =COUNTA(Temario!$D$5:$D$154) -> 3 | F8: =IF(E8="","",COUNTIF(Temario!$C$5:$C$154,E8)) | G8: =IF(E8="","",COUNTIFS(Temario!$C$5:$C$154,E8,Temario!$F$5:$F$154,"Dominado")) | H8: =IF(OR(E8="",F8=0),"",G8/F8)
B9: Temas dominados | C9: =COUNTIF(Temario!$F$5:$F$154,"Dominado") -> 0 | F9: =IF(E9="","",COUNTIF(Temario!$C$5:$C$154,E9)) | G9: =IF(E9="","",COUNTIFS(Temario!$C$5:$C$154,E9,Temario!$F$5:$F$154,"Dominado")) | H9: =IF(OR(E9="",F9=0),"",G9/F9)
B10: Temas sin empezar | C10: =COUNTIF(Temario!$F$5:$F$154,"No empezado") -> 1 | F10: =IF(E10="","",COUNTIF(Temario!$C$5:$C$154,E10)) | G10: =IF(E10="","",COUNTIFS(Temario!$C$5:$C$154,E10,Temario!$F$5:$F$154,"Dominado")) | H10: =IF(OR(E10="",F10=0),"",G10/F10)
B11: % de temario dominado | C11: =IF(C8=0,"",C9/C8) -> 0 | F11: =IF(E11="","",COUNTIF(Temario!$C$5:$C$154,E11)) | G11: =IF(E11="","",COUNTIFS(Temario!$C$5:$C$154,E11,Temario!$F$5:$F$154,"Dominado")) | H11: =IF(OR(E11="",F11=0),"",G11/F11)
B12: Temas pendientes de dominar | C12: =C8-C9 -> 3 | F12: =IF(E12="","",COUNTIF(Temario!$C$5:$C$154,E12)) | G12: =IF(E12="","",COUNTIFS(Temario!$C$5:$C$154,E12,Temario!$F$5:$F$154,"Dominado")) | H12: =IF(OR(E12="",F12=0),"",G12/F12)
B13: Temas por semana para llegar | C13: =IF(OR(C7<=0,C7="")," ",C12/C7) -> 0.075812274 | F13: =IF(E13="","",COUNTIF(Temario!$C$5:$C$154,E13)) | G13: =IF(E13="","",COUNTIFS(Temario!$C$5:$C$154,E13,Temario!$F$5:$F$154,"Dominado")) | H13: =IF(OR(E13="",F13=0),"",G13/F13)
B14: Horas estudiadas hasta hoy | C14: =SUM(Temario!$I$5:$I$154) -> 7.5 | F14: =IF(E14="","",COUNTIF(Temario!$C$5:$C$154,E14)) | G14: =IF(E14="","",COUNTIFS(Temario!$C$5:$C$154,E14,Temario!$F$5:$F$154,"Dominado")) | H14: =IF(OR(E14="",F14=0),"",G14/F14)
B15: Nota media de autoevaluación | C15: =IFERROR(AVERAGE(Temario!$J$5:$J$154),"") -> 6 | F15: =IF(E15="","",COUNTIF(Temario!$C$5:$C$154,E15)) | G15: =IF(E15="","",COUNTIFS(Temario!$C$5:$C$154,E15,Temario!$F$5:$F$154,"Dominado")) | H15: =IF(OR(E15="",F15=0),"",G15/F15)
B16: Temas sin tocar en más de 30 días | C16: =COUNTIF(Temario!$K$5:$K$154,">30") -> 0 | F16: =IF(E16="","",COUNTIF(Temario!$C$5:$C$154,E16)) | G16: =IF(E16="","",COUNTIFS(Temario!$C$5:$C$154,E16,Temario!$F$5:$F$154,"Dominado")) | H16: =IF(OR(E16="",F16=0),"",G16/F16)
F17: =IF(E17="","",COUNTIF(Temario!$C$5:$C$154,E17)) | G17: =IF(E17="","",COUNTIFS(Temario!$C$5:$C$154,E17,Temario!$F$5:$F$154,"Dominado")) | H17: =IF(OR(E17="",F17=0),"",G17/F17)

Sheet Instrucciones
B2: Planificador de estudio de oposiciones
B3: Plantilla gratuita de PlantillasDeCalculo.com
B5: CÓMO USARLA
B6: 1. Vuelca tu temario en la hoja «Temario»: un tema por línea, con su bloque.
B7: 2. Cada vez que trabajes un tema, actualiza su estado, súbele las vueltas y pon la fecha.
B8: 3. Apunta las horas y ponte una nota del 0 al 10. La nota es tu sensación, y es más útil de lo que parece.
B9: 4. «Días sin tocarlo» se calcula solo. Por encima de 30 se pone en rojo: ese tema se te está enfriando.
B10: 5. En «Panel» pon la fecha del examen. Te dice cuántos temas por semana necesitas para llegar.
B11: 6. Usa «Planning semanal» para repartir el trabajo y comparar horas objetivo con horas reales.
B13: LEYENDA DE COLORES
B14: Fondo crema y texto azul — lo escribes tú
B15: Texto verde — se calcula solo, no lo toques
... B23: No afiliado a Microsoft. Excel® es una marca registrada de Microsoft Corporation.

Sheet Listas
A1: Estado | B1: Dificultad
A2: No empezado | B2: Fácil
A3: Leído | B3: Media
A4: Estudiado | B4: Difícil
A5: Repasado
A6: Dominado

Sheet Temario
B2: TEMARIO
B4: Nº | C4: Bloque | D4: Tema | E4: Dificultad | F4: Estado | G4: Vueltas dadas | H4: Último repaso | I4: Horas dedicadas | J4: Nota (0-10) | K4: Días sin tocarlo
B5: 1 | C5: Bloque I · Constitución | D5: La Constitución de 1978: estructura y principios | E5: Media | F5: Estudiado | G5: 2 | H5: 2026-08-04 | I5: 4.5 | J5: 7 | K5: =IF(H5="","",TODAY()-H5) -> 7
B6: 2 | C6: Bloque I · Constitución | D6: Derechos y deberes fundamentales | E6: Difícil | F6: Leído | G6: 1 | H6: 2026-07-28 | I6: 3 | J6: 5 | K6: =IF(H6="","",TODAY()-H6) -> 14
B7: 3 | C7: Bloque I · Constitución | D7: La Corona y las Cortes Generales | E7: Media | F7: No empezado | G7: 0 | I7: 0 | K7: =IF(H7="","",TODAY()-H7)
K8: =IF(H8="","",TODAY()-H8)
K9: =IF(H9="","",TODAY()-H9)
K10: =IF(H10="","",TODAY()-H10)
K11: =IF(H11="","",TODAY()-H11)
K12: =IF(H12="","",TODAY()-H12)
K13: =IF(H13="","",TODAY()-H13)
K14: =IF(H14="","",TODAY()-H14)
K15: =IF(H15="","",TODAY()-H15)
K16: =IF(H16="","",TODAY()-H16)
K17: =IF(H17="","",TODAY()-H17)
K18: =IF(H18="","",TODAY()-H18)
K19: =IF(H19="","",TODAY()-H19)
... K154: =IF(H154="","",TODAY()-H154)

Sheet Planning semanal
B2: PLANNING SEMANA A SEMANA
B4: Primera semana | C4: 2026-08-17
B6: Semana | C6: Desde | D6: Temas que toca | E6: Horas objetivo | F6: Horas reales | G6: Cumplimiento
B7: 1 | C7: =$C$4+0*7 -> 46251 | D7: Temas 1 y 2 | E7: 24 | G7: =IF(OR(E7="",E7=0),"",F7/E7) -> 0
B8: 2 | C8: =$C$4+1*7 -> 46258 | G8: =IF(OR(E8="",E8=0),"",F8/E8)
B9: 3 | C9: =$C$4+2*7 -> 46265 | G9: =IF(OR(E9="",E9=0),"",F9/E9)
B10: 4 | C10: =$C$4+3*7 -> 46272 | G10: =IF(OR(E10="",E10=0),"",F10/E10)
B11: 5 | C11: =$C$4+4*7 -> 46279 | G11: =IF(OR(E11="",E11=0),"",F11/E11)
B12: 6 | C12: =$C$4+5*7 -> 46286 | G12: =IF(OR(E12="",E12=0),"",F12/E12)
B13: 7 | C13: =$C$4+6*7 -> 46293 | G13: =IF(OR(E13="",E13=0),"",F13/E13)
B14: 8 | C14: =$C$4+7*7 -> 46300 | G14: =IF(OR(E14="",E14=0),"",F14/E14)
B15: 9 | C15: =$C$4+8*7 -> 46307 | G15: =IF(OR(E15="",E15=0),"",F15/E15)
B16: 10 | C16: =$C$4+9*7 -> 46314 | G16: =IF(OR(E16="",E16=0),"",F16/E16)
B17: 11 | C17: =$C$4+10*7 -> 46321 | G17: =IF(OR(E17="",E17=0),"",F17/E17)
B18: 12 | C18: =$C$4+11*7 -> 46328 | G18: =IF(OR(E18="",E18=0),"",F18/E18)
B19: 13 | C19: =$C$4+12*7 -> 46335 | G19: =IF(OR(E19="",E19=0),"",F19/E19)
B20: 14 | C20: =$C$4+13*7 -> 46342 | G20: =IF(OR(E20="",E20=0),"",F20/E20)
B21: 15 | C21: =$C$4+14*7 -> 46349 | G21: =IF(OR(E21="",E21=0),"",F21/E21)
B22: 16 | C22: =$C$4+15*7 -> 46356 | G22: =IF(OR(E22="",E22=0),"",F22/E22)
B23: 17 | C23: =$C$4+16*7 -> 46363 | G23: =IF(OR(E23="",E23=0),"",F23/E23)
B24: 18 | C24: =$C$4+17*7 -> 46370 | G24: =IF(OR(E24="",E24=0),"",F24/E24)
B25: 19 | C25: =$C$4+18*7 -> 46377 | G25: =IF(OR(E25="",E25=0),"",F25/E25)
B26: 20 | C26: =$C$4+19*7 -> 46384 | G26: =IF(OR(E26="",E26=0),"",F26/E26)
B27: 21 | C27: =$C$4+20*7 -> 46391 | G27: =IF(OR(E27="",E27=0),"",F27/E27)
B28: 22 | C28: =$C$4+21*7 -> 46398 | G28: =IF(OR(E28="",E28=0),"",F28/E28)
B29: 23 | C29: =$C$4+22*7 -> 46405 | G29: =IF(OR(E29="",E29=0),"",F29/E29)
B30: 24 | C30: =$C$4+23*7 -> 46412 | G30: =IF(OR(E30="",E30=0),"",F30/E30)
B31: 25 | C31: =$C$4+24*7 -> 46419 | G31: =IF(OR(E31="",E31=0),"",F31/E31)
B32: 26 | C32: =$C$4+25*7 -> 46426 | G32: =IF(OR(E32="",E32=0),"",F32/E32)
B33: 27 | C33: =$C$4+26*7 -> 46433 | G33: =IF(OR(E33="",E33=0),"",F33/E33)
B34: 28 | C34: =$C$4+27*7 -> 46440 | G34: =IF(OR(E34="",E34=0),"",F34/E34)
B35: 29 | C35: =$C$4+28*7 -> 46447 | G35: =IF(OR(E35="",E35=0),"",F35/E35)
B36: 30 | C36: =$C$4+29*7 -> 46454 | G36: =IF(OR(E36="",E36=0),"",F36/E36)
B37: 31 | C37: =$C$4+30*7 -> 46461 | G37: =IF(OR(E37="",E37=0),"",F37/E37)
B38: 32 | C38: =$C$4+31*7 -> 46468 | G38: =IF(OR(E38="",E38=0),"",F38/E38)
B39: 33 | C39: =$C$4+32*7 -> 46475 | G39: =IF(OR(E39="",E39=0),"",F39/E39)
B40: 34 | C40: =$C$4+33*7 -> 46482 | G40: =IF(OR(E40="",E40=0),"",F40/E40)
B41: 35 | C41: =$C$4+34*7 -> 46489 | G41: =IF(OR(E41="",E41=0),"",F41/E41)
B42: 36 | C42: =$C$4+35*7 -> 46496 | G42: =IF(OR(E42="",E42=0),"",F42/E42)
B43: 37 | C43: =$C$4+36*7 -> 46503 | G43: =IF(OR(E43="",E43=0),"",F43/E43)
B44: 38 | C44: =$C$4+37*7 -> 46510 | G44: =IF(OR(E44="",E44=0),"",F44/E44)
B45: 39 | C45: =$C$4+38*7 -> 46517 | G45: =IF(OR(E45="",E45=0),"",F45/E45)
B46: 40 | C46: =$C$4+39*7 -> 46524 | G46: =IF(OR(E46="",E46=0),"",F46/E46)
B47: 41 | C47: =$C$4+40*7 -> 46531 | G47: =IF(OR(E47="",E47=0),"",F47/E47)
B48: 42 | C48: =$C$4+41*7 -> 46538 | G48: =IF(OR(E48="",E48=0),"",F48/E48)
B49: 43 | C49: =$C$4+42*7 -> 46545 | G49: =IF(OR(E49="",E49=0),"",F49/E49)
B50: 44 | C50: =$C$4+43*7 -> 46552 | G50: =IF(OR(E50="",E50=0),"",F50/E50)
B51: 45 | C51: =$C$4+44*7 -> 46559 | G51: =IF(OR(E51="",E51=0),"",F51/E51)
B52: TOTAL | E52: =SUM(E7:E51) -> 24 | F52: =SUM(F7:F51) -> 0 | G52: =IF(E52=0,"",F52/E52) -> 0
