Workbook

Sheet Instrucciones
B2: Repaso por repetición espaciada
B3: Plantilla gratuita de PlantillasDeCalculo.com
B5: CÓMO USARLA
B6: 1. Escribe cada tema o tarjeta en «Repasos» con la fecha en que lo estudiaste por primera vez.
B7: 2. Las seis fechas de repaso se calculan solas con los intervalos de la hoja «Ajustes».
B8: 3. Cada vez que hagas un repaso, sube en uno el contador de «Repasos hechos».
B9: 4. «Próximo repaso» se mueve solo al siguiente hueco, y «Días» te dice cuánto falta.
B10: 5. El estado se pinta en rojo si vas atrasado y en ámbar si toca hoy.
B11: 6. La hoja «Hoy» es tu lista de trabajo diaria: si hay atrasados, empieza por ellos.
B13: LEYENDA DE COLORES
B14: Fondo crema y texto azul — lo escribes tú
B15: Texto verde — se calcula solo, no lo toques
... B23: No afiliado a Microsoft. Excel® es una marca registrada de Microsoft Corporation.

Sheet Hoy
B2: QUÉ TOCA HOY
B4: Repasos atrasados | C4: =COUNTIF(Repasos!$M$5:$M$204,"Atrasado") -> 0
B5: Repasos para hoy | C5: =COUNTIF(Repasos!$M$5:$M$204,"Toca hoy") -> 1
B6: Temas al día | C6: =COUNTIF(Repasos!$M$5:$M$204,"Al día") -> 0
B7: Temas completados | C7: =COUNTIF(Repasos!$M$5:$M$204,"Completado") -> 0
B8: Temas en el sistema | C8: =COUNTA(Repasos!$B$5:$B$204) -> 1
B10: Cómo funciona
B11: Un tema no se aprende leyéndolo cinco veces seguidas, sino volviendo a él cuando estás a punto de olvidarlo.
B12: Por eso los intervalos crecen: 1 día, 3, 7, 15, 30 y 60. Cada repaso aguanta más que el anterior.
B13: Tu trabajo diario se reduce a mirar esta hoja: si hay atrasados, empiezas por ahí.
B14: Si un tema se te resiste, baja su contador de repasos hechos y volverá a entrar antes.

Sheet Ajustes
B2: TUS INTERVALOS DE REPASO
B4: Días que pasan desde el primer estudio hasta cada repaso. Los valores de partida son los clásicos de la curva del olvido.
B6: Repaso 1 | C6: 1 | D6: días después del primer estudio
B7: Repaso 2 | C7: 3 | D7: días después del primer estudio
B8: Repaso 3 | C8: 7 | D8: días después del primer estudio
B9: Repaso 4 | C9: 15 | D9: días después del primer estudio
B10: Repaso 5 | C10: 30 | D10: días después del primer estudio
B11: Repaso 6 | C11: 60 | D11: días después del primer estudio

Sheet Repasos
B2: CALENDARIO DE REPASOS
B4: Tema o tarjeta | C4: Primer estudio | D4: R1 | E4: R2 | F4: R3 | G4: R4 | H4: R5 | I4: R6 | J4: Repasos hechos | K4: Próximo repaso | L4: Días | M4: Estado
B5: Tema 1 · La Constitución de 1978 | C5: 2026-08-04 | D5: =IF($C5="","",$C5+Ajustes!$C$6) -> 46239 | E5: =IF($C5="","",$C5+Ajustes!$C$7) -> 46241 | F5: =IF($C5="","",$C5+Ajustes!$C$8) -> 46245 | G5: =IF($C5="","",$C5+Ajustes!$C$9) -> 46253 | H5: =IF($C5="","",$C5+Ajustes!$C$10) -> 46268 | I5: =IF($C5="","",$C5+Ajustes!$C$11) -> 46298 | J5: 2 | K5: =IF($C5="","",IF(N(J5)>=6,"",INDEX($D5:$I5,N(J5)+1))) -> 46245 | L5: =IF(K5="","",K5-TODAY()) -> 0 | M5: =IF($C5="","",IF(N(J5)>=6,"Completado",IF(L5<0,"Atrasado",IF(L5=0,"Toca hoy","Al día")))) -> Toca hoy
D6: =IF($C6="","",$C6+Ajustes!$C$6) | E6: =IF($C6="","",$C6+Ajustes!$C$7) | F6: =IF($C6="","",$C6+Ajustes!$C$8) | G6: =IF($C6="","",$C6+Ajustes!$C$9) | H6: =IF($C6="","",$C6+Ajustes!$C$10) | I6: =IF($C6="","",$C6+Ajustes!$C$11) | K6: =IF($C6="","",IF(N(J6)>=6,"",INDEX($D6:$I6,N(J6)+1))) | L6: =IF(K6="","",K6-TODAY()) | M6: =IF($C6="","",IF(N(J6)>=6,"Completado",IF(L6<0,"Atrasado",IF(L6=0,"Toca hoy","Al día"))))
D7: =IF($C7="","",$C7+Ajustes!$C$6) | E7: =IF($C7="","",$C7+Ajustes!$C$7) | F7: =IF($C7="","",$C7+Ajustes!$C$8) | G7: =IF($C7="","",$C7+Ajustes!$C$9) | H7: =IF($C7="","",$C7+Ajustes!$C$10) | I7: =IF($C7="","",$C7+Ajustes!$C$11) | K7: =IF($C7="","",IF(N(J7)>=6,"",INDEX($D7:$I7,N(J7)+1))) | L7: =IF(K7="","",K7-TODAY()) | M7: =IF($C7="","",IF(N(J7)>=6,"Completado",IF(L7<0,"Atrasado",IF(L7=0,"Toca hoy","Al día"))))
D8: =IF($C8="","",$C8+Ajustes!$C$6) | E8: =IF($C8="","",$C8+Ajustes!$C$7) | F8: =IF($C8="","",$C8+Ajustes!$C$8) | G8: =IF($C8="","",$C8+Ajustes!$C$9) | H8: =IF($C8="","",$C8+Ajustes!$C$10) | I8: =IF($C8="","",$C8+Ajustes!$C$11) | K8: =IF($C8="","",IF(N(J8)>=6,"",INDEX($D8:$I8,N(J8)+1))) | L8: =IF(K8="","",K8-TODAY()) | M8: =IF($C8="","",IF(N(J8)>=6,"Completado",IF(L8<0,"Atrasado",IF(L8=0,"Toca hoy","Al día"))))
D9: =IF($C9="","",$C9+Ajustes!$C$6) | E9: =IF($C9="","",$C9+Ajustes!$C$7) | F9: =IF($C9="","",$C9+Ajustes!$C$8) | G9: =IF($C9="","",$C9+Ajustes!$C$9) | H9: =IF($C9="","",$C9+Ajustes!$C$10) | I9: =IF($C9="","",$C9+Ajustes!$C$11) | K9: =IF($C9="","",IF(N(J9)>=6,"",INDEX($D9:$I9,N(J9)+1))) | L9: =IF(K9="","",K9-TODAY()) | M9: =IF($C9="","",IF(N(J9)>=6,"Completado",IF(L9<0,"Atrasado",IF(L9=0,"Toca hoy","Al día"))))
D10: =IF($C10="","",$C10+Ajustes!$C$6) | E10: =IF($C10="","",$C10+Ajustes!$C$7) | F10: =IF($C10="","",$C10+Ajustes!$C$8) | G10: =IF($C10="","",$C10+Ajustes!$C$9) | H10: =IF($C10="","",$C10+Ajustes!$C$10) | I10: =IF($C10="","",$C10+Ajustes!$C$11) | K10: =IF($C10="","",IF(N(J10)>=6,"",INDEX($D10:$I10,N(J10)+1))) | L10: =IF(K10="","",K10-TODAY()) | M10: =IF($C10="","",IF(N(J10)>=6,"Completado",IF(L10<0,"Atrasado",IF(L10=0,"Toca hoy","Al día"))))
D11: =IF($C11="","",$C11+Ajustes!$C$6) | E11: =IF($C11="","",$C11+Ajustes!$C$7) | F11: =IF($C11="","",$C11+Ajustes!$C$8) | G11: =IF($C11="","",$C11+Ajustes!$C$9) | H11: =IF($C11="","",$C11+Ajustes!$C$10) | I11: =IF($C11="","",$C11+Ajustes!$C$11) | K11: =IF($C11="","",IF(N(J11)>=6,"",INDEX($D11:$I11,N(J11)+1))) | L11: =IF(K11="","",K11-TODAY()) | M11: =IF($C11="","",IF(N(J11)>=6,"Completado",IF(L11<0,"Atrasado",IF(L11=0,"Toca hoy","Al día"))))
D12: =IF($C12="","",$C12+Ajustes!$C$6) | E12: =IF($C12="","",$C12+Ajustes!$C$7) | F12: =IF($C12="","",$C12+Ajustes!$C$8) | G12: =IF($C12="","",$C12+Ajustes!$C$9) | H12: =IF($C12="","",$C12+Ajustes!$C$10) | I12: =IF($C12="","",$C12+Ajustes!$C$11) | K12: =IF($C12="","",IF(N(J12)>=6,"",INDEX($D12:$I12,N(J12)+1))) | L12: =IF(K12="","",K12-TODAY()) | M12: =IF($C12="","",IF(N(J12)>=6,"Completado",IF(L12<0,"Atrasado",IF(L12=0,"Toca hoy","Al día"))))
D13: =IF($C13="","",$C13+Ajustes!$C$6) | E13: =IF($C13="","",$C13+Ajustes!$C$7) | F13: =IF($C13="","",$C13+Ajustes!$C$8) | G13: =IF($C13="","",$C13+Ajustes!$C$9) | H13: =IF($C13="","",$C13+Ajustes!$C$10) | I13: =IF($C13="","",$C13+Ajustes!$C$11) | K13: =IF($C13="","",IF(N(J13)>=6,"",INDEX($D13:$I13,N(J13)+1))) | L13: =IF(K13="","",K13-TODAY()) | M13: =IF($C13="","",IF(N(J13)>=6,"Completado",IF(L13<0,"Atrasado",IF(L13=0,"Toca hoy","Al día"))))
D14: =IF($C14="","",$C14+Ajustes!$C$6) | E14: =IF($C14="","",$C14+Ajustes!$C$7) | F14: =IF($C14="","",$C14+Ajustes!$C$8) | G14: =IF($C14="","",$C14+Ajustes!$C$9) | H14: =IF($C14="","",$C14+Ajustes!$C$10) | I14: =IF($C14="","",$C14+Ajustes!$C$11) | K14: =IF($C14="","",IF(N(J14)>=6,"",INDEX($D14:$I14,N(J14)+1))) | L14: =IF(K14="","",K14-TODAY()) | M14: =IF($C14="","",IF(N(J14)>=6,"Completado",IF(L14<0,"Atrasado",IF(L14=0,"Toca hoy","Al día"))))
D15: =IF($C15="","",$C15+Ajustes!$C$6) | E15: =IF($C15="","",$C15+Ajustes!$C$7) | F15: =IF($C15="","",$C15+Ajustes!$C$8) | G15: =IF($C15="","",$C15+Ajustes!$C$9) | H15: =IF($C15="","",$C15+Ajustes!$C$10) | I15: =IF($C15="","",$C15+Ajustes!$C$11) | K15: =IF($C15="","",IF(N(J15)>=6,"",INDEX($D15:$I15,N(J15)+1))) | L15: =IF(K15="","",K15-TODAY()) | M15: =IF($C15="","",IF(N(J15)>=6,"Completado",IF(L15<0,"Atrasado",IF(L15=0,"Toca hoy","Al día"))))
D16: =IF($C16="","",$C16+Ajustes!$C$6) | E16: =IF($C16="","",$C16+Ajustes!$C$7) | F16: =IF($C16="","",$C16+Ajustes!$C$8) | G16: =IF($C16="","",$C16+Ajustes!$C$9) | H16: =IF($C16="","",$C16+Ajustes!$C$10) | I16: =IF($C16="","",$C16+Ajustes!$C$11) | K16: =IF($C16="","",IF(N(J16)>=6,"",INDEX($D16:$I16,N(J16)+1))) | L16: =IF(K16="","",K16-TODAY()) | M16: =IF($C16="","",IF(N(J16)>=6,"Completado",IF(L16<0,"Atrasado",IF(L16=0,"Toca hoy","Al día"))))
D17: =IF($C17="","",$C17+Ajustes!$C$6) | E17: =IF($C17="","",$C17+Ajustes!$C$7) | F17: =IF($C17="","",$C17+Ajustes!$C$8) | G17: =IF($C17="","",$C17+Ajustes!$C$9) | H17: =IF($C17="","",$C17+Ajustes!$C$10) | I17: =IF($C17="","",$C17+Ajustes!$C$11) | K17: =IF($C17="","",IF(N(J17)>=6,"",INDEX($D17:$I17,N(J17)+1))) | L17: =IF(K17="","",K17-TODAY()) | M17: =IF($C17="","",IF(N(J17)>=6,"Completado",IF(L17<0,"Atrasado",IF(L17=0,"Toca hoy","Al día"))))
... D204: =IF($C204="","",$C204+Ajustes!$C$6) | E204: =IF($C204="","",$C204+Ajustes!$C$7) | F204: =IF($C204="","",$C204+Ajustes!$C$8) | G204: =IF($C204="","",$C204+Ajustes!$C$9) | H204: =IF($C204="","",$C204+Ajustes!$C$10) | I204: =IF($C204="","",$C204+Ajustes!$C$11) | K204: =IF($C204="","",IF(N(J204)>=6,"",INDEX($D204:$I204,N(J204)+1))) | L204: =IF(K204="","",K204-TODAY()) | M204: =IF($C204="","",IF(N(J204)>=6,"Completado",IF(L204<0,"Atrasado",IF(L204=0,"Toca hoy","Al día"))))
