Workbook

Sheet Instrucciones
B2: Reto de hábitos
B3: Plantilla gratuita de PlantillasDeCalculo.com
B5: CÓMO USARLA
B6: 1. Pon el mes y el año arriba. Los días del mes se calculan solos, así que en febrero cuadra.
B7: 2. Escribe hasta doce hábitos. Cinco de ejemplo vienen puestos: cámbialos.
B8: 3. Marca con una X cada día que lo cumples. La casilla se pone verde.
B9: 4. «Días» y «% del mes» se actualizan al momento.
B10: 5. «Mejor racha» es la seguidilla más larga que has encadenado este mes.
B11: 6. «Racha hoy» solo aparece si el mes que tienes puesto es el actual.
B13: LEYENDA DE COLORES
B14: Fondo crema y texto azul — lo escribes tú
B15: Texto verde — se calcula solo, no lo toques
... B23: No afiliado a Microsoft. Excel® es una marca registrada de Microsoft Corporation.

Sheet Hábitos
B2: RETO DE HÁBITOS
B4: Mes (1-12) | C4: 8 | E4: Año | F4: 2026 | H4: Días del mes | J4: =IF(OR(C4="",F4=""),"",DAY(DATE(F4,C4+1,1)-1)) -> 31
B6: Marca con una X cada día que lo cumples.
B7: Hábito | C7: 1 | D7: 2 | E7: 3 | F7: 4 | G7: 5 | H7: 6 | I7: 7 | J7: 8 | K7: 9 | L7: 10 | M7: 11 | N7: 12 | O7: 13 | P7: 14 | Q7: 15 | R7: 16 | S7: 17 | T7: 18 | U7: 19 | V7: 20 | W7: 21 | X7: 22 | Y7: 23 | Z7: 24 | AA7: 25 | AB7: 26 | AC7: 27 | AD7: 28 | AE7: 29 | AF7: 30 | AG7: 31 | AH7: Días | AI7: % del mes | AJ7: Mejor racha | AK7: Racha hoy
B8: Hacer deporte | C8: X | D8: X | E8: X | G8: X | H8: X | I8: X | J8: X | K8: X | L8: X | AH8: =IF(B8="","",COUNTIF(C8:AG8,"X")) -> 9 | AI8: =IF(OR(B8="",N($J$4)=0),"",AH8/$J$4) -> 0.29032258 | AJ8: =IF(B8="","",MAX(Aux!C8:AG8)) -> 6 | AK8: =IF(B8="","",IF(AND(MONTH(TODAY())=$C$4,YEAR(TODAY())=$F$4),INDEX(Aux!C8:AG8,DAY(TODAY())),"")) -> 0
B9: Leer 20 minutos | C9: X | D9: X | F9: X | G9: X | I9: X | J9: X | L9: X | AH9: =IF(B9="","",COUNTIF(C9:AG9,"X")) -> 7 | AI9: =IF(OR(B9="",N($J$4)=0),"",AH9/$J$4) -> 0.22580645 | AJ9: =IF(B9="","",MAX(Aux!C9:AG9)) -> 2 | AK9: =IF(B9="","",IF(AND(MONTH(TODAY())=$C$4,YEAR(TODAY())=$F$4),INDEX(Aux!C9:AG9,DAY(TODAY())),"")) -> 0
B10: Beber 2 litros de agua | C10: X | D10: X | E10: X | F10: X | G10: X | H10: X | I10: X | J10: X | K10: X | L10: X | AH10: =IF(B10="","",COUNTIF(C10:AG10,"X")) -> 10 | AI10: =IF(OR(B10="",N($J$4)=0),"",AH10/$J$4) -> 0.32258065 | AJ10: =IF(B10="","",MAX(Aux!C10:AG10)) -> 10 | AK10: =IF(B10="","",IF(AND(MONTH(TODAY())=$C$4,YEAR(TODAY())=$F$4),INDEX(Aux!C10:AG10,DAY(TODAY())),"")) -> 0
B11: Nada de móvil en la cama | AH11: =IF(B11="","",COUNTIF(C11:AG11,"X")) -> 0 | AI11: =IF(OR(B11="",N($J$4)=0),"",AH11/$J$4) -> 0 | AJ11: =IF(B11="","",MAX(Aux!C11:AG11)) -> 0 | AK11: =IF(B11="","",IF(AND(MONTH(TODAY())=$C$4,YEAR(TODAY())=$F$4),INDEX(Aux!C11:AG11,DAY(TODAY())),"")) -> 0
B12: Acostarse antes de las 24:00 | AH12: =IF(B12="","",COUNTIF(C12:AG12,"X")) -> 0 | AI12: =IF(OR(B12="",N($J$4)=0),"",AH12/$J$4) -> 0 | AJ12: =IF(B12="","",MAX(Aux!C12:AG12)) -> 0 | AK12: =IF(B12="","",IF(AND(MONTH(TODAY())=$C$4,YEAR(TODAY())=$F$4),INDEX(Aux!C12:AG12,DAY(TODAY())),"")) -> 0
AH13: =IF(B13="","",COUNTIF(C13:AG13,"X")) | AI13: =IF(OR(B13="",N($J$4)=0),"",AH13/$J$4) | AJ13: =IF(B13="","",MAX(Aux!C13:AG13)) | AK13: =IF(B13="","",IF(AND(MONTH(TODAY())=$C$4,YEAR(TODAY())=$F$4),INDEX(Aux!C13:AG13,DAY(TODAY())),""))
AH14: =IF(B14="","",COUNTIF(C14:AG14,"X")) | AI14: =IF(OR(B14="",N($J$4)=0),"",AH14/$J$4) | AJ14: =IF(B14="","",MAX(Aux!C14:AG14)) | AK14: =IF(B14="","",IF(AND(MONTH(TODAY())=$C$4,YEAR(TODAY())=$F$4),INDEX(Aux!C14:AG14,DAY(TODAY())),""))
AH15: =IF(B15="","",COUNTIF(C15:AG15,"X")) | AI15: =IF(OR(B15="",N($J$4)=0),"",AH15/$J$4) | AJ15: =IF(B15="","",MAX(Aux!C15:AG15)) | AK15: =IF(B15="","",IF(AND(MONTH(TODAY())=$C$4,YEAR(TODAY())=$F$4),INDEX(Aux!C15:AG15,DAY(TODAY())),""))
AH16: =IF(B16="","",COUNTIF(C16:AG16,"X")) | AI16: =IF(OR(B16="",N($J$4)=0),"",AH16/$J$4) | AJ16: =IF(B16="","",MAX(Aux!C16:AG16)) | AK16: =IF(B16="","",IF(AND(MONTH(TODAY())=$C$4,YEAR(TODAY())=$F$4),INDEX(Aux!C16:AG16,DAY(TODAY())),""))
AH17: =IF(B17="","",COUNTIF(C17:AG17,"X")) | AI17: =IF(OR(B17="",N($J$4)=0),"",AH17/$J$4) | AJ17: =IF(B17="","",MAX(Aux!C17:AG17)) | AK17: =IF(B17="","",IF(AND(MONTH(TODAY())=$C$4,YEAR(TODAY())=$F$4),INDEX(Aux!C17:AG17,DAY(TODAY())),""))
AH18: =IF(B18="","",COUNTIF(C18:AG18,"X")) | AI18: =IF(OR(B18="",N($J$4)=0),"",AH18/$J$4) | AJ18: =IF(B18="","",MAX(Aux!C18:AG18)) | AK18: =IF(B18="","",IF(AND(MONTH(TODAY())=$C$4,YEAR(TODAY())=$F$4),INDEX(Aux!C18:AG18,DAY(TODAY())),""))
AH19: =IF(B19="","",COUNTIF(C19:AG19,"X")) | AI19: =IF(OR(B19="",N($J$4)=0),"",AH19/$J$4) | AJ19: =IF(B19="","",MAX(Aux!C19:AG19)) | AK19: =IF(B19="","",IF(AND(MONTH(TODAY())=$C$4,YEAR(TODAY())=$F$4),INDEX(Aux!C19:AG19,DAY(TODAY())),""))

Sheet Resumen
B2: RESUMEN DEL MES
B4: Hábitos en seguimiento | C4: =COUNTA(Hábitos!$B$8:$B$19) -> 5
B5: Marcas totales del mes | C5: =SUM(Hábitos!$AH$8:$AH$19) -> 26
B6: Marcas posibles | C6: =IF(N(Hábitos!$J$4)=0,"",C4*Hábitos!$J$4) -> 155
B7: Cumplimiento global | C7: =IF(N(C6)=0,"",C5/C6) -> 0.16774194
B8: Mejor hábito (% más alto) | C8: =IFERROR(INDEX(Hábitos!$B$8:$B$19,MATCH(MAX(Hábitos!$AI$8:$AI$19),Hábitos!$AI$8:$AI$19,0)),"") -> Beber 2 litros de agua
B9: El que peor llevas | C9: =IFERROR(INDEX(Hábitos!$B$8:$B$19,MATCH(MIN(Hábitos!$AI$8:$AI$19),Hábitos!$AI$8:$AI$19,0)),"") -> Nada de móvil en la cama
B10: Racha más larga del mes | C10: =IFERROR(MAX(Hábitos!$AJ$8:$AJ$19),"") -> 10
B13: Cambiando el número del mes tienes la rejilla del mes siguiente en blanco. Duplica la hoja si quieres conservar el historial.

Sheet Aux
A1: Cálculo de rachas. No tocar.
C8: =IF(Hábitos!C8="X",1,0) -> 1 | D8: =IF(Hábitos!D8="X",C8+1,0) -> 2 | E8: =IF(Hábitos!E8="X",D8+1,0) -> 3 | F8: =IF(Hábitos!F8="X",E8+1,0) -> 0 | G8: =IF(Hábitos!G8="X",F8+1,0) -> 1 | H8: =IF(Hábitos!H8="X",G8+1,0) -> 2 | I8: =IF(Hábitos!I8="X",H8+1,0) -> 3 | J8: =IF(Hábitos!J8="X",I8+1,0) -> 4 | K8: =IF(Hábitos!K8="X",J8+1,0) -> 5 | ... AG8: =IF(Hábitos!AG8="X",AF8+1,0) -> 0
C9: =IF(Hábitos!C9="X",1,0) -> 1 | D9: =IF(Hábitos!D9="X",C9+1,0) -> 2 | E9: =IF(Hábitos!E9="X",D9+1,0) -> 0 | F9: =IF(Hábitos!F9="X",E9+1,0) -> 1 | G9: =IF(Hábitos!G9="X",F9+1,0) -> 2 | H9: =IF(Hábitos!H9="X",G9+1,0) -> 0 | I9: =IF(Hábitos!I9="X",H9+1,0) -> 1 | J9: =IF(Hábitos!J9="X",I9+1,0) -> 2 | K9: =IF(Hábitos!K9="X",J9+1,0) -> 0 | ... AG9: =IF(Hábitos!AG9="X",AF9+1,0) -> 0
C10: =IF(Hábitos!C10="X",1,0) -> 1 | D10: =IF(Hábitos!D10="X",C10+1,0) -> 2 | E10: =IF(Hábitos!E10="X",D10+1,0) -> 3 | F10: =IF(Hábitos!F10="X",E10+1,0) -> 4 | G10: =IF(Hábitos!G10="X",F10+1,0) -> 5 | H10: =IF(Hábitos!H10="X",G10+1,0) -> 6 | I10: =IF(Hábitos!I10="X",H10+1,0) -> 7 | J10: =IF(Hábitos!J10="X",I10+1,0) -> 8 | K10: =IF(Hábitos!K10="X",J10+1,0) -> 9 | ... AG10: =IF(Hábitos!AG10="X",AF10+1,0) -> 0
C11: =IF(Hábitos!C11="X",1,0) -> 0 | D11: =IF(Hábitos!D11="X",C11+1,0) -> 0 | E11: =IF(Hábitos!E11="X",D11+1,0) -> 0 | F11: =IF(Hábitos!F11="X",E11+1,0) -> 0 | G11: =IF(Hábitos!G11="X",F11+1,0) -> 0 | H11: =IF(Hábitos!H11="X",G11+1,0) -> 0 | I11: =IF(Hábitos!I11="X",H11+1,0) -> 0 | J11: =IF(Hábitos!J11="X",I11+1,0) -> 0 | K11: =IF(Hábitos!K11="X",J11+1,0) -> 0 | ... AG11: =IF(Hábitos!AG11="X",AF11+1,0) -> 0
C12: =IF(Hábitos!C12="X",1,0) -> 0 | D12: =IF(Hábitos!D12="X",C12+1,0) -> 0 | E12: =IF(Hábitos!E12="X",D12+1,0) -> 0 | F12: =IF(Hábitos!F12="X",E12+1,0) -> 0 | G12: =IF(Hábitos!G12="X",F12+1,0) -> 0 | H12: =IF(Hábitos!H12="X",G12+1,0) -> 0 | I12: =IF(Hábitos!I12="X",H12+1,0) -> 0 | J12: =IF(Hábitos!J12="X",I12+1,0) -> 0 | K12: =IF(Hábitos!K12="X",J12+1,0) -> 0 | ... AG12: =IF(Hábitos!AG12="X",AF12+1,0) -> 0
C13: =IF(Hábitos!C13="X",1,0) -> 0 | D13: =IF(Hábitos!D13="X",C13+1,0) -> 0 | E13: =IF(Hábitos!E13="X",D13+1,0) -> 0 | F13: =IF(Hábitos!F13="X",E13+1,0) -> 0 | G13: =IF(Hábitos!G13="X",F13+1,0) -> 0 | H13: =IF(Hábitos!H13="X",G13+1,0) -> 0 | I13: =IF(Hábitos!I13="X",H13+1,0) -> 0 | J13: =IF(Hábitos!J13="X",I13+1,0) -> 0 | K13: =IF(Hábitos!K13="X",J13+1,0) -> 0 | ... AG13: =IF(Hábitos!AG13="X",AF13+1,0) -> 0
C14: =IF(Hábitos!C14="X",1,0) -> 0 | D14: =IF(Hábitos!D14="X",C14+1,0) -> 0 | E14: =IF(Hábitos!E14="X",D14+1,0) -> 0 | F14: =IF(Hábitos!F14="X",E14+1,0) -> 0 | G14: =IF(Hábitos!G14="X",F14+1,0) -> 0 | H14: =IF(Hábitos!H14="X",G14+1,0) -> 0 | I14: =IF(Hábitos!I14="X",H14+1,0) -> 0 | J14: =IF(Hábitos!J14="X",I14+1,0) -> 0 | K14: =IF(Hábitos!K14="X",J14+1,0) -> 0 | ... AG14: =IF(Hábitos!AG14="X",AF14+1,0) -> 0
C15: =IF(Hábitos!C15="X",1,0) -> 0 | D15: =IF(Hábitos!D15="X",C15+1,0) -> 0 | E15: =IF(Hábitos!E15="X",D15+1,0) -> 0 | F15: =IF(Hábitos!F15="X",E15+1,0) -> 0 | G15: =IF(Hábitos!G15="X",F15+1,0) -> 0 | H15: =IF(Hábitos!H15="X",G15+1,0) -> 0 | I15: =IF(Hábitos!I15="X",H15+1,0) -> 0 | J15: =IF(Hábitos!J15="X",I15+1,0) -> 0 | K15: =IF(Hábitos!K15="X",J15+1,0) -> 0 | ... AG15: =IF(Hábitos!AG15="X",AF15+1,0) -> 0
C16: =IF(Hábitos!C16="X",1,0) -> 0 | D16: =IF(Hábitos!D16="X",C16+1,0) -> 0 | E16: =IF(Hábitos!E16="X",D16+1,0) -> 0 | F16: =IF(Hábitos!F16="X",E16+1,0) -> 0 | G16: =IF(Hábitos!G16="X",F16+1,0) -> 0 | H16: =IF(Hábitos!H16="X",G16+1,0) -> 0 | I16: =IF(Hábitos!I16="X",H16+1,0) -> 0 | J16: =IF(Hábitos!J16="X",I16+1,0) -> 0 | K16: =IF(Hábitos!K16="X",J16+1,0) -> 0 | ... AG16: =IF(Hábitos!AG16="X",AF16+1,0) -> 0
C17: =IF(Hábitos!C17="X",1,0) -> 0 | D17: =IF(Hábitos!D17="X",C17+1,0) -> 0 | E17: =IF(Hábitos!E17="X",D17+1,0) -> 0 | F17: =IF(Hábitos!F17="X",E17+1,0) -> 0 | G17: =IF(Hábitos!G17="X",F17+1,0) -> 0 | H17: =IF(Hábitos!H17="X",G17+1,0) -> 0 | I17: =IF(Hábitos!I17="X",H17+1,0) -> 0 | J17: =IF(Hábitos!J17="X",I17+1,0) -> 0 | K17: =IF(Hábitos!K17="X",J17+1,0) -> 0 | ... AG17: =IF(Hábitos!AG17="X",AF17+1,0) -> 0
C18: =IF(Hábitos!C18="X",1,0) -> 0 | D18: =IF(Hábitos!D18="X",C18+1,0) -> 0 | E18: =IF(Hábitos!E18="X",D18+1,0) -> 0 | F18: =IF(Hábitos!F18="X",E18+1,0) -> 0 | G18: =IF(Hábitos!G18="X",F18+1,0) -> 0 | H18: =IF(Hábitos!H18="X",G18+1,0) -> 0 | I18: =IF(Hábitos!I18="X",H18+1,0) -> 0 | J18: =IF(Hábitos!J18="X",I18+1,0) -> 0 | K18: =IF(Hábitos!K18="X",J18+1,0) -> 0 | ... AG18: =IF(Hábitos!AG18="X",AF18+1,0) -> 0
C19: =IF(Hábitos!C19="X",1,0) -> 0 | D19: =IF(Hábitos!D19="X",C19+1,0) -> 0 | E19: =IF(Hábitos!E19="X",D19+1,0) -> 0 | F19: =IF(Hábitos!F19="X",E19+1,0) -> 0 | G19: =IF(Hábitos!G19="X",F19+1,0) -> 0 | H19: =IF(Hábitos!H19="X",G19+1,0) -> 0 | I19: =IF(Hábitos!I19="X",H19+1,0) -> 0 | J19: =IF(Hábitos!J19="X",I19+1,0) -> 0 | K19: =IF(Hábitos!K19="X",J19+1,0) -> 0 | ... AG19: =IF(Hábitos!AG19="X",AF19+1,0) -> 0
