Workbook

Sheet Instrucciones
B2: Control de vacaciones del personal
B3: Plantilla gratuita de PlantillasDeCalculo.com — descárgala, ábrela en Excel, Google Sheets o LibreOffice y personalízala.
B5: CÓMO USARLA
B6: 1. Pon los nombres de tu equipo en la hoja «Listas» oculta (vienen 6 de ejemplo).
B7: 2. Indica arriba, en «Resumen», los días de vacaciones asignados por empleado al año.
B8: 3. Apunta cada solicitud en «Solicitudes»: empleado, desde, hasta y estado. Los días se cuentan solos.
B9: 4. «Resumen» te da los días usados y los que le quedan a cada empleado.
B10: 5. Ajusta los días asignados si tu convenio marca otra cantidad.

Sheet Listas
A1: Empleado | B1: Estado
A2: Ana Gómez | B2: Solicitada
A3: Luis Ruiz | B3: Aprobada
A4: Marta Sanz | B4: Disfrutada
A5: Pablo Díaz
A6: Lucía Mora
A7: Hugo Vidal

Sheet Resumen
B2: VACACIONES POR EMPLEADO
B4: Días asignados por empleado | E4: 22
B6: Empleado | C6: Días asignados | D6: Días usados | E6: Días restantes
B7: Ana Gómez | C7: =$E$4 | D7: =SUMIF(Solicitudes!$B$5:$B$204,B7,Solicitudes!$E$5:$E$204) | E7: =C7-D7
B8: Luis Ruiz | C8: =$E$4 | D8: =SUMIF(Solicitudes!$B$5:$B$204,B8,Solicitudes!$E$5:$E$204) | E8: =C8-D8
B9: Marta Sanz | C9: =$E$4 | D9: =SUMIF(Solicitudes!$B$5:$B$204,B9,Solicitudes!$E$5:$E$204) | E9: =C9-D9
B10: Pablo Díaz | C10: =$E$4 | D10: =SUMIF(Solicitudes!$B$5:$B$204,B10,Solicitudes!$E$5:$E$204) | E10: =C10-D10
B11: Lucía Mora | C11: =$E$4 | D11: =SUMIF(Solicitudes!$B$5:$B$204,B11,Solicitudes!$E$5:$E$204) | E11: =C11-D11
B12: Hugo Vidal | C12: =$E$4 | D12: =SUMIF(Solicitudes!$B$5:$B$204,B12,Solicitudes!$E$5:$E$204) | E12: =C12-D12

Sheet Solicitudes
B2: SOLICITUDES DE VACACIONES
B4: Empleado | C4: Desde | D4: Hasta | E4: Días | F4: Estado | G4: Notas
B5: Ana Gómez | C5: 46235 | D5: 46249 | E5: =IF(OR(C5="",D5=""),"",D5-C5+1) | F5: Disfrutada
B6: Luis Ruiz | C6: 46244 | D6: 46255 | E6: =IF(OR(C6="",D6=""),"",D6-C6+1) | F6: Aprobada
E7: =IF(OR(C7="",D7=""),"",D7-C7+1)
E8: =IF(OR(C8="",D8=""),"",D8-C8+1)
E9: =IF(OR(C9="",D9=""),"",D9-C9+1)
E10: =IF(OR(C10="",D10=""),"",D10-C10+1)
E11: =IF(OR(C11="",D11=""),"",D11-C11+1)
E12: =IF(OR(C12="",D12=""),"",D12-C12+1)
E13: =IF(OR(C13="",D13=""),"",D13-C13+1)
E14: =IF(OR(C14="",D14=""),"",D14-C14+1)
E15: =IF(OR(C15="",D15=""),"",D15-C15+1)
E16: =IF(OR(C16="",D16=""),"",D16-C16+1)
E17: =IF(OR(C17="",D17=""),"",D17-C17+1)
E18: =IF(OR(C18="",D18=""),"",D18-C18+1)
... E204: =IF(OR(C204="",D204=""),"",D204-C204+1)
