Workbook

Sheet Instrucciones
B2: Finanzas personales
B3: Plantilla gratuita de PlantillasDeCalculo.com — descárgala, ábrela en Excel, Google Sheets o LibreOffice y personalízala.
B5: CÓMO USARLA
B6: 1. Apunta cada movimiento en «Movimientos»: fecha, si es ingreso o gasto, la categoría, el concepto y el importe.
B7: 2. «Resumen» te da tus ingresos, gastos, el ahorro del periodo y tu tasa de ahorro.
B8: 3. El gasto por categoría te enseña, con gráfico, en qué se te va el dinero.
B9: 4. Ajusta las categorías en la hoja «Listas» oculta si quieres las tuyas.

Sheet Listas
A1: Tipo | B1: Categoría
A2: Ingreso | B2: Vivienda
A3: Gasto | B3: Alimentación
B4: Transporte
B5: Suministros
B6: Ocio
B7: Salud
B8: Ropa
B9: Ahorro
B10: Otros

Sheet Resumen
B2: TUS FINANZAS DE UN VISTAZO
E3: Gasto por categoría
B4: Ingresos totales | C4: =SUMIF(Movimientos!$C$5:$C$504,"Ingreso",Movimientos!$F$5:$F$504) | E4: Categoría | F4: Gasto (€)
B5: Gastos totales | C5: =SUMIF(Movimientos!$C$5:$C$504,"Gasto",Movimientos!$F$5:$F$504) | E5: Vivienda | F5: =SUMIFS(Movimientos!$F$5:$F$504,Movimientos!$D$5:$D$504,E5,Movimientos!$C$5:$C$504,"Gasto")
B6: Ahorro (ingresos − gastos) | C6: =C4-C5 | E6: Alimentación | F6: =SUMIFS(Movimientos!$F$5:$F$504,Movimientos!$D$5:$D$504,E6,Movimientos!$C$5:$C$504,"Gasto")
B7: Tasa de ahorro | C7: =IF(N(C4)=0,"",(C4-C5)/C4) | E7: Transporte | F7: =SUMIFS(Movimientos!$F$5:$F$504,Movimientos!$D$5:$D$504,E7,Movimientos!$C$5:$C$504,"Gasto")
E8: Suministros | F8: =SUMIFS(Movimientos!$F$5:$F$504,Movimientos!$D$5:$D$504,E8,Movimientos!$C$5:$C$504,"Gasto")
E9: Ocio | F9: =SUMIFS(Movimientos!$F$5:$F$504,Movimientos!$D$5:$D$504,E9,Movimientos!$C$5:$C$504,"Gasto")
E10: Salud | F10: =SUMIFS(Movimientos!$F$5:$F$504,Movimientos!$D$5:$D$504,E10,Movimientos!$C$5:$C$504,"Gasto")
E11: Ropa | F11: =SUMIFS(Movimientos!$F$5:$F$504,Movimientos!$D$5:$D$504,E11,Movimientos!$C$5:$C$504,"Gasto")
E12: Ahorro | F12: =SUMIFS(Movimientos!$F$5:$F$504,Movimientos!$D$5:$D$504,E12,Movimientos!$C$5:$C$504,"Gasto")
E13: Otros | F13: =SUMIFS(Movimientos!$F$5:$F$504,Movimientos!$D$5:$D$504,E13,Movimientos!$C$5:$C$504,"Gasto")

Sheet Movimientos
B2: FINANZAS PERSONALES — MOVIMIENTOS
B4: Fecha | C4: Tipo | D4: Categoría | E4: Concepto | F4: Importe (€) | G4: Mes
B5: 46266 | C5: Ingreso | D5: Otros | E5: Nómina | F5: 1800 | G5: =IF(B5="","",MONTH(B5))
B6: 46267 | C6: Gasto | D6: Vivienda | E6: Alquiler | F6: 700 | G6: =IF(B6="","",MONTH(B6))
B7: 46268 | C7: Gasto | D7: Alimentación | E7: Compra semana | F7: 90 | G7: =IF(B7="","",MONTH(B7))
G8: =IF(B8="","",MONTH(B8))
G9: =IF(B9="","",MONTH(B9))
G10: =IF(B10="","",MONTH(B10))
G11: =IF(B11="","",MONTH(B11))
G12: =IF(B12="","",MONTH(B12))
G13: =IF(B13="","",MONTH(B13))
G14: =IF(B14="","",MONTH(B14))
G15: =IF(B15="","",MONTH(B15))
G16: =IF(B16="","",MONTH(B16))
G17: =IF(B17="","",MONTH(B17))
G18: =IF(B18="","",MONTH(B18))
G19: =IF(B19="","",MONTH(B19))
... G504: =IF(B504="","",MONTH(B504))
