Workbook

Sheet Instrucciones
B2: TPV / Punto de venta
B3: Plantilla gratuita de PlantillasDeCalculo.com — descárgala, ábrela en Excel, Google Sheets o LibreOffice y personalízala.
B5: CÓMO USARLA
B6: 1. En «Catálogo» pon tus productos con su precio (una vez).
B7: 2. En «Ticket», elige el producto en el desplegable y la cantidad; el precio y el total salen solos.
B8: 3. El «Total ticket» se suma automáticamente.
B9: 4. Escribe con cuánto paga el cliente y el «Cambio a devolver» se calcula solo.
B10: 5. Para un nuevo cliente, borra las cantidades del ticket y a empezar.

Sheet Catálogo
B2: CATÁLOGO DE PRODUCTOS
B4: Producto | C4: Precio (€)
B5: Café solo | C5: 1.2
B6: Café con leche | C6: 1.4
B7: Croissant | C7: 1.6
B8: Tostada | C8: 2.1
B9: Zumo natural | C9: 2.5
B10: Agua | C10: 1
B11: Refresco | C11: 1.8
B12: Bocadillo | C12: 3.5

Sheet Ticket
B2: PUNTO DE VENTA (TICKET)
B4: Producto | C4: Cantidad | D4: Precio ud. (€) | E4: Total (€)
B5: Café con leche | C5: 2 | D5: =IFERROR(IF(B5="","",VLOOKUP(B5,Catálogo!$B$5:$C$54,2,FALSE)),"") | E5: =IF(OR(B5="",C5=""),"",C5*D5)
B6: Croissant | C6: 2 | D6: =IFERROR(IF(B6="","",VLOOKUP(B6,Catálogo!$B$5:$C$54,2,FALSE)),"") | E6: =IF(OR(B6="",C6=""),"",C6*D6)
B7: Zumo natural | C7: 1 | D7: =IFERROR(IF(B7="","",VLOOKUP(B7,Catálogo!$B$5:$C$54,2,FALSE)),"") | E7: =IF(OR(B7="",C7=""),"",C7*D7)
D8: =IFERROR(IF(B8="","",VLOOKUP(B8,Catálogo!$B$5:$C$54,2,FALSE)),"") | E8: =IF(OR(B8="",C8=""),"",C8*D8)
D9: =IFERROR(IF(B9="","",VLOOKUP(B9,Catálogo!$B$5:$C$54,2,FALSE)),"") | E9: =IF(OR(B9="",C9=""),"",C9*D9)
D10: =IFERROR(IF(B10="","",VLOOKUP(B10,Catálogo!$B$5:$C$54,2,FALSE)),"") | E10: =IF(OR(B10="",C10=""),"",C10*D10)
D11: =IFERROR(IF(B11="","",VLOOKUP(B11,Catálogo!$B$5:$C$54,2,FALSE)),"") | E11: =IF(OR(B11="",C11=""),"",C11*D11)
D12: =IFERROR(IF(B12="","",VLOOKUP(B12,Catálogo!$B$5:$C$54,2,FALSE)),"") | E12: =IF(OR(B12="",C12=""),"",C12*D12)
D13: =IFERROR(IF(B13="","",VLOOKUP(B13,Catálogo!$B$5:$C$54,2,FALSE)),"") | E13: =IF(OR(B13="",C13=""),"",C13*D13)
D14: =IFERROR(IF(B14="","",VLOOKUP(B14,Catálogo!$B$5:$C$54,2,FALSE)),"") | E14: =IF(OR(B14="",C14=""),"",C14*D14)
D15: =IFERROR(IF(B15="","",VLOOKUP(B15,Catálogo!$B$5:$C$54,2,FALSE)),"") | E15: =IF(OR(B15="",C15=""),"",C15*D15)
D16: =IFERROR(IF(B16="","",VLOOKUP(B16,Catálogo!$B$5:$C$54,2,FALSE)),"") | E16: =IF(OR(B16="",C16=""),"",C16*D16)
D17: =IFERROR(IF(B17="","",VLOOKUP(B17,Catálogo!$B$5:$C$54,2,FALSE)),"") | E17: =IF(OR(B17="",C17=""),"",C17*D17)
D18: =IFERROR(IF(B18="","",VLOOKUP(B18,Catálogo!$B$5:$C$54,2,FALSE)),"") | E18: =IF(OR(B18="",C18=""),"",C18*D18)
D19: =IFERROR(IF(B19="","",VLOOKUP(B19,Catálogo!$B$5:$C$54,2,FALSE)),"") | E19: =IF(OR(B19="",C19=""),"",C19*D19)
... D24: =IFERROR(IF(B24="","",VLOOKUP(B24,Catálogo!$B$5:$C$54,2,FALSE)),"") | E24: =IF(OR(B24="",C24=""),"",C24*D24)
B25: TOTAL TICKET | E25: =SUM(E5:E24)
B27: Paga con (€) | E27: 20
B28: Cambio a devolver (€) | E28: =IF(E27="","",E27-E25)
