Workbook

Sheet Panel
B2: Panel de la biblioteca de aula
B3: Resumen automático de las hojas Libros y Préstamos (usa la fecha de control indicada en Préstamos).
B5: LIBROS EN EL CATÁLOGO | C5: PRESTADOS AHORA | E5: DISPONIBLES | G5: PRÉSTAMOS REALIZADOS
B6: =COUNTIF(Libros!$B$6:$B$45,"?*") | C6: =COUNTIF(Libros!$J$6:$J$45,"Prestado") | E6: =COUNTIF(Libros!$J$6:$J$45,"Disponible") | G6: =COUNT('Préstamos'!$E$10:$E$69)
B8: DEVOLUCIONES RETRASADAS | C8: RETRASO MEDIO (DÍAS) | E8: % DEL CATÁLOGO EN PRÉSTAMO | G8: ALUMNOS LECTORES
B9: =COUNTIF('Préstamos'!$H$10:$H$69,"Retrasado") | C9: =IF(B9=0,0,ROUND(SUMIF('Préstamos'!$H$10:$H$69,"Retrasado",'Préstamos'!$I$10:$I$69)/B9,1)) | E9: =IF(B6=0,0,C6/B6) | G9: =COUNT('Préstamos'!$O$10:$O$69)
B11: LIBROS MÁS PRESTADOS
B12: Título | C12: Autor | D12: Préstamos | E12: Ahora
B13: =IFERROR(IF(INT(LARGE(Libros!$M$6:$M$45,1))<1,"",INDEX(Libros!$C$6:$C$45,MATCH(LARGE(Libros!$M$6:$M$45,1),Libros!$M$6:$M$45,0))),"") | C13: =IF(B13="","",INDEX(Libros!$D$6:$D$45,MATCH(LARGE(Libros!$M$6:$M$45,1),Libros!$M$6:$M$45,0))) | D13: =IF(B13="","",INT(LARGE(Libros!$M$6:$M$45,1))) | E13: =IF(B13="","",INDEX(Libros!$J$6:$J$45,MATCH(LARGE(Libros!$M$6:$M$45,1),Libros!$M$6:$M$45,0)))
B14: =IFERROR(IF(INT(LARGE(Libros!$M$6:$M$45,2))<1,"",INDEX(Libros!$C$6:$C$45,MATCH(LARGE(Libros!$M$6:$M$45,2),Libros!$M$6:$M$45,0))),"") | C14: =IF(B14="","",INDEX(Libros!$D$6:$D$45,MATCH(LARGE(Libros!$M$6:$M$45,2),Libros!$M$6:$M$45,0))) | D14: =IF(B14="","",INT(LARGE(Libros!$M$6:$M$45,2))) | E14: =IF(B14="","",INDEX(Libros!$J$6:$J$45,MATCH(LARGE(Libros!$M$6:$M$45,2),Libros!$M$6:$M$45,0)))
B15: =IFERROR(IF(INT(LARGE(Libros!$M$6:$M$45,3))<1,"",INDEX(Libros!$C$6:$C$45,MATCH(LARGE(Libros!$M$6:$M$45,3),Libros!$M$6:$M$45,0))),"") | C15: =IF(B15="","",INDEX(Libros!$D$6:$D$45,MATCH(LARGE(Libros!$M$6:$M$45,3),Libros!$M$6:$M$45,0))) | D15: =IF(B15="","",INT(LARGE(Libros!$M$6:$M$45,3))) | E15: =IF(B15="","",INDEX(Libros!$J$6:$J$45,MATCH(LARGE(Libros!$M$6:$M$45,3),Libros!$M$6:$M$45,0)))
B16: =IFERROR(IF(INT(LARGE(Libros!$M$6:$M$45,4))<1,"",INDEX(Libros!$C$6:$C$45,MATCH(LARGE(Libros!$M$6:$M$45,4),Libros!$M$6:$M$45,0))),"") | C16: =IF(B16="","",INDEX(Libros!$D$6:$D$45,MATCH(LARGE(Libros!$M$6:$M$45,4),Libros!$M$6:$M$45,0))) | D16: =IF(B16="","",INT(LARGE(Libros!$M$6:$M$45,4))) | E16: =IF(B16="","",INDEX(Libros!$J$6:$J$45,MATCH(LARGE(Libros!$M$6:$M$45,4),Libros!$M$6:$M$45,0)))
B17: =IFERROR(IF(INT(LARGE(Libros!$M$6:$M$45,5))<1,"",INDEX(Libros!$C$6:$C$45,MATCH(LARGE(Libros!$M$6:$M$45,5),Libros!$M$6:$M$45,0))),"") | C17: =IF(B17="","",INDEX(Libros!$D$6:$D$45,MATCH(LARGE(Libros!$M$6:$M$45,5),Libros!$M$6:$M$45,0))) | D17: =IF(B17="","",INT(LARGE(Libros!$M$6:$M$45,5))) | E17: =IF(B17="","",INDEX(Libros!$J$6:$J$45,MATCH(LARGE(Libros!$M$6:$M$45,5),Libros!$M$6:$M$45,0)))
B19: AVISOS: DEVOLUCIONES RETRASADAS (LAS MÁS URGENTES PRIMERO)
B20: Libro | C20: Alumno | D20: Prevista | E20: Días de retraso
B21: =IFERROR(INDEX('Préstamos'!$C$10:$C$69,MATCH(LARGE('Préstamos'!$N$10:$N$69,1),'Préstamos'!$N$10:$N$69,0)),"") | C21: =IF(B21="","",INDEX('Préstamos'!$D$10:$D$69,MATCH(LARGE('Préstamos'!$N$10:$N$69,1),'Préstamos'!$N$10:$N$69,0))) | D21: =IF(B21="","",INDEX('Préstamos'!$F$10:$F$69,MATCH(LARGE('Préstamos'!$N$10:$N$69,1),'Préstamos'!$N$10:$N$69,0))) | E21: =IF(B21="","",INDEX('Préstamos'!$I$10:$I$69,MATCH(LARGE('Préstamos'!$N$10:$N$69,1),'Préstamos'!$N$10:$N$69,0)))
B22: =IFERROR(INDEX('Préstamos'!$C$10:$C$69,MATCH(LARGE('Préstamos'!$N$10:$N$69,2),'Préstamos'!$N$10:$N$69,0)),"") | C22: =IF(B22="","",INDEX('Préstamos'!$D$10:$D$69,MATCH(LARGE('Préstamos'!$N$10:$N$69,2),'Préstamos'!$N$10:$N$69,0))) | D22: =IF(B22="","",INDEX('Préstamos'!$F$10:$F$69,MATCH(LARGE('Préstamos'!$N$10:$N$69,2),'Préstamos'!$N$10:$N$69,0))) | E22: =IF(B22="","",INDEX('Préstamos'!$I$10:$I$69,MATCH(LARGE('Préstamos'!$N$10:$N$69,2),'Préstamos'!$N$10:$N$69,0)))
B23: =IFERROR(INDEX('Préstamos'!$C$10:$C$69,MATCH(LARGE('Préstamos'!$N$10:$N$69,3),'Préstamos'!$N$10:$N$69,0)),"") | C23: =IF(B23="","",INDEX('Préstamos'!$D$10:$D$69,MATCH(LARGE('Préstamos'!$N$10:$N$69,3),'Préstamos'!$N$10:$N$69,0))) | D23: =IF(B23="","",INDEX('Préstamos'!$F$10:$F$69,MATCH(LARGE('Préstamos'!$N$10:$N$69,3),'Préstamos'!$N$10:$N$69,0))) | E23: =IF(B23="","",INDEX('Préstamos'!$I$10:$I$69,MATCH(LARGE('Préstamos'!$N$10:$N$69,3),'Préstamos'!$N$10:$N$69,0)))
B24: =IFERROR(INDEX('Préstamos'!$C$10:$C$69,MATCH(LARGE('Préstamos'!$N$10:$N$69,4),'Préstamos'!$N$10:$N$69,0)),"") | C24: =IF(B24="","",INDEX('Préstamos'!$D$10:$D$69,MATCH(LARGE('Préstamos'!$N$10:$N$69,4),'Préstamos'!$N$10:$N$69,0))) | D24: =IF(B24="","",INDEX('Préstamos'!$F$10:$F$69,MATCH(LARGE('Préstamos'!$N$10:$N$69,4),'Préstamos'!$N$10:$N$69,0))) | E24: =IF(B24="","",INDEX('Préstamos'!$I$10:$I$69,MATCH(LARGE('Préstamos'!$N$10:$N$69,4),'Préstamos'!$N$10:$N$69,0)))
B25: =IFERROR(INDEX('Préstamos'!$C$10:$C$69,MATCH(LARGE('Préstamos'!$N$10:$N$69,5),'Préstamos'!$N$10:$N$69,0)),"") | C25: =IF(B25="","",INDEX('Préstamos'!$D$10:$D$69,MATCH(LARGE('Préstamos'!$N$10:$N$69,5),'Préstamos'!$N$10:$N$69,0))) | D25: =IF(B25="","",INDEX('Préstamos'!$F$10:$F$69,MATCH(LARGE('Préstamos'!$N$10:$N$69,5),'Préstamos'!$N$10:$N$69,0))) | E25: =IF(B25="","",INDEX('Préstamos'!$I$10:$I$69,MATCH(LARGE('Préstamos'!$N$10:$N$69,5),'Préstamos'!$N$10:$N$69,0)))
B26: =IFERROR(INDEX('Préstamos'!$C$10:$C$69,MATCH(LARGE('Préstamos'!$N$10:$N$69,6),'Préstamos'!$N$10:$N$69,0)),"") | C26: =IF(B26="","",INDEX('Préstamos'!$D$10:$D$69,MATCH(LARGE('Préstamos'!$N$10:$N$69,6),'Préstamos'!$N$10:$N$69,0))) | D26: =IF(B26="","",INDEX('Préstamos'!$F$10:$F$69,MATCH(LARGE('Préstamos'!$N$10:$N$69,6),'Préstamos'!$N$10:$N$69,0))) | E26: =IF(B26="","",INDEX('Préstamos'!$I$10:$I$69,MATCH(LARGE('Préstamos'!$N$10:$N$69,6),'Préstamos'!$N$10:$N$69,0)))
B27: =IFERROR(INDEX('Préstamos'!$C$10:$C$69,MATCH(LARGE('Préstamos'!$N$10:$N$69,7),'Préstamos'!$N$10:$N$69,0)),"") | C27: =IF(B27="","",INDEX('Préstamos'!$D$10:$D$69,MATCH(LARGE('Préstamos'!$N$10:$N$69,7),'Préstamos'!$N$10:$N$69,0))) | D27: =IF(B27="","",INDEX('Préstamos'!$F$10:$F$69,MATCH(LARGE('Préstamos'!$N$10:$N$69,7),'Préstamos'!$N$10:$N$69,0))) | E27: =IF(B27="","",INDEX('Préstamos'!$I$10:$I$69,MATCH(LARGE('Préstamos'!$N$10:$N$69,7),'Préstamos'!$N$10:$N$69,0)))
B28: =IFERROR(INDEX('Préstamos'!$C$10:$C$69,MATCH(LARGE('Préstamos'!$N$10:$N$69,8),'Préstamos'!$N$10:$N$69,0)),"") | C28: =IF(B28="","",INDEX('Préstamos'!$D$10:$D$69,MATCH(LARGE('Préstamos'!$N$10:$N$69,8),'Préstamos'!$N$10:$N$69,0))) | D28: =IF(B28="","",INDEX('Préstamos'!$F$10:$F$69,MATCH(LARGE('Préstamos'!$N$10:$N$69,8),'Préstamos'!$N$10:$N$69,0))) | E28: =IF(B28="","",INDEX('Préstamos'!$I$10:$I$69,MATCH(LARGE('Préstamos'!$N$10:$N$69,8),'Préstamos'!$N$10:$N$69,0)))
B29: Si la lista está vacía, no hay devoluciones retrasadas. Muestra hasta 8 avisos a la vez.
B31: ALUMNOS QUE MÁS LEEN
B32: Alumno | C32: Préstamos | D32: Pendientes | E32: Con retraso
B33: =IFERROR(INDEX('Préstamos'!$D$10:$D$69,MATCH(LARGE('Préstamos'!$O$10:$O$69,1),'Préstamos'!$O$10:$O$69,0)),"") | C33: =IF(B33="","",INT(LARGE('Préstamos'!$O$10:$O$69,1))) | D33: =IF(B33="","",SUMPRODUCT(('Préstamos'!$D$10:$D$69=B33)*('Préstamos'!$E$10:$E$69<>"")*('Préstamos'!$G$10:$G$69=""))) | E33: =IF(B33="","",COUNTIFS('Préstamos'!$D$10:$D$69,B33,'Préstamos'!$I$10:$I$69,">0"))
B34: =IFERROR(INDEX('Préstamos'!$D$10:$D$69,MATCH(LARGE('Préstamos'!$O$10:$O$69,2),'Préstamos'!$O$10:$O$69,0)),"") | C34: =IF(B34="","",INT(LARGE('Préstamos'!$O$10:$O$69,2))) | D34: =IF(B34="","",SUMPRODUCT(('Préstamos'!$D$10:$D$69=B34)*('Préstamos'!$E$10:$E$69<>"")*('Préstamos'!$G$10:$G$69=""))) | E34: =IF(B34="","",COUNTIFS('Préstamos'!$D$10:$D$69,B34,'Préstamos'!$I$10:$I$69,">0"))
B35: =IFERROR(INDEX('Préstamos'!$D$10:$D$69,MATCH(LARGE('Préstamos'!$O$10:$O$69,3),'Préstamos'!$O$10:$O$69,0)),"") | C35: =IF(B35="","",INT(LARGE('Préstamos'!$O$10:$O$69,3))) | D35: =IF(B35="","",SUMPRODUCT(('Préstamos'!$D$10:$D$69=B35)*('Préstamos'!$E$10:$E$69<>"")*('Préstamos'!$G$10:$G$69=""))) | E35: =IF(B35="","",COUNTIFS('Préstamos'!$D$10:$D$69,B35,'Préstamos'!$I$10:$I$69,">0"))
B36: =IFERROR(INDEX('Préstamos'!$D$10:$D$69,MATCH(LARGE('Préstamos'!$O$10:$O$69,4),'Préstamos'!$O$10:$O$69,0)),"") | C36: =IF(B36="","",INT(LARGE('Préstamos'!$O$10:$O$69,4))) | D36: =IF(B36="","",SUMPRODUCT(('Préstamos'!$D$10:$D$69=B36)*('Préstamos'!$E$10:$E$69<>"")*('Préstamos'!$G$10:$G$69=""))) | E36: =IF(B36="","",COUNTIFS('Préstamos'!$D$10:$D$69,B36,'Préstamos'!$I$10:$I$69,">0"))
B37: =IFERROR(INDEX('Préstamos'!$D$10:$D$69,MATCH(LARGE('Préstamos'!$O$10:$O$69,5),'Préstamos'!$O$10:$O$69,0)),"") | C37: =IF(B37="","",INT(LARGE('Préstamos'!$O$10:$O$69,5))) | D37: =IF(B37="","",SUMPRODUCT(('Préstamos'!$D$10:$D$69=B37)*('Préstamos'!$E$10:$E$69<>"")*('Préstamos'!$G$10:$G$69=""))) | E37: =IF(B37="","",COUNTIFS('Préstamos'!$D$10:$D$69,B37,'Préstamos'!$I$10:$I$69,">0"))
B39: PRÉSTAMOS POR GÉNERO
B40: Género | C40: Libros | D40: Préstamos | E40: Préstamos por libro
B41: =IF(Listas!A2="","",Listas!A2) | C41: =IF(B41="","",COUNTIF(Libros!$E$6:$E$45,B41)) | D41: =IF(B41="","",SUMIF(Libros!$E$6:$E$45,B41,Libros!$I$6:$I$45)) | E41: =IF(B41="","",IF(C41=0,0,ROUND(D41/C41,1)))
B42: =IF(Listas!A3="","",Listas!A3) | C42: =IF(B42="","",COUNTIF(Libros!$E$6:$E$45,B42)) | D42: =IF(B42="","",SUMIF(Libros!$E$6:$E$45,B42,Libros!$I$6:$I$45)) | E42: =IF(B42="","",IF(C42=0,0,ROUND(D42/C42,1)))
B43: =IF(Listas!A4="","",Listas!A4) | C43: =IF(B43="","",COUNTIF(Libros!$E$6:$E$45,B43)) | D43: =IF(B43="","",SUMIF(Libros!$E$6:$E$45,B43,Libros!$I$6:$I$45)) | E43: =IF(B43="","",IF(C43=0,0,ROUND(D43/C43,1)))
B44: =IF(Listas!A5="","",Listas!A5) | C44: =IF(B44="","",COUNTIF(Libros!$E$6:$E$45,B44)) | D44: =IF(B44="","",SUMIF(Libros!$E$6:$E$45,B44,Libros!$I$6:$I$45)) | E44: =IF(B44="","",IF(C44=0,0,ROUND(D44/C44,1)))
B45: =IF(Listas!A6="","",Listas!A6) | C45: =IF(B45="","",COUNTIF(Libros!$E$6:$E$45,B45)) | D45: =IF(B45="","",SUMIF(Libros!$E$6:$E$45,B45,Libros!$I$6:$I$45)) | E45: =IF(B45="","",IF(C45=0,0,ROUND(D45/C45,1)))
B46: =IF(Listas!A7="","",Listas!A7) | C46: =IF(B46="","",COUNTIF(Libros!$E$6:$E$45,B46)) | D46: =IF(B46="","",SUMIF(Libros!$E$6:$E$45,B46,Libros!$I$6:$I$45)) | E46: =IF(B46="","",IF(C46=0,0,ROUND(D46/C46,1)))
B47: =IF(Listas!A8="","",Listas!A8) | C47: =IF(B47="","",COUNTIF(Libros!$E$6:$E$45,B47)) | D47: =IF(B47="","",SUMIF(Libros!$E$6:$E$45,B47,Libros!$I$6:$I$45)) | E47: =IF(B47="","",IF(C47=0,0,ROUND(D47/C47,1)))
...

Sheet Libros
B2: Catálogo de la biblioteca de aula
B3: Un libro por fila, con su código, ubicación y estado. La disponibilidad y las veces prestado se calculan solas desde la hoja Préstamos.
B5: Código | C5: Título | D5: Autor | E5: Género | F5: Nivel | G5: Ubicación | H5: Conservación | I5: Veces prestado | J5: Disponibilidad | K5: Prestado a | L5: Devolución prevista | M5: Aux. orden
B6: LIB-001 | C6: Matilda | D6: Roald Dahl | E6: Narrativa | F6: 3º-4º | G6: Estantería A | H6: Bueno | I6: =IF(B6="","",COUNTIFS('Préstamos'!$B$10:$B$69,B6,'Préstamos'!$E$10:$E$69,"<>")) | J6: =IF(B6="","",IF(COUNTIF('Préstamos'!$M$10:$M$69,B6)>0,"Prestado","Disponible")) | K6: =IF(B6="","",IFERROR(INDEX('Préstamos'!$D$10:$D$69,MATCH(B6,'Préstamos'!$M$10:$M$69,0)),"")) | L6: =IF(B6="","",IFERROR(INDEX('Préstamos'!$F$10:$F$69,MATCH(B6,'Préstamos'!$M$10:$M$69,0)),"")) | M6: =IF(B6="","",I6+(1000-ROW())/100000)
B7: LIB-002 | C7: Charlie y la fábrica de chocolate | D7: Roald Dahl | E7: Narrativa | F7: 3º-4º | G7: Estantería A | H7: Regular | I7: =IF(B7="","",COUNTIFS('Préstamos'!$B$10:$B$69,B7,'Préstamos'!$E$10:$E$69,"<>")) | J7: =IF(B7="","",IF(COUNTIF('Préstamos'!$M$10:$M$69,B7)>0,"Prestado","Disponible")) | K7: =IF(B7="","",IFERROR(INDEX('Préstamos'!$D$10:$D$69,MATCH(B7,'Préstamos'!$M$10:$M$69,0)),"")) | L7: =IF(B7="","",IFERROR(INDEX('Préstamos'!$F$10:$F$69,MATCH(B7,'Préstamos'!$M$10:$M$69,0)),"")) | M7: =IF(B7="","",I7+(1000-ROW())/100000)
B8: LIB-003 | C8: Manolito Gafotas | D8: Elvira Lindo | E8: Narrativa | F8: 5º-6º | G8: Estantería A | H8: Bueno | I8: =IF(B8="","",COUNTIFS('Préstamos'!$B$10:$B$69,B8,'Préstamos'!$E$10:$E$69,"<>")) | J8: =IF(B8="","",IF(COUNTIF('Préstamos'!$M$10:$M$69,B8)>0,"Prestado","Disponible")) | K8: =IF(B8="","",IFERROR(INDEX('Préstamos'!$D$10:$D$69,MATCH(B8,'Préstamos'!$M$10:$M$69,0)),"")) | L8: =IF(B8="","",IFERROR(INDEX('Préstamos'!$F$10:$F$69,MATCH(B8,'Préstamos'!$M$10:$M$69,0)),"")) | M8: =IF(B8="","",I8+(1000-ROW())/100000)
B9: LIB-004 | C9: Tintín en el Tíbet | D9: Hergé | E9: Cómic y manga | F9: 5º-6º | G9: Caja de cómics | H9: Regular | I9: =IF(B9="","",COUNTIFS('Préstamos'!$B$10:$B$69,B9,'Préstamos'!$E$10:$E$69,"<>")) | J9: =IF(B9="","",IF(COUNTIF('Préstamos'!$M$10:$M$69,B9)>0,"Prestado","Disponible")) | K9: =IF(B9="","",IFERROR(INDEX('Préstamos'!$D$10:$D$69,MATCH(B9,'Préstamos'!$M$10:$M$69,0)),"")) | L9: =IF(B9="","",IFERROR(INDEX('Préstamos'!$F$10:$F$69,MATCH(B9,'Préstamos'!$M$10:$M$69,0)),"")) | M9: =IF(B9="","",I9+(1000-ROW())/100000)
B10: LIB-005 | C10: Astérix el Galo | D10: Goscinny y Uderzo | E10: Cómic y manga | F10: 3º-4º | G10: Caja de cómics | H10: Bueno | I10: =IF(B10="","",COUNTIFS('Préstamos'!$B$10:$B$69,B10,'Préstamos'!$E$10:$E$69,"<>")) | J10: =IF(B10="","",IF(COUNTIF('Préstamos'!$M$10:$M$69,B10)>0,"Prestado","Disponible")) | K10: =IF(B10="","",IFERROR(INDEX('Préstamos'!$D$10:$D$69,MATCH(B10,'Préstamos'!$M$10:$M$69,0)),"")) | L10: =IF(B10="","",IFERROR(INDEX('Préstamos'!$F$10:$F$69,MATCH(B10,'Préstamos'!$M$10:$M$69,0)),"")) | M10: =IF(B10="","",I10+(1000-ROW())/100000)
B11: LIB-006 | C11: La isla del tesoro | D11: R. L. Stevenson | E11: Aventuras | F11: 5º-6º | G11: Estantería B | H11: Bueno | I11: =IF(B11="","",COUNTIFS('Préstamos'!$B$10:$B$69,B11,'Préstamos'!$E$10:$E$69,"<>")) | J11: =IF(B11="","",IF(COUNTIF('Préstamos'!$M$10:$M$69,B11)>0,"Prestado","Disponible")) | K11: =IF(B11="","",IFERROR(INDEX('Préstamos'!$D$10:$D$69,MATCH(B11,'Préstamos'!$M$10:$M$69,0)),"")) | L11: =IF(B11="","",IFERROR(INDEX('Préstamos'!$F$10:$F$69,MATCH(B11,'Préstamos'!$M$10:$M$69,0)),"")) | M11: =IF(B11="","",I11+(1000-ROW())/100000)
B12: LIB-007 | C12: Los Cinco y el tesoro de la isla | D12: Enid Blyton | E12: Aventuras | F12: 3º-4º | G12: Estantería B | H12: Bueno | I12: =IF(B12="","",COUNTIFS('Préstamos'!$B$10:$B$69,B12,'Préstamos'!$E$10:$E$69,"<>")) | J12: =IF(B12="","",IF(COUNTIF('Préstamos'!$M$10:$M$69,B12)>0,"Prestado","Disponible")) | K12: =IF(B12="","",IFERROR(INDEX('Préstamos'!$D$10:$D$69,MATCH(B12,'Préstamos'!$M$10:$M$69,0)),"")) | L12: =IF(B12="","",IFERROR(INDEX('Préstamos'!$F$10:$F$69,MATCH(B12,'Préstamos'!$M$10:$M$69,0)),"")) | M12: =IF(B12="","",I12+(1000-ROW())/100000)
B13: LIB-008 | C13: Aventuras de Sherlock Holmes (adaptado) | D13: Arthur Conan Doyle | E13: Misterio | F13: 5º-6º | G13: Estantería B | H13: Nuevo | I13: =IF(B13="","",COUNTIFS('Préstamos'!$B$10:$B$69,B13,'Préstamos'!$E$10:$E$69,"<>")) | J13: =IF(B13="","",IF(COUNTIF('Préstamos'!$M$10:$M$69,B13)>0,"Prestado","Disponible")) | K13: =IF(B13="","",IFERROR(INDEX('Préstamos'!$D$10:$D$69,MATCH(B13,'Préstamos'!$M$10:$M$69,0)),"")) | L13: =IF(B13="","",IFERROR(INDEX('Préstamos'!$F$10:$F$69,MATCH(B13,'Préstamos'!$M$10:$M$69,0)),"")) | M13: =IF(B13="","",I13+(1000-ROW())/100000)
B14: LIB-009 | C14: El gran libro de los animales | D14: Varios autores | E14: Ciencia y naturaleza | F14: 1º-2º | G14: Estantería C | H14: Bueno | I14: =IF(B14="","",COUNTIFS('Préstamos'!$B$10:$B$69,B14,'Préstamos'!$E$10:$E$69,"<>")) | J14: =IF(B14="","",IF(COUNTIF('Préstamos'!$M$10:$M$69,B14)>0,"Prestado","Disponible")) | K14: =IF(B14="","",IFERROR(INDEX('Préstamos'!$D$10:$D$69,MATCH(B14,'Préstamos'!$M$10:$M$69,0)),"")) | L14: =IF(B14="","",IFERROR(INDEX('Préstamos'!$F$10:$F$69,MATCH(B14,'Préstamos'!$M$10:$M$69,0)),"")) | M14: =IF(B14="","",I14+(1000-ROW())/100000)
B15: LIB-010 | C15: Atlas del cuerpo humano | D15: Varios autores | E15: Ciencia y naturaleza | F15: 5º-6º | G15: Estantería C | H15: Nuevo | I15: =IF(B15="","",COUNTIFS('Préstamos'!$B$10:$B$69,B15,'Préstamos'!$E$10:$E$69,"<>")) | J15: =IF(B15="","",IF(COUNTIF('Préstamos'!$M$10:$M$69,B15)>0,"Prestado","Disponible")) | K15: =IF(B15="","",IFERROR(INDEX('Préstamos'!$D$10:$D$69,MATCH(B15,'Préstamos'!$M$10:$M$69,0)),"")) | L15: =IF(B15="","",IFERROR(INDEX('Préstamos'!$F$10:$F$69,MATCH(B15,'Préstamos'!$M$10:$M$69,0)),"")) | M15: =IF(B15="","",I15+(1000-ROW())/100000)
B16: LIB-011 | C16: Poemas para jugar | D16: Varios autores | E16: Poesía y teatro | F16: 1º-2º | G16: Estantería C | H16: Bueno | I16: =IF(B16="","",COUNTIFS('Préstamos'!$B$10:$B$69,B16,'Préstamos'!$E$10:$E$69,"<>")) | J16: =IF(B16="","",IF(COUNTIF('Préstamos'!$M$10:$M$69,B16)>0,"Prestado","Disponible")) | K16: =IF(B16="","",IFERROR(INDEX('Préstamos'!$D$10:$D$69,MATCH(B16,'Préstamos'!$M$10:$M$69,0)),"")) | L16: =IF(B16="","",IFERROR(INDEX('Préstamos'!$F$10:$F$69,MATCH(B16,'Préstamos'!$M$10:$M$69,0)),"")) | M16: =IF(B16="","",I16+(1000-ROW())/100000)
B17: LIB-012 | C17: Vidas de científicas | D17: Varios autores | E17: Biografías | F17: 5º-6º | G17: Estantería C | H17: Nuevo | I17: =IF(B17="","",COUNTIFS('Préstamos'!$B$10:$B$69,B17,'Préstamos'!$E$10:$E$69,"<>")) | J17: =IF(B17="","",IF(COUNTIF('Préstamos'!$M$10:$M$69,B17)>0,"Prestado","Disponible")) | K17: =IF(B17="","",IFERROR(INDEX('Préstamos'!$D$10:$D$69,MATCH(B17,'Préstamos'!$M$10:$M$69,0)),"")) | L17: =IF(B17="","",IFERROR(INDEX('Préstamos'!$F$10:$F$69,MATCH(B17,'Préstamos'!$M$10:$M$69,0)),"")) | M17: =IF(B17="","",I17+(1000-ROW())/100000)
... B20: LIB-015 | C20: Pippi Calzaslargas | D20: Astrid Lindgren | E20: Narrativa | F20: 1º-2º | G20: Estantería A | H20: Bueno | I20: =IF(B20="","",COUNTIFS('Préstamos'!$B$10:$B$69,B20,'Préstamos'!$E$10:$E$69,"<>")) | J20: =IF(B20="","",IF(COUNTIF('Préstamos'!$M$10:$M$69,B20)>0,"Prestado","Disponible")) | K20: =IF(B20="","",IFERROR(INDEX('Préstamos'!$D$10:$D$69,MATCH(B20,'Préstamos'!$M$10:$M$69,0)),"")) | L20: =IF(B20="","",IFERROR(INDEX('Préstamos'!$F$10:$F$69,MATCH(B20,'Préstamos'!$M$10:$M$69,0)),"")) | M20: =IF(B20="","",I20+(1000-ROW())/100000)
I21: =IF(B21="","",COUNTIFS('Préstamos'!$B$10:$B$69,B21,'Préstamos'!$E$10:$E$69,"<>")) | J21: =IF(B21="","",IF(COUNTIF('Préstamos'!$M$10:$M$69,B21)>0,"Prestado","Disponible")) | K21: =IF(B21="","",IFERROR(INDEX('Préstamos'!$D$10:$D$69,MATCH(B21,'Préstamos'!$M$10:$M$69,0)),"")) | L21: =IF(B21="","",IFERROR(INDEX('Préstamos'!$F$10:$F$69,MATCH(B21,'Préstamos'!$M$10:$M$69,0)),"")) | M21: =IF(B21="","",I21+(1000-ROW())/100000)
I22: =IF(B22="","",COUNTIFS('Préstamos'!$B$10:$B$69,B22,'Préstamos'!$E$10:$E$69,"<>")) | J22: =IF(B22="","",IF(COUNTIF('Préstamos'!$M$10:$M$69,B22)>0,"Prestado","Disponible")) | K22: =IF(B22="","",IFERROR(INDEX('Préstamos'!$D$10:$D$69,MATCH(B22,'Préstamos'!$M$10:$M$69,0)),"")) | L22: =IF(B22="","",IFERROR(INDEX('Préstamos'!$F$10:$F$69,MATCH(B22,'Préstamos'!$M$10:$M$69,0)),"")) | M22: =IF(B22="","",I22+(1000-ROW())/100000)
I23: =IF(B23="","",COUNTIFS('Préstamos'!$B$10:$B$69,B23,'Préstamos'!$E$10:$E$69,"<>")) | J23: =IF(B23="","",IF(COUNTIF('Préstamos'!$M$10:$M$69,B23)>0,"Prestado","Disponible")) | K23: =IF(B23="","",IFERROR(INDEX('Préstamos'!$D$10:$D$69,MATCH(B23,'Préstamos'!$M$10:$M$69,0)),"")) | L23: =IF(B23="","",IFERROR(INDEX('Préstamos'!$F$10:$F$69,MATCH(B23,'Préstamos'!$M$10:$M$69,0)),"")) | M23: =IF(B23="","",I23+(1000-ROW())/100000)
I24: =IF(B24="","",COUNTIFS('Préstamos'!$B$10:$B$69,B24,'Préstamos'!$E$10:$E$69,"<>")) | J24: =IF(B24="","",IF(COUNTIF('Préstamos'!$M$10:$M$69,B24)>0,"Prestado","Disponible")) | K24: =IF(B24="","",IFERROR(INDEX('Préstamos'!$D$10:$D$69,MATCH(B24,'Préstamos'!$M$10:$M$69,0)),"")) | L24: =IF(B24="","",IFERROR(INDEX('Préstamos'!$F$10:$F$69,MATCH(B24,'Préstamos'!$M$10:$M$69,0)),"")) | M24: =IF(B24="","",I24+(1000-ROW())/100000)
I25: =IF(B25="","",COUNTIFS('Préstamos'!$B$10:$B$69,B25,'Préstamos'!$E$10:$E$69,"<>")) | J25: =IF(B25="","",IF(COUNTIF('Préstamos'!$M$10:$M$69,B25)>0,"Prestado","Disponible")) | K25: =IF(B25="","",IFERROR(INDEX('Préstamos'!$D$10:$D$69,MATCH(B25,'Préstamos'!$M$10:$M$69,0)),"")) | L25: =IF(B25="","",IFERROR(INDEX('Préstamos'!$F$10:$F$69,MATCH(B25,'Préstamos'!$M$10:$M$69,0)),"")) | M25: =IF(B25="","",I25+(1000-ROW())/100000)
I26: =IF(B26="","",COUNTIFS('Préstamos'!$B$10:$B$69,B26,'Préstamos'!$E$10:$E$69,"<>")) | J26: =IF(B26="","",IF(COUNTIF('Préstamos'!$M$10:$M$69,B26)>0,"Prestado","Disponible")) | K26: =IF(B26="","",IFERROR(INDEX('Préstamos'!$D$10:$D$69,MATCH(B26,'Préstamos'!$M$10:$M$69,0)),"")) | L26: =IF(B26="","",IFERROR(INDEX('Préstamos'!$F$10:$F$69,MATCH(B26,'Préstamos'!$M$10:$M$69,0)),"")) | M26: =IF(B26="","",I26+(1000-ROW())/100000)
I27: =IF(B27="","",COUNTIFS('Préstamos'!$B$10:$B$69,B27,'Préstamos'!$E$10:$E$69,"<>")) | J27: =IF(B27="","",IF(COUNTIF('Préstamos'!$M$10:$M$69,B27)>0,"Prestado","Disponible")) | K27: =IF(B27="","",IFERROR(INDEX('Préstamos'!$D$10:$D$69,MATCH(B27,'Préstamos'!$M$10:$M$69,0)),"")) | L27: =IF(B27="","",IFERROR(INDEX('Préstamos'!$F$10:$F$69,MATCH(B27,'Préstamos'!$M$10:$M$69,0)),"")) | M27: =IF(B27="","",I27+(1000-ROW())/100000)
I28: =IF(B28="","",COUNTIFS('Préstamos'!$B$10:$B$69,B28,'Préstamos'!$E$10:$E$69,"<>")) | J28: =IF(B28="","",IF(COUNTIF('Préstamos'!$M$10:$M$69,B28)>0,"Prestado","Disponible")) | K28: =IF(B28="","",IFERROR(INDEX('Préstamos'!$D$10:$D$69,MATCH(B28,'Préstamos'!$M$10:$M$69,0)),"")) | L28: =IF(B28="","",IFERROR(INDEX('Préstamos'!$F$10:$F$69,MATCH(B28,'Préstamos'!$M$10:$M$69,0)),"")) | M28: =IF(B28="","",I28+(1000-ROW())/100000)
I29: =IF(B29="","",COUNTIFS('Préstamos'!$B$10:$B$69,B29,'Préstamos'!$E$10:$E$69,"<>")) | J29: =IF(B29="","",IF(COUNTIF('Préstamos'!$M$10:$M$69,B29)>0,"Prestado","Disponible")) | K29: =IF(B29="","",IFERROR(INDEX('Préstamos'!$D$10:$D$69,MATCH(B29,'Préstamos'!$M$10:$M$69,0)),"")) | L29: =IF(B29="","",IFERROR(INDEX('Préstamos'!$F$10:$F$69,MATCH(B29,'Préstamos'!$M$10:$M$69,0)),"")) | M29: =IF(B29="","",I29+(1000-ROW())/100000)
I30: =IF(B30="","",COUNTIFS('Préstamos'!$B$10:$B$69,B30,'Préstamos'!$E$10:$E$69,"<>")) | J30: =IF(B30="","",IF(COUNTIF('Préstamos'!$M$10:$M$69,B30)>0,"Prestado","Disponible")) | K30: =IF(B30="","",IFERROR(INDEX('Préstamos'!$D$10:$D$69,MATCH(B30,'Préstamos'!$M$10:$M$69,0)),"")) | L30: =IF(B30="","",IFERROR(INDEX('Préstamos'!$F$10:$F$69,MATCH(B30,'Préstamos'!$M$10:$M$69,0)),"")) | M30: =IF(B30="","",I30+(1000-ROW())/100000)
I31: =IF(B31="","",COUNTIFS('Préstamos'!$B$10:$B$69,B31,'Préstamos'!$E$10:$E$69,"<>")) | J31: =IF(B31="","",IF(COUNTIF('Préstamos'!$M$10:$M$69,B31)>0,"Prestado","Disponible")) | K31: =IF(B31="","",IFERROR(INDEX('Préstamos'!$D$10:$D$69,MATCH(B31,'Préstamos'!$M$10:$M$69,0)),"")) | L31: =IF(B31="","",IFERROR(INDEX('Préstamos'!$F$10:$F$69,MATCH(B31,'Préstamos'!$M$10:$M$69,0)),"")) | M31: =IF(B31="","",I31+(1000-ROW())/100000)
I32: =IF(B32="","",COUNTIFS('Préstamos'!$B$10:$B$69,B32,'Préstamos'!$E$10:$E$69,"<>")) | J32: =IF(B32="","",IF(COUNTIF('Préstamos'!$M$10:$M$69,B32)>0,"Prestado","Disponible")) | K32: =IF(B32="","",IFERROR(INDEX('Préstamos'!$D$10:$D$69,MATCH(B32,'Préstamos'!$M$10:$M$69,0)),"")) | L32: =IF(B32="","",IFERROR(INDEX('Préstamos'!$F$10:$F$69,MATCH(B32,'Préstamos'!$M$10:$M$69,0)),"")) | M32: =IF(B32="","",I32+(1000-ROW())/100000)
... I45: =IF(B45="","",COUNTIFS('Préstamos'!$B$10:$B$69,B45,'Préstamos'!$E$10:$E$69,"<>")) | J45: =IF(B45="","",IF(COUNTIF('Préstamos'!$M$10:$M$69,B45)>0,"Prestado","Disponible")) | K45: =IF(B45="","",IFERROR(INDEX('Préstamos'!$D$10:$D$69,MATCH(B45,'Préstamos'!$M$10:$M$69,0)),"")) | L45: =IF(B45="","",IFERROR(INDEX('Préstamos'!$F$10:$F$69,MATCH(B45,'Préstamos'!$M$10:$M$69,0)),"")) | M45: =IF(B45="","",I45+(1000-ROW())/100000)
B46: TOTAL | I46: =SUM(I6:I45) | J46: =COUNTIF(J6:J45,"Prestado")&" prestados"
B47: Usa un código único por libro (LIB-001, LIB-002…) y pégalo también en una etiqueta del lomo. Las columnas Veces prestado, Disponibilidad y Prestado a se rellenan solas; la columna M es auxiliar (no tocar).

Sheet Préstamos
B2: Registro de préstamos de la biblioteca de aula
B3: Anota cada salida con el código del libro, el alumno y la fecha. Cuando vuelva, escribe la fecha de devolución.
B5: Fecha de control (hoy) | D5: =TODAY() | E5: Déjala en =HOY() o escribe una fecha concreta para simular el estado de los préstamos.
B6: Plazo de préstamo (días) | D6: 15 | E6: Se suma a la fecha de salida para calcular la devolución prevista de cada libro.
B7: Días de aviso antes de vencer | D7: 3 | E7: Un préstamo abierto que vence dentro de ese plazo se marca «Vence pronto».
B9: Código | C9: Título | D9: Alumno | E9: Fecha de salida | F9: Devolución prevista | G9: Fecha de devolución | H9: Estado | I9: Días de retraso | J9: Aviso | K9: Observaciones | L9: Control | M9: Aux. abierto | N9: Aux. retraso | O9: Aux. alumno
B10: LIB-003 | C10: =IF(B10="","",IFERROR(INDEX(Libros!$C$6:$C$45,MATCH(B10,Libros!$B$6:$B$45,0)),"¿Código?")) | D10: Lucía M. | E10: 46266 | F10: =IF(E10="","",E10+$D$6) | G10: 46279 | H10: =IF(OR(B10="",E10=""),"",IF(G10<>"",IF(G10>F10,"Devuelto con retraso","Devuelto"),IF($D$5>F10,"Retrasado",IF(F10-$D$5<=$D$7,"Vence pronto","En préstamo")))) | I10: =IF(OR(B10="",E10=""),"",IF(G10<>"",MAX(0,G10-F10),MAX(0,$D$5-F10))) | J10: =IF(H10="Retrasado","AVISAR a "&D10&": «"&C10&"» lleva "&I10&" días de retraso",IF(H10="Vence pronto","Recordar a "&D10&" la devolución el "&DAY(F10)&"/"&MONTH(F10),"")) | L10: =IF(B10="","",IF(ISNA(MATCH(B10,Libros!$B$6:$B$45,0)),"Código no existe",IF(D10="","Falta el alumno",IF(E10="","Falta fecha de salida",IF(AND(G10<>"",G10<E10),"Devolución anterior a salida",IF(AND(G10="",SUMPRODUCT(($B$10:$B$69=B10)*($E$10:$E$69<>"")*($G$10:$G$69=""))>1),"Libro ya prestado","OK")))))) | M10: =IF(AND(B10<>"",E10<>"",G10=""),B10,"") | N10: =IF(H10="Retrasado",I10+(1000-ROW())/100000,"") | O10: =IF(OR(D10="",E10=""),"",IF(COUNTIF($D$10:D10,D10)=1,COUNTIF($D$10:$D$69,D10)+(1000-ROW())/100000,""))
B11: LIB-007 | C11: =IF(B11="","",IFERROR(INDEX(Libros!$C$6:$C$45,MATCH(B11,Libros!$B$6:$B$45,0)),"¿Código?")) | D11: Álvaro T. | E11: 46267 | F11: =IF(E11="","",E11+$D$6) | G11: 46281 | H11: =IF(OR(B11="",E11=""),"",IF(G11<>"",IF(G11>F11,"Devuelto con retraso","Devuelto"),IF($D$5>F11,"Retrasado",IF(F11-$D$5<=$D$7,"Vence pronto","En préstamo")))) | I11: =IF(OR(B11="",E11=""),"",IF(G11<>"",MAX(0,G11-F11),MAX(0,$D$5-F11))) | J11: =IF(H11="Retrasado","AVISAR a "&D11&": «"&C11&"» lleva "&I11&" días de retraso",IF(H11="Vence pronto","Recordar a "&D11&" la devolución el "&DAY(F11)&"/"&MONTH(F11),"")) | L11: =IF(B11="","",IF(ISNA(MATCH(B11,Libros!$B$6:$B$45,0)),"Código no existe",IF(D11="","Falta el alumno",IF(E11="","Falta fecha de salida",IF(AND(G11<>"",G11<E11),"Devolución anterior a salida",IF(AND(G11="",SUMPRODUCT(($B$10:$B$69=B11)*($E$10:$E$69<>"")*($G$10:$G$69=""))>1),"Libro ya prestado","OK")))))) | M11: =IF(AND(B11<>"",E11<>"",G11=""),B11,"") | N11: =IF(H11="Retrasado",I11+(1000-ROW())/100000,"") | O11: =IF(OR(D11="",E11=""),"",IF(COUNTIF($D$10:D11,D11)=1,COUNTIF($D$10:$D$69,D11)+(1000-ROW())/100000,""))
B12: LIB-006 | C12: =IF(B12="","",IFERROR(INDEX(Libros!$C$6:$C$45,MATCH(B12,Libros!$B$6:$B$45,0)),"¿Código?")) | D12: Lucía M. | E12: 46272 | F12: =IF(E12="","",E12+$D$6) | G12: 46287 | H12: =IF(OR(B12="",E12=""),"",IF(G12<>"",IF(G12>F12,"Devuelto con retraso","Devuelto"),IF($D$5>F12,"Retrasado",IF(F12-$D$5<=$D$7,"Vence pronto","En préstamo")))) | I12: =IF(OR(B12="",E12=""),"",IF(G12<>"",MAX(0,G12-F12),MAX(0,$D$5-F12))) | J12: =IF(H12="Retrasado","AVISAR a "&D12&": «"&C12&"» lleva "&I12&" días de retraso",IF(H12="Vence pronto","Recordar a "&D12&" la devolución el "&DAY(F12)&"/"&MONTH(F12),"")) | K12: Le ha encantado | L12: =IF(B12="","",IF(ISNA(MATCH(B12,Libros!$B$6:$B$45,0)),"Código no existe",IF(D12="","Falta el alumno",IF(E12="","Falta fecha de salida",IF(AND(G12<>"",G12<E12),"Devolución anterior a salida",IF(AND(G12="",SUMPRODUCT(($B$10:$B$69=B12)*($E$10:$E$69<>"")*($G$10:$G$69=""))>1),"Libro ya prestado","OK")))))) | M12: =IF(AND(B12<>"",E12<>"",G12=""),B12,"") | N12: =IF(H12="Retrasado",I12+(1000-ROW())/100000,"") | O12: =IF(OR(D12="",E12=""),"",IF(COUNTIF($D$10:D12,D12)=1,COUNTIF($D$10:$D$69,D12)+(1000-ROW())/100000,""))
B13: LIB-014 | C13: =IF(B13="","",IFERROR(INDEX(Libros!$C$6:$C$45,MATCH(B13,Libros!$B$6:$B$45,0)),"¿Código?")) | D13: Mateo S. | E13: 46273 | F13: =IF(E13="","",E13+$D$6) | H13: =IF(OR(B13="",E13=""),"",IF(G13<>"",IF(G13>F13,"Devuelto con retraso","Devuelto"),IF($D$5>F13,"Retrasado",IF(F13-$D$5<=$D$7,"Vence pronto","En préstamo")))) | I13: =IF(OR(B13="",E13=""),"",IF(G13<>"",MAX(0,G13-F13),MAX(0,$D$5-F13))) | J13: =IF(H13="Retrasado","AVISAR a "&D13&": «"&C13&"» lleva "&I13&" días de retraso",IF(H13="Vence pronto","Recordar a "&D13&" la devolución el "&DAY(F13)&"/"&MONTH(F13),"")) | K13: Pedir devolución a la familia | L13: =IF(B13="","",IF(ISNA(MATCH(B13,Libros!$B$6:$B$45,0)),"Código no existe",IF(D13="","Falta el alumno",IF(E13="","Falta fecha de salida",IF(AND(G13<>"",G13<E13),"Devolución anterior a salida",IF(AND(G13="",SUMPRODUCT(($B$10:$B$69=B13)*($E$10:$E$69<>"")*($G$10:$G$69=""))>1),"Libro ya prestado","OK")))))) | M13: =IF(AND(B13<>"",E13<>"",G13=""),B13,"") | N13: =IF(H13="Retrasado",I13+(1000-ROW())/100000,"") | O13: =IF(OR(D13="",E13=""),"",IF(COUNTIF($D$10:D13,D13)=1,COUNTIF($D$10:$D$69,D13)+(1000-ROW())/100000,""))
B14: LIB-011 | C14: =IF(B14="","",IFERROR(INDEX(Libros!$C$6:$C$45,MATCH(B14,Libros!$B$6:$B$45,0)),"¿Código?")) | D14: Pablo R. | E14: 46275 | F14: =IF(E14="","",E14+$D$6) | H14: =IF(OR(B14="",E14=""),"",IF(G14<>"",IF(G14>F14,"Devuelto con retraso","Devuelto"),IF($D$5>F14,"Retrasado",IF(F14-$D$5<=$D$7,"Vence pronto","En préstamo")))) | I14: =IF(OR(B14="",E14=""),"",IF(G14<>"",MAX(0,G14-F14),MAX(0,$D$5-F14))) | J14: =IF(H14="Retrasado","AVISAR a "&D14&": «"&C14&"» lleva "&I14&" días de retraso",IF(H14="Vence pronto","Recordar a "&D14&" la devolución el "&DAY(F14)&"/"&MONTH(F14),"")) | L14: =IF(B14="","",IF(ISNA(MATCH(B14,Libros!$B$6:$B$45,0)),"Código no existe",IF(D14="","Falta el alumno",IF(E14="","Falta fecha de salida",IF(AND(G14<>"",G14<E14),"Devolución anterior a salida",IF(AND(G14="",SUMPRODUCT(($B$10:$B$69=B14)*($E$10:$E$69<>"")*($G$10:$G$69=""))>1),"Libro ya prestado","OK")))))) | M14: =IF(AND(B14<>"",E14<>"",G14=""),B14,"") | N14: =IF(H14="Retrasado",I14+(1000-ROW())/100000,"") | O14: =IF(OR(D14="",E14=""),"",IF(COUNTIF($D$10:D14,D14)=1,COUNTIF($D$10:$D$69,D14)+(1000-ROW())/100000,""))
B15: LIB-001 | C15: =IF(B15="","",IFERROR(INDEX(Libros!$C$6:$C$45,MATCH(B15,Libros!$B$6:$B$45,0)),"¿Código?")) | D15: Lucía M. | E15: 46279 | F15: =IF(E15="","",E15+$D$6) | G15: 46290 | H15: =IF(OR(B15="",E15=""),"",IF(G15<>"",IF(G15>F15,"Devuelto con retraso","Devuelto"),IF($D$5>F15,"Retrasado",IF(F15-$D$5<=$D$7,"Vence pronto","En préstamo")))) | I15: =IF(OR(B15="",E15=""),"",IF(G15<>"",MAX(0,G15-F15),MAX(0,$D$5-F15))) | J15: =IF(H15="Retrasado","AVISAR a "&D15&": «"&C15&"» lleva "&I15&" días de retraso",IF(H15="Vence pronto","Recordar a "&D15&" la devolución el "&DAY(F15)&"/"&MONTH(F15),"")) | L15: =IF(B15="","",IF(ISNA(MATCH(B15,Libros!$B$6:$B$45,0)),"Código no existe",IF(D15="","Falta el alumno",IF(E15="","Falta fecha de salida",IF(AND(G15<>"",G15<E15),"Devolución anterior a salida",IF(AND(G15="",SUMPRODUCT(($B$10:$B$69=B15)*($E$10:$E$69<>"")*($G$10:$G$69=""))>1),"Libro ya prestado","OK")))))) | M15: =IF(AND(B15<>"",E15<>"",G15=""),B15,"") | N15: =IF(H15="Retrasado",I15+(1000-ROW())/100000,"") | O15: =IF(OR(D15="",E15=""),"",IF(COUNTIF($D$10:D15,D15)=1,COUNTIF($D$10:$D$69,D15)+(1000-ROW())/100000,""))
B16: LIB-005 | C16: =IF(B16="","",IFERROR(INDEX(Libros!$C$6:$C$45,MATCH(B16,Libros!$B$6:$B$45,0)),"¿Código?")) | D16: Mateo S. | E16: 46279 | F16: =IF(E16="","",E16+$D$6) | G16: 46297 | H16: =IF(OR(B16="",E16=""),"",IF(G16<>"",IF(G16>F16,"Devuelto con retraso","Devuelto"),IF($D$5>F16,"Retrasado",IF(F16-$D$5<=$D$7,"Vence pronto","En préstamo")))) | I16: =IF(OR(B16="",E16=""),"",IF(G16<>"",MAX(0,G16-F16),MAX(0,$D$5-F16))) | J16: =IF(H16="Retrasado","AVISAR a "&D16&": «"&C16&"» lleva "&I16&" días de retraso",IF(H16="Vence pronto","Recordar a "&D16&" la devolución el "&DAY(F16)&"/"&MONTH(F16),"")) | K16: Entregado con retraso | L16: =IF(B16="","",IF(ISNA(MATCH(B16,Libros!$B$6:$B$45,0)),"Código no existe",IF(D16="","Falta el alumno",IF(E16="","Falta fecha de salida",IF(AND(G16<>"",G16<E16),"Devolución anterior a salida",IF(AND(G16="",SUMPRODUCT(($B$10:$B$69=B16)*($E$10:$E$69<>"")*($G$10:$G$69=""))>1),"Libro ya prestado","OK")))))) | M16: =IF(AND(B16<>"",E16<>"",G16=""),B16,"") | N16: =IF(H16="Retrasado",I16+(1000-ROW())/100000,"") | O16: =IF(OR(D16="",E16=""),"",IF(COUNTIF($D$10:D16,D16)=1,COUNTIF($D$10:$D$69,D16)+(1000-ROW())/100000,""))
B17: LIB-009 | C17: =IF(B17="","",IFERROR(INDEX(Libros!$C$6:$C$45,MATCH(B17,Libros!$B$6:$B$45,0)),"¿Código?")) | D17: Sofía G. | E17: 46279 | F17: =IF(E17="","",E17+$D$6) | G17: 46289 | H17: =IF(OR(B17="",E17=""),"",IF(G17<>"",IF(G17>F17,"Devuelto con retraso","Devuelto"),IF($D$5>F17,"Retrasado",IF(F17-$D$5<=$D$7,"Vence pronto","En préstamo")))) | I17: =IF(OR(B17="",E17=""),"",IF(G17<>"",MAX(0,G17-F17),MAX(0,$D$5-F17))) | J17: =IF(H17="Retrasado","AVISAR a "&D17&": «"&C17&"» lleva "&I17&" días de retraso",IF(H17="Vence pronto","Recordar a "&D17&" la devolución el "&DAY(F17)&"/"&MONTH(F17),"")) | L17: =IF(B17="","",IF(ISNA(MATCH(B17,Libros!$B$6:$B$45,0)),"Código no existe",IF(D17="","Falta el alumno",IF(E17="","Falta fecha de salida",IF(AND(G17<>"",G17<E17),"Devolución anterior a salida",IF(AND(G17="",SUMPRODUCT(($B$10:$B$69=B17)*($E$10:$E$69<>"")*($G$10:$G$69=""))>1),"Libro ya prestado","OK")))))) | M17: =IF(AND(B17<>"",E17<>"",G17=""),B17,"") | N17: =IF(H17="Retrasado",I17+(1000-ROW())/100000,"") | O17: =IF(OR(D17="",E17=""),"",IF(COUNTIF($D$10:D17,D17)=1,COUNTIF($D$10:$D$69,D17)+(1000-ROW())/100000,""))
B18: LIB-003 | C18: =IF(B18="","",IFERROR(INDEX(Libros!$C$6:$C$45,MATCH(B18,Libros!$B$6:$B$45,0)),"¿Código?")) | D18: Hugo L. | E18: 46280 | F18: =IF(E18="","",E18+$D$6) | H18: =IF(OR(B18="",E18=""),"",IF(G18<>"",IF(G18>F18,"Devuelto con retraso","Devuelto"),IF($D$5>F18,"Retrasado",IF(F18-$D$5<=$D$7,"Vence pronto","En préstamo")))) | I18: =IF(OR(B18="",E18=""),"",IF(G18<>"",MAX(0,G18-F18),MAX(0,$D$5-F18))) | J18: =IF(H18="Retrasado","AVISAR a "&D18&": «"&C18&"» lleva "&I18&" días de retraso",IF(H18="Vence pronto","Recordar a "&D18&" la devolución el "&DAY(F18)&"/"&MONTH(F18),"")) | L18: =IF(B18="","",IF(ISNA(MATCH(B18,Libros!$B$6:$B$45,0)),"Código no existe",IF(D18="","Falta el alumno",IF(E18="","Falta fecha de salida",IF(AND(G18<>"",G18<E18),"Devolución anterior a salida",IF(AND(G18="",SUMPRODUCT(($B$10:$B$69=B18)*($E$10:$E$69<>"")*($G$10:$G$69=""))>1),"Libro ya prestado","OK")))))) | M18: =IF(AND(B18<>"",E18<>"",G18=""),B18,"") | N18: =IF(H18="Retrasado",I18+(1000-ROW())/100000,"") | O18: =IF(OR(D18="",E18=""),"",IF(COUNTIF($D$10:D18,D18)=1,COUNTIF($D$10:$D$69,D18)+(1000-ROW())/100000,""))
B19: LIB-002 | C19: =IF(B19="","",IFERROR(INDEX(Libros!$C$6:$C$45,MATCH(B19,Libros!$B$6:$B$45,0)),"¿Código?")) | D19: Sofía G. | E19: 46281 | F19: =IF(E19="","",E19+$D$6) | G19: 46295 | H19: =IF(OR(B19="",E19=""),"",IF(G19<>"",IF(G19>F19,"Devuelto con retraso","Devuelto"),IF($D$5>F19,"Retrasado",IF(F19-$D$5<=$D$7,"Vence pronto","En préstamo")))) | I19: =IF(OR(B19="",E19=""),"",IF(G19<>"",MAX(0,G19-F19),MAX(0,$D$5-F19))) | J19: =IF(H19="Retrasado","AVISAR a "&D19&": «"&C19&"» lleva "&I19&" días de retraso",IF(H19="Vence pronto","Recordar a "&D19&" la devolución el "&DAY(F19)&"/"&MONTH(F19),"")) | L19: =IF(B19="","",IF(ISNA(MATCH(B19,Libros!$B$6:$B$45,0)),"Código no existe",IF(D19="","Falta el alumno",IF(E19="","Falta fecha de salida",IF(AND(G19<>"",G19<E19),"Devolución anterior a salida",IF(AND(G19="",SUMPRODUCT(($B$10:$B$69=B19)*($E$10:$E$69<>"")*($G$10:$G$69=""))>1),"Libro ya prestado","OK")))))) | M19: =IF(AND(B19<>"",E19<>"",G19=""),B19,"") | N19: =IF(H19="Retrasado",I19+(1000-ROW())/100000,"") | O19: =IF(OR(D19="",E19=""),"",IF(COUNTIF($D$10:D19,D19)=1,COUNTIF($D$10:$D$69,D19)+(1000-ROW())/100000,""))
B20: LIB-004 | C20: =IF(B20="","",IFERROR(INDEX(Libros!$C$6:$C$45,MATCH(B20,Libros!$B$6:$B$45,0)),"¿Código?")) | D20: Carla N. | E20: 46282 | F20: =IF(E20="","",E20+$D$6) | G20: 46296 | H20: =IF(OR(B20="",E20=""),"",IF(G20<>"",IF(G20>F20,"Devuelto con retraso","Devuelto"),IF($D$5>F20,"Retrasado",IF(F20-$D$5<=$D$7,"Vence pronto","En préstamo")))) | I20: =IF(OR(B20="",E20=""),"",IF(G20<>"",MAX(0,G20-F20),MAX(0,$D$5-F20))) | J20: =IF(H20="Retrasado","AVISAR a "&D20&": «"&C20&"» lleva "&I20&" días de retraso",IF(H20="Vence pronto","Recordar a "&D20&" la devolución el "&DAY(F20)&"/"&MONTH(F20),"")) | K20: Cubierta algo despegada | L20: =IF(B20="","",IF(ISNA(MATCH(B20,Libros!$B$6:$B$45,0)),"Código no existe",IF(D20="","Falta el alumno",IF(E20="","Falta fecha de salida",IF(AND(G20<>"",G20<E20),"Devolución anterior a salida",IF(AND(G20="",SUMPRODUCT(($B$10:$B$69=B20)*($E$10:$E$69<>"")*($G$10:$G$69=""))>1),"Libro ya prestado","OK")))))) | M20: =IF(AND(B20<>"",E20<>"",G20=""),B20,"") | N20: =IF(H20="Retrasado",I20+(1000-ROW())/100000,"") | O20: =IF(OR(D20="",E20=""),"",IF(COUNTIF($D$10:D20,D20)=1,COUNTIF($D$10:$D$69,D20)+(1000-ROW())/100000,""))
B21: LIB-008 | C21: =IF(B21="","",IFERROR(INDEX(Libros!$C$6:$C$45,MATCH(B21,Libros!$B$6:$B$45,0)),"¿Código?")) | D21: Hugo L. | E21: 46283 | F21: =IF(E21="","",E21+$D$6) | H21: =IF(OR(B21="",E21=""),"",IF(G21<>"",IF(G21>F21,"Devuelto con retraso","Devuelto"),IF($D$5>F21,"Retrasado",IF(F21-$D$5<=$D$7,"Vence pronto","En préstamo")))) | I21: =IF(OR(B21="",E21=""),"",IF(G21<>"",MAX(0,G21-F21),MAX(0,$D$5-F21))) | J21: =IF(H21="Retrasado","AVISAR a "&D21&": «"&C21&"» lleva "&I21&" días de retraso",IF(H21="Vence pronto","Recordar a "&D21&" la devolución el "&DAY(F21)&"/"&MONTH(F21),"")) | L21: =IF(B21="","",IF(ISNA(MATCH(B21,Libros!$B$6:$B$45,0)),"Código no existe",IF(D21="","Falta el alumno",IF(E21="","Falta fecha de salida",IF(AND(G21<>"",G21<E21),"Devolución anterior a salida",IF(AND(G21="",SUMPRODUCT(($B$10:$B$69=B21)*($E$10:$E$69<>"")*($G$10:$G$69=""))>1),"Libro ya prestado","OK")))))) | M21: =IF(AND(B21<>"",E21<>"",G21=""),B21,"") | N21: =IF(H21="Retrasado",I21+(1000-ROW())/100000,"") | O21: =IF(OR(D21="",E21=""),"",IF(COUNTIF($D$10:D21,D21)=1,COUNTIF($D$10:$D$69,D21)+(1000-ROW())/100000,""))
B22: LIB-015 | C22: =IF(B22="","",IFERROR(INDEX(Libros!$C$6:$C$45,MATCH(B22,Libros!$B$6:$B$45,0)),"¿Código?")) | D22: Valeria P. | E22: 46285 | F22: =IF(E22="","",E22+$D$6) | G22: 46296 | H22: =IF(OR(B22="",E22=""),"",IF(G22<>"",IF(G22>F22,"Devuelto con retraso","Devuelto"),IF($D$5>F22,"Retrasado",IF(F22-$D$5<=$D$7,"Vence pronto","En préstamo")))) | I22: =IF(OR(B22="",E22=""),"",IF(G22<>"",MAX(0,G22-F22),MAX(0,$D$5-F22))) | J22: =IF(H22="Retrasado","AVISAR a "&D22&": «"&C22&"» lleva "&I22&" días de retraso",IF(H22="Vence pronto","Recordar a "&D22&" la devolución el "&DAY(F22)&"/"&MONTH(F22),"")) | L22: =IF(B22="","",IF(ISNA(MATCH(B22,Libros!$B$6:$B$45,0)),"Código no existe",IF(D22="","Falta el alumno",IF(E22="","Falta fecha de salida",IF(AND(G22<>"",G22<E22),"Devolución anterior a salida",IF(AND(G22="",SUMPRODUCT(($B$10:$B$69=B22)*($E$10:$E$69<>"")*($G$10:$G$69=""))>1),"Libro ya prestado","OK")))))) | M22: =IF(AND(B22<>"",E22<>"",G22=""),B22,"") | N22: =IF(H22="Retrasado",I22+(1000-ROW())/100000,"") | O22: =IF(OR(D22="",E22=""),"",IF(COUNTIF($D$10:D22,D22)=1,COUNTIF($D$10:$D$69,D22)+(1000-ROW())/100000,""))
B23: LIB-007 | C23: =IF(B23="","",IFERROR(INDEX(Libros!$C$6:$C$45,MATCH(B23,Libros!$B$6:$B$45,0)),"¿Código?")) | D23: Martina V. | E23: 46286 | F23: =IF(E23="","",E23+$D$6) | H23: =IF(OR(B23="",E23=""),"",IF(G23<>"",IF(G23>F23,"Devuelto con retraso","Devuelto"),IF($D$5>F23,"Retrasado",IF(F23-$D$5<=$D$7,"Vence pronto","En préstamo")))) | I23: =IF(OR(B23="",E23=""),"",IF(G23<>"",MAX(0,G23-F23),MAX(0,$D$5-F23))) | J23: =IF(H23="Retrasado","AVISAR a "&D23&": «"&C23&"» lleva "&I23&" días de retraso",IF(H23="Vence pronto","Recordar a "&D23&" la devolución el "&DAY(F23)&"/"&MONTH(F23),"")) | L23: =IF(B23="","",IF(ISNA(MATCH(B23,Libros!$B$6:$B$45,0)),"Código no existe",IF(D23="","Falta el alumno",IF(E23="","Falta fecha de salida",IF(AND(G23<>"",G23<E23),"Devolución anterior a salida",IF(AND(G23="",SUMPRODUCT(($B$10:$B$69=B23)*($E$10:$E$69<>"")*($G$10:$G$69=""))>1),"Libro ya prestado","OK")))))) | M23: =IF(AND(B23<>"",E23<>"",G23=""),B23,"") | N23: =IF(H23="Retrasado",I23+(1000-ROW())/100000,"") | O23: =IF(OR(D23="",E23=""),"",IF(COUNTIF($D$10:D23,D23)=1,COUNTIF($D$10:$D$69,D23)+(1000-ROW())/100000,""))
B24: LIB-006 | C24: =IF(B24="","",IFERROR(INDEX(Libros!$C$6:$C$45,MATCH(B24,Libros!$B$6:$B$45,0)),"¿Código?")) | D24: Daniel C. | E24: 46288 | F24: =IF(E24="","",E24+$D$6) | H24: =IF(OR(B24="",E24=""),"",IF(G24<>"",IF(G24>F24,"Devuelto con retraso","Devuelto"),IF($D$5>F24,"Retrasado",IF(F24-$D$5<=$D$7,"Vence pronto","En préstamo")))) | I24: =IF(OR(B24="",E24=""),"",IF(G24<>"",MAX(0,G24-F24),MAX(0,$D$5-F24))) | J24: =IF(H24="Retrasado","AVISAR a "&D24&": «"&C24&"» lleva "&I24&" días de retraso",IF(H24="Vence pronto","Recordar a "&D24&" la devolución el "&DAY(F24)&"/"&MONTH(F24),"")) | L24: =IF(B24="","",IF(ISNA(MATCH(B24,Libros!$B$6:$B$45,0)),"Código no existe",IF(D24="","Falta el alumno",IF(E24="","Falta fecha de salida",IF(AND(G24<>"",G24<E24),"Devolución anterior a salida",IF(AND(G24="",SUMPRODUCT(($B$10:$B$69=B24)*($E$10:$E$69<>"")*($G$10:$G$69=""))>1),"Libro ya prestado","OK")))))) | M24: =IF(AND(B24<>"",E24<>"",G24=""),B24,"") | N24: =IF(H24="Retrasado",I24+(1000-ROW())/100000,"") | O24: =IF(OR(D24="",E24=""),"",IF(COUNTIF($D$10:D24,D24)=1,COUNTIF($D$10:$D$69,D24)+(1000-ROW())/100000,""))
B25: LIB-009 | C25: =IF(B25="","",IFERROR(INDEX(Libros!$C$6:$C$45,MATCH(B25,Libros!$B$6:$B$45,0)),"¿Código?")) | D25: Carla N. | E25: 46290 | F25: =IF(E25="","",E25+$D$6) | H25: =IF(OR(B25="",E25=""),"",IF(G25<>"",IF(G25>F25,"Devuelto con retraso","Devuelto"),IF($D$5>F25,"Retrasado",IF(F25-$D$5<=$D$7,"Vence pronto","En préstamo")))) | I25: =IF(OR(B25="",E25=""),"",IF(G25<>"",MAX(0,G25-F25),MAX(0,$D$5-F25))) | J25: =IF(H25="Retrasado","AVISAR a "&D25&": «"&C25&"» lleva "&I25&" días de retraso",IF(H25="Vence pronto","Recordar a "&D25&" la devolución el "&DAY(F25)&"/"&MONTH(F25),"")) | L25: =IF(B25="","",IF(ISNA(MATCH(B25,Libros!$B$6:$B$45,0)),"Código no existe",IF(D25="","Falta el alumno",IF(E25="","Falta fecha de salida",IF(AND(G25<>"",G25<E25),"Devolución anterior a salida",IF(AND(G25="",SUMPRODUCT(($B$10:$B$69=B25)*($E$10:$E$69<>"")*($G$10:$G$69=""))>1),"Libro ya prestado","OK")))))) | M25: =IF(AND(B25<>"",E25<>"",G25=""),B25,"") | N25: =IF(H25="Retrasado",I25+(1000-ROW())/100000,"") | O25: =IF(OR(D25="",E25=""),"",IF(COUNTIF($D$10:D25,D25)=1,COUNTIF($D$10:$D$69,D25)+(1000-ROW())/100000,""))
B26: LIB-013 | C26: =IF(B26="","",IFERROR(INDEX(Libros!$C$6:$C$45,MATCH(B26,Libros!$B$6:$B$45,0)),"¿Código?")) | D26: Lucía M. | E26: 46293 | F26: =IF(E26="","",E26+$D$6) | G26: 46297 | H26: =IF(OR(B26="",E26=""),"",IF(G26<>"",IF(G26>F26,"Devuelto con retraso","Devuelto"),IF($D$5>F26,"Retrasado",IF(F26-$D$5<=$D$7,"Vence pronto","En préstamo")))) | I26: =IF(OR(B26="",E26=""),"",IF(G26<>"",MAX(0,G26-F26),MAX(0,$D$5-F26))) | J26: =IF(H26="Retrasado","AVISAR a "&D26&": «"&C26&"» lleva "&I26&" días de retraso",IF(H26="Vence pronto","Recordar a "&D26&" la devolución el "&DAY(F26)&"/"&MONTH(F26),"")) | L26: =IF(B26="","",IF(ISNA(MATCH(B26,Libros!$B$6:$B$45,0)),"Código no existe",IF(D26="","Falta el alumno",IF(E26="","Falta fecha de salida",IF(AND(G26<>"",G26<E26),"Devolución anterior a salida",IF(AND(G26="",SUMPRODUCT(($B$10:$B$69=B26)*($E$10:$E$69<>"")*($G$10:$G$69=""))>1),"Libro ya prestado","OK")))))) | M26: =IF(AND(B26<>"",E26<>"",G26=""),B26,"") | N26: =IF(H26="Retrasado",I26+(1000-ROW())/100000,"") | O26: =IF(OR(D26="",E26=""),"",IF(COUNTIF($D$10:D26,D26)=1,COUNTIF($D$10:$D$69,D26)+(1000-ROW())/100000,""))
B27: LIB-001 | C27: =IF(B27="","",IFERROR(INDEX(Libros!$C$6:$C$45,MATCH(B27,Libros!$B$6:$B$45,0)),"¿Código?")) | D27: Pablo R. | E27: 46293 | F27: =IF(E27="","",E27+$D$6) | H27: =IF(OR(B27="",E27=""),"",IF(G27<>"",IF(G27>F27,"Devuelto con retraso","Devuelto"),IF($D$5>F27,"Retrasado",IF(F27-$D$5<=$D$7,"Vence pronto","En préstamo")))) | I27: =IF(OR(B27="",E27=""),"",IF(G27<>"",MAX(0,G27-F27),MAX(0,$D$5-F27))) | J27: =IF(H27="Retrasado","AVISAR a "&D27&": «"&C27&"» lleva "&I27&" días de retraso",IF(H27="Vence pronto","Recordar a "&D27&" la devolución el "&DAY(F27)&"/"&MONTH(F27),"")) | L27: =IF(B27="","",IF(ISNA(MATCH(B27,Libros!$B$6:$B$45,0)),"Código no existe",IF(D27="","Falta el alumno",IF(E27="","Falta fecha de salida",IF(AND(G27<>"",G27<E27),"Devolución anterior a salida",IF(AND(G27="",SUMPRODUCT(($B$10:$B$69=B27)*($E$10:$E$69<>"")*($G$10:$G$69=""))>1),"Libro ya prestado","OK")))))) | M27: =IF(AND(B27<>"",E27<>"",G27=""),B27,"") | N27: =IF(H27="Retrasado",I27+(1000-ROW())/100000,"") | O27: =IF(OR(D27="",E27=""),"",IF(COUNTIF($D$10:D27,D27)=1,COUNTIF($D$10:$D$69,D27)+(1000-ROW())/100000,""))
B28: LIB-005 | C28: =IF(B28="","",IFERROR(INDEX(Libros!$C$6:$C$45,MATCH(B28,Libros!$B$6:$B$45,0)),"¿Código?")) | D28: Valeria P. | E28: 46296 | F28: =IF(E28="","",E28+$D$6) | H28: =IF(OR(B28="",E28=""),"",IF(G28<>"",IF(G28>F28,"Devuelto con retraso","Devuelto"),IF($D$5>F28,"Retrasado",IF(F28-$D$5<=$D$7,"Vence pronto","En préstamo")))) | I28: =IF(OR(B28="",E28=""),"",IF(G28<>"",MAX(0,G28-F28),MAX(0,$D$5-F28))) | J28: =IF(H28="Retrasado","AVISAR a "&D28&": «"&C28&"» lleva "&I28&" días de retraso",IF(H28="Vence pronto","Recordar a "&D28&" la devolución el "&DAY(F28)&"/"&MONTH(F28),"")) | L28: =IF(B28="","",IF(ISNA(MATCH(B28,Libros!$B$6:$B$45,0)),"Código no existe",IF(D28="","Falta el alumno",IF(E28="","Falta fecha de salida",IF(AND(G28<>"",G28<E28),"Devolución anterior a salida",IF(AND(G28="",SUMPRODUCT(($B$10:$B$69=B28)*($E$10:$E$69<>"")*($G$10:$G$69=""))>1),"Libro ya prestado","OK")))))) | M28: =IF(AND(B28<>"",E28<>"",G28=""),B28,"") | N28: =IF(H28="Retrasado",I28+(1000-ROW())/100000,"") | O28: =IF(OR(D28="",E28=""),"",IF(COUNTIF($D$10:D28,D28)=1,COUNTIF($D$10:$D$69,D28)+(1000-ROW())/100000,""))
C29: =IF(B29="","",IFERROR(INDEX(Libros!$C$6:$C$45,MATCH(B29,Libros!$B$6:$B$45,0)),"¿Código?")) | F29: =IF(E29="","",E29+$D$6) | H29: =IF(OR(B29="",E29=""),"",IF(G29<>"",IF(G29>F29,"Devuelto con retraso","Devuelto"),IF($D$5>F29,"Retrasado",IF(F29-$D$5<=$D$7,"Vence pronto","En préstamo")))) | I29: =IF(OR(B29="",E29=""),"",IF(G29<>"",MAX(0,G29-F29),MAX(0,$D$5-F29))) | J29: =IF(H29="Retrasado","AVISAR a "&D29&": «"&C29&"» lleva "&I29&" días de retraso",IF(H29="Vence pronto","Recordar a "&D29&" la devolución el "&DAY(F29)&"/"&MONTH(F29),"")) | L29: =IF(B29="","",IF(ISNA(MATCH(B29,Libros!$B$6:$B$45,0)),"Código no existe",IF(D29="","Falta el alumno",IF(E29="","Falta fecha de salida",IF(AND(G29<>"",G29<E29),"Devolución anterior a salida",IF(AND(G29="",SUMPRODUCT(($B$10:$B$69=B29)*($E$10:$E$69<>"")*($G$10:$G$69=""))>1),"Libro ya prestado","OK")))))) | M29: =IF(AND(B29<>"",E29<>"",G29=""),B29,"") | N29: =IF(H29="Retrasado",I29+(1000-ROW())/100000,"") | O29: =IF(OR(D29="",E29=""),"",IF(COUNTIF($D$10:D29,D29)=1,COUNTIF($D$10:$D$69,D29)+(1000-ROW())/100000,""))
C30: =IF(B30="","",IFERROR(INDEX(Libros!$C$6:$C$45,MATCH(B30,Libros!$B$6:$B$45,0)),"¿Código?")) | F30: =IF(E30="","",E30+$D$6) | H30: =IF(OR(B30="",E30=""),"",IF(G30<>"",IF(G30>F30,"Devuelto con retraso","Devuelto"),IF($D$5>F30,"Retrasado",IF(F30-$D$5<=$D$7,"Vence pronto","En préstamo")))) | I30: =IF(OR(B30="",E30=""),"",IF(G30<>"",MAX(0,G30-F30),MAX(0,$D$5-F30))) | J30: =IF(H30="Retrasado","AVISAR a "&D30&": «"&C30&"» lleva "&I30&" días de retraso",IF(H30="Vence pronto","Recordar a "&D30&" la devolución el "&DAY(F30)&"/"&MONTH(F30),"")) | L30: =IF(B30="","",IF(ISNA(MATCH(B30,Libros!$B$6:$B$45,0)),"Código no existe",IF(D30="","Falta el alumno",IF(E30="","Falta fecha de salida",IF(AND(G30<>"",G30<E30),"Devolución anterior a salida",IF(AND(G30="",SUMPRODUCT(($B$10:$B$69=B30)*($E$10:$E$69<>"")*($G$10:$G$69=""))>1),"Libro ya prestado","OK")))))) | M30: =IF(AND(B30<>"",E30<>"",G30=""),B30,"") | N30: =IF(H30="Retrasado",I30+(1000-ROW())/100000,"") | O30: =IF(OR(D30="",E30=""),"",IF(COUNTIF($D$10:D30,D30)=1,COUNTIF($D$10:$D$69,D30)+(1000-ROW())/100000,""))
C31: =IF(B31="","",IFERROR(INDEX(Libros!$C$6:$C$45,MATCH(B31,Libros!$B$6:$B$45,0)),"¿Código?")) | F31: =IF(E31="","",E31+$D$6) | H31: =IF(OR(B31="",E31=""),"",IF(G31<>"",IF(G31>F31,"Devuelto con retraso","Devuelto"),IF($D$5>F31,"Retrasado",IF(F31-$D$5<=$D$7,"Vence pronto","En préstamo")))) | I31: =IF(OR(B31="",E31=""),"",IF(G31<>"",MAX(0,G31-F31),MAX(0,$D$5-F31))) | J31: =IF(H31="Retrasado","AVISAR a "&D31&": «"&C31&"» lleva "&I31&" días de retraso",IF(H31="Vence pronto","Recordar a "&D31&" la devolución el "&DAY(F31)&"/"&MONTH(F31),"")) | L31: =IF(B31="","",IF(ISNA(MATCH(B31,Libros!$B$6:$B$45,0)),"Código no existe",IF(D31="","Falta el alumno",IF(E31="","Falta fecha de salida",IF(AND(G31<>"",G31<E31),"Devolución anterior a salida",IF(AND(G31="",SUMPRODUCT(($B$10:$B$69=B31)*($E$10:$E$69<>"")*($G$10:$G$69=""))>1),"Libro ya prestado","OK")))))) | M31: =IF(AND(B31<>"",E31<>"",G31=""),B31,"") | N31: =IF(H31="Retrasado",I31+(1000-ROW())/100000,"") | O31: =IF(OR(D31="",E31=""),"",IF(COUNTIF($D$10:D31,D31)=1,COUNTIF($D$10:$D$69,D31)+(1000-ROW())/100000,""))
C32: =IF(B32="","",IFERROR(INDEX(Libros!$C$6:$C$45,MATCH(B32,Libros!$B$6:$B$45,0)),"¿Código?")) | F32: =IF(E32="","",E32+$D$6) | H32: =IF(OR(B32="",E32=""),"",IF(G32<>"",IF(G32>F32,"Devuelto con retraso","Devuelto"),IF($D$5>F32,"Retrasado",IF(F32-$D$5<=$D$7,"Vence pronto","En préstamo")))) | I32: =IF(OR(B32="",E32=""),"",IF(G32<>"",MAX(0,G32-F32),MAX(0,$D$5-F32))) | J32: =IF(H32="Retrasado","AVISAR a "&D32&": «"&C32&"» lleva "&I32&" días de retraso",IF(H32="Vence pronto","Recordar a "&D32&" la devolución el "&DAY(F32)&"/"&MONTH(F32),"")) | L32: =IF(B32="","",IF(ISNA(MATCH(B32,Libros!$B$6:$B$45,0)),"Código no existe",IF(D32="","Falta el alumno",IF(E32="","Falta fecha de salida",IF(AND(G32<>"",G32<E32),"Devolución anterior a salida",IF(AND(G32="",SUMPRODUCT(($B$10:$B$69=B32)*($E$10:$E$69<>"")*($G$10:$G$69=""))>1),"Libro ya prestado","OK")))))) | M32: =IF(AND(B32<>"",E32<>"",G32=""),B32,"") | N32: =IF(H32="Retrasado",I32+(1000-ROW())/100000,"") | O32: =IF(OR(D32="",E32=""),"",IF(COUNTIF($D$10:D32,D32)=1,COUNTIF($D$10:$D$69,D32)+(1000-ROW())/100000,""))
C33: =IF(B33="","",IFERROR(INDEX(Libros!$C$6:$C$45,MATCH(B33,Libros!$B$6:$B$45,0)),"¿Código?")) | F33: =IF(E33="","",E33+$D$6) | H33: =IF(OR(B33="",E33=""),"",IF(G33<>"",IF(G33>F33,"Devuelto con retraso","Devuelto"),IF($D$5>F33,"Retrasado",IF(F33-$D$5<=$D$7,"Vence pronto","En préstamo")))) | I33: =IF(OR(B33="",E33=""),"",IF(G33<>"",MAX(0,G33-F33),MAX(0,$D$5-F33))) | J33: =IF(H33="Retrasado","AVISAR a "&D33&": «"&C33&"» lleva "&I33&" días de retraso",IF(H33="Vence pronto","Recordar a "&D33&" la devolución el "&DAY(F33)&"/"&MONTH(F33),"")) | L33: =IF(B33="","",IF(ISNA(MATCH(B33,Libros!$B$6:$B$45,0)),"Código no existe",IF(D33="","Falta el alumno",IF(E33="","Falta fecha de salida",IF(AND(G33<>"",G33<E33),"Devolución anterior a salida",IF(AND(G33="",SUMPRODUCT(($B$10:$B$69=B33)*($E$10:$E$69<>"")*($G$10:$G$69=""))>1),"Libro ya prestado","OK")))))) | M33: =IF(AND(B33<>"",E33<>"",G33=""),B33,"") | N33: =IF(H33="Retrasado",I33+(1000-ROW())/100000,"") | O33: =IF(OR(D33="",E33=""),"",IF(COUNTIF($D$10:D33,D33)=1,COUNTIF($D$10:$D$69,D33)+(1000-ROW())/100000,""))
C34: =IF(B34="","",IFERROR(INDEX(Libros!$C$6:$C$45,MATCH(B34,Libros!$B$6:$B$45,0)),"¿Código?")) | F34: =IF(E34="","",E34+$D$6) | H34: =IF(OR(B34="",E34=""),"",IF(G34<>"",IF(G34>F34,"Devuelto con retraso","Devuelto"),IF($D$5>F34,"Retrasado",IF(F34-$D$5<=$D$7,"Vence pronto","En préstamo")))) | I34: =IF(OR(B34="",E34=""),"",IF(G34<>"",MAX(0,G34-F34),MAX(0,$D$5-F34))) | J34: =IF(H34="Retrasado","AVISAR a "&D34&": «"&C34&"» lleva "&I34&" días de retraso",IF(H34="Vence pronto","Recordar a "&D34&" la devolución el "&DAY(F34)&"/"&MONTH(F34),"")) | L34: =IF(B34="","",IF(ISNA(MATCH(B34,Libros!$B$6:$B$45,0)),"Código no existe",IF(D34="","Falta el alumno",IF(E34="","Falta fecha de salida",IF(AND(G34<>"",G34<E34),"Devolución anterior a salida",IF(AND(G34="",SUMPRODUCT(($B$10:$B$69=B34)*($E$10:$E$69<>"")*($G$10:$G$69=""))>1),"Libro ya prestado","OK")))))) | M34: =IF(AND(B34<>"",E34<>"",G34=""),B34,"") | N34: =IF(H34="Retrasado",I34+(1000-ROW())/100000,"") | O34: =IF(OR(D34="",E34=""),"",IF(COUNTIF($D$10:D34,D34)=1,COUNTIF($D$10:$D$69,D34)+(1000-ROW())/100000,""))
C35: =IF(B35="","",IFERROR(INDEX(Libros!$C$6:$C$45,MATCH(B35,Libros!$B$6:$B$45,0)),"¿Código?")) | F35: =IF(E35="","",E35+$D$6) | H35: =IF(OR(B35="",E35=""),"",IF(G35<>"",IF(G35>F35,"Devuelto con retraso","Devuelto"),IF($D$5>F35,"Retrasado",IF(F35-$D$5<=$D$7,"Vence pronto","En préstamo")))) | I35: =IF(OR(B35="",E35=""),"",IF(G35<>"",MAX(0,G35-F35),MAX(0,$D$5-F35))) | J35: =IF(H35="Retrasado","AVISAR a "&D35&": «"&C35&"» lleva "&I35&" días de retraso",IF(H35="Vence pronto","Recordar a "&D35&" la devolución el "&DAY(F35)&"/"&MONTH(F35),"")) | L35: =IF(B35="","",IF(ISNA(MATCH(B35,Libros!$B$6:$B$45,0)),"Código no existe",IF(D35="","Falta el alumno",IF(E35="","Falta fecha de salida",IF(AND(G35<>"",G35<E35),"Devolución anterior a salida",IF(AND(G35="",SUMPRODUCT(($B$10:$B$69=B35)*($E$10:$E$69<>"")*($G$10:$G$69=""))>1),"Libro ya prestado","OK")))))) | M35: =IF(AND(B35<>"",E35<>"",G35=""),B35,"") | N35: =IF(H35="Retrasado",I35+(1000-ROW())/100000,"") | O35: =IF(OR(D35="",E35=""),"",IF(COUNTIF($D$10:D35,D35)=1,COUNTIF($D$10:$D$69,D35)+(1000-ROW())/100000,""))
C36: =IF(B36="","",IFERROR(INDEX(Libros!$C$6:$C$45,MATCH(B36,Libros!$B$6:$B$45,0)),"¿Código?")) | F36: =IF(E36="","",E36+$D$6) | H36: =IF(OR(B36="",E36=""),"",IF(G36<>"",IF(G36>F36,"Devuelto con retraso","Devuelto"),IF($D$5>F36,"Retrasado",IF(F36-$D$5<=$D$7,"Vence pronto","En préstamo")))) | I36: =IF(OR(B36="",E36=""),"",IF(G36<>"",MAX(0,G36-F36),MAX(0,$D$5-F36))) | J36: =IF(H36="Retrasado","AVISAR a "&D36&": «"&C36&"» lleva "&I36&" días de retraso",IF(H36="Vence pronto","Recordar a "&D36&" la devolución el "&DAY(F36)&"/"&MONTH(F36),"")) | L36: =IF(B36="","",IF(ISNA(MATCH(B36,Libros!$B$6:$B$45,0)),"Código no existe",IF(D36="","Falta el alumno",IF(E36="","Falta fecha de salida",IF(AND(G36<>"",G36<E36),"Devolución anterior a salida",IF(AND(G36="",SUMPRODUCT(($B$10:$B$69=B36)*($E$10:$E$69<>"")*($G$10:$G$69=""))>1),"Libro ya prestado","OK")))))) | M36: =IF(AND(B36<>"",E36<>"",G36=""),B36,"") | N36: =IF(H36="Retrasado",I36+(1000-ROW())/100000,"") | O36: =IF(OR(D36="",E36=""),"",IF(COUNTIF($D$10:D36,D36)=1,COUNTIF($D$10:$D$69,D36)+(1000-ROW())/100000,""))
C37: =IF(B37="","",IFERROR(INDEX(Libros!$C$6:$C$45,MATCH(B37,Libros!$B$6:$B$45,0)),"¿Código?")) | F37: =IF(E37="","",E37+$D$6) | H37: =IF(OR(B37="",E37=""),"",IF(G37<>"",IF(G37>F37,"Devuelto con retraso","Devuelto"),IF($D$5>F37,"Retrasado",IF(F37-$D$5<=$D$7,"Vence pronto","En préstamo")))) | I37: =IF(OR(B37="",E37=""),"",IF(G37<>"",MAX(0,G37-F37),MAX(0,$D$5-F37))) | J37: =IF(H37="Retrasado","AVISAR a "&D37&": «"&C37&"» lleva "&I37&" días de retraso",IF(H37="Vence pronto","Recordar a "&D37&" la devolución el "&DAY(F37)&"/"&MONTH(F37),"")) | L37: =IF(B37="","",IF(ISNA(MATCH(B37,Libros!$B$6:$B$45,0)),"Código no existe",IF(D37="","Falta el alumno",IF(E37="","Falta fecha de salida",IF(AND(G37<>"",G37<E37),"Devolución anterior a salida",IF(AND(G37="",SUMPRODUCT(($B$10:$B$69=B37)*($E$10:$E$69<>"")*($G$10:$G$69=""))>1),"Libro ya prestado","OK")))))) | M37: =IF(AND(B37<>"",E37<>"",G37=""),B37,"") | N37: =IF(H37="Retrasado",I37+(1000-ROW())/100000,"") | O37: =IF(OR(D37="",E37=""),"",IF(COUNTIF($D$10:D37,D37)=1,COUNTIF($D$10:$D$69,D37)+(1000-ROW())/100000,""))
C38: =IF(B38="","",IFERROR(INDEX(Libros!$C$6:$C$45,MATCH(B38,Libros!$B$6:$B$45,0)),"¿Código?")) | F38: =IF(E38="","",E38+$D$6) | H38: =IF(OR(B38="",E38=""),"",IF(G38<>"",IF(G38>F38,"Devuelto con retraso","Devuelto"),IF($D$5>F38,"Retrasado",IF(F38-$D$5<=$D$7,"Vence pronto","En préstamo")))) | I38: =IF(OR(B38="",E38=""),"",IF(G38<>"",MAX(0,G38-F38),MAX(0,$D$5-F38))) | J38: =IF(H38="Retrasado","AVISAR a "&D38&": «"&C38&"» lleva "&I38&" días de retraso",IF(H38="Vence pronto","Recordar a "&D38&" la devolución el "&DAY(F38)&"/"&MONTH(F38),"")) | L38: =IF(B38="","",IF(ISNA(MATCH(B38,Libros!$B$6:$B$45,0)),"Código no existe",IF(D38="","Falta el alumno",IF(E38="","Falta fecha de salida",IF(AND(G38<>"",G38<E38),"Devolución anterior a salida",IF(AND(G38="",SUMPRODUCT(($B$10:$B$69=B38)*($E$10:$E$69<>"")*($G$10:$G$69=""))>1),"Libro ya prestado","OK")))))) | M38: =IF(AND(B38<>"",E38<>"",G38=""),B38,"") | N38: =IF(H38="Retrasado",I38+(1000-ROW())/100000,"") | O38: =IF(OR(D38="",E38=""),"",IF(COUNTIF($D$10:D38,D38)=1,COUNTIF($D$10:$D$69,D38)+(1000-ROW())/100000,""))
C39: =IF(B39="","",IFERROR(INDEX(Libros!$C$6:$C$45,MATCH(B39,Libros!$B$6:$B$45,0)),"¿Código?")) | F39: =IF(E39="","",E39+$D$6) | H39: =IF(OR(B39="",E39=""),"",IF(G39<>"",IF(G39>F39,"Devuelto con retraso","Devuelto"),IF($D$5>F39,"Retrasado",IF(F39-$D$5<=$D$7,"Vence pronto","En préstamo")))) | I39: =IF(OR(B39="",E39=""),"",IF(G39<>"",MAX(0,G39-F39),MAX(0,$D$5-F39))) | J39: =IF(H39="Retrasado","AVISAR a "&D39&": «"&C39&"» lleva "&I39&" días de retraso",IF(H39="Vence pronto","Recordar a "&D39&" la devolución el "&DAY(F39)&"/"&MONTH(F39),"")) | L39: =IF(B39="","",IF(ISNA(MATCH(B39,Libros!$B$6:$B$45,0)),"Código no existe",IF(D39="","Falta el alumno",IF(E39="","Falta fecha de salida",IF(AND(G39<>"",G39<E39),"Devolución anterior a salida",IF(AND(G39="",SUMPRODUCT(($B$10:$B$69=B39)*($E$10:$E$69<>"")*($G$10:$G$69=""))>1),"Libro ya prestado","OK")))))) | M39: =IF(AND(B39<>"",E39<>"",G39=""),B39,"") | N39: =IF(H39="Retrasado",I39+(1000-ROW())/100000,"") | O39: =IF(OR(D39="",E39=""),"",IF(COUNTIF($D$10:D39,D39)=1,COUNTIF($D$10:$D$69,D39)+(1000-ROW())/100000,""))
C40: =IF(B40="","",IFERROR(INDEX(Libros!$C$6:$C$45,MATCH(B40,Libros!$B$6:$B$45,0)),"¿Código?")) | F40: =IF(E40="","",E40+$D$6) | H40: =IF(OR(B40="",E40=""),"",IF(G40<>"",IF(G40>F40,"Devuelto con retraso","Devuelto"),IF($D$5>F40,"Retrasado",IF(F40-$D$5<=$D$7,"Vence pronto","En préstamo")))) | I40: =IF(OR(B40="",E40=""),"",IF(G40<>"",MAX(0,G40-F40),MAX(0,$D$5-F40))) | J40: =IF(H40="Retrasado","AVISAR a "&D40&": «"&C40&"» lleva "&I40&" días de retraso",IF(H40="Vence pronto","Recordar a "&D40&" la devolución el "&DAY(F40)&"/"&MONTH(F40),"")) | L40: =IF(B40="","",IF(ISNA(MATCH(B40,Libros!$B$6:$B$45,0)),"Código no existe",IF(D40="","Falta el alumno",IF(E40="","Falta fecha de salida",IF(AND(G40<>"",G40<E40),"Devolución anterior a salida",IF(AND(G40="",SUMPRODUCT(($B$10:$B$69=B40)*($E$10:$E$69<>"")*($G$10:$G$69=""))>1),"Libro ya prestado","OK")))))) | M40: =IF(AND(B40<>"",E40<>"",G40=""),B40,"") | N40: =IF(H40="Retrasado",I40+(1000-ROW())/100000,"") | O40: =IF(OR(D40="",E40=""),"",IF(COUNTIF($D$10:D40,D40)=1,COUNTIF($D$10:$D$69,D40)+(1000-ROW())/100000,""))
... C69: =IF(B69="","",IFERROR(INDEX(Libros!$C$6:$C$45,MATCH(B69,Libros!$B$6:$B$45,0)),"¿Código?")) | F69: =IF(E69="","",E69+$D$6) | H69: =IF(OR(B69="",E69=""),"",IF(G69<>"",IF(G69>F69,"Devuelto con retraso","Devuelto"),IF($D$5>F69,"Retrasado",IF(F69-$D$5<=$D$7,"Vence pronto","En préstamo")))) | I69: =IF(OR(B69="",E69=""),"",IF(G69<>"",MAX(0,G69-F69),MAX(0,$D$5-F69))) | J69: =IF(H69="Retrasado","AVISAR a "&D69&": «"&C69&"» lleva "&I69&" días de retraso",IF(H69="Vence pronto","Recordar a "&D69&" la devolución el "&DAY(F69)&"/"&MONTH(F69),"")) | L69: =IF(B69="","",IF(ISNA(MATCH(B69,Libros!$B$6:$B$45,0)),"Código no existe",IF(D69="","Falta el alumno",IF(E69="","Falta fecha de salida",IF(AND(G69<>"",G69<E69),"Devolución anterior a salida",IF(AND(G69="",SUMPRODUCT(($B$10:$B$69=B69)*($E$10:$E$69<>"")*($G$10:$G$69=""))>1),"Libro ya prestado","OK")))))) | M69: =IF(AND(B69<>"",E69<>"",G69=""),B69,"") | N69: =IF(H69="Retrasado",I69+(1000-ROW())/100000,"") | O69: =IF(OR(D69="",E69=""),"",IF(COUNTIF($D$10:D69,D69)=1,COUNTIF($D$10:$D$69,D69)+(1000-ROW())/100000,""))
B70: TOTAL | E70: =COUNT(E10:E69)&" salidas" | G70: =COUNT(G10:G69)&" devueltos" | I70: =SUMIF(H10:H69,"Retrasado",I10:I69)
