Workbook

Sheet Calculadora
B2: Calculadora de calorías y macronutrientes
B3: Estimación orientativa del gasto energético y reparto de macros. Cambia las celdas crema y todo se recalcula.
B5: 1. TUS DATOS
B6: Sexo (para la fórmula) | C6: Mujer
B7: Edad (años) | C7: 34
B8: Peso (kg) | C8: 68
B9: Altura (cm) | C9: 166
B10: Nivel de actividad | C10: Ligero
B11: Objetivo | C11: Perder peso
B13: 2. ENERGÍA ESTIMADA (fórmula de Mifflin-St Jeor)
B14: Metabolismo basal estimado (kcal/día) | C14: =ROUND(10*C8+6.25*C9-5*C7+IF(C6="Hombre",5,-161),0)
B15: Factor de actividad | C15: =IFERROR(VLOOKUP(C10,$B$41:$C$45,2,FALSE),1)
B16: Gasto energético diario estimado (kcal) | C16: =ROUND(C14*C15,0)
B17: Ajuste según tu objetivo | C17: =IFERROR(VLOOKUP(C11,$B$48:$C$50,2,FALSE),0)
B18: CALORÍAS OBJETIVO (kcal/día) | C18: =ROUND(C16*(1+C17),0)
B19: =IF(C18<C14,"Aviso: tu objetivo queda por debajo del metabolismo basal estimado. Revísalo con un dietista-nutricionista.","El objetivo está por encima del metabolismo basal estimado.")
B21: 3. REPARTO DE MACRONUTRIENTES
B22: Macronutriente | C22: % de las kcal | D22: kcal | E22: Gramos al día | F22: g por kg de peso | G22: kcal por gramo
B23: Proteínas | C23: 0.25 | D23: =ROUND($C$18*C23,0) | E23: =IFERROR(ROUND(D23/G23,0),0) | F23: =IFERROR(E23/$C$8,0) | G23: 4
B24: Hidratos de carbono | C24: 0.45 | D24: =ROUND($C$18*C24,0) | E24: =IFERROR(ROUND(D24/G24,0),0) | F24: =IFERROR(E24/$C$8,0) | G24: 4
B25: Grasas | C25: 0.3 | D25: =ROUND($C$18*C25,0) | E25: =IFERROR(ROUND(D25/G25,0),0) | F25: =IFERROR(E25/$C$8,0) | G25: 9
B26: Total | C26: =SUM(C23:C25) | D26: =SUM(D23:D25)
B27: =IF(ROUND(C26,4)=1,"Reparto correcto: los porcentajes suman 100 %.","Revisa: los porcentajes suman "&TEXT(C26,"0%")&" y deberían sumar 100 %.")
B29: 4. REPARTO POR COMIDAS (objetivo de cada comida)
B30: Comida | C30: % del día | D30: kcal | E30: Proteínas (g) | F30: Hidratos (g) | G30: Grasas (g)
B31: Desayuno | C31: 0.25 | D31: =ROUND($C$18*C31,0) | E31: =IFERROR(ROUND(D31*$C$23/$G$23,0),0) | F31: =IFERROR(ROUND(D31*$C$24/$G$24,0),0) | G31: =IFERROR(ROUND(D31*$C$25/$G$25,0),0)
B32: Media mañana | C32: 0.1 | D32: =ROUND($C$18*C32,0) | E32: =IFERROR(ROUND(D32*$C$23/$G$23,0),0) | F32: =IFERROR(ROUND(D32*$C$24/$G$24,0),0) | G32: =IFERROR(ROUND(D32*$C$25/$G$25,0),0)
B33: Comida | C33: 0.3 | D33: =ROUND($C$18*C33,0) | E33: =IFERROR(ROUND(D33*$C$23/$G$23,0),0) | F33: =IFERROR(ROUND(D33*$C$24/$G$24,0),0) | G33: =IFERROR(ROUND(D33*$C$25/$G$25,0),0)
B34: Merienda | C34: 0.1 | D34: =ROUND($C$18*C34,0) | E34: =IFERROR(ROUND(D34*$C$23/$G$23,0),0) | F34: =IFERROR(ROUND(D34*$C$24/$G$24,0),0) | G34: =IFERROR(ROUND(D34*$C$25/$G$25,0),0)
B35: Cena | C35: 0.25 | D35: =ROUND($C$18*C35,0) | E35: =IFERROR(ROUND(D35*$C$23/$G$23,0),0) | F35: =IFERROR(ROUND(D35*$C$24/$G$24,0),0) | G35: =IFERROR(ROUND(D35*$C$25/$G$25,0),0)
B36: Total del día | C36: =SUM(C31:C35) | D36: =SUM(D31:D35) | E36: =SUM(E31:E35) | F36: =SUM(F31:F35) | G36: =SUM(G31:G35)
B37: =IF(ROUND(C36,4)=1,"Reparto por comidas correcto (suma 100 %).","Revisa: el reparto por comidas suma "&TEXT(C36,"0%")&" y debería sumar 100 %.")
B39: 5. PARÁMETROS EDITABLES (valores de ejemplo, ajústalos a tu criterio)
B40: Nivel de actividad | C40: Factor | D40: Descripción
B41: Sedentario | C41: 1.2 | D41: Poco o nada de ejercicio
B42: Ligero | C42: 1.375 | D42: Ejercicio suave 1-3 días por semana
B43: Moderado | C43: 1.55 | D43: Ejercicio moderado 3-5 días por semana
B44: Activo | C44: 1.725 | D44: Ejercicio intenso 6-7 días por semana
B45: Muy activo | C45: 1.9 | D45: Entrenamiento muy intenso o trabajo físico
B47: Objetivo | C47: Ajuste sobre el gasto
...

Sheet Alimentos
B2: Tabla de alimentos (valores por 100 g)
B3: Valores aproximados de ejemplo: contrástalos con la etiqueta de tu producto y edítalos o añade los tuyos.
B5: Alimentos en la tabla: | C5: =COUNTA(B8:B37)
B7: Alimento | C7: Categoría | D7: kcal por 100 g | E7: Proteínas (g) | F7: Hidratos (g) | G7: Grasas (g) | H7: kcal según macros
B8: Avena en copos | C8: Cereales | D8: 370 | E8: 13 | F8: 60 | G8: 7 | H8: =IF(B8="","",ROUND(4*E8+4*F8+9*G8,0))
B9: Pan integral | C9: Cereales | D9: 247 | E9: 9 | F9: 41 | G9: 3.4 | H9: =IF(B9="","",ROUND(4*E9+4*F9+9*G9,0))
B10: Arroz blanco (crudo) | C10: Cereales | D10: 354 | E10: 7 | F10: 78 | G10: 0.6 | H10: =IF(B10="","",ROUND(4*E10+4*F10+9*G10,0))
B11: Pasta (cruda) | C11: Cereales | D11: 355 | E11: 12 | F11: 72 | G11: 1.5 | H11: =IF(B11="","",ROUND(4*E11+4*F11+9*G11,0))
B12: Lentejas (crudas) | C12: Legumbres | D12: 340 | E12: 24 | F12: 52 | G12: 1.5 | H12: =IF(B12="","",ROUND(4*E12+4*F12+9*G12,0))
B13: Leche semidesnatada | C13: Lácteos | D13: 46 | E13: 3.4 | F13: 4.8 | G13: 1.6 | H13: =IF(B13="","",ROUND(4*E13+4*F13+9*G13,0))
B14: Yogur natural | C14: Lácteos | D14: 61 | E14: 3.5 | F14: 4.7 | G14: 3.3 | H14: =IF(B14="","",ROUND(4*E14+4*F14+9*G14,0))
B15: Queso fresco batido | C15: Lácteos | D15: 46 | E15: 8 | F15: 3.5 | G15: 0.2 | H15: =IF(B15="","",ROUND(4*E15+4*F15+9*G15,0))
B16: Huevo | C16: Huevos | D16: 143 | E16: 12.6 | F16: 0.7 | G16: 9.5 | H16: =IF(B16="","",ROUND(4*E16+4*F16+9*G16,0))
B17: Pechuga de pollo (cruda) | C17: Carnes | D17: 110 | E17: 23 | F17: 0 | G17: 1.2 | H17: =IF(B17="","",ROUND(4*E17+4*F17+9*G17,0))
B18: Salmón | C18: Pescados | D18: 208 | E18: 20 | F18: 0 | G18: 13 | H18: =IF(B18="","",ROUND(4*E18+4*F18+9*G18,0))
B19: Merluza | C19: Pescados | D19: 71 | E19: 16 | F19: 0 | G19: 0.9 | H19: =IF(B19="","",ROUND(4*E19+4*F19+9*G19,0))
... B28: Aceite de oliva | C28: Grasas y frutos secos | D28: 884 | E28: 0 | F28: 0 | G28: 100 | H28: =IF(B28="","",ROUND(4*E28+4*F28+9*G28,0))
H29: =IF(B29="","",ROUND(4*E29+4*F29+9*G29,0))
H30: =IF(B30="","",ROUND(4*E30+4*F30+9*G30,0))
H31: =IF(B31="","",ROUND(4*E31+4*F31+9*G31,0))
H32: =IF(B32="","",ROUND(4*E32+4*F32+9*G32,0))
H33: =IF(B33="","",ROUND(4*E33+4*F33+9*G33,0))
H34: =IF(B34="","",ROUND(4*E34+4*F34+9*G34,0))
H35: =IF(B35="","",ROUND(4*E35+4*F35+9*G35,0))
H36: =IF(B36="","",ROUND(4*E36+4*F36+9*G36,0))
H37: =IF(B37="","",ROUND(4*E37+4*F37+9*G37,0))
B39: La columna «kcal según macros» (4 kcal/g de proteínas e hidratos, 9 kcal/g de grasas) sirve para comprobar que los datos que introduces son coherentes.

Sheet Diario
B2: Diario de comidas
B3: Una fila por alimento: fecha, comida, alimento y gramos. Las calorías y los macros se calculan con la hoja Alimentos.
B5: Total del diario: | D5: =SUM(F8:F57)
B7: Fecha | C7: Comida | D7: Alimento | E7: Gramos | F7: kcal | G7: Proteínas (g) | H7: Hidratos (g) | I7: Grasas (g)
B8: 46294 | C8: Desayuno | D8: Avena en copos | E8: 50 | F8: =IF(OR(D8="",E8=""),"",IFERROR(ROUND(INDEX(Alimentos!$D$8:$D$37,MATCH(D8,Alimentos!$B$8:$B$37,0))*E8/100,0),0)) | G8: =IF(OR(D8="",E8=""),"",IFERROR(ROUND(INDEX(Alimentos!$E$8:$E$37,MATCH(D8,Alimentos!$B$8:$B$37,0))*E8/100,1),0)) | H8: =IF(OR(D8="",E8=""),"",IFERROR(ROUND(INDEX(Alimentos!$F$8:$F$37,MATCH(D8,Alimentos!$B$8:$B$37,0))*E8/100,1),0)) | I8: =IF(OR(D8="",E8=""),"",IFERROR(ROUND(INDEX(Alimentos!$G$8:$G$37,MATCH(D8,Alimentos!$B$8:$B$37,0))*E8/100,1),0))
B9: 46294 | C9: Desayuno | D9: Leche semidesnatada | E9: 250 | F9: =IF(OR(D9="",E9=""),"",IFERROR(ROUND(INDEX(Alimentos!$D$8:$D$37,MATCH(D9,Alimentos!$B$8:$B$37,0))*E9/100,0),0)) | G9: =IF(OR(D9="",E9=""),"",IFERROR(ROUND(INDEX(Alimentos!$E$8:$E$37,MATCH(D9,Alimentos!$B$8:$B$37,0))*E9/100,1),0)) | H9: =IF(OR(D9="",E9=""),"",IFERROR(ROUND(INDEX(Alimentos!$F$8:$F$37,MATCH(D9,Alimentos!$B$8:$B$37,0))*E9/100,1),0)) | I9: =IF(OR(D9="",E9=""),"",IFERROR(ROUND(INDEX(Alimentos!$G$8:$G$37,MATCH(D9,Alimentos!$B$8:$B$37,0))*E9/100,1),0))
B10: 46294 | C10: Desayuno | D10: Plátano | E10: 100 | F10: =IF(OR(D10="",E10=""),"",IFERROR(ROUND(INDEX(Alimentos!$D$8:$D$37,MATCH(D10,Alimentos!$B$8:$B$37,0))*E10/100,0),0)) | G10: =IF(OR(D10="",E10=""),"",IFERROR(ROUND(INDEX(Alimentos!$E$8:$E$37,MATCH(D10,Alimentos!$B$8:$B$37,0))*E10/100,1),0)) | H10: =IF(OR(D10="",E10=""),"",IFERROR(ROUND(INDEX(Alimentos!$F$8:$F$37,MATCH(D10,Alimentos!$B$8:$B$37,0))*E10/100,1),0)) | I10: =IF(OR(D10="",E10=""),"",IFERROR(ROUND(INDEX(Alimentos!$G$8:$G$37,MATCH(D10,Alimentos!$B$8:$B$37,0))*E10/100,1),0))
B11: 46294 | C11: Comida | D11: Pechuga de pollo (cruda) | E11: 150 | F11: =IF(OR(D11="",E11=""),"",IFERROR(ROUND(INDEX(Alimentos!$D$8:$D$37,MATCH(D11,Alimentos!$B$8:$B$37,0))*E11/100,0),0)) | G11: =IF(OR(D11="",E11=""),"",IFERROR(ROUND(INDEX(Alimentos!$E$8:$E$37,MATCH(D11,Alimentos!$B$8:$B$37,0))*E11/100,1),0)) | H11: =IF(OR(D11="",E11=""),"",IFERROR(ROUND(INDEX(Alimentos!$F$8:$F$37,MATCH(D11,Alimentos!$B$8:$B$37,0))*E11/100,1),0)) | I11: =IF(OR(D11="",E11=""),"",IFERROR(ROUND(INDEX(Alimentos!$G$8:$G$37,MATCH(D11,Alimentos!$B$8:$B$37,0))*E11/100,1),0))
B12: 46294 | C12: Comida | D12: Arroz blanco (crudo) | E12: 70 | F12: =IF(OR(D12="",E12=""),"",IFERROR(ROUND(INDEX(Alimentos!$D$8:$D$37,MATCH(D12,Alimentos!$B$8:$B$37,0))*E12/100,0),0)) | G12: =IF(OR(D12="",E12=""),"",IFERROR(ROUND(INDEX(Alimentos!$E$8:$E$37,MATCH(D12,Alimentos!$B$8:$B$37,0))*E12/100,1),0)) | H12: =IF(OR(D12="",E12=""),"",IFERROR(ROUND(INDEX(Alimentos!$F$8:$F$37,MATCH(D12,Alimentos!$B$8:$B$37,0))*E12/100,1),0)) | I12: =IF(OR(D12="",E12=""),"",IFERROR(ROUND(INDEX(Alimentos!$G$8:$G$37,MATCH(D12,Alimentos!$B$8:$B$37,0))*E12/100,1),0))
B13: 46294 | C13: Comida | D13: Brócoli | E13: 150 | F13: =IF(OR(D13="",E13=""),"",IFERROR(ROUND(INDEX(Alimentos!$D$8:$D$37,MATCH(D13,Alimentos!$B$8:$B$37,0))*E13/100,0),0)) | G13: =IF(OR(D13="",E13=""),"",IFERROR(ROUND(INDEX(Alimentos!$E$8:$E$37,MATCH(D13,Alimentos!$B$8:$B$37,0))*E13/100,1),0)) | H13: =IF(OR(D13="",E13=""),"",IFERROR(ROUND(INDEX(Alimentos!$F$8:$F$37,MATCH(D13,Alimentos!$B$8:$B$37,0))*E13/100,1),0)) | I13: =IF(OR(D13="",E13=""),"",IFERROR(ROUND(INDEX(Alimentos!$G$8:$G$37,MATCH(D13,Alimentos!$B$8:$B$37,0))*E13/100,1),0))
B14: 46294 | C14: Comida | D14: Aceite de oliva | E14: 10 | F14: =IF(OR(D14="",E14=""),"",IFERROR(ROUND(INDEX(Alimentos!$D$8:$D$37,MATCH(D14,Alimentos!$B$8:$B$37,0))*E14/100,0),0)) | G14: =IF(OR(D14="",E14=""),"",IFERROR(ROUND(INDEX(Alimentos!$E$8:$E$37,MATCH(D14,Alimentos!$B$8:$B$37,0))*E14/100,1),0)) | H14: =IF(OR(D14="",E14=""),"",IFERROR(ROUND(INDEX(Alimentos!$F$8:$F$37,MATCH(D14,Alimentos!$B$8:$B$37,0))*E14/100,1),0)) | I14: =IF(OR(D14="",E14=""),"",IFERROR(ROUND(INDEX(Alimentos!$G$8:$G$37,MATCH(D14,Alimentos!$B$8:$B$37,0))*E14/100,1),0))
B15: 46294 | C15: Media mañana | D15: Manzana | E15: 150 | F15: =IF(OR(D15="",E15=""),"",IFERROR(ROUND(INDEX(Alimentos!$D$8:$D$37,MATCH(D15,Alimentos!$B$8:$B$37,0))*E15/100,0),0)) | G15: =IF(OR(D15="",E15=""),"",IFERROR(ROUND(INDEX(Alimentos!$E$8:$E$37,MATCH(D15,Alimentos!$B$8:$B$37,0))*E15/100,1),0)) | H15: =IF(OR(D15="",E15=""),"",IFERROR(ROUND(INDEX(Alimentos!$F$8:$F$37,MATCH(D15,Alimentos!$B$8:$B$37,0))*E15/100,1),0)) | I15: =IF(OR(D15="",E15=""),"",IFERROR(ROUND(INDEX(Alimentos!$G$8:$G$37,MATCH(D15,Alimentos!$B$8:$B$37,0))*E15/100,1),0))
B16: 46294 | C16: Merienda | D16: Yogur natural | E16: 125 | F16: =IF(OR(D16="",E16=""),"",IFERROR(ROUND(INDEX(Alimentos!$D$8:$D$37,MATCH(D16,Alimentos!$B$8:$B$37,0))*E16/100,0),0)) | G16: =IF(OR(D16="",E16=""),"",IFERROR(ROUND(INDEX(Alimentos!$E$8:$E$37,MATCH(D16,Alimentos!$B$8:$B$37,0))*E16/100,1),0)) | H16: =IF(OR(D16="",E16=""),"",IFERROR(ROUND(INDEX(Alimentos!$F$8:$F$37,MATCH(D16,Alimentos!$B$8:$B$37,0))*E16/100,1),0)) | I16: =IF(OR(D16="",E16=""),"",IFERROR(ROUND(INDEX(Alimentos!$G$8:$G$37,MATCH(D16,Alimentos!$B$8:$B$37,0))*E16/100,1),0))
B17: 46294 | C17: Merienda | D17: Almendras | E17: 15 | F17: =IF(OR(D17="",E17=""),"",IFERROR(ROUND(INDEX(Alimentos!$D$8:$D$37,MATCH(D17,Alimentos!$B$8:$B$37,0))*E17/100,0),0)) | G17: =IF(OR(D17="",E17=""),"",IFERROR(ROUND(INDEX(Alimentos!$E$8:$E$37,MATCH(D17,Alimentos!$B$8:$B$37,0))*E17/100,1),0)) | H17: =IF(OR(D17="",E17=""),"",IFERROR(ROUND(INDEX(Alimentos!$F$8:$F$37,MATCH(D17,Alimentos!$B$8:$B$37,0))*E17/100,1),0)) | I17: =IF(OR(D17="",E17=""),"",IFERROR(ROUND(INDEX(Alimentos!$G$8:$G$37,MATCH(D17,Alimentos!$B$8:$B$37,0))*E17/100,1),0))
B18: 46294 | C18: Cena | D18: Merluza | E18: 200 | F18: =IF(OR(D18="",E18=""),"",IFERROR(ROUND(INDEX(Alimentos!$D$8:$D$37,MATCH(D18,Alimentos!$B$8:$B$37,0))*E18/100,0),0)) | G18: =IF(OR(D18="",E18=""),"",IFERROR(ROUND(INDEX(Alimentos!$E$8:$E$37,MATCH(D18,Alimentos!$B$8:$B$37,0))*E18/100,1),0)) | H18: =IF(OR(D18="",E18=""),"",IFERROR(ROUND(INDEX(Alimentos!$F$8:$F$37,MATCH(D18,Alimentos!$B$8:$B$37,0))*E18/100,1),0)) | I18: =IF(OR(D18="",E18=""),"",IFERROR(ROUND(INDEX(Alimentos!$G$8:$G$37,MATCH(D18,Alimentos!$B$8:$B$37,0))*E18/100,1),0))
B19: 46294 | C19: Cena | D19: Patata | E19: 200 | F19: =IF(OR(D19="",E19=""),"",IFERROR(ROUND(INDEX(Alimentos!$D$8:$D$37,MATCH(D19,Alimentos!$B$8:$B$37,0))*E19/100,0),0)) | G19: =IF(OR(D19="",E19=""),"",IFERROR(ROUND(INDEX(Alimentos!$E$8:$E$37,MATCH(D19,Alimentos!$B$8:$B$37,0))*E19/100,1),0)) | H19: =IF(OR(D19="",E19=""),"",IFERROR(ROUND(INDEX(Alimentos!$F$8:$F$37,MATCH(D19,Alimentos!$B$8:$B$37,0))*E19/100,1),0)) | I19: =IF(OR(D19="",E19=""),"",IFERROR(ROUND(INDEX(Alimentos!$G$8:$G$37,MATCH(D19,Alimentos!$B$8:$B$37,0))*E19/100,1),0))
... B45: 46296 | C45: Cena | D45: Pan integral | E45: 40 | F45: =IF(OR(D45="",E45=""),"",IFERROR(ROUND(INDEX(Alimentos!$D$8:$D$37,MATCH(D45,Alimentos!$B$8:$B$37,0))*E45/100,0),0)) | G45: =IF(OR(D45="",E45=""),"",IFERROR(ROUND(INDEX(Alimentos!$E$8:$E$37,MATCH(D45,Alimentos!$B$8:$B$37,0))*E45/100,1),0)) | H45: =IF(OR(D45="",E45=""),"",IFERROR(ROUND(INDEX(Alimentos!$F$8:$F$37,MATCH(D45,Alimentos!$B$8:$B$37,0))*E45/100,1),0)) | I45: =IF(OR(D45="",E45=""),"",IFERROR(ROUND(INDEX(Alimentos!$G$8:$G$37,MATCH(D45,Alimentos!$B$8:$B$37,0))*E45/100,1),0))
F46: =IF(OR(D46="",E46=""),"",IFERROR(ROUND(INDEX(Alimentos!$D$8:$D$37,MATCH(D46,Alimentos!$B$8:$B$37,0))*E46/100,0),0)) | G46: =IF(OR(D46="",E46=""),"",IFERROR(ROUND(INDEX(Alimentos!$E$8:$E$37,MATCH(D46,Alimentos!$B$8:$B$37,0))*E46/100,1),0)) | H46: =IF(OR(D46="",E46=""),"",IFERROR(ROUND(INDEX(Alimentos!$F$8:$F$37,MATCH(D46,Alimentos!$B$8:$B$37,0))*E46/100,1),0)) | I46: =IF(OR(D46="",E46=""),"",IFERROR(ROUND(INDEX(Alimentos!$G$8:$G$37,MATCH(D46,Alimentos!$B$8:$B$37,0))*E46/100,1),0))
F47: =IF(OR(D47="",E47=""),"",IFERROR(ROUND(INDEX(Alimentos!$D$8:$D$37,MATCH(D47,Alimentos!$B$8:$B$37,0))*E47/100,0),0)) | G47: =IF(OR(D47="",E47=""),"",IFERROR(ROUND(INDEX(Alimentos!$E$8:$E$37,MATCH(D47,Alimentos!$B$8:$B$37,0))*E47/100,1),0)) | H47: =IF(OR(D47="",E47=""),"",IFERROR(ROUND(INDEX(Alimentos!$F$8:$F$37,MATCH(D47,Alimentos!$B$8:$B$37,0))*E47/100,1),0)) | I47: =IF(OR(D47="",E47=""),"",IFERROR(ROUND(INDEX(Alimentos!$G$8:$G$37,MATCH(D47,Alimentos!$B$8:$B$37,0))*E47/100,1),0))
F48: =IF(OR(D48="",E48=""),"",IFERROR(ROUND(INDEX(Alimentos!$D$8:$D$37,MATCH(D48,Alimentos!$B$8:$B$37,0))*E48/100,0),0)) | G48: =IF(OR(D48="",E48=""),"",IFERROR(ROUND(INDEX(Alimentos!$E$8:$E$37,MATCH(D48,Alimentos!$B$8:$B$37,0))*E48/100,1),0)) | H48: =IF(OR(D48="",E48=""),"",IFERROR(ROUND(INDEX(Alimentos!$F$8:$F$37,MATCH(D48,Alimentos!$B$8:$B$37,0))*E48/100,1),0)) | I48: =IF(OR(D48="",E48=""),"",IFERROR(ROUND(INDEX(Alimentos!$G$8:$G$37,MATCH(D48,Alimentos!$B$8:$B$37,0))*E48/100,1),0))
F49: =IF(OR(D49="",E49=""),"",IFERROR(ROUND(INDEX(Alimentos!$D$8:$D$37,MATCH(D49,Alimentos!$B$8:$B$37,0))*E49/100,0),0)) | G49: =IF(OR(D49="",E49=""),"",IFERROR(ROUND(INDEX(Alimentos!$E$8:$E$37,MATCH(D49,Alimentos!$B$8:$B$37,0))*E49/100,1),0)) | H49: =IF(OR(D49="",E49=""),"",IFERROR(ROUND(INDEX(Alimentos!$F$8:$F$37,MATCH(D49,Alimentos!$B$8:$B$37,0))*E49/100,1),0)) | I49: =IF(OR(D49="",E49=""),"",IFERROR(ROUND(INDEX(Alimentos!$G$8:$G$37,MATCH(D49,Alimentos!$B$8:$B$37,0))*E49/100,1),0))
F50: =IF(OR(D50="",E50=""),"",IFERROR(ROUND(INDEX(Alimentos!$D$8:$D$37,MATCH(D50,Alimentos!$B$8:$B$37,0))*E50/100,0),0)) | G50: =IF(OR(D50="",E50=""),"",IFERROR(ROUND(INDEX(Alimentos!$E$8:$E$37,MATCH(D50,Alimentos!$B$8:$B$37,0))*E50/100,1),0)) | H50: =IF(OR(D50="",E50=""),"",IFERROR(ROUND(INDEX(Alimentos!$F$8:$F$37,MATCH(D50,Alimentos!$B$8:$B$37,0))*E50/100,1),0)) | I50: =IF(OR(D50="",E50=""),"",IFERROR(ROUND(INDEX(Alimentos!$G$8:$G$37,MATCH(D50,Alimentos!$B$8:$B$37,0))*E50/100,1),0))
F51: =IF(OR(D51="",E51=""),"",IFERROR(ROUND(INDEX(Alimentos!$D$8:$D$37,MATCH(D51,Alimentos!$B$8:$B$37,0))*E51/100,0),0)) | G51: =IF(OR(D51="",E51=""),"",IFERROR(ROUND(INDEX(Alimentos!$E$8:$E$37,MATCH(D51,Alimentos!$B$8:$B$37,0))*E51/100,1),0)) | H51: =IF(OR(D51="",E51=""),"",IFERROR(ROUND(INDEX(Alimentos!$F$8:$F$37,MATCH(D51,Alimentos!$B$8:$B$37,0))*E51/100,1),0)) | I51: =IF(OR(D51="",E51=""),"",IFERROR(ROUND(INDEX(Alimentos!$G$8:$G$37,MATCH(D51,Alimentos!$B$8:$B$37,0))*E51/100,1),0))
F52: =IF(OR(D52="",E52=""),"",IFERROR(ROUND(INDEX(Alimentos!$D$8:$D$37,MATCH(D52,Alimentos!$B$8:$B$37,0))*E52/100,0),0)) | G52: =IF(OR(D52="",E52=""),"",IFERROR(ROUND(INDEX(Alimentos!$E$8:$E$37,MATCH(D52,Alimentos!$B$8:$B$37,0))*E52/100,1),0)) | H52: =IF(OR(D52="",E52=""),"",IFERROR(ROUND(INDEX(Alimentos!$F$8:$F$37,MATCH(D52,Alimentos!$B$8:$B$37,0))*E52/100,1),0)) | I52: =IF(OR(D52="",E52=""),"",IFERROR(ROUND(INDEX(Alimentos!$G$8:$G$37,MATCH(D52,Alimentos!$B$8:$B$37,0))*E52/100,1),0))
F53: =IF(OR(D53="",E53=""),"",IFERROR(ROUND(INDEX(Alimentos!$D$8:$D$37,MATCH(D53,Alimentos!$B$8:$B$37,0))*E53/100,0),0)) | G53: =IF(OR(D53="",E53=""),"",IFERROR(ROUND(INDEX(Alimentos!$E$8:$E$37,MATCH(D53,Alimentos!$B$8:$B$37,0))*E53/100,1),0)) | H53: =IF(OR(D53="",E53=""),"",IFERROR(ROUND(INDEX(Alimentos!$F$8:$F$37,MATCH(D53,Alimentos!$B$8:$B$37,0))*E53/100,1),0)) | I53: =IF(OR(D53="",E53=""),"",IFERROR(ROUND(INDEX(Alimentos!$G$8:$G$37,MATCH(D53,Alimentos!$B$8:$B$37,0))*E53/100,1),0))
F54: =IF(OR(D54="",E54=""),"",IFERROR(ROUND(INDEX(Alimentos!$D$8:$D$37,MATCH(D54,Alimentos!$B$8:$B$37,0))*E54/100,0),0)) | G54: =IF(OR(D54="",E54=""),"",IFERROR(ROUND(INDEX(Alimentos!$E$8:$E$37,MATCH(D54,Alimentos!$B$8:$B$37,0))*E54/100,1),0)) | H54: =IF(OR(D54="",E54=""),"",IFERROR(ROUND(INDEX(Alimentos!$F$8:$F$37,MATCH(D54,Alimentos!$B$8:$B$37,0))*E54/100,1),0)) | I54: =IF(OR(D54="",E54=""),"",IFERROR(ROUND(INDEX(Alimentos!$G$8:$G$37,MATCH(D54,Alimentos!$B$8:$B$37,0))*E54/100,1),0))
F55: =IF(OR(D55="",E55=""),"",IFERROR(ROUND(INDEX(Alimentos!$D$8:$D$37,MATCH(D55,Alimentos!$B$8:$B$37,0))*E55/100,0),0)) | G55: =IF(OR(D55="",E55=""),"",IFERROR(ROUND(INDEX(Alimentos!$E$8:$E$37,MATCH(D55,Alimentos!$B$8:$B$37,0))*E55/100,1),0)) | H55: =IF(OR(D55="",E55=""),"",IFERROR(ROUND(INDEX(Alimentos!$F$8:$F$37,MATCH(D55,Alimentos!$B$8:$B$37,0))*E55/100,1),0)) | I55: =IF(OR(D55="",E55=""),"",IFERROR(ROUND(INDEX(Alimentos!$G$8:$G$37,MATCH(D55,Alimentos!$B$8:$B$37,0))*E55/100,1),0))
F56: =IF(OR(D56="",E56=""),"",IFERROR(ROUND(INDEX(Alimentos!$D$8:$D$37,MATCH(D56,Alimentos!$B$8:$B$37,0))*E56/100,0),0)) | G56: =IF(OR(D56="",E56=""),"",IFERROR(ROUND(INDEX(Alimentos!$E$8:$E$37,MATCH(D56,Alimentos!$B$8:$B$37,0))*E56/100,1),0)) | H56: =IF(OR(D56="",E56=""),"",IFERROR(ROUND(INDEX(Alimentos!$F$8:$F$37,MATCH(D56,Alimentos!$B$8:$B$37,0))*E56/100,1),0)) | I56: =IF(OR(D56="",E56=""),"",IFERROR(ROUND(INDEX(Alimentos!$G$8:$G$37,MATCH(D56,Alimentos!$B$8:$B$37,0))*E56/100,1),0))
F57: =IF(OR(D57="",E57=""),"",IFERROR(ROUND(INDEX(Alimentos!$D$8:$D$37,MATCH(D57,Alimentos!$B$8:$B$37,0))*E57/100,0),0)) | G57: =IF(OR(D57="",E57=""),"",IFERROR(ROUND(INDEX(Alimentos!$E$8:$E$37,MATCH(D57,Alimentos!$B$8:$B$37,0))*E57/100,1),0)) | H57: =IF(OR(D57="",E57=""),"",IFERROR(ROUND(INDEX(Alimentos!$F$8:$F$37,MATCH(D57,Alimentos!$B$8:$B$37,0))*E57/100,1),0)) | I57: =IF(OR(D57="",E57=""),"",IFERROR(ROUND(INDEX(Alimentos!$G$8:$G$37,MATCH(D57,Alimentos!$B$8:$B$37,0))*E57/100,1),0))

Sheet Panel
B2: Panel del día: calorías y macros
B3: Elige un día y compara lo que has comido con tu objetivo, por comidas y en los últimos 7 días.
B5: Día a consultar: | C5: 46296 | E5: Margen de tolerancia: | G5: 0.1
B6: Día de la semana: | C6: =MID("LunesMartesMiércolesJuevesViernesSábadoDomingo",CHOOSE(WEEKDAY(C5,2),1,6,12,21,27,34,40),CHOOSE(WEEKDAY(C5,2),5,6,9,6,7,6,7))
B8: CALORÍAS OBJETIVO | C8: CONSUMIDAS (día elegido) | E8: KCAL RESTANTES | G8: % DEL OBJETIVO
B9: =Calculadora!C18 | C9: =D16 | E9: =B9-C9 | G9: =IFERROR(C9/B9,0)
B11: PROTEÍNAS (g) | C11: HIDRATOS (g) | E11: GRASAS (g) | G11: MEDIA 7 DÍAS (kcal)
B12: =D17 | C12: =D18 | E12: =D19 | G12: =C40
B14: OBJETIVO FRENTE A CONSUMO
B15: Concepto | C15: Objetivo | D15: Consumido | E15: Diferencia | F15: % del objetivo | G15: Estado
B16: Calorías (kcal) | C16: =Calculadora!C18 | D16: =SUMIF(Diario!$B$8:$B$57,$C$5,Diario!$F$8:$F$57) | E16: =C16-D16 | F16: =IFERROR(D16/C16,0) | G16: =IF(D16=0,"Sin datos",IF(F16<1-$G$5,"Por debajo",IF(F16<=1+$G$5,"En rango","Por encima")))
B17: Proteínas (g) | C17: =Calculadora!E23 | D17: =SUMIF(Diario!$B$8:$B$57,$C$5,Diario!$G$8:$G$57) | E17: =C17-D17 | F17: =IFERROR(D17/C17,0) | G17: =IF(D17=0,"Sin datos",IF(F17<1-$G$5,"Por debajo",IF(F17<=1+$G$5,"En rango","Por encima")))
B18: Hidratos de carbono (g) | C18: =Calculadora!E24 | D18: =SUMIF(Diario!$B$8:$B$57,$C$5,Diario!$H$8:$H$57) | E18: =C18-D18 | F18: =IFERROR(D18/C18,0) | G18: =IF(D18=0,"Sin datos",IF(F18<1-$G$5,"Por debajo",IF(F18<=1+$G$5,"En rango","Por encima")))
B19: Grasas (g) | C19: =Calculadora!E25 | D19: =SUMIF(Diario!$B$8:$B$57,$C$5,Diario!$I$8:$I$57) | E19: =C19-D19 | F19: =IFERROR(D19/C19,0) | G19: =IF(D19=0,"Sin datos",IF(F19<1-$G$5,"Por debajo",IF(F19<=1+$G$5,"En rango","Por encima")))
B20: Diferencia = objetivo menos consumido (negativa si te pasas). El estado usa el margen de tolerancia de G5.
B22: POR COMIDAS (día elegido)
B23: Comida | C23: Objetivo kcal | D23: Consumido kcal | E23: Diferencia | F23: % del objetivo | G23: Proteínas (g)
B24: =Calculadora!B31 | C24: =Calculadora!D31 | D24: =SUMIFS(Diario!$F$8:$F$57,Diario!$B$8:$B$57,$C$5,Diario!$C$8:$C$57,B24) | E24: =C24-D24 | F24: =IFERROR(D24/C24,0) | G24: =SUMIFS(Diario!$G$8:$G$57,Diario!$B$8:$B$57,$C$5,Diario!$C$8:$C$57,B24)
B25: =Calculadora!B32 | C25: =Calculadora!D32 | D25: =SUMIFS(Diario!$F$8:$F$57,Diario!$B$8:$B$57,$C$5,Diario!$C$8:$C$57,B25) | E25: =C25-D25 | F25: =IFERROR(D25/C25,0) | G25: =SUMIFS(Diario!$G$8:$G$57,Diario!$B$8:$B$57,$C$5,Diario!$C$8:$C$57,B25)
B26: =Calculadora!B33 | C26: =Calculadora!D33 | D26: =SUMIFS(Diario!$F$8:$F$57,Diario!$B$8:$B$57,$C$5,Diario!$C$8:$C$57,B26) | E26: =C26-D26 | F26: =IFERROR(D26/C26,0) | G26: =SUMIFS(Diario!$G$8:$G$57,Diario!$B$8:$B$57,$C$5,Diario!$C$8:$C$57,B26)
B27: =Calculadora!B34 | C27: =Calculadora!D34 | D27: =SUMIFS(Diario!$F$8:$F$57,Diario!$B$8:$B$57,$C$5,Diario!$C$8:$C$57,B27) | E27: =C27-D27 | F27: =IFERROR(D27/C27,0) | G27: =SUMIFS(Diario!$G$8:$G$57,Diario!$B$8:$B$57,$C$5,Diario!$C$8:$C$57,B27)
B28: =Calculadora!B35 | C28: =Calculadora!D35 | D28: =SUMIFS(Diario!$F$8:$F$57,Diario!$B$8:$B$57,$C$5,Diario!$C$8:$C$57,B28) | E28: =C28-D28 | F28: =IFERROR(D28/C28,0) | G28: =SUMIFS(Diario!$G$8:$G$57,Diario!$B$8:$B$57,$C$5,Diario!$C$8:$C$57,B28)
B29: Total del día | C29: =SUM(C24:C28) | D29: =SUM(D24:D28) | E29: =C29-D29 | F29: =IFERROR(D29/C29,0) | G29: =SUM(G24:G28)
B31: ÚLTIMOS 7 DÍAS (hasta el día elegido)
B32: Fecha | C32: kcal consumidas | D32: Objetivo kcal | E32: % del objetivo | F32: Proteínas (g) | G32: Hidratos (g) | H32: Grasas (g)
B33: =$C$5-6 | C33: =SUMIF(Diario!$B$8:$B$57,B33,Diario!$F$8:$F$57) | D33: =Calculadora!$C$18 | E33: =IFERROR(C33/D33,0) | F33: =SUMIF(Diario!$B$8:$B$57,B33,Diario!$G$8:$G$57) | G33: =SUMIF(Diario!$B$8:$B$57,B33,Diario!$H$8:$H$57) | H33: =SUMIF(Diario!$B$8:$B$57,B33,Diario!$I$8:$I$57)
B34: =$C$5-5 | C34: =SUMIF(Diario!$B$8:$B$57,B34,Diario!$F$8:$F$57) | D34: =Calculadora!$C$18 | E34: =IFERROR(C34/D34,0) | F34: =SUMIF(Diario!$B$8:$B$57,B34,Diario!$G$8:$G$57) | G34: =SUMIF(Diario!$B$8:$B$57,B34,Diario!$H$8:$H$57) | H34: =SUMIF(Diario!$B$8:$B$57,B34,Diario!$I$8:$I$57)
B35: =$C$5-4 | C35: =SUMIF(Diario!$B$8:$B$57,B35,Diario!$F$8:$F$57) | D35: =Calculadora!$C$18 | E35: =IFERROR(C35/D35,0) | F35: =SUMIF(Diario!$B$8:$B$57,B35,Diario!$G$8:$G$57) | G35: =SUMIF(Diario!$B$8:$B$57,B35,Diario!$H$8:$H$57) | H35: =SUMIF(Diario!$B$8:$B$57,B35,Diario!$I$8:$I$57)
B36: =$C$5-3 | C36: =SUMIF(Diario!$B$8:$B$57,B36,Diario!$F$8:$F$57) | D36: =Calculadora!$C$18 | E36: =IFERROR(C36/D36,0) | F36: =SUMIF(Diario!$B$8:$B$57,B36,Diario!$G$8:$G$57) | G36: =SUMIF(Diario!$B$8:$B$57,B36,Diario!$H$8:$H$57) | H36: =SUMIF(Diario!$B$8:$B$57,B36,Diario!$I$8:$I$57)
B37: =$C$5-2 | C37: =SUMIF(Diario!$B$8:$B$57,B37,Diario!$F$8:$F$57) | D37: =Calculadora!$C$18 | E37: =IFERROR(C37/D37,0) | F37: =SUMIF(Diario!$B$8:$B$57,B37,Diario!$G$8:$G$57) | G37: =SUMIF(Diario!$B$8:$B$57,B37,Diario!$H$8:$H$57) | H37: =SUMIF(Diario!$B$8:$B$57,B37,Diario!$I$8:$I$57)
B38: =$C$5-1 | C38: =SUMIF(Diario!$B$8:$B$57,B38,Diario!$F$8:$F$57) | D38: =Calculadora!$C$18 | E38: =IFERROR(C38/D38,0) | F38: =SUMIF(Diario!$B$8:$B$57,B38,Diario!$G$8:$G$57) | G38: =SUMIF(Diario!$B$8:$B$57,B38,Diario!$H$8:$H$57) | H38: =SUMIF(Diario!$B$8:$B$57,B38,Diario!$I$8:$I$57)
B39: =$C$5-0 | C39: =SUMIF(Diario!$B$8:$B$57,B39,Diario!$F$8:$F$57) | D39: =Calculadora!$C$18 | E39: =IFERROR(C39/D39,0) | F39: =SUMIF(Diario!$B$8:$B$57,B39,Diario!$G$8:$G$57) | G39: =SUMIF(Diario!$B$8:$B$57,B39,Diario!$H$8:$H$57) | H39: =SUMIF(Diario!$B$8:$B$57,B39,Diario!$I$8:$I$57)
B40: Media de días con datos | C40: =IFERROR(AVERAGEIF(C33:C39,">0"),0) | D40: =Calculadora!$C$18 | E40: =IFERROR(C40/D40,0) | F40: =IFERROR(AVERAGEIF(F33:F39,">0"),0) | G40: =IFERROR(AVERAGEIF(G33:G39,">0"),0) | H40: =IFERROR(AVERAGEIF(H33:H39,">0"),0)

Sheet Instrucciones
B2: Calculadora de calorías y macros · Cómo usarla
B3: Plantilla gratuita de Plantillas de Cálculo · plantillasdecalculo.com
B5: CÓMO USARLA
B6: 1. En la hoja «Calculadora» rellena tus datos (celdas crema): sexo, edad, peso, altura, nivel de actividad y objetivo. Los valores de ejemplo son ficticios.
B7: 2. Mira la sección 2: el metabolismo basal se estima con la fórmula de Mifflin-St Jeor y se multiplica por el factor de actividad para obtener el gasto diario.
B8: 3. El ajuste del objetivo (por defecto -15 %, 0 % o +10 %) da las calorías objetivo. Puedes cambiar estos porcentajes y los factores en la sección 5.
B9: 4. En la sección 3 elige el porcentaje de calorías para proteínas, hidratos y grasas; deben sumar 100 %. La plantilla te da los gramos diarios y los g por kg de peso.
B10: 5. En la sección 4 reparte el día entre comidas. Puedes renombrar las comidas; Diario y Panel las leerán automáticamente.
B11: 6. En «Alimentos» añade o corrige alimentos con sus valores por 100 g (hay 30 filas preparadas). Usa la etiqueta del envase como referencia.
B12: 7. En «Diario» anota una fila por alimento: fecha, comida y alimento (desplegables) y gramos. Calorías y macros se calculan solos.
B13: 8. Abre «Panel», elige el día en C5 y compara consumo y objetivo por macro, por comida y en los últimos 7 días, con dos gráficos.
B15: CONSEJOS
... B23: Aviso: esta plantilla sirve únicamente para registrar y organizar tu alimentación de forma orientativa. No diagnostica, no prescribe dietas y no sustituye el consejo de un dietista-nutricionista ni de un profesional sanitario. Consulta con uno antes de cambiar tu alimentación, sobre todo si tienes una condición de salud.
