Workbook

Sheet Panel
B2: Panel de actividad semanal
B3: Tus minutos de la semana frente al objetivo, día a día y por tipo de actividad.
B5: Objetivo semanal (minutos): | C5: 150 | E5: Peso intensidad Suave: | G5: 1
B6: Objetivo de días activos: | C6: 4 | E6: Peso intensidad Moderada: | G6: 1
B7: Semana que empieza el (lunes): | C7: 46293 | D7: =IF(WEEKDAY(C7,2)=1,"","Revisa: no es lunes") | E7: Peso intensidad Intensa: | G7: 2
B9: MIN. PLANIFICADOS | C9: MIN. REALIZADOS | E9: % DEL OBJETIVO SEMANAL | G9: DÍAS ACTIVOS
B10: =SUM('Plan semanal'!$F$8:$F$47) | C10: =SUM('Plan semanal'!$H$8:$H$47) | E10: =IFERROR(C10/C5,0) | G10: =COUNTIF(E18:E24,">0")
B12: MIN. QUE FALTAN | C12: MIN. EQUIVALENTES | E12: ESTADO DE LA SEMANA | G12: RACHA DE SEMANAS LOGRADAS
B13: =MAX(0,C5-C10) | C13: =SUM('Plan semanal'!$I$8:$I$47) | E13: =IF(AND(E10>=1,G10>=C6),"Logrado",IF(E10>=1,"Faltan días",IF(E10>=0.5,"En camino","Por debajo"))) | G13: =Historial!G6
B15: Progreso semanal: | C15: =REPT("█",ROUND(MIN(1,E10)*30,0))&REPT("░",30-ROUND(MIN(1,E10)*30,0))&" "&TEXT(E10,"0%")
B16: POR DÍA
B17: Día | C17: Sesiones | D17: Min. planificados | E17: Min. realizados | F17: % realizado | G17: Estado
B18: =Listas!A2 | C18: =COUNTIF('Plan semanal'!$B$8:$B$47,B18) | D18: =SUMIF('Plan semanal'!$B$8:$B$47,B18,'Plan semanal'!$F$8:$F$47) | E18: =SUMIF('Plan semanal'!$B$8:$B$47,B18,'Plan semanal'!$H$8:$H$47) | F18: =IF(D18=0,"",E18/D18) | G18: =IF(C18=0,"Descanso",IF(E18=0,"Sin hacer",IF(E18>=D18,"Hecho","Parcial")))
B19: =Listas!A3 | C19: =COUNTIF('Plan semanal'!$B$8:$B$47,B19) | D19: =SUMIF('Plan semanal'!$B$8:$B$47,B19,'Plan semanal'!$F$8:$F$47) | E19: =SUMIF('Plan semanal'!$B$8:$B$47,B19,'Plan semanal'!$H$8:$H$47) | F19: =IF(D19=0,"",E19/D19) | G19: =IF(C19=0,"Descanso",IF(E19=0,"Sin hacer",IF(E19>=D19,"Hecho","Parcial")))
B20: =Listas!A4 | C20: =COUNTIF('Plan semanal'!$B$8:$B$47,B20) | D20: =SUMIF('Plan semanal'!$B$8:$B$47,B20,'Plan semanal'!$F$8:$F$47) | E20: =SUMIF('Plan semanal'!$B$8:$B$47,B20,'Plan semanal'!$H$8:$H$47) | F20: =IF(D20=0,"",E20/D20) | G20: =IF(C20=0,"Descanso",IF(E20=0,"Sin hacer",IF(E20>=D20,"Hecho","Parcial")))
B21: =Listas!A5 | C21: =COUNTIF('Plan semanal'!$B$8:$B$47,B21) | D21: =SUMIF('Plan semanal'!$B$8:$B$47,B21,'Plan semanal'!$F$8:$F$47) | E21: =SUMIF('Plan semanal'!$B$8:$B$47,B21,'Plan semanal'!$H$8:$H$47) | F21: =IF(D21=0,"",E21/D21) | G21: =IF(C21=0,"Descanso",IF(E21=0,"Sin hacer",IF(E21>=D21,"Hecho","Parcial")))
B22: =Listas!A6 | C22: =COUNTIF('Plan semanal'!$B$8:$B$47,B22) | D22: =SUMIF('Plan semanal'!$B$8:$B$47,B22,'Plan semanal'!$F$8:$F$47) | E22: =SUMIF('Plan semanal'!$B$8:$B$47,B22,'Plan semanal'!$H$8:$H$47) | F22: =IF(D22=0,"",E22/D22) | G22: =IF(C22=0,"Descanso",IF(E22=0,"Sin hacer",IF(E22>=D22,"Hecho","Parcial")))
B23: =Listas!A7 | C23: =COUNTIF('Plan semanal'!$B$8:$B$47,B23) | D23: =SUMIF('Plan semanal'!$B$8:$B$47,B23,'Plan semanal'!$F$8:$F$47) | E23: =SUMIF('Plan semanal'!$B$8:$B$47,B23,'Plan semanal'!$H$8:$H$47) | F23: =IF(D23=0,"",E23/D23) | G23: =IF(C23=0,"Descanso",IF(E23=0,"Sin hacer",IF(E23>=D23,"Hecho","Parcial")))
B24: =Listas!A8 | C24: =COUNTIF('Plan semanal'!$B$8:$B$47,B24) | D24: =SUMIF('Plan semanal'!$B$8:$B$47,B24,'Plan semanal'!$F$8:$F$47) | E24: =SUMIF('Plan semanal'!$B$8:$B$47,B24,'Plan semanal'!$H$8:$H$47) | F24: =IF(D24=0,"",E24/D24) | G24: =IF(C24=0,"Descanso",IF(E24=0,"Sin hacer",IF(E24>=D24,"Hecho","Parcial")))
B25: Total semana | C25: =SUM(C18:C24) | D25: =SUM(D18:D24) | E25: =SUM(E18:E24) | F25: =IF(D25=0,"",E25/D25) | G25: =COUNTIF(G18:G24,"Hecho")&" días hechos"
B27: POR ACTIVIDAD (puedes renombrar las actividades en la columna B)
B28: Actividad | C28: Sesiones | D28: Min. planificados | E28: Min. realizados | F28: % del total realizado
B29: Caminar | C29: =IF(B29="","",COUNTIF('Plan semanal'!$C$8:$C$47,B29)) | D29: =IF(B29="","",SUMIF('Plan semanal'!$C$8:$C$47,B29,'Plan semanal'!$F$8:$F$47)) | E29: =IF(B29="","",SUMIF('Plan semanal'!$C$8:$C$47,B29,'Plan semanal'!$H$8:$H$47)) | F29: =IF(OR(B29="",$E$39=0),"",E29/$E$39)
B30: Correr | C30: =IF(B30="","",COUNTIF('Plan semanal'!$C$8:$C$47,B30)) | D30: =IF(B30="","",SUMIF('Plan semanal'!$C$8:$C$47,B30,'Plan semanal'!$F$8:$F$47)) | E30: =IF(B30="","",SUMIF('Plan semanal'!$C$8:$C$47,B30,'Plan semanal'!$H$8:$H$47)) | F30: =IF(OR(B30="",$E$39=0),"",E30/$E$39)
B31: Bicicleta | C31: =IF(B31="","",COUNTIF('Plan semanal'!$C$8:$C$47,B31)) | D31: =IF(B31="","",SUMIF('Plan semanal'!$C$8:$C$47,B31,'Plan semanal'!$F$8:$F$47)) | E31: =IF(B31="","",SUMIF('Plan semanal'!$C$8:$C$47,B31,'Plan semanal'!$H$8:$H$47)) | F31: =IF(OR(B31="",$E$39=0),"",E31/$E$39)
B32: Natación | C32: =IF(B32="","",COUNTIF('Plan semanal'!$C$8:$C$47,B32)) | D32: =IF(B32="","",SUMIF('Plan semanal'!$C$8:$C$47,B32,'Plan semanal'!$F$8:$F$47)) | E32: =IF(B32="","",SUMIF('Plan semanal'!$C$8:$C$47,B32,'Plan semanal'!$H$8:$H$47)) | F32: =IF(OR(B32="",$E$39=0),"",E32/$E$39)
B33: Yoga | C33: =IF(B33="","",COUNTIF('Plan semanal'!$C$8:$C$47,B33)) | D33: =IF(B33="","",SUMIF('Plan semanal'!$C$8:$C$47,B33,'Plan semanal'!$F$8:$F$47)) | E33: =IF(B33="","",SUMIF('Plan semanal'!$C$8:$C$47,B33,'Plan semanal'!$H$8:$H$47)) | F33: =IF(OR(B33="",$E$39=0),"",E33/$E$39)
B34: Pilates | C34: =IF(B34="","",COUNTIF('Plan semanal'!$C$8:$C$47,B34)) | D34: =IF(B34="","",SUMIF('Plan semanal'!$C$8:$C$47,B34,'Plan semanal'!$F$8:$F$47)) | E34: =IF(B34="","",SUMIF('Plan semanal'!$C$8:$C$47,B34,'Plan semanal'!$H$8:$H$47)) | F34: =IF(OR(B34="",$E$39=0),"",E34/$E$39)
B35: Fuerza | C35: =IF(B35="","",COUNTIF('Plan semanal'!$C$8:$C$47,B35)) | D35: =IF(B35="","",SUMIF('Plan semanal'!$C$8:$C$47,B35,'Plan semanal'!$F$8:$F$47)) | E35: =IF(B35="","",SUMIF('Plan semanal'!$C$8:$C$47,B35,'Plan semanal'!$H$8:$H$47)) | F35: =IF(OR(B35="",$E$39=0),"",E35/$E$39)
B36: Senderismo | C36: =IF(B36="","",COUNTIF('Plan semanal'!$C$8:$C$47,B36)) | D36: =IF(B36="","",SUMIF('Plan semanal'!$C$8:$C$47,B36,'Plan semanal'!$F$8:$F$47)) | E36: =IF(B36="","",SUMIF('Plan semanal'!$C$8:$C$47,B36,'Plan semanal'!$H$8:$H$47)) | F36: =IF(OR(B36="",$E$39=0),"",E36/$E$39)
B37: Estiramientos | C37: =IF(B37="","",COUNTIF('Plan semanal'!$C$8:$C$47,B37)) | D37: =IF(B37="","",SUMIF('Plan semanal'!$C$8:$C$47,B37,'Plan semanal'!$F$8:$F$47)) | E37: =IF(B37="","",SUMIF('Plan semanal'!$C$8:$C$47,B37,'Plan semanal'!$H$8:$H$47)) | F37: =IF(OR(B37="",$E$39=0),"",E37/$E$39)
B38: Baile | C38: =IF(B38="","",COUNTIF('Plan semanal'!$C$8:$C$47,B38)) | D38: =IF(B38="","",SUMIF('Plan semanal'!$C$8:$C$47,B38,'Plan semanal'!$F$8:$F$47)) | E38: =IF(B38="","",SUMIF('Plan semanal'!$C$8:$C$47,B38,'Plan semanal'!$H$8:$H$47)) | F38: =IF(OR(B38="",$E$39=0),"",E38/$E$39)
B39: Total | C39: =SUM(C29:C38) | D39: =SUM(D29:D38) | E39: =SUM(E29:E38) | F39: =IF(E39=0,"",SUM(F29:F38))
B41: ÚLTIMAS 8 SEMANAS (desde «Historial»)
B42: Semana (lunes) | C42: Min. realizados | D42: Objetivo | E42: % del objetivo | F42: Estado
B43: =IFERROR(LARGE(Historial!$B$10:$B$49,8),"") | C43: =IF(B43="","",SUMIF(Historial!$B$10:$B$49,B43,Historial!$D$10:$D$49)) | D43: =IF(B43="","",SUMIF(Historial!$B$10:$B$49,B43,Historial!$F$10:$F$49)) | E43: =IF(B43="","",IFERROR(C43/D43,0)) | F43: =IF(B43="","",IF(E43>=1,"Logrado",IF(E43>=0.75,"Casi","Por debajo")))
B44: =IFERROR(LARGE(Historial!$B$10:$B$49,7),"") | C44: =IF(B44="","",SUMIF(Historial!$B$10:$B$49,B44,Historial!$D$10:$D$49)) | D44: =IF(B44="","",SUMIF(Historial!$B$10:$B$49,B44,Historial!$F$10:$F$49)) | E44: =IF(B44="","",IFERROR(C44/D44,0)) | F44: =IF(B44="","",IF(E44>=1,"Logrado",IF(E44>=0.75,"Casi","Por debajo")))
B45: =IFERROR(LARGE(Historial!$B$10:$B$49,6),"") | C45: =IF(B45="","",SUMIF(Historial!$B$10:$B$49,B45,Historial!$D$10:$D$49)) | D45: =IF(B45="","",SUMIF(Historial!$B$10:$B$49,B45,Historial!$F$10:$F$49)) | E45: =IF(B45="","",IFERROR(C45/D45,0)) | F45: =IF(B45="","",IF(E45>=1,"Logrado",IF(E45>=0.75,"Casi","Por debajo")))
B46: =IFERROR(LARGE(Historial!$B$10:$B$49,5),"") | C46: =IF(B46="","",SUMIF(Historial!$B$10:$B$49,B46,Historial!$D$10:$D$49)) | D46: =IF(B46="","",SUMIF(Historial!$B$10:$B$49,B46,Historial!$F$10:$F$49)) | E46: =IF(B46="","",IFERROR(C46/D46,0)) | F46: =IF(B46="","",IF(E46>=1,"Logrado",IF(E46>=0.75,"Casi","Por debajo")))
B47: =IFERROR(LARGE(Historial!$B$10:$B$49,4),"") | C47: =IF(B47="","",SUMIF(Historial!$B$10:$B$49,B47,Historial!$D$10:$D$49)) | D47: =IF(B47="","",SUMIF(Historial!$B$10:$B$49,B47,Historial!$F$10:$F$49)) | E47: =IF(B47="","",IFERROR(C47/D47,0)) | F47: =IF(B47="","",IF(E47>=1,"Logrado",IF(E47>=0.75,"Casi","Por debajo")))
B48: =IFERROR(LARGE(Historial!$B$10:$B$49,3),"") | C48: =IF(B48="","",SUMIF(Historial!$B$10:$B$49,B48,Historial!$D$10:$D$49)) | D48: =IF(B48="","",SUMIF(Historial!$B$10:$B$49,B48,Historial!$F$10:$F$49)) | E48: =IF(B48="","",IFERROR(C48/D48,0)) | F48: =IF(B48="","",IF(E48>=1,"Logrado",IF(E48>=0.75,"Casi","Por debajo")))
B49: =IFERROR(LARGE(Historial!$B$10:$B$49,2),"") | C49: =IF(B49="","",SUMIF(Historial!$B$10:$B$49,B49,Historial!$D$10:$D$49)) | D49: =IF(B49="","",SUMIF(Historial!$B$10:$B$49,B49,Historial!$F$10:$F$49)) | E49: =IF(B49="","",IFERROR(C49/D49,0)) | F49: =IF(B49="","",IF(E49>=1,"Logrado",IF(E49>=0.75,"Casi","Por debajo")))
B50: =IFERROR(LARGE(Historial!$B$10:$B$49,1),"") | C50: =IF(B50="","",SUMIF(Historial!$B$10:$B$49,B50,Historial!$D$10:$D$49)) | D50: =IF(B50="","",SUMIF(Historial!$B$10:$B$49,B50,Historial!$F$10:$F$49)) | E50: =IF(B50="","",IFERROR(C50/D50,0)) | F50: =IF(B50="","",IF(E50>=1,"Logrado",IF(E50>=0.75,"Casi","Por debajo")))

Sheet Plan semanal
B2: Plan semanal de actividad física
B3: Una fila por sesión: día, actividad, franja, intensidad y minutos. Marca «Sí» cuando la hagas.
B5: Sesiones: | C5: =COUNT(F8:F47) | D5: Planificados: | E5: =SUM(F8:F47) | F5: Realizados: | G5: =SUM(H8:H47)
B7: Día | C7: Actividad | D7: Franja | E7: Intensidad | F7: Duración (min) | G7: ¿Hecho? | H7: Min. realizados | I7: Min. equivalentes | J7: Nota | K7: Clave (día|franja)
B8: Lunes | C8: Caminar | D8: Mañana | E8: Moderada | F8: 30 | G8: Sí | H8: =IF(F8="","",IF(G8="Sí",F8,0)) | I8: =IF(H8="","",H8*IF(E8="Intensa",Panel!$G$7,IF(E8="Suave",Panel!$G$5,Panel!$G$6))) | J8: Camino al trabajo a paso ligero | K8: =IF(OR(B8="",D8=""),"",B8&"|"&D8)
B9: Lunes | C9: Estiramientos | D9: Noche | E9: Suave | F9: 10 | G9: Sí | H9: =IF(F9="","",IF(G9="Sí",F9,0)) | I9: =IF(H9="","",H9*IF(E9="Intensa",Panel!$G$7,IF(E9="Suave",Panel!$G$5,Panel!$G$6))) | K9: =IF(OR(B9="",D9=""),"",B9&"|"&D9)
B10: Martes | C10: Fuerza | D10: Tarde | E10: Intensa | F10: 40 | G10: Sí | H10: =IF(F10="","",IF(G10="Sí",F10,0)) | I10: =IF(H10="","",H10*IF(E10="Intensa",Panel!$G$7,IF(E10="Suave",Panel!$G$5,Panel!$G$6))) | J10: Rutina de cuerpo completo en casa | K10: =IF(OR(B10="",D10=""),"",B10&"|"&D10)
B11: Miércoles | C11: Caminar | D11: Mediodía | E11: Moderada | F11: 25 | G11: Sí | H11: =IF(F11="","",IF(G11="Sí",F11,0)) | I11: =IF(H11="","",H11*IF(E11="Intensa",Panel!$G$7,IF(E11="Suave",Panel!$G$5,Panel!$G$6))) | J11: Vuelta al parque tras comer | K11: =IF(OR(B11="",D11=""),"",B11&"|"&D11)
B12: Miércoles | C12: Yoga | D12: Noche | E12: Suave | F12: 20 | G12: Sí | H12: =IF(F12="","",IF(G12="Sí",F12,0)) | I12: =IF(H12="","",H12*IF(E12="Intensa",Panel!$G$7,IF(E12="Suave",Panel!$G$5,Panel!$G$6))) | J12: Vídeo de 20 minutos | K12: =IF(OR(B12="",D12=""),"",B12&"|"&D12)
B13: Jueves | C13: Bicicleta | D13: Mañana | E13: Moderada | F13: 30 | G13: No | H13: =IF(F13="","",IF(G13="Sí",F13,0)) | I13: =IF(H13="","",H13*IF(E13="Intensa",Panel!$G$7,IF(E13="Suave",Panel!$G$5,Panel!$G$6))) | J13: Llovió, no salí | K13: =IF(OR(B13="",D13=""),"",B13&"|"&D13)
B14: Jueves | C14: Estiramientos | D14: Noche | E14: Suave | F14: 10 | G14: Sí | H14: =IF(F14="","",IF(G14="Sí",F14,0)) | I14: =IF(H14="","",H14*IF(E14="Intensa",Panel!$G$7,IF(E14="Suave",Panel!$G$5,Panel!$G$6))) | K14: =IF(OR(B14="",D14=""),"",B14&"|"&D14)
B15: Viernes | C15: Natación | D15: Tarde | E15: Moderada | F15: 35 | G15: No | H15: =IF(F15="","",IF(G15="Sí",F15,0)) | I15: =IF(H15="","",H15*IF(E15="Intensa",Panel!$G$7,IF(E15="Suave",Panel!$G$5,Panel!$G$6))) | J15: Piscina cerrada por mantenimiento | K15: =IF(OR(B15="",D15=""),"",B15&"|"&D15)
B16: Sábado | C16: Senderismo | D16: Mañana | E16: Moderada | F16: 60 | G16: No | H16: =IF(F16="","",IF(G16="Sí",F16,0)) | I16: =IF(H16="","",H16*IF(E16="Intensa",Panel!$G$7,IF(E16="Suave",Panel!$G$5,Panel!$G$6))) | J16: Ruta con amigos | K16: =IF(OR(B16="",D16=""),"",B16&"|"&D16)
B17: Domingo | C17: Caminar | D17: Mañana | E17: Suave | F17: 20 | G17: No | H17: =IF(F17="","",IF(G17="Sí",F17,0)) | I17: =IF(H17="","",H17*IF(E17="Intensa",Panel!$G$7,IF(E17="Suave",Panel!$G$5,Panel!$G$6))) | K17: =IF(OR(B17="",D17=""),"",B17&"|"&D17)
B18: Domingo | C18: Pilates | D18: Tarde | E18: Suave | F18: 30 | G18: No | H18: =IF(F18="","",IF(G18="Sí",F18,0)) | I18: =IF(H18="","",H18*IF(E18="Intensa",Panel!$G$7,IF(E18="Suave",Panel!$G$5,Panel!$G$6))) | J18: Clase online | K18: =IF(OR(B18="",D18=""),"",B18&"|"&D18)
H19: =IF(F19="","",IF(G19="Sí",F19,0)) | I19: =IF(H19="","",H19*IF(E19="Intensa",Panel!$G$7,IF(E19="Suave",Panel!$G$5,Panel!$G$6))) | K19: =IF(OR(B19="",D19=""),"",B19&"|"&D19)
H20: =IF(F20="","",IF(G20="Sí",F20,0)) | I20: =IF(H20="","",H20*IF(E20="Intensa",Panel!$G$7,IF(E20="Suave",Panel!$G$5,Panel!$G$6))) | K20: =IF(OR(B20="",D20=""),"",B20&"|"&D20)
H21: =IF(F21="","",IF(G21="Sí",F21,0)) | I21: =IF(H21="","",H21*IF(E21="Intensa",Panel!$G$7,IF(E21="Suave",Panel!$G$5,Panel!$G$6))) | K21: =IF(OR(B21="",D21=""),"",B21&"|"&D21)
H22: =IF(F22="","",IF(G22="Sí",F22,0)) | I22: =IF(H22="","",H22*IF(E22="Intensa",Panel!$G$7,IF(E22="Suave",Panel!$G$5,Panel!$G$6))) | K22: =IF(OR(B22="",D22=""),"",B22&"|"&D22)
H23: =IF(F23="","",IF(G23="Sí",F23,0)) | I23: =IF(H23="","",H23*IF(E23="Intensa",Panel!$G$7,IF(E23="Suave",Panel!$G$5,Panel!$G$6))) | K23: =IF(OR(B23="",D23=""),"",B23&"|"&D23)
H24: =IF(F24="","",IF(G24="Sí",F24,0)) | I24: =IF(H24="","",H24*IF(E24="Intensa",Panel!$G$7,IF(E24="Suave",Panel!$G$5,Panel!$G$6))) | K24: =IF(OR(B24="",D24=""),"",B24&"|"&D24)
H25: =IF(F25="","",IF(G25="Sí",F25,0)) | I25: =IF(H25="","",H25*IF(E25="Intensa",Panel!$G$7,IF(E25="Suave",Panel!$G$5,Panel!$G$6))) | K25: =IF(OR(B25="",D25=""),"",B25&"|"&D25)
H26: =IF(F26="","",IF(G26="Sí",F26,0)) | I26: =IF(H26="","",H26*IF(E26="Intensa",Panel!$G$7,IF(E26="Suave",Panel!$G$5,Panel!$G$6))) | K26: =IF(OR(B26="",D26=""),"",B26&"|"&D26)
H27: =IF(F27="","",IF(G27="Sí",F27,0)) | I27: =IF(H27="","",H27*IF(E27="Intensa",Panel!$G$7,IF(E27="Suave",Panel!$G$5,Panel!$G$6))) | K27: =IF(OR(B27="",D27=""),"",B27&"|"&D27)
H28: =IF(F28="","",IF(G28="Sí",F28,0)) | I28: =IF(H28="","",H28*IF(E28="Intensa",Panel!$G$7,IF(E28="Suave",Panel!$G$5,Panel!$G$6))) | K28: =IF(OR(B28="",D28=""),"",B28&"|"&D28)
H29: =IF(F29="","",IF(G29="Sí",F29,0)) | I29: =IF(H29="","",H29*IF(E29="Intensa",Panel!$G$7,IF(E29="Suave",Panel!$G$5,Panel!$G$6))) | K29: =IF(OR(B29="",D29=""),"",B29&"|"&D29)
H30: =IF(F30="","",IF(G30="Sí",F30,0)) | I30: =IF(H30="","",H30*IF(E30="Intensa",Panel!$G$7,IF(E30="Suave",Panel!$G$5,Panel!$G$6))) | K30: =IF(OR(B30="",D30=""),"",B30&"|"&D30)
... H47: =IF(F47="","",IF(G47="Sí",F47,0)) | I47: =IF(H47="","",H47*IF(E47="Intensa",Panel!$G$7,IF(E47="Suave",Panel!$G$5,Panel!$G$6))) | K47: =IF(OR(B47="",D47=""),"",B47&"|"&D47)

Sheet Semana
B2: Calendario de la semana
B3: Cuadrícula por día y franja con la actividad planificada y sus minutos. Se rellena sola desde «Plan semanal».
B5: ACTIVIDAD PLANIFICADA
B6: Fecha | C6: =Panel!$C$7+0 | D6: =Panel!$C$7+1 | E6: =Panel!$C$7+2 | F6: =Panel!$C$7+3 | G6: =Panel!$C$7+4 | H6: =Panel!$C$7+5 | I6: =Panel!$C$7+6
B7: Franja | C7: Lunes | D7: Martes | E7: Miércoles | F7: Jueves | G7: Viernes | H7: Sábado | I7: Domingo
B8: Mañana | C8: =IF(COUNTIF('Plan semanal'!$K$8:$K$47,C$7&"|"&$B8)=0,"",INDEX('Plan semanal'!$C$8:$C$47,MATCH(C$7&"|"&$B8,'Plan semanal'!$K$8:$K$47,0))&IF(COUNTIF('Plan semanal'!$K$8:$K$47,C$7&"|"&$B8)>1," (+"&(COUNTIF('Plan semanal'!$K$8:$K$47,C$7&"|"&$B8)-1)&")","")&CHAR(10)&SUMIF('Plan semanal'!$K$8:$K$47,C$7&"|"&$B8,'Plan semanal'!$F$8:$F$47)&" min") | D8: =IF(COUNTIF('Plan semanal'!$K$8:$K$47,D$7&"|"&$B8)=0,"",INDEX('Plan semanal'!$C$8:$C$47,MATCH(D$7&"|"&$B8,'Plan semanal'!$K$8:$K$47,0))&IF(COUNTIF('Plan semanal'!$K$8:$K$47,D$7&"|"&$B8)>1," (+"&(COUNTIF('Plan semanal'!$K$8:$K$47,D$7&"|"&$B8)-1)&")","")&CHAR(10)&SUMIF('Plan semanal'!$K$8:$K$47,D$7&"|"&$B8,'Plan semanal'!$F$8:$F$47)&" min") | E8: =IF(COUNTIF('Plan semanal'!$K$8:$K$47,E$7&"|"&$B8)=0,"",INDEX('Plan semanal'!$C$8:$C$47,MATCH(E$7&"|"&$B8,'Plan semanal'!$K$8:$K$47,0))&IF(COUNTIF('Plan semanal'!$K$8:$K$47,E$7&"|"&$B8)>1," (+"&(COUNTIF('Plan semanal'!$K$8:$K$47,E$7&"|"&$B8)-1)&")","")&CHAR(10)&SUMIF('Plan semanal'!$K$8:$K$47,E$7&"|"&$B8,'Plan semanal'!$F$8:$F$47)&" min") | F8: =IF(COUNTIF('Plan semanal'!$K$8:$K$47,F$7&"|"&$B8)=0,"",INDEX('Plan semanal'!$C$8:$C$47,MATCH(F$7&"|"&$B8,'Plan semanal'!$K$8:$K$47,0))&IF(COUNTIF('Plan semanal'!$K$8:$K$47,F$7&"|"&$B8)>1," (+"&(COUNTIF('Plan semanal'!$K$8:$K$47,F$7&"|"&$B8)-1)&")","")&CHAR(10)&SUMIF('Plan semanal'!$K$8:$K$47,F$7&"|"&$B8,'Plan semanal'!$F$8:$F$47)&" min") | G8: =IF(COUNTIF('Plan semanal'!$K$8:$K$47,G$7&"|"&$B8)=0,"",INDEX('Plan semanal'!$C$8:$C$47,MATCH(G$7&"|"&$B8,'Plan semanal'!$K$8:$K$47,0))&IF(COUNTIF('Plan semanal'!$K$8:$K$47,G$7&"|"&$B8)>1," (+"&(COUNTIF('Plan semanal'!$K$8:$K$47,G$7&"|"&$B8)-1)&")","")&CHAR(10)&SUMIF('Plan semanal'!$K$8:$K$47,G$7&"|"&$B8,'Plan semanal'!$F$8:$F$47)&" min") | H8: =IF(COUNTIF('Plan semanal'!$K$8:$K$47,H$7&"|"&$B8)=0,"",INDEX('Plan semanal'!$C$8:$C$47,MATCH(H$7&"|"&$B8,'Plan semanal'!$K$8:$K$47,0))&IF(COUNTIF('Plan semanal'!$K$8:$K$47,H$7&"|"&$B8)>1," (+"&(COUNTIF('Plan semanal'!$K$8:$K$47,H$7&"|"&$B8)-1)&")","")&CHAR(10)&SUMIF('Plan semanal'!$K$8:$K$47,H$7&"|"&$B8,'Plan semanal'!$F$8:$F$47)&" min") | I8: =IF(COUNTIF('Plan semanal'!$K$8:$K$47,I$7&"|"&$B8)=0,"",INDEX('Plan semanal'!$C$8:$C$47,MATCH(I$7&"|"&$B8,'Plan semanal'!$K$8:$K$47,0))&IF(COUNTIF('Plan semanal'!$K$8:$K$47,I$7&"|"&$B8)>1," (+"&(COUNTIF('Plan semanal'!$K$8:$K$47,I$7&"|"&$B8)-1)&")","")&CHAR(10)&SUMIF('Plan semanal'!$K$8:$K$47,I$7&"|"&$B8,'Plan semanal'!$F$8:$F$47)&" min")
B9: Mediodía | C9: =IF(COUNTIF('Plan semanal'!$K$8:$K$47,C$7&"|"&$B9)=0,"",INDEX('Plan semanal'!$C$8:$C$47,MATCH(C$7&"|"&$B9,'Plan semanal'!$K$8:$K$47,0))&IF(COUNTIF('Plan semanal'!$K$8:$K$47,C$7&"|"&$B9)>1," (+"&(COUNTIF('Plan semanal'!$K$8:$K$47,C$7&"|"&$B9)-1)&")","")&CHAR(10)&SUMIF('Plan semanal'!$K$8:$K$47,C$7&"|"&$B9,'Plan semanal'!$F$8:$F$47)&" min") | D9: =IF(COUNTIF('Plan semanal'!$K$8:$K$47,D$7&"|"&$B9)=0,"",INDEX('Plan semanal'!$C$8:$C$47,MATCH(D$7&"|"&$B9,'Plan semanal'!$K$8:$K$47,0))&IF(COUNTIF('Plan semanal'!$K$8:$K$47,D$7&"|"&$B9)>1," (+"&(COUNTIF('Plan semanal'!$K$8:$K$47,D$7&"|"&$B9)-1)&")","")&CHAR(10)&SUMIF('Plan semanal'!$K$8:$K$47,D$7&"|"&$B9,'Plan semanal'!$F$8:$F$47)&" min") | E9: =IF(COUNTIF('Plan semanal'!$K$8:$K$47,E$7&"|"&$B9)=0,"",INDEX('Plan semanal'!$C$8:$C$47,MATCH(E$7&"|"&$B9,'Plan semanal'!$K$8:$K$47,0))&IF(COUNTIF('Plan semanal'!$K$8:$K$47,E$7&"|"&$B9)>1," (+"&(COUNTIF('Plan semanal'!$K$8:$K$47,E$7&"|"&$B9)-1)&")","")&CHAR(10)&SUMIF('Plan semanal'!$K$8:$K$47,E$7&"|"&$B9,'Plan semanal'!$F$8:$F$47)&" min") | F9: =IF(COUNTIF('Plan semanal'!$K$8:$K$47,F$7&"|"&$B9)=0,"",INDEX('Plan semanal'!$C$8:$C$47,MATCH(F$7&"|"&$B9,'Plan semanal'!$K$8:$K$47,0))&IF(COUNTIF('Plan semanal'!$K$8:$K$47,F$7&"|"&$B9)>1," (+"&(COUNTIF('Plan semanal'!$K$8:$K$47,F$7&"|"&$B9)-1)&")","")&CHAR(10)&SUMIF('Plan semanal'!$K$8:$K$47,F$7&"|"&$B9,'Plan semanal'!$F$8:$F$47)&" min") | G9: =IF(COUNTIF('Plan semanal'!$K$8:$K$47,G$7&"|"&$B9)=0,"",INDEX('Plan semanal'!$C$8:$C$47,MATCH(G$7&"|"&$B9,'Plan semanal'!$K$8:$K$47,0))&IF(COUNTIF('Plan semanal'!$K$8:$K$47,G$7&"|"&$B9)>1," (+"&(COUNTIF('Plan semanal'!$K$8:$K$47,G$7&"|"&$B9)-1)&")","")&CHAR(10)&SUMIF('Plan semanal'!$K$8:$K$47,G$7&"|"&$B9,'Plan semanal'!$F$8:$F$47)&" min") | H9: =IF(COUNTIF('Plan semanal'!$K$8:$K$47,H$7&"|"&$B9)=0,"",INDEX('Plan semanal'!$C$8:$C$47,MATCH(H$7&"|"&$B9,'Plan semanal'!$K$8:$K$47,0))&IF(COUNTIF('Plan semanal'!$K$8:$K$47,H$7&"|"&$B9)>1," (+"&(COUNTIF('Plan semanal'!$K$8:$K$47,H$7&"|"&$B9)-1)&")","")&CHAR(10)&SUMIF('Plan semanal'!$K$8:$K$47,H$7&"|"&$B9,'Plan semanal'!$F$8:$F$47)&" min") | I9: =IF(COUNTIF('Plan semanal'!$K$8:$K$47,I$7&"|"&$B9)=0,"",INDEX('Plan semanal'!$C$8:$C$47,MATCH(I$7&"|"&$B9,'Plan semanal'!$K$8:$K$47,0))&IF(COUNTIF('Plan semanal'!$K$8:$K$47,I$7&"|"&$B9)>1," (+"&(COUNTIF('Plan semanal'!$K$8:$K$47,I$7&"|"&$B9)-1)&")","")&CHAR(10)&SUMIF('Plan semanal'!$K$8:$K$47,I$7&"|"&$B9,'Plan semanal'!$F$8:$F$47)&" min")
B10: Tarde | C10: =IF(COUNTIF('Plan semanal'!$K$8:$K$47,C$7&"|"&$B10)=0,"",INDEX('Plan semanal'!$C$8:$C$47,MATCH(C$7&"|"&$B10,'Plan semanal'!$K$8:$K$47,0))&IF(COUNTIF('Plan semanal'!$K$8:$K$47,C$7&"|"&$B10)>1," (+"&(COUNTIF('Plan semanal'!$K$8:$K$47,C$7&"|"&$B10)-1)&")","")&CHAR(10)&SUMIF('Plan semanal'!$K$8:$K$47,C$7&"|"&$B10,'Plan semanal'!$F$8:$F$47)&" min") | D10: =IF(COUNTIF('Plan semanal'!$K$8:$K$47,D$7&"|"&$B10)=0,"",INDEX('Plan semanal'!$C$8:$C$47,MATCH(D$7&"|"&$B10,'Plan semanal'!$K$8:$K$47,0))&IF(COUNTIF('Plan semanal'!$K$8:$K$47,D$7&"|"&$B10)>1," (+"&(COUNTIF('Plan semanal'!$K$8:$K$47,D$7&"|"&$B10)-1)&")","")&CHAR(10)&SUMIF('Plan semanal'!$K$8:$K$47,D$7&"|"&$B10,'Plan semanal'!$F$8:$F$47)&" min") | E10: =IF(COUNTIF('Plan semanal'!$K$8:$K$47,E$7&"|"&$B10)=0,"",INDEX('Plan semanal'!$C$8:$C$47,MATCH(E$7&"|"&$B10,'Plan semanal'!$K$8:$K$47,0))&IF(COUNTIF('Plan semanal'!$K$8:$K$47,E$7&"|"&$B10)>1," (+"&(COUNTIF('Plan semanal'!$K$8:$K$47,E$7&"|"&$B10)-1)&")","")&CHAR(10)&SUMIF('Plan semanal'!$K$8:$K$47,E$7&"|"&$B10,'Plan semanal'!$F$8:$F$47)&" min") | F10: =IF(COUNTIF('Plan semanal'!$K$8:$K$47,F$7&"|"&$B10)=0,"",INDEX('Plan semanal'!$C$8:$C$47,MATCH(F$7&"|"&$B10,'Plan semanal'!$K$8:$K$47,0))&IF(COUNTIF('Plan semanal'!$K$8:$K$47,F$7&"|"&$B10)>1," (+"&(COUNTIF('Plan semanal'!$K$8:$K$47,F$7&"|"&$B10)-1)&")","")&CHAR(10)&SUMIF('Plan semanal'!$K$8:$K$47,F$7&"|"&$B10,'Plan semanal'!$F$8:$F$47)&" min") | G10: =IF(COUNTIF('Plan semanal'!$K$8:$K$47,G$7&"|"&$B10)=0,"",INDEX('Plan semanal'!$C$8:$C$47,MATCH(G$7&"|"&$B10,'Plan semanal'!$K$8:$K$47,0))&IF(COUNTIF('Plan semanal'!$K$8:$K$47,G$7&"|"&$B10)>1," (+"&(COUNTIF('Plan semanal'!$K$8:$K$47,G$7&"|"&$B10)-1)&")","")&CHAR(10)&SUMIF('Plan semanal'!$K$8:$K$47,G$7&"|"&$B10,'Plan semanal'!$F$8:$F$47)&" min") | H10: =IF(COUNTIF('Plan semanal'!$K$8:$K$47,H$7&"|"&$B10)=0,"",INDEX('Plan semanal'!$C$8:$C$47,MATCH(H$7&"|"&$B10,'Plan semanal'!$K$8:$K$47,0))&IF(COUNTIF('Plan semanal'!$K$8:$K$47,H$7&"|"&$B10)>1," (+"&(COUNTIF('Plan semanal'!$K$8:$K$47,H$7&"|"&$B10)-1)&")","")&CHAR(10)&SUMIF('Plan semanal'!$K$8:$K$47,H$7&"|"&$B10,'Plan semanal'!$F$8:$F$47)&" min") | I10: =IF(COUNTIF('Plan semanal'!$K$8:$K$47,I$7&"|"&$B10)=0,"",INDEX('Plan semanal'!$C$8:$C$47,MATCH(I$7&"|"&$B10,'Plan semanal'!$K$8:$K$47,0))&IF(COUNTIF('Plan semanal'!$K$8:$K$47,I$7&"|"&$B10)>1," (+"&(COUNTIF('Plan semanal'!$K$8:$K$47,I$7&"|"&$B10)-1)&")","")&CHAR(10)&SUMIF('Plan semanal'!$K$8:$K$47,I$7&"|"&$B10,'Plan semanal'!$F$8:$F$47)&" min")
B11: Noche | C11: =IF(COUNTIF('Plan semanal'!$K$8:$K$47,C$7&"|"&$B11)=0,"",INDEX('Plan semanal'!$C$8:$C$47,MATCH(C$7&"|"&$B11,'Plan semanal'!$K$8:$K$47,0))&IF(COUNTIF('Plan semanal'!$K$8:$K$47,C$7&"|"&$B11)>1," (+"&(COUNTIF('Plan semanal'!$K$8:$K$47,C$7&"|"&$B11)-1)&")","")&CHAR(10)&SUMIF('Plan semanal'!$K$8:$K$47,C$7&"|"&$B11,'Plan semanal'!$F$8:$F$47)&" min") | D11: =IF(COUNTIF('Plan semanal'!$K$8:$K$47,D$7&"|"&$B11)=0,"",INDEX('Plan semanal'!$C$8:$C$47,MATCH(D$7&"|"&$B11,'Plan semanal'!$K$8:$K$47,0))&IF(COUNTIF('Plan semanal'!$K$8:$K$47,D$7&"|"&$B11)>1," (+"&(COUNTIF('Plan semanal'!$K$8:$K$47,D$7&"|"&$B11)-1)&")","")&CHAR(10)&SUMIF('Plan semanal'!$K$8:$K$47,D$7&"|"&$B11,'Plan semanal'!$F$8:$F$47)&" min") | E11: =IF(COUNTIF('Plan semanal'!$K$8:$K$47,E$7&"|"&$B11)=0,"",INDEX('Plan semanal'!$C$8:$C$47,MATCH(E$7&"|"&$B11,'Plan semanal'!$K$8:$K$47,0))&IF(COUNTIF('Plan semanal'!$K$8:$K$47,E$7&"|"&$B11)>1," (+"&(COUNTIF('Plan semanal'!$K$8:$K$47,E$7&"|"&$B11)-1)&")","")&CHAR(10)&SUMIF('Plan semanal'!$K$8:$K$47,E$7&"|"&$B11,'Plan semanal'!$F$8:$F$47)&" min") | F11: =IF(COUNTIF('Plan semanal'!$K$8:$K$47,F$7&"|"&$B11)=0,"",INDEX('Plan semanal'!$C$8:$C$47,MATCH(F$7&"|"&$B11,'Plan semanal'!$K$8:$K$47,0))&IF(COUNTIF('Plan semanal'!$K$8:$K$47,F$7&"|"&$B11)>1," (+"&(COUNTIF('Plan semanal'!$K$8:$K$47,F$7&"|"&$B11)-1)&")","")&CHAR(10)&SUMIF('Plan semanal'!$K$8:$K$47,F$7&"|"&$B11,'Plan semanal'!$F$8:$F$47)&" min") | G11: =IF(COUNTIF('Plan semanal'!$K$8:$K$47,G$7&"|"&$B11)=0,"",INDEX('Plan semanal'!$C$8:$C$47,MATCH(G$7&"|"&$B11,'Plan semanal'!$K$8:$K$47,0))&IF(COUNTIF('Plan semanal'!$K$8:$K$47,G$7&"|"&$B11)>1," (+"&(COUNTIF('Plan semanal'!$K$8:$K$47,G$7&"|"&$B11)-1)&")","")&CHAR(10)&SUMIF('Plan semanal'!$K$8:$K$47,G$7&"|"&$B11,'Plan semanal'!$F$8:$F$47)&" min") | H11: =IF(COUNTIF('Plan semanal'!$K$8:$K$47,H$7&"|"&$B11)=0,"",INDEX('Plan semanal'!$C$8:$C$47,MATCH(H$7&"|"&$B11,'Plan semanal'!$K$8:$K$47,0))&IF(COUNTIF('Plan semanal'!$K$8:$K$47,H$7&"|"&$B11)>1," (+"&(COUNTIF('Plan semanal'!$K$8:$K$47,H$7&"|"&$B11)-1)&")","")&CHAR(10)&SUMIF('Plan semanal'!$K$8:$K$47,H$7&"|"&$B11,'Plan semanal'!$F$8:$F$47)&" min") | I11: =IF(COUNTIF('Plan semanal'!$K$8:$K$47,I$7&"|"&$B11)=0,"",INDEX('Plan semanal'!$C$8:$C$47,MATCH(I$7&"|"&$B11,'Plan semanal'!$K$8:$K$47,0))&IF(COUNTIF('Plan semanal'!$K$8:$K$47,I$7&"|"&$B11)>1," (+"&(COUNTIF('Plan semanal'!$K$8:$K$47,I$7&"|"&$B11)-1)&")","")&CHAR(10)&SUMIF('Plan semanal'!$K$8:$K$47,I$7&"|"&$B11,'Plan semanal'!$F$8:$F$47)&" min")
B12: Si hay varias sesiones en la misma casilla se muestra la primera y entre paréntesis cuántas más hay; los minutos son la suma de todas.
B13: MINUTOS PLANIFICADOS POR DÍA Y FRANJA
B14: Franja | C14: Lunes | D14: Martes | E14: Miércoles | F14: Jueves | G14: Viernes | H14: Sábado | I14: Domingo | J14: Total
B15: Mañana | C15: =SUMIFS('Plan semanal'!$F$8:$F$47,'Plan semanal'!$B$8:$B$47,C$14,'Plan semanal'!$D$8:$D$47,$B15) | D15: =SUMIFS('Plan semanal'!$F$8:$F$47,'Plan semanal'!$B$8:$B$47,D$14,'Plan semanal'!$D$8:$D$47,$B15) | E15: =SUMIFS('Plan semanal'!$F$8:$F$47,'Plan semanal'!$B$8:$B$47,E$14,'Plan semanal'!$D$8:$D$47,$B15) | F15: =SUMIFS('Plan semanal'!$F$8:$F$47,'Plan semanal'!$B$8:$B$47,F$14,'Plan semanal'!$D$8:$D$47,$B15) | G15: =SUMIFS('Plan semanal'!$F$8:$F$47,'Plan semanal'!$B$8:$B$47,G$14,'Plan semanal'!$D$8:$D$47,$B15) | H15: =SUMIFS('Plan semanal'!$F$8:$F$47,'Plan semanal'!$B$8:$B$47,H$14,'Plan semanal'!$D$8:$D$47,$B15) | I15: =SUMIFS('Plan semanal'!$F$8:$F$47,'Plan semanal'!$B$8:$B$47,I$14,'Plan semanal'!$D$8:$D$47,$B15) | J15: =SUM(C15:I15)
B16: Mediodía | C16: =SUMIFS('Plan semanal'!$F$8:$F$47,'Plan semanal'!$B$8:$B$47,C$14,'Plan semanal'!$D$8:$D$47,$B16) | D16: =SUMIFS('Plan semanal'!$F$8:$F$47,'Plan semanal'!$B$8:$B$47,D$14,'Plan semanal'!$D$8:$D$47,$B16) | E16: =SUMIFS('Plan semanal'!$F$8:$F$47,'Plan semanal'!$B$8:$B$47,E$14,'Plan semanal'!$D$8:$D$47,$B16) | F16: =SUMIFS('Plan semanal'!$F$8:$F$47,'Plan semanal'!$B$8:$B$47,F$14,'Plan semanal'!$D$8:$D$47,$B16) | G16: =SUMIFS('Plan semanal'!$F$8:$F$47,'Plan semanal'!$B$8:$B$47,G$14,'Plan semanal'!$D$8:$D$47,$B16) | H16: =SUMIFS('Plan semanal'!$F$8:$F$47,'Plan semanal'!$B$8:$B$47,H$14,'Plan semanal'!$D$8:$D$47,$B16) | I16: =SUMIFS('Plan semanal'!$F$8:$F$47,'Plan semanal'!$B$8:$B$47,I$14,'Plan semanal'!$D$8:$D$47,$B16) | J16: =SUM(C16:I16)
B17: Tarde | C17: =SUMIFS('Plan semanal'!$F$8:$F$47,'Plan semanal'!$B$8:$B$47,C$14,'Plan semanal'!$D$8:$D$47,$B17) | D17: =SUMIFS('Plan semanal'!$F$8:$F$47,'Plan semanal'!$B$8:$B$47,D$14,'Plan semanal'!$D$8:$D$47,$B17) | E17: =SUMIFS('Plan semanal'!$F$8:$F$47,'Plan semanal'!$B$8:$B$47,E$14,'Plan semanal'!$D$8:$D$47,$B17) | F17: =SUMIFS('Plan semanal'!$F$8:$F$47,'Plan semanal'!$B$8:$B$47,F$14,'Plan semanal'!$D$8:$D$47,$B17) | G17: =SUMIFS('Plan semanal'!$F$8:$F$47,'Plan semanal'!$B$8:$B$47,G$14,'Plan semanal'!$D$8:$D$47,$B17) | H17: =SUMIFS('Plan semanal'!$F$8:$F$47,'Plan semanal'!$B$8:$B$47,H$14,'Plan semanal'!$D$8:$D$47,$B17) | I17: =SUMIFS('Plan semanal'!$F$8:$F$47,'Plan semanal'!$B$8:$B$47,I$14,'Plan semanal'!$D$8:$D$47,$B17) | J17: =SUM(C17:I17)
B18: Noche | C18: =SUMIFS('Plan semanal'!$F$8:$F$47,'Plan semanal'!$B$8:$B$47,C$14,'Plan semanal'!$D$8:$D$47,$B18) | D18: =SUMIFS('Plan semanal'!$F$8:$F$47,'Plan semanal'!$B$8:$B$47,D$14,'Plan semanal'!$D$8:$D$47,$B18) | E18: =SUMIFS('Plan semanal'!$F$8:$F$47,'Plan semanal'!$B$8:$B$47,E$14,'Plan semanal'!$D$8:$D$47,$B18) | F18: =SUMIFS('Plan semanal'!$F$8:$F$47,'Plan semanal'!$B$8:$B$47,F$14,'Plan semanal'!$D$8:$D$47,$B18) | G18: =SUMIFS('Plan semanal'!$F$8:$F$47,'Plan semanal'!$B$8:$B$47,G$14,'Plan semanal'!$D$8:$D$47,$B18) | H18: =SUMIFS('Plan semanal'!$F$8:$F$47,'Plan semanal'!$B$8:$B$47,H$14,'Plan semanal'!$D$8:$D$47,$B18) | I18: =SUMIFS('Plan semanal'!$F$8:$F$47,'Plan semanal'!$B$8:$B$47,I$14,'Plan semanal'!$D$8:$D$47,$B18) | J18: =SUM(C18:I18)
B19: Total día | C19: =SUM(C15:C18) | D19: =SUM(D15:D18) | E19: =SUM(E15:E18) | F19: =SUM(F15:F18) | G19: =SUM(G15:G18) | H19: =SUM(H15:H18) | I19: =SUM(I15:I18) | J19: =SUM(J15:J18)
B21: MINUTOS REALIZADOS POR DÍA
C22: Lunes | D22: Martes | E22: Miércoles | F22: Jueves | G22: Viernes | H22: Sábado | I22: Domingo
B23: Realizados | C23: =SUMIF('Plan semanal'!$B$8:$B$47,C$22,'Plan semanal'!$H$8:$H$47) | D23: =SUMIF('Plan semanal'!$B$8:$B$47,D$22,'Plan semanal'!$H$8:$H$47) | E23: =SUMIF('Plan semanal'!$B$8:$B$47,E$22,'Plan semanal'!$H$8:$H$47) | F23: =SUMIF('Plan semanal'!$B$8:$B$47,F$22,'Plan semanal'!$H$8:$H$47) | G23: =SUMIF('Plan semanal'!$B$8:$B$47,G$22,'Plan semanal'!$H$8:$H$47) | H23: =SUMIF('Plan semanal'!$B$8:$B$47,H$22,'Plan semanal'!$H$8:$H$47) | I23: =SUMIF('Plan semanal'!$B$8:$B$47,I$22,'Plan semanal'!$H$8:$H$47)
B24: % del plan | C24: =IF(C19=0,"",C23/C19) | D24: =IF(D19=0,"",D23/D19) | E24: =IF(E19=0,"",E23/E19) | F24: =IF(F19=0,"",F23/F19) | G24: =IF(G19=0,"",G23/G19) | H24: =IF(H19=0,"",H23/H19) | I24: =IF(I19=0,"",I23/I19)

Sheet Historial
B2: Historial semanal
B3: Al cerrar cada semana, anota aquí sus minutos para seguir la constancia a lo largo de las semanas.
B5: SEMANAS | C5: MEDIA (min/sem.) | D5: MEJOR SEMANA (min) | E5: SEMANAS LOGRADAS | F5: % LOGRADAS | G5: RACHA ACTUAL (sem.)
B6: =COUNT(Historial!$B$10:$B$49) | C6: =IFERROR(AVERAGE(Historial!$D$10:$D$49),0) | D6: =MAX(0,MAX(Historial!$D$10:$D$49)) | E6: =COUNTIF(Historial!$H$10:$H$49,"Logrado") | F6: =IFERROR(E6/B6,0) | G6: =IFERROR(INDEX(Historial!$K$10:$K$49,MATCH(MAX(Historial!$B$10:$B$49),Historial!$B$10:$B$49,0)),0)
B9: Semana (lunes) | C9: Min. planificados | D9: Min. realizados | E9: Días activos | F9: Objetivo (min) | G9: % del objetivo | H9: Estado | I9: Variación vs semana anterior | J9: Media 4 semanas | K9: Racha (sem.) | L9: Nota
B10: 46230 | C10: 180 | D10: 95 | E10: 2 | F10: 150 | G10: =IF(OR(B10="",D10=""),"",IFERROR(D10/F10,0)) | H10: =IF(G10="","",IF(G10>=1,"Logrado",IF(G10>=0.75,"Casi","Por debajo"))) | I10: ="" | J10: =IF(D10="","",AVERAGE(D10:D10)) | K10: =IF(G10="","",IF(G10>=1,1,0)) | L10: Vuelta tras las vacaciones
B11: 46237 | C11: 200 | D11: 120 | E11: 3 | F11: 150 | G11: =IF(OR(B11="",D11=""),"",IFERROR(D11/F11,0)) | H11: =IF(G11="","",IF(G11>=1,"Logrado",IF(G11>=0.75,"Casi","Por debajo"))) | I11: =IF(OR(D11="",D10=""),"",D11-D10) | J11: =IF(D11="","",AVERAGE(D10:D11)) | K11: =IF(G11="","",IF(G11>=1,N(K10)+1,0))
B12: 46244 | C12: 210 | D12: 150 | E12: 4 | F12: 150 | G12: =IF(OR(B12="",D12=""),"",IFERROR(D12/F12,0)) | H12: =IF(G12="","",IF(G12>=1,"Logrado",IF(G12>=0.75,"Casi","Por debajo"))) | I12: =IF(OR(D12="",D11=""),"",D12-D11) | J12: =IF(D12="","",AVERAGE(D10:D12)) | K12: =IF(G12="","",IF(G12>=1,N(K11)+1,0))
B13: 46251 | C13: 190 | D13: 160 | E13: 4 | F13: 150 | G13: =IF(OR(B13="",D13=""),"",IFERROR(D13/F13,0)) | H13: =IF(G13="","",IF(G13>=1,"Logrado",IF(G13>=0.75,"Casi","Por debajo"))) | I13: =IF(OR(D13="",D12=""),"",D13-D12) | J13: =IF(D13="","",AVERAGE(D10:D13)) | K13: =IF(G13="","",IF(G13>=1,N(K12)+1,0))
B14: 46258 | C14: 160 | D14: 140 | E14: 3 | F14: 150 | G14: =IF(OR(B14="",D14=""),"",IFERROR(D14/F14,0)) | H14: =IF(G14="","",IF(G14>=1,"Logrado",IF(G14>=0.75,"Casi","Por debajo"))) | I14: =IF(OR(D14="",D13=""),"",D14-D13) | J14: =IF(D14="","",AVERAGE(D11:D14)) | K14: =IF(G14="","",IF(G14>=1,N(K13)+1,0)) | L14: Semana de mucho trabajo
B15: 46265 | C15: 240 | D15: 175 | E15: 5 | F15: 150 | G15: =IF(OR(B15="",D15=""),"",IFERROR(D15/F15,0)) | H15: =IF(G15="","",IF(G15>=1,"Logrado",IF(G15>=0.75,"Casi","Por debajo"))) | I15: =IF(OR(D15="",D14=""),"",D15-D14) | J15: =IF(D15="","",AVERAGE(D12:D15)) | K15: =IF(G15="","",IF(G15>=1,N(K14)+1,0))
B16: 46272 | C16: 170 | D16: 110 | E16: 3 | F16: 150 | G16: =IF(OR(B16="",D16=""),"",IFERROR(D16/F16,0)) | H16: =IF(G16="","",IF(G16>=1,"Logrado",IF(G16>=0.75,"Casi","Por debajo"))) | I16: =IF(OR(D16="",D15=""),"",D16-D15) | J16: =IF(D16="","",AVERAGE(D13:D16)) | K16: =IF(G16="","",IF(G16>=1,N(K15)+1,0)) | L16: Resfriado a mitad de semana
B17: 46279 | C17: 220 | D17: 165 | E17: 4 | F17: 150 | G17: =IF(OR(B17="",D17=""),"",IFERROR(D17/F17,0)) | H17: =IF(G17="","",IF(G17>=1,"Logrado",IF(G17>=0.75,"Casi","Por debajo"))) | I17: =IF(OR(D17="",D16=""),"",D17-D16) | J17: =IF(D17="","",AVERAGE(D14:D17)) | K17: =IF(G17="","",IF(G17>=1,N(K16)+1,0))
B18: 46286 | C18: 260 | D18: 185 | E18: 5 | F18: 150 | G18: =IF(OR(B18="",D18=""),"",IFERROR(D18/F18,0)) | H18: =IF(G18="","",IF(G18>=1,"Logrado",IF(G18>=0.75,"Casi","Por debajo"))) | I18: =IF(OR(D18="",D17=""),"",D18-D17) | J18: =IF(D18="","",AVERAGE(D15:D18)) | K18: =IF(G18="","",IF(G18>=1,N(K17)+1,0)) | L18: Mejor semana del trimestre
G19: =IF(OR(B19="",D19=""),"",IFERROR(D19/F19,0)) | H19: =IF(G19="","",IF(G19>=1,"Logrado",IF(G19>=0.75,"Casi","Por debajo"))) | I19: =IF(OR(D19="",D18=""),"",D19-D18) | J19: =IF(D19="","",AVERAGE(D16:D19)) | K19: =IF(G19="","",IF(G19>=1,N(K18)+1,0))
G20: =IF(OR(B20="",D20=""),"",IFERROR(D20/F20,0)) | H20: =IF(G20="","",IF(G20>=1,"Logrado",IF(G20>=0.75,"Casi","Por debajo"))) | I20: =IF(OR(D20="",D19=""),"",D20-D19) | J20: =IF(D20="","",AVERAGE(D17:D20)) | K20: =IF(G20="","",IF(G20>=1,N(K19)+1,0))
G21: =IF(OR(B21="",D21=""),"",IFERROR(D21/F21,0)) | H21: =IF(G21="","",IF(G21>=1,"Logrado",IF(G21>=0.75,"Casi","Por debajo"))) | I21: =IF(OR(D21="",D20=""),"",D21-D20) | J21: =IF(D21="","",AVERAGE(D18:D21)) | K21: =IF(G21="","",IF(G21>=1,N(K20)+1,0))
G22: =IF(OR(B22="",D22=""),"",IFERROR(D22/F22,0)) | H22: =IF(G22="","",IF(G22>=1,"Logrado",IF(G22>=0.75,"Casi","Por debajo"))) | I22: =IF(OR(D22="",D21=""),"",D22-D21) | J22: =IF(D22="","",AVERAGE(D19:D22)) | K22: =IF(G22="","",IF(G22>=1,N(K21)+1,0))
G23: =IF(OR(B23="",D23=""),"",IFERROR(D23/F23,0)) | H23: =IF(G23="","",IF(G23>=1,"Logrado",IF(G23>=0.75,"Casi","Por debajo"))) | I23: =IF(OR(D23="",D22=""),"",D23-D22) | J23: =IF(D23="","",AVERAGE(D20:D23)) | K23: =IF(G23="","",IF(G23>=1,N(K22)+1,0))
G24: =IF(OR(B24="",D24=""),"",IFERROR(D24/F24,0)) | H24: =IF(G24="","",IF(G24>=1,"Logrado",IF(G24>=0.75,"Casi","Por debajo"))) | I24: =IF(OR(D24="",D23=""),"",D24-D23) | J24: =IF(D24="","",AVERAGE(D21:D24)) | K24: =IF(G24="","",IF(G24>=1,N(K23)+1,0))
G25: =IF(OR(B25="",D25=""),"",IFERROR(D25/F25,0)) | H25: =IF(G25="","",IF(G25>=1,"Logrado",IF(G25>=0.75,"Casi","Por debajo"))) | I25: =IF(OR(D25="",D24=""),"",D25-D24) | J25: =IF(D25="","",AVERAGE(D22:D25)) | K25: =IF(G25="","",IF(G25>=1,N(K24)+1,0))
G26: =IF(OR(B26="",D26=""),"",IFERROR(D26/F26,0)) | H26: =IF(G26="","",IF(G26>=1,"Logrado",IF(G26>=0.75,"Casi","Por debajo"))) | I26: =IF(OR(D26="",D25=""),"",D26-D25) | J26: =IF(D26="","",AVERAGE(D23:D26)) | K26: =IF(G26="","",IF(G26>=1,N(K25)+1,0))
G27: =IF(OR(B27="",D27=""),"",IFERROR(D27/F27,0)) | H27: =IF(G27="","",IF(G27>=1,"Logrado",IF(G27>=0.75,"Casi","Por debajo"))) | I27: =IF(OR(D27="",D26=""),"",D27-D26) | J27: =IF(D27="","",AVERAGE(D24:D27)) | K27: =IF(G27="","",IF(G27>=1,N(K26)+1,0))
G28: =IF(OR(B28="",D28=""),"",IFERROR(D28/F28,0)) | H28: =IF(G28="","",IF(G28>=1,"Logrado",IF(G28>=0.75,"Casi","Por debajo"))) | I28: =IF(OR(D28="",D27=""),"",D28-D27) | J28: =IF(D28="","",AVERAGE(D25:D28)) | K28: =IF(G28="","",IF(G28>=1,N(K27)+1,0))
G29: =IF(OR(B29="",D29=""),"",IFERROR(D29/F29,0)) | H29: =IF(G29="","",IF(G29>=1,"Logrado",IF(G29>=0.75,"Casi","Por debajo"))) | I29: =IF(OR(D29="",D28=""),"",D29-D28) | J29: =IF(D29="","",AVERAGE(D26:D29)) | K29: =IF(G29="","",IF(G29>=1,N(K28)+1,0))
G30: =IF(OR(B30="",D30=""),"",IFERROR(D30/F30,0)) | H30: =IF(G30="","",IF(G30>=1,"Logrado",IF(G30>=0.75,"Casi","Por debajo"))) | I30: =IF(OR(D30="",D29=""),"",D30-D29) | J30: =IF(D30="","",AVERAGE(D27:D30)) | K30: =IF(G30="","",IF(G30>=1,N(K29)+1,0))
... G49: =IF(OR(B49="",D49=""),"",IFERROR(D49/F49,0)) | H49: =IF(G49="","",IF(G49>=1,"Logrado",IF(G49>=0.75,"Casi","Por debajo"))) | I49: =IF(OR(D49="",D48=""),"",D49-D48) | J49: =IF(D49="","",AVERAGE(D46:D49)) | K49: =IF(G49="","",IF(G49>=1,N(K48)+1,0))

Sheet Instrucciones
B2: Calendario de actividad física semanal · Cómo usarlo
B3: Plantilla gratuita de Plantillas de Cálculo · plantillasdecalculo.com
B5: CÓMO USARLA
B6: 1. En «Panel» escribe tu objetivo semanal en minutos (150 como ejemplo), cuántos días activos quieres y el lunes de la semana que vas a planificar.
B7: 2. En «Panel» revisa la lista de actividades (columna B, sección «Por actividad») y cámbiala por las tuyas: caminar, pádel, spinning, etc.
B8: 3. En «Plan semanal» añade una fila por sesión: día, actividad, franja del día, intensidad y duración en minutos. Hay 40 filas preparadas.
B9: 4. A lo largo de la semana marca «Sí» en la columna «¿Hecho?» cuando completes una sesión; las no marcadas cuentan como pendientes.
B10: 5. Consulta «Semana» para ver la cuadrícula tipo calendario con la actividad de cada día y franja, los minutos totales y los realizados por día.
B11: 6. Abre «Panel»: minutos planificados y realizados, % del objetivo, días activos, minutos que faltan y barra de progreso con el estado de la semana.
B12: 7. Al terminar la semana, copia en «Historial» el lunes, los minutos planificados, los realizados y los días activos (valores, no fórmulas).
B13: 8. Para empezar otra semana, cambia el lunes en «Panel», borra solo las celdas crema de «Plan semanal» y vuelve a planificar; las fórmulas no se tocan.
B15: CONSEJOS
... B24: Aviso: esta plantilla sirve únicamente para registrar y organizar tu actividad física. No es un dispositivo médico ni sustituye el consejo de un profesional sanitario; si tienes dudas sobre cuánto ejercicio te conviene, consúltalas con tu médico.

Sheet Listas
A1: Día | B1: Franja | C1: Intensidad | D1: ¿Hecho?
A2: Lunes | B2: Mañana | C2: Suave | D2: Sí
A3: Martes | B3: Mediodía | C3: Moderada | D3: No
A4: Miércoles | B4: Tarde | C4: Intensa
A5: Jueves | B5: Noche
A6: Viernes
A7: Sábado
A8: Domingo
