Workbook

Sheet Panel
B2: Panel del temario
B3: Resumen automático: cuánto llevas, qué te toca repasar y por dónde seguir.
B5: TEMAS EN TOTAL | C5: % TEMARIO COMPLETADO | E5: TEMAS DOMINADOS | F5: TOCA REPASAR YA | G5: REPASOS HECHOS
B6: =COUNTIF(Temario!B8:B47,"?*") | C6: =IFERROR(SUM(Temario!H8:H47)/COUNT(Temario!H8:H47),0) | E6: =COUNTIF(Temario!D8:D47,"Dominado") | F6: =COUNTIF(Temario!J8:J47,"Repasar ya") | G6: =SUM(Temario!F8:F47)
B8: Fecha del examen (opcional): | C8: 46466 | D8: Días que faltan: | E8: =IF(C8="","",MAX(C8-Temario!C5,0)) | F8: Temas/semana para dominar todo: | G8: =IF(OR(E8="",E8=0),"-",ROUND((B6-E6)/(E8/7),1))
B10: LOS 6 TEMAS QUE MÁS CONVIENE REFORZAR
B11: Tema | C11: Bloque | D11: Estado | E11: Dificultad | F11: Días sin tocar | G11: Aviso
B12: =IF($J12="","",INDEX(Temario!$B$8:$B$47,MATCH($J12,Temario!$L$8:$L$47,0))) | C12: =IF($J12="","",INDEX(Temario!$C$8:$C$47,MATCH($J12,Temario!$L$8:$L$47,0))) | D12: =IF($J12="","",INDEX(Temario!$D$8:$D$47,MATCH($J12,Temario!$L$8:$L$47,0))) | E12: =IF($J12="","",INDEX(Temario!$E$8:$E$47,MATCH($J12,Temario!$L$8:$L$47,0))) | F12: =IF($J12="","",INDEX(Temario!$I$8:$I$47,MATCH($J12,Temario!$L$8:$L$47,0))) | G12: =IF($J12="","",INDEX(Temario!$J$8:$J$47,MATCH($J12,Temario!$L$8:$L$47,0))) | J12: =IFERROR(LARGE(Temario!$L$8:$L$47,1),"")
B13: =IF($J13="","",INDEX(Temario!$B$8:$B$47,MATCH($J13,Temario!$L$8:$L$47,0))) | C13: =IF($J13="","",INDEX(Temario!$C$8:$C$47,MATCH($J13,Temario!$L$8:$L$47,0))) | D13: =IF($J13="","",INDEX(Temario!$D$8:$D$47,MATCH($J13,Temario!$L$8:$L$47,0))) | E13: =IF($J13="","",INDEX(Temario!$E$8:$E$47,MATCH($J13,Temario!$L$8:$L$47,0))) | F13: =IF($J13="","",INDEX(Temario!$I$8:$I$47,MATCH($J13,Temario!$L$8:$L$47,0))) | G13: =IF($J13="","",INDEX(Temario!$J$8:$J$47,MATCH($J13,Temario!$L$8:$L$47,0))) | J13: =IFERROR(LARGE(Temario!$L$8:$L$47,2),"")
B14: =IF($J14="","",INDEX(Temario!$B$8:$B$47,MATCH($J14,Temario!$L$8:$L$47,0))) | C14: =IF($J14="","",INDEX(Temario!$C$8:$C$47,MATCH($J14,Temario!$L$8:$L$47,0))) | D14: =IF($J14="","",INDEX(Temario!$D$8:$D$47,MATCH($J14,Temario!$L$8:$L$47,0))) | E14: =IF($J14="","",INDEX(Temario!$E$8:$E$47,MATCH($J14,Temario!$L$8:$L$47,0))) | F14: =IF($J14="","",INDEX(Temario!$I$8:$I$47,MATCH($J14,Temario!$L$8:$L$47,0))) | G14: =IF($J14="","",INDEX(Temario!$J$8:$J$47,MATCH($J14,Temario!$L$8:$L$47,0))) | J14: =IFERROR(LARGE(Temario!$L$8:$L$47,3),"")
B15: =IF($J15="","",INDEX(Temario!$B$8:$B$47,MATCH($J15,Temario!$L$8:$L$47,0))) | C15: =IF($J15="","",INDEX(Temario!$C$8:$C$47,MATCH($J15,Temario!$L$8:$L$47,0))) | D15: =IF($J15="","",INDEX(Temario!$D$8:$D$47,MATCH($J15,Temario!$L$8:$L$47,0))) | E15: =IF($J15="","",INDEX(Temario!$E$8:$E$47,MATCH($J15,Temario!$L$8:$L$47,0))) | F15: =IF($J15="","",INDEX(Temario!$I$8:$I$47,MATCH($J15,Temario!$L$8:$L$47,0))) | G15: =IF($J15="","",INDEX(Temario!$J$8:$J$47,MATCH($J15,Temario!$L$8:$L$47,0))) | J15: =IFERROR(LARGE(Temario!$L$8:$L$47,4),"")
B16: =IF($J16="","",INDEX(Temario!$B$8:$B$47,MATCH($J16,Temario!$L$8:$L$47,0))) | C16: =IF($J16="","",INDEX(Temario!$C$8:$C$47,MATCH($J16,Temario!$L$8:$L$47,0))) | D16: =IF($J16="","",INDEX(Temario!$D$8:$D$47,MATCH($J16,Temario!$L$8:$L$47,0))) | E16: =IF($J16="","",INDEX(Temario!$E$8:$E$47,MATCH($J16,Temario!$L$8:$L$47,0))) | F16: =IF($J16="","",INDEX(Temario!$I$8:$I$47,MATCH($J16,Temario!$L$8:$L$47,0))) | G16: =IF($J16="","",INDEX(Temario!$J$8:$J$47,MATCH($J16,Temario!$L$8:$L$47,0))) | J16: =IFERROR(LARGE(Temario!$L$8:$L$47,5),"")
B17: =IF($J17="","",INDEX(Temario!$B$8:$B$47,MATCH($J17,Temario!$L$8:$L$47,0))) | C17: =IF($J17="","",INDEX(Temario!$C$8:$C$47,MATCH($J17,Temario!$L$8:$L$47,0))) | D17: =IF($J17="","",INDEX(Temario!$D$8:$D$47,MATCH($J17,Temario!$L$8:$L$47,0))) | E17: =IF($J17="","",INDEX(Temario!$E$8:$E$47,MATCH($J17,Temario!$L$8:$L$47,0))) | F17: =IF($J17="","",INDEX(Temario!$I$8:$I$47,MATCH($J17,Temario!$L$8:$L$47,0))) | G17: =IF($J17="","",INDEX(Temario!$J$8:$J$47,MATCH($J17,Temario!$L$8:$L$47,0))) | J17: =IFERROR(LARGE(Temario!$L$8:$L$47,6),"")
B19: TEMAS POR ESTADO
B20: Estado | C20: Nº temas | D20: % del temario
B21: Sin empezar | C21: =COUNTIF(Temario!$D$8:$D$47,B21) | D21: =IFERROR(C21/$B$6,0)
B22: Estudiado | C22: =COUNTIF(Temario!$D$8:$D$47,B22) | D22: =IFERROR(C22/$B$6,0)
B23: Repasado | C23: =COUNTIF(Temario!$D$8:$D$47,B23) | D23: =IFERROR(C23/$B$6,0)
B24: Dominado | C24: =COUNTIF(Temario!$D$8:$D$47,B24) | D24: =IFERROR(C24/$B$6,0)
B25: Total | C25: =SUM(C21:C24) | D25: =SUM(D21:D24)

Sheet Temario
B2: Checklist del temario
B3: Un tema por fila: bloque, estado, dificultad, nº de repasos y fecha del último estudio o repaso.
B5: Hoy: | C5: =TODAY() | D5: Repasar cada (días): | F5: 21
B7: Tema | C7: Bloque | D7: Estado | E7: Dificultad | F7: Nº repasos | G7: Último estudio o repaso | H7: Progreso | I7: Días sin tocar | J7: Aviso | K7: Prioridad | L7: Clave (aux.)
B8: T1. La Constitución Española de 1978 | C8: Bloque 1 · Derecho constitucional | D8: Dominado | E8: Media | F8: 4 | G8: 46277 | H8: =IF(OR(B8="",D8=""),"",IFERROR(INDEX(Bloques!$C$19:$C$22,MATCH(D8,Bloques!$B$19:$B$22,0)),0)) | I8: =IF(OR(B8="",G8=""),"",$C$5-G8) | J8: =IF(B8="","",IF(D8="Sin empezar","Empezar",IF(I8="","Falta la fecha",IF(D8="Dominado",IF(I8>=2*$F$5,"Repaso de mantenimiento","Dominado"),IF(I8>=$F$5,"Repasar ya","Al día"))))) | K8: =IF(OR(B8="",H8=""),"",ROUND((1-H8)*IF(E8="Alta",3,IF(E8="Media",2,1))+IF(J8="Repasar ya",0.5,0),2)) | L8: =IF(K8="","",IF(K8<=0,"",K8+ROW()/100000))
B9: T2. Derechos y deberes fundamentales | C9: Bloque 1 · Derecho constitucional | D9: Repasado | E9: Alta | F9: 2 | G9: 46285 | H9: =IF(OR(B9="",D9=""),"",IFERROR(INDEX(Bloques!$C$19:$C$22,MATCH(D9,Bloques!$B$19:$B$22,0)),0)) | I9: =IF(OR(B9="",G9=""),"",$C$5-G9) | J9: =IF(B9="","",IF(D9="Sin empezar","Empezar",IF(I9="","Falta la fecha",IF(D9="Dominado",IF(I9>=2*$F$5,"Repaso de mantenimiento","Dominado"),IF(I9>=$F$5,"Repasar ya","Al día"))))) | K9: =IF(OR(B9="",H9=""),"",ROUND((1-H9)*IF(E9="Alta",3,IF(E9="Media",2,1))+IF(J9="Repasar ya",0.5,0),2)) | L9: =IF(K9="","",IF(K9<=0,"",K9+ROW()/100000))
B10: T3. La Corona y las Cortes Generales | C10: Bloque 1 · Derecho constitucional | D10: Repasado | E10: Media | F10: 2 | G10: 46283 | H10: =IF(OR(B10="",D10=""),"",IFERROR(INDEX(Bloques!$C$19:$C$22,MATCH(D10,Bloques!$B$19:$B$22,0)),0)) | I10: =IF(OR(B10="",G10=""),"",$C$5-G10) | J10: =IF(B10="","",IF(D10="Sin empezar","Empezar",IF(I10="","Falta la fecha",IF(D10="Dominado",IF(I10>=2*$F$5,"Repaso de mantenimiento","Dominado"),IF(I10>=$F$5,"Repasar ya","Al día"))))) | K10: =IF(OR(B10="",H10=""),"",ROUND((1-H10)*IF(E10="Alta",3,IF(E10="Media",2,1))+IF(J10="Repasar ya",0.5,0),2)) | L10: =IF(K10="","",IF(K10<=0,"",K10+ROW()/100000))
B11: T4. El Gobierno y la Administración | C11: Bloque 1 · Derecho constitucional | D11: Estudiado | E11: Media | F11: 1 | G11: 46290 | H11: =IF(OR(B11="",D11=""),"",IFERROR(INDEX(Bloques!$C$19:$C$22,MATCH(D11,Bloques!$B$19:$B$22,0)),0)) | I11: =IF(OR(B11="",G11=""),"",$C$5-G11) | J11: =IF(B11="","",IF(D11="Sin empezar","Empezar",IF(I11="","Falta la fecha",IF(D11="Dominado",IF(I11>=2*$F$5,"Repaso de mantenimiento","Dominado"),IF(I11>=$F$5,"Repasar ya","Al día"))))) | K11: =IF(OR(B11="",H11=""),"",ROUND((1-H11)*IF(E11="Alta",3,IF(E11="Media",2,1))+IF(J11="Repasar ya",0.5,0),2)) | L11: =IF(K11="","",IF(K11<=0,"",K11+ROW()/100000))
B12: T5. El Poder Judicial | C12: Bloque 1 · Derecho constitucional | D12: Estudiado | E12: Baja | F12: 1 | G12: 46292 | H12: =IF(OR(B12="",D12=""),"",IFERROR(INDEX(Bloques!$C$19:$C$22,MATCH(D12,Bloques!$B$19:$B$22,0)),0)) | I12: =IF(OR(B12="",G12=""),"",$C$5-G12) | J12: =IF(B12="","",IF(D12="Sin empezar","Empezar",IF(I12="","Falta la fecha",IF(D12="Dominado",IF(I12>=2*$F$5,"Repaso de mantenimiento","Dominado"),IF(I12>=$F$5,"Repasar ya","Al día"))))) | K12: =IF(OR(B12="",H12=""),"",ROUND((1-H12)*IF(E12="Alta",3,IF(E12="Media",2,1))+IF(J12="Repasar ya",0.5,0),2)) | L12: =IF(K12="","",IF(K12<=0,"",K12+ROW()/100000))
B13: T6. La organización territorial del Estado | C13: Bloque 1 · Derecho constitucional | D13: Sin empezar | E13: Alta | F13: 0 | H13: =IF(OR(B13="",D13=""),"",IFERROR(INDEX(Bloques!$C$19:$C$22,MATCH(D13,Bloques!$B$19:$B$22,0)),0)) | I13: =IF(OR(B13="",G13=""),"",$C$5-G13) | J13: =IF(B13="","",IF(D13="Sin empezar","Empezar",IF(I13="","Falta la fecha",IF(D13="Dominado",IF(I13>=2*$F$5,"Repaso de mantenimiento","Dominado"),IF(I13>=$F$5,"Repasar ya","Al día"))))) | K13: =IF(OR(B13="",H13=""),"",ROUND((1-H13)*IF(E13="Alta",3,IF(E13="Media",2,1))+IF(J13="Repasar ya",0.5,0),2)) | L13: =IF(K13="","",IF(K13<=0,"",K13+ROW()/100000))
B14: T7. El acto administrativo | C14: Bloque 2 · Derecho administrativo | D14: Estudiado | E14: Alta | F14: 1 | G14: 46275 | H14: =IF(OR(B14="",D14=""),"",IFERROR(INDEX(Bloques!$C$19:$C$22,MATCH(D14,Bloques!$B$19:$B$22,0)),0)) | I14: =IF(OR(B14="",G14=""),"",$C$5-G14) | J14: =IF(B14="","",IF(D14="Sin empezar","Empezar",IF(I14="","Falta la fecha",IF(D14="Dominado",IF(I14>=2*$F$5,"Repaso de mantenimiento","Dominado"),IF(I14>=$F$5,"Repasar ya","Al día"))))) | K14: =IF(OR(B14="",H14=""),"",ROUND((1-H14)*IF(E14="Alta",3,IF(E14="Media",2,1))+IF(J14="Repasar ya",0.5,0),2)) | L14: =IF(K14="","",IF(K14<=0,"",K14+ROW()/100000))
B15: T8. El procedimiento administrativo común | C15: Bloque 2 · Derecho administrativo | D15: Sin empezar | E15: Alta | F15: 0 | H15: =IF(OR(B15="",D15=""),"",IFERROR(INDEX(Bloques!$C$19:$C$22,MATCH(D15,Bloques!$B$19:$B$22,0)),0)) | I15: =IF(OR(B15="",G15=""),"",$C$5-G15) | J15: =IF(B15="","",IF(D15="Sin empezar","Empezar",IF(I15="","Falta la fecha",IF(D15="Dominado",IF(I15>=2*$F$5,"Repaso de mantenimiento","Dominado"),IF(I15>=$F$5,"Repasar ya","Al día"))))) | K15: =IF(OR(B15="",H15=""),"",ROUND((1-H15)*IF(E15="Alta",3,IF(E15="Media",2,1))+IF(J15="Repasar ya",0.5,0),2)) | L15: =IF(K15="","",IF(K15<=0,"",K15+ROW()/100000))
B16: T9. Los contratos del sector público | C16: Bloque 2 · Derecho administrativo | D16: Sin empezar | E16: Media | F16: 0 | H16: =IF(OR(B16="",D16=""),"",IFERROR(INDEX(Bloques!$C$19:$C$22,MATCH(D16,Bloques!$B$19:$B$22,0)),0)) | I16: =IF(OR(B16="",G16=""),"",$C$5-G16) | J16: =IF(B16="","",IF(D16="Sin empezar","Empezar",IF(I16="","Falta la fecha",IF(D16="Dominado",IF(I16>=2*$F$5,"Repaso de mantenimiento","Dominado"),IF(I16>=$F$5,"Repasar ya","Al día"))))) | K16: =IF(OR(B16="",H16=""),"",ROUND((1-H16)*IF(E16="Alta",3,IF(E16="Media",2,1))+IF(J16="Repasar ya",0.5,0),2)) | L16: =IF(K16="","",IF(K16<=0,"",K16+ROW()/100000))
B17: T10. Función pública y empleados públicos | C17: Bloque 2 · Derecho administrativo | D17: Estudiado | E17: Media | F17: 1 | G17: 46287 | H17: =IF(OR(B17="",D17=""),"",IFERROR(INDEX(Bloques!$C$19:$C$22,MATCH(D17,Bloques!$B$19:$B$22,0)),0)) | I17: =IF(OR(B17="",G17=""),"",$C$5-G17) | J17: =IF(B17="","",IF(D17="Sin empezar","Empezar",IF(I17="","Falta la fecha",IF(D17="Dominado",IF(I17>=2*$F$5,"Repaso de mantenimiento","Dominado"),IF(I17>=$F$5,"Repasar ya","Al día"))))) | K17: =IF(OR(B17="",H17=""),"",ROUND((1-H17)*IF(E17="Alta",3,IF(E17="Media",2,1))+IF(J17="Repasar ya",0.5,0),2)) | L17: =IF(K17="","",IF(K17<=0,"",K17+ROW()/100000))
B18: T11. Atención al ciudadano | C18: Bloque 2 · Derecho administrativo | D18: Dominado | E18: Baja | F18: 3 | G18: 46264 | H18: =IF(OR(B18="",D18=""),"",IFERROR(INDEX(Bloques!$C$19:$C$22,MATCH(D18,Bloques!$B$19:$B$22,0)),0)) | I18: =IF(OR(B18="",G18=""),"",$C$5-G18) | J18: =IF(B18="","",IF(D18="Sin empezar","Empezar",IF(I18="","Falta la fecha",IF(D18="Dominado",IF(I18>=2*$F$5,"Repaso de mantenimiento","Dominado"),IF(I18>=$F$5,"Repasar ya","Al día"))))) | K18: =IF(OR(B18="",H18=""),"",ROUND((1-H18)*IF(E18="Alta",3,IF(E18="Media",2,1))+IF(J18="Repasar ya",0.5,0),2)) | L18: =IF(K18="","",IF(K18<=0,"",K18+ROW()/100000))
B19: T12. Procesador de textos | C19: Bloque 3 · Ofimática | D19: Dominado | E19: Baja | F19: 3 | G19: 46270 | H19: =IF(OR(B19="",D19=""),"",IFERROR(INDEX(Bloques!$C$19:$C$22,MATCH(D19,Bloques!$B$19:$B$22,0)),0)) | I19: =IF(OR(B19="",G19=""),"",$C$5-G19) | J19: =IF(B19="","",IF(D19="Sin empezar","Empezar",IF(I19="","Falta la fecha",IF(D19="Dominado",IF(I19>=2*$F$5,"Repaso de mantenimiento","Dominado"),IF(I19>=$F$5,"Repasar ya","Al día"))))) | K19: =IF(OR(B19="",H19=""),"",ROUND((1-H19)*IF(E19="Alta",3,IF(E19="Media",2,1))+IF(J19="Repasar ya",0.5,0),2)) | L19: =IF(K19="","",IF(K19<=0,"",K19+ROW()/100000))
B20: T13. Hoja de cálculo | C20: Bloque 3 · Ofimática | D20: Repasado | E20: Media | F20: 2 | G20: 46280 | H20: =IF(OR(B20="",D20=""),"",IFERROR(INDEX(Bloques!$C$19:$C$22,MATCH(D20,Bloques!$B$19:$B$22,0)),0)) | I20: =IF(OR(B20="",G20=""),"",$C$5-G20) | J20: =IF(B20="","",IF(D20="Sin empezar","Empezar",IF(I20="","Falta la fecha",IF(D20="Dominado",IF(I20>=2*$F$5,"Repaso de mantenimiento","Dominado"),IF(I20>=$F$5,"Repasar ya","Al día"))))) | K20: =IF(OR(B20="",H20=""),"",ROUND((1-H20)*IF(E20="Alta",3,IF(E20="Media",2,1))+IF(J20="Repasar ya",0.5,0),2)) | L20: =IF(K20="","",IF(K20<=0,"",K20+ROW()/100000))
B21: T14. Correo y administración electrónica | C21: Bloque 3 · Ofimática | D21: Estudiado | E21: Baja | F21: 1 | G21: 46294 | H21: =IF(OR(B21="",D21=""),"",IFERROR(INDEX(Bloques!$C$19:$C$22,MATCH(D21,Bloques!$B$19:$B$22,0)),0)) | I21: =IF(OR(B21="",G21=""),"",$C$5-G21) | J21: =IF(B21="","",IF(D21="Sin empezar","Empezar",IF(I21="","Falta la fecha",IF(D21="Dominado",IF(I21>=2*$F$5,"Repaso de mantenimiento","Dominado"),IF(I21>=$F$5,"Repasar ya","Al día"))))) | K21: =IF(OR(B21="",H21=""),"",ROUND((1-H21)*IF(E21="Alta",3,IF(E21="Media",2,1))+IF(J21="Repasar ya",0.5,0),2)) | L21: =IF(K21="","",IF(K21<=0,"",K21+ROW()/100000))
H22: =IF(OR(B22="",D22=""),"",IFERROR(INDEX(Bloques!$C$19:$C$22,MATCH(D22,Bloques!$B$19:$B$22,0)),0)) | I22: =IF(OR(B22="",G22=""),"",$C$5-G22) | J22: =IF(B22="","",IF(D22="Sin empezar","Empezar",IF(I22="","Falta la fecha",IF(D22="Dominado",IF(I22>=2*$F$5,"Repaso de mantenimiento","Dominado"),IF(I22>=$F$5,"Repasar ya","Al día"))))) | K22: =IF(OR(B22="",H22=""),"",ROUND((1-H22)*IF(E22="Alta",3,IF(E22="Media",2,1))+IF(J22="Repasar ya",0.5,0),2)) | L22: =IF(K22="","",IF(K22<=0,"",K22+ROW()/100000))
H23: =IF(OR(B23="",D23=""),"",IFERROR(INDEX(Bloques!$C$19:$C$22,MATCH(D23,Bloques!$B$19:$B$22,0)),0)) | I23: =IF(OR(B23="",G23=""),"",$C$5-G23) | J23: =IF(B23="","",IF(D23="Sin empezar","Empezar",IF(I23="","Falta la fecha",IF(D23="Dominado",IF(I23>=2*$F$5,"Repaso de mantenimiento","Dominado"),IF(I23>=$F$5,"Repasar ya","Al día"))))) | K23: =IF(OR(B23="",H23=""),"",ROUND((1-H23)*IF(E23="Alta",3,IF(E23="Media",2,1))+IF(J23="Repasar ya",0.5,0),2)) | L23: =IF(K23="","",IF(K23<=0,"",K23+ROW()/100000))
H24: =IF(OR(B24="",D24=""),"",IFERROR(INDEX(Bloques!$C$19:$C$22,MATCH(D24,Bloques!$B$19:$B$22,0)),0)) | I24: =IF(OR(B24="",G24=""),"",$C$5-G24) | J24: =IF(B24="","",IF(D24="Sin empezar","Empezar",IF(I24="","Falta la fecha",IF(D24="Dominado",IF(I24>=2*$F$5,"Repaso de mantenimiento","Dominado"),IF(I24>=$F$5,"Repasar ya","Al día"))))) | K24: =IF(OR(B24="",H24=""),"",ROUND((1-H24)*IF(E24="Alta",3,IF(E24="Media",2,1))+IF(J24="Repasar ya",0.5,0),2)) | L24: =IF(K24="","",IF(K24<=0,"",K24+ROW()/100000))
H25: =IF(OR(B25="",D25=""),"",IFERROR(INDEX(Bloques!$C$19:$C$22,MATCH(D25,Bloques!$B$19:$B$22,0)),0)) | I25: =IF(OR(B25="",G25=""),"",$C$5-G25) | J25: =IF(B25="","",IF(D25="Sin empezar","Empezar",IF(I25="","Falta la fecha",IF(D25="Dominado",IF(I25>=2*$F$5,"Repaso de mantenimiento","Dominado"),IF(I25>=$F$5,"Repasar ya","Al día"))))) | K25: =IF(OR(B25="",H25=""),"",ROUND((1-H25)*IF(E25="Alta",3,IF(E25="Media",2,1))+IF(J25="Repasar ya",0.5,0),2)) | L25: =IF(K25="","",IF(K25<=0,"",K25+ROW()/100000))
H26: =IF(OR(B26="",D26=""),"",IFERROR(INDEX(Bloques!$C$19:$C$22,MATCH(D26,Bloques!$B$19:$B$22,0)),0)) | I26: =IF(OR(B26="",G26=""),"",$C$5-G26) | J26: =IF(B26="","",IF(D26="Sin empezar","Empezar",IF(I26="","Falta la fecha",IF(D26="Dominado",IF(I26>=2*$F$5,"Repaso de mantenimiento","Dominado"),IF(I26>=$F$5,"Repasar ya","Al día"))))) | K26: =IF(OR(B26="",H26=""),"",ROUND((1-H26)*IF(E26="Alta",3,IF(E26="Media",2,1))+IF(J26="Repasar ya",0.5,0),2)) | L26: =IF(K26="","",IF(K26<=0,"",K26+ROW()/100000))
H27: =IF(OR(B27="",D27=""),"",IFERROR(INDEX(Bloques!$C$19:$C$22,MATCH(D27,Bloques!$B$19:$B$22,0)),0)) | I27: =IF(OR(B27="",G27=""),"",$C$5-G27) | J27: =IF(B27="","",IF(D27="Sin empezar","Empezar",IF(I27="","Falta la fecha",IF(D27="Dominado",IF(I27>=2*$F$5,"Repaso de mantenimiento","Dominado"),IF(I27>=$F$5,"Repasar ya","Al día"))))) | K27: =IF(OR(B27="",H27=""),"",ROUND((1-H27)*IF(E27="Alta",3,IF(E27="Media",2,1))+IF(J27="Repasar ya",0.5,0),2)) | L27: =IF(K27="","",IF(K27<=0,"",K27+ROW()/100000))
H28: =IF(OR(B28="",D28=""),"",IFERROR(INDEX(Bloques!$C$19:$C$22,MATCH(D28,Bloques!$B$19:$B$22,0)),0)) | I28: =IF(OR(B28="",G28=""),"",$C$5-G28) | J28: =IF(B28="","",IF(D28="Sin empezar","Empezar",IF(I28="","Falta la fecha",IF(D28="Dominado",IF(I28>=2*$F$5,"Repaso de mantenimiento","Dominado"),IF(I28>=$F$5,"Repasar ya","Al día"))))) | K28: =IF(OR(B28="",H28=""),"",ROUND((1-H28)*IF(E28="Alta",3,IF(E28="Media",2,1))+IF(J28="Repasar ya",0.5,0),2)) | L28: =IF(K28="","",IF(K28<=0,"",K28+ROW()/100000))
H29: =IF(OR(B29="",D29=""),"",IFERROR(INDEX(Bloques!$C$19:$C$22,MATCH(D29,Bloques!$B$19:$B$22,0)),0)) | I29: =IF(OR(B29="",G29=""),"",$C$5-G29) | J29: =IF(B29="","",IF(D29="Sin empezar","Empezar",IF(I29="","Falta la fecha",IF(D29="Dominado",IF(I29>=2*$F$5,"Repaso de mantenimiento","Dominado"),IF(I29>=$F$5,"Repasar ya","Al día"))))) | K29: =IF(OR(B29="",H29=""),"",ROUND((1-H29)*IF(E29="Alta",3,IF(E29="Media",2,1))+IF(J29="Repasar ya",0.5,0),2)) | L29: =IF(K29="","",IF(K29<=0,"",K29+ROW()/100000))
H30: =IF(OR(B30="",D30=""),"",IFERROR(INDEX(Bloques!$C$19:$C$22,MATCH(D30,Bloques!$B$19:$B$22,0)),0)) | I30: =IF(OR(B30="",G30=""),"",$C$5-G30) | J30: =IF(B30="","",IF(D30="Sin empezar","Empezar",IF(I30="","Falta la fecha",IF(D30="Dominado",IF(I30>=2*$F$5,"Repaso de mantenimiento","Dominado"),IF(I30>=$F$5,"Repasar ya","Al día"))))) | K30: =IF(OR(B30="",H30=""),"",ROUND((1-H30)*IF(E30="Alta",3,IF(E30="Media",2,1))+IF(J30="Repasar ya",0.5,0),2)) | L30: =IF(K30="","",IF(K30<=0,"",K30+ROW()/100000))
H31: =IF(OR(B31="",D31=""),"",IFERROR(INDEX(Bloques!$C$19:$C$22,MATCH(D31,Bloques!$B$19:$B$22,0)),0)) | I31: =IF(OR(B31="",G31=""),"",$C$5-G31) | J31: =IF(B31="","",IF(D31="Sin empezar","Empezar",IF(I31="","Falta la fecha",IF(D31="Dominado",IF(I31>=2*$F$5,"Repaso de mantenimiento","Dominado"),IF(I31>=$F$5,"Repasar ya","Al día"))))) | K31: =IF(OR(B31="",H31=""),"",ROUND((1-H31)*IF(E31="Alta",3,IF(E31="Media",2,1))+IF(J31="Repasar ya",0.5,0),2)) | L31: =IF(K31="","",IF(K31<=0,"",K31+ROW()/100000))
H32: =IF(OR(B32="",D32=""),"",IFERROR(INDEX(Bloques!$C$19:$C$22,MATCH(D32,Bloques!$B$19:$B$22,0)),0)) | I32: =IF(OR(B32="",G32=""),"",$C$5-G32) | J32: =IF(B32="","",IF(D32="Sin empezar","Empezar",IF(I32="","Falta la fecha",IF(D32="Dominado",IF(I32>=2*$F$5,"Repaso de mantenimiento","Dominado"),IF(I32>=$F$5,"Repasar ya","Al día"))))) | K32: =IF(OR(B32="",H32=""),"",ROUND((1-H32)*IF(E32="Alta",3,IF(E32="Media",2,1))+IF(J32="Repasar ya",0.5,0),2)) | L32: =IF(K32="","",IF(K32<=0,"",K32+ROW()/100000))
H33: =IF(OR(B33="",D33=""),"",IFERROR(INDEX(Bloques!$C$19:$C$22,MATCH(D33,Bloques!$B$19:$B$22,0)),0)) | I33: =IF(OR(B33="",G33=""),"",$C$5-G33) | J33: =IF(B33="","",IF(D33="Sin empezar","Empezar",IF(I33="","Falta la fecha",IF(D33="Dominado",IF(I33>=2*$F$5,"Repaso de mantenimiento","Dominado"),IF(I33>=$F$5,"Repasar ya","Al día"))))) | K33: =IF(OR(B33="",H33=""),"",ROUND((1-H33)*IF(E33="Alta",3,IF(E33="Media",2,1))+IF(J33="Repasar ya",0.5,0),2)) | L33: =IF(K33="","",IF(K33<=0,"",K33+ROW()/100000))
... H47: =IF(OR(B47="",D47=""),"",IFERROR(INDEX(Bloques!$C$19:$C$22,MATCH(D47,Bloques!$B$19:$B$22,0)),0)) | I47: =IF(OR(B47="",G47=""),"",$C$5-G47) | J47: =IF(B47="","",IF(D47="Sin empezar","Empezar",IF(I47="","Falta la fecha",IF(D47="Dominado",IF(I47>=2*$F$5,"Repaso de mantenimiento","Dominado"),IF(I47>=$F$5,"Repasar ya","Al día"))))) | K47: =IF(OR(B47="",H47=""),"",ROUND((1-H47)*IF(E47="Alta",3,IF(E47="Media",2,1))+IF(J47="Repasar ya",0.5,0),2)) | L47: =IF(K47="","",IF(K47<=0,"",K47+ROW()/100000))

Sheet Bloques
B2: Resumen por bloques
B3: Cuántos temas tiene cada bloque, en qué estado están y qué porcentaje llevas completado.
B7: Bloque | C7: Nº temas | D7: % completado | E7: Sin empezar | F7: Estudiado | G7: Repasado | H7: Dominado | I7: Repasos
B8: Bloque 1 · Derecho constitucional | C8: =IF(B8="","",COUNTIF(Temario!$C$8:$C$47,B8)) | D8: =IF(B8="","",IF(C8=0,0,SUMIF(Temario!$C$8:$C$47,B8,Temario!$H$8:$H$47)/C8)) | E8: =IF($B8="","",COUNTIFS(Temario!$C$8:$C$47,$B8,Temario!$D$8:$D$47,E$7)) | F8: =IF($B8="","",COUNTIFS(Temario!$C$8:$C$47,$B8,Temario!$D$8:$D$47,F$7)) | G8: =IF($B8="","",COUNTIFS(Temario!$C$8:$C$47,$B8,Temario!$D$8:$D$47,G$7)) | H8: =IF($B8="","",COUNTIFS(Temario!$C$8:$C$47,$B8,Temario!$D$8:$D$47,H$7)) | I8: =IF(B8="","",SUMIF(Temario!$C$8:$C$47,B8,Temario!$F$8:$F$47))
B9: Bloque 2 · Derecho administrativo | C9: =IF(B9="","",COUNTIF(Temario!$C$8:$C$47,B9)) | D9: =IF(B9="","",IF(C9=0,0,SUMIF(Temario!$C$8:$C$47,B9,Temario!$H$8:$H$47)/C9)) | E9: =IF($B9="","",COUNTIFS(Temario!$C$8:$C$47,$B9,Temario!$D$8:$D$47,E$7)) | F9: =IF($B9="","",COUNTIFS(Temario!$C$8:$C$47,$B9,Temario!$D$8:$D$47,F$7)) | G9: =IF($B9="","",COUNTIFS(Temario!$C$8:$C$47,$B9,Temario!$D$8:$D$47,G$7)) | H9: =IF($B9="","",COUNTIFS(Temario!$C$8:$C$47,$B9,Temario!$D$8:$D$47,H$7)) | I9: =IF(B9="","",SUMIF(Temario!$C$8:$C$47,B9,Temario!$F$8:$F$47))
B10: Bloque 3 · Ofimática | C10: =IF(B10="","",COUNTIF(Temario!$C$8:$C$47,B10)) | D10: =IF(B10="","",IF(C10=0,0,SUMIF(Temario!$C$8:$C$47,B10,Temario!$H$8:$H$47)/C10)) | E10: =IF($B10="","",COUNTIFS(Temario!$C$8:$C$47,$B10,Temario!$D$8:$D$47,E$7)) | F10: =IF($B10="","",COUNTIFS(Temario!$C$8:$C$47,$B10,Temario!$D$8:$D$47,F$7)) | G10: =IF($B10="","",COUNTIFS(Temario!$C$8:$C$47,$B10,Temario!$D$8:$D$47,G$7)) | H10: =IF($B10="","",COUNTIFS(Temario!$C$8:$C$47,$B10,Temario!$D$8:$D$47,H$7)) | I10: =IF(B10="","",SUMIF(Temario!$C$8:$C$47,B10,Temario!$F$8:$F$47))
C11: =IF(B11="","",COUNTIF(Temario!$C$8:$C$47,B11)) | D11: =IF(B11="","",IF(C11=0,0,SUMIF(Temario!$C$8:$C$47,B11,Temario!$H$8:$H$47)/C11)) | E11: =IF($B11="","",COUNTIFS(Temario!$C$8:$C$47,$B11,Temario!$D$8:$D$47,E$7)) | F11: =IF($B11="","",COUNTIFS(Temario!$C$8:$C$47,$B11,Temario!$D$8:$D$47,F$7)) | G11: =IF($B11="","",COUNTIFS(Temario!$C$8:$C$47,$B11,Temario!$D$8:$D$47,G$7)) | H11: =IF($B11="","",COUNTIFS(Temario!$C$8:$C$47,$B11,Temario!$D$8:$D$47,H$7)) | I11: =IF(B11="","",SUMIF(Temario!$C$8:$C$47,B11,Temario!$F$8:$F$47))
C12: =IF(B12="","",COUNTIF(Temario!$C$8:$C$47,B12)) | D12: =IF(B12="","",IF(C12=0,0,SUMIF(Temario!$C$8:$C$47,B12,Temario!$H$8:$H$47)/C12)) | E12: =IF($B12="","",COUNTIFS(Temario!$C$8:$C$47,$B12,Temario!$D$8:$D$47,E$7)) | F12: =IF($B12="","",COUNTIFS(Temario!$C$8:$C$47,$B12,Temario!$D$8:$D$47,F$7)) | G12: =IF($B12="","",COUNTIFS(Temario!$C$8:$C$47,$B12,Temario!$D$8:$D$47,G$7)) | H12: =IF($B12="","",COUNTIFS(Temario!$C$8:$C$47,$B12,Temario!$D$8:$D$47,H$7)) | I12: =IF(B12="","",SUMIF(Temario!$C$8:$C$47,B12,Temario!$F$8:$F$47))
C13: =IF(B13="","",COUNTIF(Temario!$C$8:$C$47,B13)) | D13: =IF(B13="","",IF(C13=0,0,SUMIF(Temario!$C$8:$C$47,B13,Temario!$H$8:$H$47)/C13)) | E13: =IF($B13="","",COUNTIFS(Temario!$C$8:$C$47,$B13,Temario!$D$8:$D$47,E$7)) | F13: =IF($B13="","",COUNTIFS(Temario!$C$8:$C$47,$B13,Temario!$D$8:$D$47,F$7)) | G13: =IF($B13="","",COUNTIFS(Temario!$C$8:$C$47,$B13,Temario!$D$8:$D$47,G$7)) | H13: =IF($B13="","",COUNTIFS(Temario!$C$8:$C$47,$B13,Temario!$D$8:$D$47,H$7)) | I13: =IF(B13="","",SUMIF(Temario!$C$8:$C$47,B13,Temario!$F$8:$F$47))
B14: Total | C14: =SUM(C8:C13) | D14: =IFERROR(SUMIF(Temario!$H$8:$H$47,">=0")/C14,0) | E14: =SUM(E8:E13) | F14: =SUM(F8:F13) | G14: =SUM(G8:G13) | H14: =SUM(H8:H13) | I14: =SUM(I8:I13)
B17: PESO DE CADA ESTADO EN EL AVANCE
B18: Estado | C18: Peso
B19: Sin empezar | C19: 0 | D19: ← Parámetros editables: cuánto «vale» cada estado para calcular el % completado.
B20: Estudiado | C20: 0.4
B21: Repasado | C21: 0.7
B22: Dominado | C22: 1

Sheet Instrucciones
B2: Checklist de temario · Cómo usarlo
B3: Plantilla gratuita de Plantillas de Cálculo · plantillasdecalculo.com
B5: CÓMO USARLA
B6: 1. En la hoja «Bloques» escribe los nombres de tus bloques o materias (hasta 6) en las celdas crema de la columna B.
B7: 2. En «Temario» escribe un tema por fila (hasta la 47) y elige su bloque en el desplegable de la columna C.
B8: 3. Marca el estado de cada tema: Sin empezar, Estudiado, Repasado o Dominado. Las celdas cambian de color solas.
B9: 4. Indica la dificultad (Baja, Media, Alta): se usa para decidir qué temas conviene reforzar antes.
B10: 5. Cada vez que repases un tema, suma 1 al número de repasos y actualiza la fecha del último estudio o repaso.
B11: 6. Ajusta cada cuántos días quieres repasar (celda F5 de «Temario», 21 por defecto): pasado ese plazo, el aviso pasa a «Repasar ya».
B12: 7. En «Bloques» puedes cambiar el peso de cada estado (por defecto 0%, 40%, 70% y 100%) para calcular el % completado a tu manera.
B13: 8. Mira el «Panel»: % de temario completado, temas pendientes de repasar, ranking de los 6 temas a reforzar y el gráfico por estado. Escribe ahí la fecha de tu examen para ver el ritmo semanal.
B15: CONSEJOS
... B24: Aviso: el porcentaje de avance es un cálculo orientativo basado en los pesos que tú eliges. No mide tu nivel real de conocimiento ni sustituye a un preparador; contrasta siempre el temario con la convocatoria oficial.

Sheet Listas
A1: Estado | B1: Dificultad
A2: Sin empezar | B2: Baja
A3: Estudiado | B3: Media
A4: Repasado | B4: Alta
A5: Dominado
