Workbook

Sheet Panel
B2: Panel de pasos diarios
B3: Tu constancia de un vistazo: pasos, kilómetros aproximados, rachas y evolución semanal.
B5: Objetivo diario (pasos): | C5: 8000 | E5: Último día con datos: | G5: =IF(COUNT(Registro!$B$8:$B$157)=0,TODAY(),MAX(Registro!$B$8:$B$157))
B6: Longitud de tu paso (cm): | C6: 72 | E6: Lunes de esa semana: | G6: =G5-WEEKDAY(G5,2)+1
B7: Umbral «Casi» (% del objetivo): | C7: 0.75
B9: PASOS TOTALES | C9: MEDIA DIARIA (pasos) | E9: KM TOTALES (aprox.) | G9: MEJOR DÍA (pasos)
B10: =SUM(Registro!$C$8:$C$157) | C10: =IFERROR(AVERAGE(Registro!$C$8:$C$157),0) | E10: =SUM(Registro!$F$8:$F$157) | G10: =MAX(0,MAX(Registro!$C$8:$C$157))
B12: RACHA ACTUAL (días) | C12: MEJOR RACHA (días) | E12: DÍAS CON OBJETIVO CUMPLIDO | G12: MEDIA DE LOS ÚLTIMOS 7 DÍAS
B13: =IFERROR(INDEX(Registro!$I$8:$I$157,MATCH(G5,Registro!$B$8:$B$157,0)),0) | C13: =MAX(0,MAX(Registro!$I$8:$I$157)) | E13: =IFERROR(COUNTIF(Registro!$G$8:$G$157,"Cumplido")/COUNT(Registro!$C$8:$C$157),0) | G13: =IFERROR(INDEX(Registro!$J$8:$J$157,MATCH(G5,Registro!$B$8:$B$157,0)),0)
B15: ÚLTIMOS 14 DÍAS
B16: Día | C16: Fecha | D16: Pasos | E16: Objetivo | F16: % objetivo | G16: Estado
B17: =MID("LunMarMiéJueVieSábDom",(WEEKDAY(C17,2)-1)*3+1,3) | C17: =$G$5-13 | D17: =SUMIF(Registro!$B$8:$B$157,C17,Registro!$C$8:$C$157) | E17: =$C$5 | F17: =IFERROR(D17/E17,0) | G17: =IF(COUNTIF(Registro!$B$8:$B$157,C17)=0,"Sin registro",IF(F17>=1,"Cumplido",IF(F17>=$C$7,"Casi","Por debajo")))
B18: =MID("LunMarMiéJueVieSábDom",(WEEKDAY(C18,2)-1)*3+1,3) | C18: =$G$5-12 | D18: =SUMIF(Registro!$B$8:$B$157,C18,Registro!$C$8:$C$157) | E18: =$C$5 | F18: =IFERROR(D18/E18,0) | G18: =IF(COUNTIF(Registro!$B$8:$B$157,C18)=0,"Sin registro",IF(F18>=1,"Cumplido",IF(F18>=$C$7,"Casi","Por debajo")))
B19: =MID("LunMarMiéJueVieSábDom",(WEEKDAY(C19,2)-1)*3+1,3) | C19: =$G$5-11 | D19: =SUMIF(Registro!$B$8:$B$157,C19,Registro!$C$8:$C$157) | E19: =$C$5 | F19: =IFERROR(D19/E19,0) | G19: =IF(COUNTIF(Registro!$B$8:$B$157,C19)=0,"Sin registro",IF(F19>=1,"Cumplido",IF(F19>=$C$7,"Casi","Por debajo")))
B20: =MID("LunMarMiéJueVieSábDom",(WEEKDAY(C20,2)-1)*3+1,3) | C20: =$G$5-10 | D20: =SUMIF(Registro!$B$8:$B$157,C20,Registro!$C$8:$C$157) | E20: =$C$5 | F20: =IFERROR(D20/E20,0) | G20: =IF(COUNTIF(Registro!$B$8:$B$157,C20)=0,"Sin registro",IF(F20>=1,"Cumplido",IF(F20>=$C$7,"Casi","Por debajo")))
B21: =MID("LunMarMiéJueVieSábDom",(WEEKDAY(C21,2)-1)*3+1,3) | C21: =$G$5-9 | D21: =SUMIF(Registro!$B$8:$B$157,C21,Registro!$C$8:$C$157) | E21: =$C$5 | F21: =IFERROR(D21/E21,0) | G21: =IF(COUNTIF(Registro!$B$8:$B$157,C21)=0,"Sin registro",IF(F21>=1,"Cumplido",IF(F21>=$C$7,"Casi","Por debajo")))
B22: =MID("LunMarMiéJueVieSábDom",(WEEKDAY(C22,2)-1)*3+1,3) | C22: =$G$5-8 | D22: =SUMIF(Registro!$B$8:$B$157,C22,Registro!$C$8:$C$157) | E22: =$C$5 | F22: =IFERROR(D22/E22,0) | G22: =IF(COUNTIF(Registro!$B$8:$B$157,C22)=0,"Sin registro",IF(F22>=1,"Cumplido",IF(F22>=$C$7,"Casi","Por debajo")))
B23: =MID("LunMarMiéJueVieSábDom",(WEEKDAY(C23,2)-1)*3+1,3) | C23: =$G$5-7 | D23: =SUMIF(Registro!$B$8:$B$157,C23,Registro!$C$8:$C$157) | E23: =$C$5 | F23: =IFERROR(D23/E23,0) | G23: =IF(COUNTIF(Registro!$B$8:$B$157,C23)=0,"Sin registro",IF(F23>=1,"Cumplido",IF(F23>=$C$7,"Casi","Por debajo")))
B24: =MID("LunMarMiéJueVieSábDom",(WEEKDAY(C24,2)-1)*3+1,3) | C24: =$G$5-6 | D24: =SUMIF(Registro!$B$8:$B$157,C24,Registro!$C$8:$C$157) | E24: =$C$5 | F24: =IFERROR(D24/E24,0) | G24: =IF(COUNTIF(Registro!$B$8:$B$157,C24)=0,"Sin registro",IF(F24>=1,"Cumplido",IF(F24>=$C$7,"Casi","Por debajo")))
B25: =MID("LunMarMiéJueVieSábDom",(WEEKDAY(C25,2)-1)*3+1,3) | C25: =$G$5-5 | D25: =SUMIF(Registro!$B$8:$B$157,C25,Registro!$C$8:$C$157) | E25: =$C$5 | F25: =IFERROR(D25/E25,0) | G25: =IF(COUNTIF(Registro!$B$8:$B$157,C25)=0,"Sin registro",IF(F25>=1,"Cumplido",IF(F25>=$C$7,"Casi","Por debajo")))
B26: =MID("LunMarMiéJueVieSábDom",(WEEKDAY(C26,2)-1)*3+1,3) | C26: =$G$5-4 | D26: =SUMIF(Registro!$B$8:$B$157,C26,Registro!$C$8:$C$157) | E26: =$C$5 | F26: =IFERROR(D26/E26,0) | G26: =IF(COUNTIF(Registro!$B$8:$B$157,C26)=0,"Sin registro",IF(F26>=1,"Cumplido",IF(F26>=$C$7,"Casi","Por debajo")))
B27: =MID("LunMarMiéJueVieSábDom",(WEEKDAY(C27,2)-1)*3+1,3) | C27: =$G$5-3 | D27: =SUMIF(Registro!$B$8:$B$157,C27,Registro!$C$8:$C$157) | E27: =$C$5 | F27: =IFERROR(D27/E27,0) | G27: =IF(COUNTIF(Registro!$B$8:$B$157,C27)=0,"Sin registro",IF(F27>=1,"Cumplido",IF(F27>=$C$7,"Casi","Por debajo")))
B28: =MID("LunMarMiéJueVieSábDom",(WEEKDAY(C28,2)-1)*3+1,3) | C28: =$G$5-2 | D28: =SUMIF(Registro!$B$8:$B$157,C28,Registro!$C$8:$C$157) | E28: =$C$5 | F28: =IFERROR(D28/E28,0) | G28: =IF(COUNTIF(Registro!$B$8:$B$157,C28)=0,"Sin registro",IF(F28>=1,"Cumplido",IF(F28>=$C$7,"Casi","Por debajo")))
B29: =MID("LunMarMiéJueVieSábDom",(WEEKDAY(C29,2)-1)*3+1,3) | C29: =$G$5-1 | D29: =SUMIF(Registro!$B$8:$B$157,C29,Registro!$C$8:$C$157) | E29: =$C$5 | F29: =IFERROR(D29/E29,0) | G29: =IF(COUNTIF(Registro!$B$8:$B$157,C29)=0,"Sin registro",IF(F29>=1,"Cumplido",IF(F29>=$C$7,"Casi","Por debajo")))
B30: =MID("LunMarMiéJueVieSábDom",(WEEKDAY(C30,2)-1)*3+1,3) | C30: =$G$5-0 | D30: =SUMIF(Registro!$B$8:$B$157,C30,Registro!$C$8:$C$157) | E30: =$C$5 | F30: =IFERROR(D30/E30,0) | G30: =IF(COUNTIF(Registro!$B$8:$B$157,C30)=0,"Sin registro",IF(F30>=1,"Cumplido",IF(F30>=$C$7,"Casi","Por debajo")))
B31: Total 14 días | D31: =SUM(D17:D30) | E31: =SUM(E17:E30) | F31: =IFERROR(D31/E31,0) | G31: =COUNTIF(G17:G30,"Cumplido")&" de 14 días"
B33: ÚLTIMAS 6 SEMANAS
B34: Semana (lunes) | C34: Media diaria | D34: Objetivo | E34: Días cumplidos | F34: Km aprox.
B35: =$G$6-35 | C35: =IFERROR(SUMIF(Registro!$K$8:$K$157,B35,Registro!$C$8:$C$157)/COUNTIFS(Registro!$K$8:$K$157,B35,Registro!$C$8:$C$157,">=0"),0) | D35: =$C$5 | E35: =COUNTIFS(Registro!$K$8:$K$157,B35,Registro!$G$8:$G$157,"Cumplido") | F35: =SUMIF(Registro!$K$8:$K$157,B35,Registro!$F$8:$F$157)
B36: =$G$6-28 | C36: =IFERROR(SUMIF(Registro!$K$8:$K$157,B36,Registro!$C$8:$C$157)/COUNTIFS(Registro!$K$8:$K$157,B36,Registro!$C$8:$C$157,">=0"),0) | D36: =$C$5 | E36: =COUNTIFS(Registro!$K$8:$K$157,B36,Registro!$G$8:$G$157,"Cumplido") | F36: =SUMIF(Registro!$K$8:$K$157,B36,Registro!$F$8:$F$157)
B37: =$G$6-21 | C37: =IFERROR(SUMIF(Registro!$K$8:$K$157,B37,Registro!$C$8:$C$157)/COUNTIFS(Registro!$K$8:$K$157,B37,Registro!$C$8:$C$157,">=0"),0) | D37: =$C$5 | E37: =COUNTIFS(Registro!$K$8:$K$157,B37,Registro!$G$8:$G$157,"Cumplido") | F37: =SUMIF(Registro!$K$8:$K$157,B37,Registro!$F$8:$F$157)
B38: =$G$6-14 | C38: =IFERROR(SUMIF(Registro!$K$8:$K$157,B38,Registro!$C$8:$C$157)/COUNTIFS(Registro!$K$8:$K$157,B38,Registro!$C$8:$C$157,">=0"),0) | D38: =$C$5 | E38: =COUNTIFS(Registro!$K$8:$K$157,B38,Registro!$G$8:$G$157,"Cumplido") | F38: =SUMIF(Registro!$K$8:$K$157,B38,Registro!$F$8:$F$157)
B39: =$G$6-7 | C39: =IFERROR(SUMIF(Registro!$K$8:$K$157,B39,Registro!$C$8:$C$157)/COUNTIFS(Registro!$K$8:$K$157,B39,Registro!$C$8:$C$157,">=0"),0) | D39: =$C$5 | E39: =COUNTIFS(Registro!$K$8:$K$157,B39,Registro!$G$8:$G$157,"Cumplido") | F39: =SUMIF(Registro!$K$8:$K$157,B39,Registro!$F$8:$F$157)
B40: =$G$6-0 | C40: =IFERROR(SUMIF(Registro!$K$8:$K$157,B40,Registro!$C$8:$C$157)/COUNTIFS(Registro!$K$8:$K$157,B40,Registro!$C$8:$C$157,">=0"),0) | D40: =$C$5 | E40: =COUNTIFS(Registro!$K$8:$K$157,B40,Registro!$G$8:$G$157,"Cumplido") | F40: =SUMIF(Registro!$K$8:$K$157,B40,Registro!$F$8:$F$157)

Sheet Registro
B2: Registro diario de pasos
B3: Una fila por día: fecha y pasos. Ordénalo de más antiguo a más reciente; el resto se calcula solo.
B5: Días registrados: | D5: =COUNT(C8:C157) | E5: Pasos totales: | F5: =SUM(C8:C157)
B7: Fecha | C7: Pasos | D7: Objetivo del día | E7: % del objetivo | F7: Km aprox. | G7: Estado | H7: Día | I7: Racha (días) | J7: Media 7 días | K7: Semana (lunes) | L7: Mes | M7: Nota
B8: 46263 | C8: 9840 | D8: =IF(OR(B8="",C8=""),"",Panel!$C$5) | E8: =IF(OR(B8="",C8=""),"",IFERROR(C8/D8,0)) | F8: =IF(OR(B8="",C8=""),"",C8*Panel!$C$6/100000) | G8: =IF(OR(B8="",C8=""),"",IF(E8>=1,"Cumplido",IF(E8>=Panel!$C$7,"Casi","Por debajo"))) | H8: =IF(B8="","",MID("LunMarMiéJueVieSábDom",(WEEKDAY(B8,2)-1)*3+1,3)) | I8: =IF(OR(B8="",C8=""),"",IF(G8="Cumplido",1,0)) | J8: =IF(OR(B8="",C8=""),"",AVERAGE(C8:C8)) | K8: =IF(B8="","",B8-WEEKDAY(B8,2)+1) | L8: =IF(B8="","",DATE(YEAR(B8),MONTH(B8),1)) | M8: Paseo por el parque
B9: 46264 | C9: 6120 | D9: =IF(OR(B9="",C9=""),"",Panel!$C$5) | E9: =IF(OR(B9="",C9=""),"",IFERROR(C9/D9,0)) | F9: =IF(OR(B9="",C9=""),"",C9*Panel!$C$6/100000) | G9: =IF(OR(B9="",C9=""),"",IF(E9>=1,"Cumplido",IF(E9>=Panel!$C$7,"Casi","Por debajo"))) | H9: =IF(B9="","",MID("LunMarMiéJueVieSábDom",(WEEKDAY(B9,2)-1)*3+1,3)) | I9: =IF(OR(B9="",C9=""),"",IF(G9="Cumplido",IF(B9-N(B8)=1,N(I8),0)+1,0)) | J9: =IF(OR(B9="",C9=""),"",AVERAGE(C8:C9)) | K9: =IF(B9="","",B9-WEEKDAY(B9,2)+1) | L9: =IF(B9="","",DATE(YEAR(B9),MONTH(B9),1))
B10: 46265 | C10: 8350 | D10: =IF(OR(B10="",C10=""),"",Panel!$C$5) | E10: =IF(OR(B10="",C10=""),"",IFERROR(C10/D10,0)) | F10: =IF(OR(B10="",C10=""),"",C10*Panel!$C$6/100000) | G10: =IF(OR(B10="",C10=""),"",IF(E10>=1,"Cumplido",IF(E10>=Panel!$C$7,"Casi","Por debajo"))) | H10: =IF(B10="","",MID("LunMarMiéJueVieSábDom",(WEEKDAY(B10,2)-1)*3+1,3)) | I10: =IF(OR(B10="",C10=""),"",IF(G10="Cumplido",IF(B10-N(B9)=1,N(I9),0)+1,0)) | J10: =IF(OR(B10="",C10=""),"",AVERAGE(C8:C10)) | K10: =IF(B10="","",B10-WEEKDAY(B10,2)+1) | L10: =IF(B10="","",DATE(YEAR(B10),MONTH(B10),1))
B11: 46266 | C11: 7420 | D11: =IF(OR(B11="",C11=""),"",Panel!$C$5) | E11: =IF(OR(B11="",C11=""),"",IFERROR(C11/D11,0)) | F11: =IF(OR(B11="",C11=""),"",C11*Panel!$C$6/100000) | G11: =IF(OR(B11="",C11=""),"",IF(E11>=1,"Cumplido",IF(E11>=Panel!$C$7,"Casi","Por debajo"))) | H11: =IF(B11="","",MID("LunMarMiéJueVieSábDom",(WEEKDAY(B11,2)-1)*3+1,3)) | I11: =IF(OR(B11="",C11=""),"",IF(G11="Cumplido",IF(B11-N(B10)=1,N(I10),0)+1,0)) | J11: =IF(OR(B11="",C11=""),"",AVERAGE(C8:C11)) | K11: =IF(B11="","",B11-WEEKDAY(B11,2)+1) | L11: =IF(B11="","",DATE(YEAR(B11),MONTH(B11),1))
B12: 46267 | C12: 8910 | D12: =IF(OR(B12="",C12=""),"",Panel!$C$5) | E12: =IF(OR(B12="",C12=""),"",IFERROR(C12/D12,0)) | F12: =IF(OR(B12="",C12=""),"",C12*Panel!$C$6/100000) | G12: =IF(OR(B12="",C12=""),"",IF(E12>=1,"Cumplido",IF(E12>=Panel!$C$7,"Casi","Por debajo"))) | H12: =IF(B12="","",MID("LunMarMiéJueVieSábDom",(WEEKDAY(B12,2)-1)*3+1,3)) | I12: =IF(OR(B12="",C12=""),"",IF(G12="Cumplido",IF(B12-N(B11)=1,N(I11),0)+1,0)) | J12: =IF(OR(B12="",C12=""),"",AVERAGE(C8:C12)) | K12: =IF(B12="","",B12-WEEKDAY(B12,2)+1) | L12: =IF(B12="","",DATE(YEAR(B12),MONTH(B12),1)) | M12: Día de oficina, escaleras
B13: 46268 | C13: 8120 | D13: =IF(OR(B13="",C13=""),"",Panel!$C$5) | E13: =IF(OR(B13="",C13=""),"",IFERROR(C13/D13,0)) | F13: =IF(OR(B13="",C13=""),"",C13*Panel!$C$6/100000) | G13: =IF(OR(B13="",C13=""),"",IF(E13>=1,"Cumplido",IF(E13>=Panel!$C$7,"Casi","Por debajo"))) | H13: =IF(B13="","",MID("LunMarMiéJueVieSábDom",(WEEKDAY(B13,2)-1)*3+1,3)) | I13: =IF(OR(B13="",C13=""),"",IF(G13="Cumplido",IF(B13-N(B12)=1,N(I12),0)+1,0)) | J13: =IF(OR(B13="",C13=""),"",AVERAGE(C8:C13)) | K13: =IF(B13="","",B13-WEEKDAY(B13,2)+1) | L13: =IF(B13="","",DATE(YEAR(B13),MONTH(B13),1))
B14: 46269 | C14: 6980 | D14: =IF(OR(B14="",C14=""),"",Panel!$C$5) | E14: =IF(OR(B14="",C14=""),"",IFERROR(C14/D14,0)) | F14: =IF(OR(B14="",C14=""),"",C14*Panel!$C$6/100000) | G14: =IF(OR(B14="",C14=""),"",IF(E14>=1,"Cumplido",IF(E14>=Panel!$C$7,"Casi","Por debajo"))) | H14: =IF(B14="","",MID("LunMarMiéJueVieSábDom",(WEEKDAY(B14,2)-1)*3+1,3)) | I14: =IF(OR(B14="",C14=""),"",IF(G14="Cumplido",IF(B14-N(B13)=1,N(I13),0)+1,0)) | J14: =IF(OR(B14="",C14=""),"",AVERAGE(C8:C14)) | K14: =IF(B14="","",B14-WEEKDAY(B14,2)+1) | L14: =IF(B14="","",DATE(YEAR(B14),MONTH(B14),1))
B15: 46270 | C15: 11250 | D15: =IF(OR(B15="",C15=""),"",Panel!$C$5) | E15: =IF(OR(B15="",C15=""),"",IFERROR(C15/D15,0)) | F15: =IF(OR(B15="",C15=""),"",C15*Panel!$C$6/100000) | G15: =IF(OR(B15="",C15=""),"",IF(E15>=1,"Cumplido",IF(E15>=Panel!$C$7,"Casi","Por debajo"))) | H15: =IF(B15="","",MID("LunMarMiéJueVieSábDom",(WEEKDAY(B15,2)-1)*3+1,3)) | I15: =IF(OR(B15="",C15=""),"",IF(G15="Cumplido",IF(B15-N(B14)=1,N(I14),0)+1,0)) | J15: =IF(OR(B15="",C15=""),"",AVERAGE(C9:C15)) | K15: =IF(B15="","",B15-WEEKDAY(B15,2)+1) | L15: =IF(B15="","",DATE(YEAR(B15),MONTH(B15),1)) | M15: Excursión al pantano
B16: 46271 | C16: 5430 | D16: =IF(OR(B16="",C16=""),"",Panel!$C$5) | E16: =IF(OR(B16="",C16=""),"",IFERROR(C16/D16,0)) | F16: =IF(OR(B16="",C16=""),"",C16*Panel!$C$6/100000) | G16: =IF(OR(B16="",C16=""),"",IF(E16>=1,"Cumplido",IF(E16>=Panel!$C$7,"Casi","Por debajo"))) | H16: =IF(B16="","",MID("LunMarMiéJueVieSábDom",(WEEKDAY(B16,2)-1)*3+1,3)) | I16: =IF(OR(B16="",C16=""),"",IF(G16="Cumplido",IF(B16-N(B15)=1,N(I15),0)+1,0)) | J16: =IF(OR(B16="",C16=""),"",AVERAGE(C10:C16)) | K16: =IF(B16="","",B16-WEEKDAY(B16,2)+1) | L16: =IF(B16="","",DATE(YEAR(B16),MONTH(B16),1))
B17: 46272 | C17: 7890 | D17: =IF(OR(B17="",C17=""),"",Panel!$C$5) | E17: =IF(OR(B17="",C17=""),"",IFERROR(C17/D17,0)) | F17: =IF(OR(B17="",C17=""),"",C17*Panel!$C$6/100000) | G17: =IF(OR(B17="",C17=""),"",IF(E17>=1,"Cumplido",IF(E17>=Panel!$C$7,"Casi","Por debajo"))) | H17: =IF(B17="","",MID("LunMarMiéJueVieSábDom",(WEEKDAY(B17,2)-1)*3+1,3)) | I17: =IF(OR(B17="",C17=""),"",IF(G17="Cumplido",IF(B17-N(B16)=1,N(I16),0)+1,0)) | J17: =IF(OR(B17="",C17=""),"",AVERAGE(C11:C17)) | K17: =IF(B17="","",B17-WEEKDAY(B17,2)+1) | L17: =IF(B17="","",DATE(YEAR(B17),MONTH(B17),1))
B18: 46273 | C18: 8460 | D18: =IF(OR(B18="",C18=""),"",Panel!$C$5) | E18: =IF(OR(B18="",C18=""),"",IFERROR(C18/D18,0)) | F18: =IF(OR(B18="",C18=""),"",C18*Panel!$C$6/100000) | G18: =IF(OR(B18="",C18=""),"",IF(E18>=1,"Cumplido",IF(E18>=Panel!$C$7,"Casi","Por debajo"))) | H18: =IF(B18="","",MID("LunMarMiéJueVieSábDom",(WEEKDAY(B18,2)-1)*3+1,3)) | I18: =IF(OR(B18="",C18=""),"",IF(G18="Cumplido",IF(B18-N(B17)=1,N(I17),0)+1,0)) | J18: =IF(OR(B18="",C18=""),"",AVERAGE(C12:C18)) | K18: =IF(B18="","",B18-WEEKDAY(B18,2)+1) | L18: =IF(B18="","",DATE(YEAR(B18),MONTH(B18),1))
B19: 46274 | C19: 9120 | D19: =IF(OR(B19="",C19=""),"",Panel!$C$5) | E19: =IF(OR(B19="",C19=""),"",IFERROR(C19/D19,0)) | F19: =IF(OR(B19="",C19=""),"",C19*Panel!$C$6/100000) | G19: =IF(OR(B19="",C19=""),"",IF(E19>=1,"Cumplido",IF(E19>=Panel!$C$7,"Casi","Por debajo"))) | H19: =IF(B19="","",MID("LunMarMiéJueVieSábDom",(WEEKDAY(B19,2)-1)*3+1,3)) | I19: =IF(OR(B19="",C19=""),"",IF(G19="Cumplido",IF(B19-N(B18)=1,N(I18),0)+1,0)) | J19: =IF(OR(B19="",C19=""),"",AVERAGE(C13:C19)) | K19: =IF(B19="","",B19-WEEKDAY(B19,2)+1) | L19: =IF(B19="","",DATE(YEAR(B19),MONTH(B19),1))
B20: 46275 | C20: 8030 | D20: =IF(OR(B20="",C20=""),"",Panel!$C$5) | E20: =IF(OR(B20="",C20=""),"",IFERROR(C20/D20,0)) | F20: =IF(OR(B20="",C20=""),"",C20*Panel!$C$6/100000) | G20: =IF(OR(B20="",C20=""),"",IF(E20>=1,"Cumplido",IF(E20>=Panel!$C$7,"Casi","Por debajo"))) | H20: =IF(B20="","",MID("LunMarMiéJueVieSábDom",(WEEKDAY(B20,2)-1)*3+1,3)) | I20: =IF(OR(B20="",C20=""),"",IF(G20="Cumplido",IF(B20-N(B19)=1,N(I19),0)+1,0)) | J20: =IF(OR(B20="",C20=""),"",AVERAGE(C14:C20)) | K20: =IF(B20="","",B20-WEEKDAY(B20,2)+1) | L20: =IF(B20="","",DATE(YEAR(B20),MONTH(B20),1))
B21: 46276 | C21: 8780 | D21: =IF(OR(B21="",C21=""),"",Panel!$C$5) | E21: =IF(OR(B21="",C21=""),"",IFERROR(C21/D21,0)) | F21: =IF(OR(B21="",C21=""),"",C21*Panel!$C$6/100000) | G21: =IF(OR(B21="",C21=""),"",IF(E21>=1,"Cumplido",IF(E21>=Panel!$C$7,"Casi","Por debajo"))) | H21: =IF(B21="","",MID("LunMarMiéJueVieSábDom",(WEEKDAY(B21,2)-1)*3+1,3)) | I21: =IF(OR(B21="",C21=""),"",IF(G21="Cumplido",IF(B21-N(B20)=1,N(I20),0)+1,0)) | J21: =IF(OR(B21="",C21=""),"",AVERAGE(C15:C21)) | K21: =IF(B21="","",B21-WEEKDAY(B21,2)+1) | L21: =IF(B21="","",DATE(YEAR(B21),MONTH(B21),1))
B22: 46277 | C22: 12480 | D22: =IF(OR(B22="",C22=""),"",Panel!$C$5) | E22: =IF(OR(B22="",C22=""),"",IFERROR(C22/D22,0)) | F22: =IF(OR(B22="",C22=""),"",C22*Panel!$C$6/100000) | G22: =IF(OR(B22="",C22=""),"",IF(E22>=1,"Cumplido",IF(E22>=Panel!$C$7,"Casi","Por debajo"))) | H22: =IF(B22="","",MID("LunMarMiéJueVieSábDom",(WEEKDAY(B22,2)-1)*3+1,3)) | I22: =IF(OR(B22="",C22=""),"",IF(G22="Cumplido",IF(B22-N(B21)=1,N(I21),0)+1,0)) | J22: =IF(OR(B22="",C22=""),"",AVERAGE(C16:C22)) | K22: =IF(B22="","",B22-WEEKDAY(B22,2)+1) | L22: =IF(B22="","",DATE(YEAR(B22),MONTH(B22),1)) | M22: Ruta por la sierra
B23: 46278 | C23: 9650 | D23: =IF(OR(B23="",C23=""),"",Panel!$C$5) | E23: =IF(OR(B23="",C23=""),"",IFERROR(C23/D23,0)) | F23: =IF(OR(B23="",C23=""),"",C23*Panel!$C$6/100000) | G23: =IF(OR(B23="",C23=""),"",IF(E23>=1,"Cumplido",IF(E23>=Panel!$C$7,"Casi","Por debajo"))) | H23: =IF(B23="","",MID("LunMarMiéJueVieSábDom",(WEEKDAY(B23,2)-1)*3+1,3)) | I23: =IF(OR(B23="",C23=""),"",IF(G23="Cumplido",IF(B23-N(B22)=1,N(I22),0)+1,0)) | J23: =IF(OR(B23="",C23=""),"",AVERAGE(C17:C23)) | K23: =IF(B23="","",B23-WEEKDAY(B23,2)+1) | L23: =IF(B23="","",DATE(YEAR(B23),MONTH(B23),1))
B24: 46279 | C24: 6340 | D24: =IF(OR(B24="",C24=""),"",Panel!$C$5) | E24: =IF(OR(B24="",C24=""),"",IFERROR(C24/D24,0)) | F24: =IF(OR(B24="",C24=""),"",C24*Panel!$C$6/100000) | G24: =IF(OR(B24="",C24=""),"",IF(E24>=1,"Cumplido",IF(E24>=Panel!$C$7,"Casi","Por debajo"))) | H24: =IF(B24="","",MID("LunMarMiéJueVieSábDom",(WEEKDAY(B24,2)-1)*3+1,3)) | I24: =IF(OR(B24="",C24=""),"",IF(G24="Cumplido",IF(B24-N(B23)=1,N(I23),0)+1,0)) | J24: =IF(OR(B24="",C24=""),"",AVERAGE(C18:C24)) | K24: =IF(B24="","",B24-WEEKDAY(B24,2)+1) | L24: =IF(B24="","",DATE(YEAR(B24),MONTH(B24),1))
B25: 46280 | C25: 7210 | D25: =IF(OR(B25="",C25=""),"",Panel!$C$5) | E25: =IF(OR(B25="",C25=""),"",IFERROR(C25/D25,0)) | F25: =IF(OR(B25="",C25=""),"",C25*Panel!$C$6/100000) | G25: =IF(OR(B25="",C25=""),"",IF(E25>=1,"Cumplido",IF(E25>=Panel!$C$7,"Casi","Por debajo"))) | H25: =IF(B25="","",MID("LunMarMiéJueVieSábDom",(WEEKDAY(B25,2)-1)*3+1,3)) | I25: =IF(OR(B25="",C25=""),"",IF(G25="Cumplido",IF(B25-N(B24)=1,N(I24),0)+1,0)) | J25: =IF(OR(B25="",C25=""),"",AVERAGE(C19:C25)) | K25: =IF(B25="","",B25-WEEKDAY(B25,2)+1) | L25: =IF(B25="","",DATE(YEAR(B25),MONTH(B25),1))
B26: 46281 | C26: 8240 | D26: =IF(OR(B26="",C26=""),"",Panel!$C$5) | E26: =IF(OR(B26="",C26=""),"",IFERROR(C26/D26,0)) | F26: =IF(OR(B26="",C26=""),"",C26*Panel!$C$6/100000) | G26: =IF(OR(B26="",C26=""),"",IF(E26>=1,"Cumplido",IF(E26>=Panel!$C$7,"Casi","Por debajo"))) | H26: =IF(B26="","",MID("LunMarMiéJueVieSábDom",(WEEKDAY(B26,2)-1)*3+1,3)) | I26: =IF(OR(B26="",C26=""),"",IF(G26="Cumplido",IF(B26-N(B25)=1,N(I25),0)+1,0)) | J26: =IF(OR(B26="",C26=""),"",AVERAGE(C20:C26)) | K26: =IF(B26="","",B26-WEEKDAY(B26,2)+1) | L26: =IF(B26="","",DATE(YEAR(B26),MONTH(B26),1)) | M26: Día de lluvia
B27: 46282 | C27: 7650 | D27: =IF(OR(B27="",C27=""),"",Panel!$C$5) | E27: =IF(OR(B27="",C27=""),"",IFERROR(C27/D27,0)) | F27: =IF(OR(B27="",C27=""),"",C27*Panel!$C$6/100000) | G27: =IF(OR(B27="",C27=""),"",IF(E27>=1,"Cumplido",IF(E27>=Panel!$C$7,"Casi","Por debajo"))) | H27: =IF(B27="","",MID("LunMarMiéJueVieSábDom",(WEEKDAY(B27,2)-1)*3+1,3)) | I27: =IF(OR(B27="",C27=""),"",IF(G27="Cumplido",IF(B27-N(B26)=1,N(I26),0)+1,0)) | J27: =IF(OR(B27="",C27=""),"",AVERAGE(C21:C27)) | K27: =IF(B27="","",B27-WEEKDAY(B27,2)+1) | L27: =IF(B27="","",DATE(YEAR(B27),MONTH(B27),1))
B28: 46283 | C28: 5920 | D28: =IF(OR(B28="",C28=""),"",Panel!$C$5) | E28: =IF(OR(B28="",C28=""),"",IFERROR(C28/D28,0)) | F28: =IF(OR(B28="",C28=""),"",C28*Panel!$C$6/100000) | G28: =IF(OR(B28="",C28=""),"",IF(E28>=1,"Cumplido",IF(E28>=Panel!$C$7,"Casi","Por debajo"))) | H28: =IF(B28="","",MID("LunMarMiéJueVieSábDom",(WEEKDAY(B28,2)-1)*3+1,3)) | I28: =IF(OR(B28="",C28=""),"",IF(G28="Cumplido",IF(B28-N(B27)=1,N(I27),0)+1,0)) | J28: =IF(OR(B28="",C28=""),"",AVERAGE(C22:C28)) | K28: =IF(B28="","",B28-WEEKDAY(B28,2)+1) | L28: =IF(B28="","",DATE(YEAR(B28),MONTH(B28),1))
B29: 46284 | C29: 10130 | D29: =IF(OR(B29="",C29=""),"",Panel!$C$5) | E29: =IF(OR(B29="",C29=""),"",IFERROR(C29/D29,0)) | F29: =IF(OR(B29="",C29=""),"",C29*Panel!$C$6/100000) | G29: =IF(OR(B29="",C29=""),"",IF(E29>=1,"Cumplido",IF(E29>=Panel!$C$7,"Casi","Por debajo"))) | H29: =IF(B29="","",MID("LunMarMiéJueVieSábDom",(WEEKDAY(B29,2)-1)*3+1,3)) | I29: =IF(OR(B29="",C29=""),"",IF(G29="Cumplido",IF(B29-N(B28)=1,N(I28),0)+1,0)) | J29: =IF(OR(B29="",C29=""),"",AVERAGE(C23:C29)) | K29: =IF(B29="","",B29-WEEKDAY(B29,2)+1) | L29: =IF(B29="","",DATE(YEAR(B29),MONTH(B29),1))
B30: 46285 | C30: 4870 | D30: =IF(OR(B30="",C30=""),"",Panel!$C$5) | E30: =IF(OR(B30="",C30=""),"",IFERROR(C30/D30,0)) | F30: =IF(OR(B30="",C30=""),"",C30*Panel!$C$6/100000) | G30: =IF(OR(B30="",C30=""),"",IF(E30>=1,"Cumplido",IF(E30>=Panel!$C$7,"Casi","Por debajo"))) | H30: =IF(B30="","",MID("LunMarMiéJueVieSábDom",(WEEKDAY(B30,2)-1)*3+1,3)) | I30: =IF(OR(B30="",C30=""),"",IF(G30="Cumplido",IF(B30-N(B29)=1,N(I29),0)+1,0)) | J30: =IF(OR(B30="",C30=""),"",AVERAGE(C24:C30)) | K30: =IF(B30="","",B30-WEEKDAY(B30,2)+1) | L30: =IF(B30="","",DATE(YEAR(B30),MONTH(B30),1)) | M30: Domingo de descanso
B31: 46286 | C31: 8520 | D31: =IF(OR(B31="",C31=""),"",Panel!$C$5) | E31: =IF(OR(B31="",C31=""),"",IFERROR(C31/D31,0)) | F31: =IF(OR(B31="",C31=""),"",C31*Panel!$C$6/100000) | G31: =IF(OR(B31="",C31=""),"",IF(E31>=1,"Cumplido",IF(E31>=Panel!$C$7,"Casi","Por debajo"))) | H31: =IF(B31="","",MID("LunMarMiéJueVieSábDom",(WEEKDAY(B31,2)-1)*3+1,3)) | I31: =IF(OR(B31="",C31=""),"",IF(G31="Cumplido",IF(B31-N(B30)=1,N(I30),0)+1,0)) | J31: =IF(OR(B31="",C31=""),"",AVERAGE(C25:C31)) | K31: =IF(B31="","",B31-WEEKDAY(B31,2)+1) | L31: =IF(B31="","",DATE(YEAR(B31),MONTH(B31),1))
B32: 46287 | C32: 9340 | D32: =IF(OR(B32="",C32=""),"",Panel!$C$5) | E32: =IF(OR(B32="",C32=""),"",IFERROR(C32/D32,0)) | F32: =IF(OR(B32="",C32=""),"",C32*Panel!$C$6/100000) | G32: =IF(OR(B32="",C32=""),"",IF(E32>=1,"Cumplido",IF(E32>=Panel!$C$7,"Casi","Por debajo"))) | H32: =IF(B32="","",MID("LunMarMiéJueVieSábDom",(WEEKDAY(B32,2)-1)*3+1,3)) | I32: =IF(OR(B32="",C32=""),"",IF(G32="Cumplido",IF(B32-N(B31)=1,N(I31),0)+1,0)) | J32: =IF(OR(B32="",C32=""),"",AVERAGE(C26:C32)) | K32: =IF(B32="","",B32-WEEKDAY(B32,2)+1) | L32: =IF(B32="","",DATE(YEAR(B32),MONTH(B32),1))
B33: 46288 | C33: 8070 | D33: =IF(OR(B33="",C33=""),"",Panel!$C$5) | E33: =IF(OR(B33="",C33=""),"",IFERROR(C33/D33,0)) | F33: =IF(OR(B33="",C33=""),"",C33*Panel!$C$6/100000) | G33: =IF(OR(B33="",C33=""),"",IF(E33>=1,"Cumplido",IF(E33>=Panel!$C$7,"Casi","Por debajo"))) | H33: =IF(B33="","",MID("LunMarMiéJueVieSábDom",(WEEKDAY(B33,2)-1)*3+1,3)) | I33: =IF(OR(B33="",C33=""),"",IF(G33="Cumplido",IF(B33-N(B32)=1,N(I32),0)+1,0)) | J33: =IF(OR(B33="",C33=""),"",AVERAGE(C27:C33)) | K33: =IF(B33="","",B33-WEEKDAY(B33,2)+1) | L33: =IF(B33="","",DATE(YEAR(B33),MONTH(B33),1))
B34: 46289 | C34: 8890 | D34: =IF(OR(B34="",C34=""),"",Panel!$C$5) | E34: =IF(OR(B34="",C34=""),"",IFERROR(C34/D34,0)) | F34: =IF(OR(B34="",C34=""),"",C34*Panel!$C$6/100000) | G34: =IF(OR(B34="",C34=""),"",IF(E34>=1,"Cumplido",IF(E34>=Panel!$C$7,"Casi","Por debajo"))) | H34: =IF(B34="","",MID("LunMarMiéJueVieSábDom",(WEEKDAY(B34,2)-1)*3+1,3)) | I34: =IF(OR(B34="",C34=""),"",IF(G34="Cumplido",IF(B34-N(B33)=1,N(I33),0)+1,0)) | J34: =IF(OR(B34="",C34=""),"",AVERAGE(C28:C34)) | K34: =IF(B34="","",B34-WEEKDAY(B34,2)+1) | L34: =IF(B34="","",DATE(YEAR(B34),MONTH(B34),1))
B35: 46290 | C35: 9560 | D35: =IF(OR(B35="",C35=""),"",Panel!$C$5) | E35: =IF(OR(B35="",C35=""),"",IFERROR(C35/D35,0)) | F35: =IF(OR(B35="",C35=""),"",C35*Panel!$C$6/100000) | G35: =IF(OR(B35="",C35=""),"",IF(E35>=1,"Cumplido",IF(E35>=Panel!$C$7,"Casi","Por debajo"))) | H35: =IF(B35="","",MID("LunMarMiéJueVieSábDom",(WEEKDAY(B35,2)-1)*3+1,3)) | I35: =IF(OR(B35="",C35=""),"",IF(G35="Cumplido",IF(B35-N(B34)=1,N(I34),0)+1,0)) | J35: =IF(OR(B35="",C35=""),"",AVERAGE(C29:C35)) | K35: =IF(B35="","",B35-WEEKDAY(B35,2)+1) | L35: =IF(B35="","",DATE(YEAR(B35),MONTH(B35),1))
B36: 46291 | C36: 13020 | D36: =IF(OR(B36="",C36=""),"",Panel!$C$5) | E36: =IF(OR(B36="",C36=""),"",IFERROR(C36/D36,0)) | F36: =IF(OR(B36="",C36=""),"",C36*Panel!$C$6/100000) | G36: =IF(OR(B36="",C36=""),"",IF(E36>=1,"Cumplido",IF(E36>=Panel!$C$7,"Casi","Por debajo"))) | H36: =IF(B36="","",MID("LunMarMiéJueVieSábDom",(WEEKDAY(B36,2)-1)*3+1,3)) | I36: =IF(OR(B36="",C36=""),"",IF(G36="Cumplido",IF(B36-N(B35)=1,N(I35),0)+1,0)) | J36: =IF(OR(B36="",C36=""),"",AVERAGE(C30:C36)) | K36: =IF(B36="","",B36-WEEKDAY(B36,2)+1) | L36: =IF(B36="","",DATE(YEAR(B36),MONTH(B36),1))
B37: 46292 | C37: 10410 | D37: =IF(OR(B37="",C37=""),"",Panel!$C$5) | E37: =IF(OR(B37="",C37=""),"",IFERROR(C37/D37,0)) | F37: =IF(OR(B37="",C37=""),"",C37*Panel!$C$6/100000) | G37: =IF(OR(B37="",C37=""),"",IF(E37>=1,"Cumplido",IF(E37>=Panel!$C$7,"Casi","Por debajo"))) | H37: =IF(B37="","",MID("LunMarMiéJueVieSábDom",(WEEKDAY(B37,2)-1)*3+1,3)) | I37: =IF(OR(B37="",C37=""),"",IF(G37="Cumplido",IF(B37-N(B36)=1,N(I36),0)+1,0)) | J37: =IF(OR(B37="",C37=""),"",AVERAGE(C31:C37)) | K37: =IF(B37="","",B37-WEEKDAY(B37,2)+1) | L37: =IF(B37="","",DATE(YEAR(B37),MONTH(B37),1)) | M37: Paseo largo con amigos
B38: 46293 | C38: 8210 | D38: =IF(OR(B38="",C38=""),"",Panel!$C$5) | E38: =IF(OR(B38="",C38=""),"",IFERROR(C38/D38,0)) | F38: =IF(OR(B38="",C38=""),"",C38*Panel!$C$6/100000) | G38: =IF(OR(B38="",C38=""),"",IF(E38>=1,"Cumplido",IF(E38>=Panel!$C$7,"Casi","Por debajo"))) | H38: =IF(B38="","",MID("LunMarMiéJueVieSábDom",(WEEKDAY(B38,2)-1)*3+1,3)) | I38: =IF(OR(B38="",C38=""),"",IF(G38="Cumplido",IF(B38-N(B37)=1,N(I37),0)+1,0)) | J38: =IF(OR(B38="",C38=""),"",AVERAGE(C32:C38)) | K38: =IF(B38="","",B38-WEEKDAY(B38,2)+1) | L38: =IF(B38="","",DATE(YEAR(B38),MONTH(B38),1))
B39: 46294 | C39: 8730 | D39: =IF(OR(B39="",C39=""),"",Panel!$C$5) | E39: =IF(OR(B39="",C39=""),"",IFERROR(C39/D39,0)) | F39: =IF(OR(B39="",C39=""),"",C39*Panel!$C$6/100000) | G39: =IF(OR(B39="",C39=""),"",IF(E39>=1,"Cumplido",IF(E39>=Panel!$C$7,"Casi","Por debajo"))) | H39: =IF(B39="","",MID("LunMarMiéJueVieSábDom",(WEEKDAY(B39,2)-1)*3+1,3)) | I39: =IF(OR(B39="",C39=""),"",IF(G39="Cumplido",IF(B39-N(B38)=1,N(I38),0)+1,0)) | J39: =IF(OR(B39="",C39=""),"",AVERAGE(C33:C39)) | K39: =IF(B39="","",B39-WEEKDAY(B39,2)+1) | L39: =IF(B39="","",DATE(YEAR(B39),MONTH(B39),1))
B40: 46295 | C40: 9980 | D40: =IF(OR(B40="",C40=""),"",Panel!$C$5) | E40: =IF(OR(B40="",C40=""),"",IFERROR(C40/D40,0)) | F40: =IF(OR(B40="",C40=""),"",C40*Panel!$C$6/100000) | G40: =IF(OR(B40="",C40=""),"",IF(E40>=1,"Cumplido",IF(E40>=Panel!$C$7,"Casi","Por debajo"))) | H40: =IF(B40="","",MID("LunMarMiéJueVieSábDom",(WEEKDAY(B40,2)-1)*3+1,3)) | I40: =IF(OR(B40="",C40=""),"",IF(G40="Cumplido",IF(B40-N(B39)=1,N(I39),0)+1,0)) | J40: =IF(OR(B40="",C40=""),"",AVERAGE(C34:C40)) | K40: =IF(B40="","",B40-WEEKDAY(B40,2)+1) | L40: =IF(B40="","",DATE(YEAR(B40),MONTH(B40),1))
B41: 46296 | C41: 8120 | D41: =IF(OR(B41="",C41=""),"",Panel!$C$5) | E41: =IF(OR(B41="",C41=""),"",IFERROR(C41/D41,0)) | F41: =IF(OR(B41="",C41=""),"",C41*Panel!$C$6/100000) | G41: =IF(OR(B41="",C41=""),"",IF(E41>=1,"Cumplido",IF(E41>=Panel!$C$7,"Casi","Por debajo"))) | H41: =IF(B41="","",MID("LunMarMiéJueVieSábDom",(WEEKDAY(B41,2)-1)*3+1,3)) | I41: =IF(OR(B41="",C41=""),"",IF(G41="Cumplido",IF(B41-N(B40)=1,N(I40),0)+1,0)) | J41: =IF(OR(B41="",C41=""),"",AVERAGE(C35:C41)) | K41: =IF(B41="","",B41-WEEKDAY(B41,2)+1) | L41: =IF(B41="","",DATE(YEAR(B41),MONTH(B41),1))
B42: 46297 | C42: 8450 | D42: =IF(OR(B42="",C42=""),"",Panel!$C$5) | E42: =IF(OR(B42="",C42=""),"",IFERROR(C42/D42,0)) | F42: =IF(OR(B42="",C42=""),"",C42*Panel!$C$6/100000) | G42: =IF(OR(B42="",C42=""),"",IF(E42>=1,"Cumplido",IF(E42>=Panel!$C$7,"Casi","Por debajo"))) | H42: =IF(B42="","",MID("LunMarMiéJueVieSábDom",(WEEKDAY(B42,2)-1)*3+1,3)) | I42: =IF(OR(B42="",C42=""),"",IF(G42="Cumplido",IF(B42-N(B41)=1,N(I41),0)+1,0)) | J42: =IF(OR(B42="",C42=""),"",AVERAGE(C36:C42)) | K42: =IF(B42="","",B42-WEEKDAY(B42,2)+1) | L42: =IF(B42="","",DATE(YEAR(B42),MONTH(B42),1)) | M42: Caminata a la hora de comer
D43: =IF(OR(B43="",C43=""),"",Panel!$C$5) | E43: =IF(OR(B43="",C43=""),"",IFERROR(C43/D43,0)) | F43: =IF(OR(B43="",C43=""),"",C43*Panel!$C$6/100000) | G43: =IF(OR(B43="",C43=""),"",IF(E43>=1,"Cumplido",IF(E43>=Panel!$C$7,"Casi","Por debajo"))) | H43: =IF(B43="","",MID("LunMarMiéJueVieSábDom",(WEEKDAY(B43,2)-1)*3+1,3)) | I43: =IF(OR(B43="",C43=""),"",IF(G43="Cumplido",IF(B43-N(B42)=1,N(I42),0)+1,0)) | J43: =IF(OR(B43="",C43=""),"",AVERAGE(C37:C43)) | K43: =IF(B43="","",B43-WEEKDAY(B43,2)+1) | L43: =IF(B43="","",DATE(YEAR(B43),MONTH(B43),1))
D44: =IF(OR(B44="",C44=""),"",Panel!$C$5) | E44: =IF(OR(B44="",C44=""),"",IFERROR(C44/D44,0)) | F44: =IF(OR(B44="",C44=""),"",C44*Panel!$C$6/100000) | G44: =IF(OR(B44="",C44=""),"",IF(E44>=1,"Cumplido",IF(E44>=Panel!$C$7,"Casi","Por debajo"))) | H44: =IF(B44="","",MID("LunMarMiéJueVieSábDom",(WEEKDAY(B44,2)-1)*3+1,3)) | I44: =IF(OR(B44="",C44=""),"",IF(G44="Cumplido",IF(B44-N(B43)=1,N(I43),0)+1,0)) | J44: =IF(OR(B44="",C44=""),"",AVERAGE(C38:C44)) | K44: =IF(B44="","",B44-WEEKDAY(B44,2)+1) | L44: =IF(B44="","",DATE(YEAR(B44),MONTH(B44),1))
D45: =IF(OR(B45="",C45=""),"",Panel!$C$5) | E45: =IF(OR(B45="",C45=""),"",IFERROR(C45/D45,0)) | F45: =IF(OR(B45="",C45=""),"",C45*Panel!$C$6/100000) | G45: =IF(OR(B45="",C45=""),"",IF(E45>=1,"Cumplido",IF(E45>=Panel!$C$7,"Casi","Por debajo"))) | H45: =IF(B45="","",MID("LunMarMiéJueVieSábDom",(WEEKDAY(B45,2)-1)*3+1,3)) | I45: =IF(OR(B45="",C45=""),"",IF(G45="Cumplido",IF(B45-N(B44)=1,N(I44),0)+1,0)) | J45: =IF(OR(B45="",C45=""),"",AVERAGE(C39:C45)) | K45: =IF(B45="","",B45-WEEKDAY(B45,2)+1) | L45: =IF(B45="","",DATE(YEAR(B45),MONTH(B45),1))
D46: =IF(OR(B46="",C46=""),"",Panel!$C$5) | E46: =IF(OR(B46="",C46=""),"",IFERROR(C46/D46,0)) | F46: =IF(OR(B46="",C46=""),"",C46*Panel!$C$6/100000) | G46: =IF(OR(B46="",C46=""),"",IF(E46>=1,"Cumplido",IF(E46>=Panel!$C$7,"Casi","Por debajo"))) | H46: =IF(B46="","",MID("LunMarMiéJueVieSábDom",(WEEKDAY(B46,2)-1)*3+1,3)) | I46: =IF(OR(B46="",C46=""),"",IF(G46="Cumplido",IF(B46-N(B45)=1,N(I45),0)+1,0)) | J46: =IF(OR(B46="",C46=""),"",AVERAGE(C40:C46)) | K46: =IF(B46="","",B46-WEEKDAY(B46,2)+1) | L46: =IF(B46="","",DATE(YEAR(B46),MONTH(B46),1))
D47: =IF(OR(B47="",C47=""),"",Panel!$C$5) | E47: =IF(OR(B47="",C47=""),"",IFERROR(C47/D47,0)) | F47: =IF(OR(B47="",C47=""),"",C47*Panel!$C$6/100000) | G47: =IF(OR(B47="",C47=""),"",IF(E47>=1,"Cumplido",IF(E47>=Panel!$C$7,"Casi","Por debajo"))) | H47: =IF(B47="","",MID("LunMarMiéJueVieSábDom",(WEEKDAY(B47,2)-1)*3+1,3)) | I47: =IF(OR(B47="",C47=""),"",IF(G47="Cumplido",IF(B47-N(B46)=1,N(I46),0)+1,0)) | J47: =IF(OR(B47="",C47=""),"",AVERAGE(C41:C47)) | K47: =IF(B47="","",B47-WEEKDAY(B47,2)+1) | L47: =IF(B47="","",DATE(YEAR(B47),MONTH(B47),1))
D48: =IF(OR(B48="",C48=""),"",Panel!$C$5) | E48: =IF(OR(B48="",C48=""),"",IFERROR(C48/D48,0)) | F48: =IF(OR(B48="",C48=""),"",C48*Panel!$C$6/100000) | G48: =IF(OR(B48="",C48=""),"",IF(E48>=1,"Cumplido",IF(E48>=Panel!$C$7,"Casi","Por debajo"))) | H48: =IF(B48="","",MID("LunMarMiéJueVieSábDom",(WEEKDAY(B48,2)-1)*3+1,3)) | I48: =IF(OR(B48="",C48=""),"",IF(G48="Cumplido",IF(B48-N(B47)=1,N(I47),0)+1,0)) | J48: =IF(OR(B48="",C48=""),"",AVERAGE(C42:C48)) | K48: =IF(B48="","",B48-WEEKDAY(B48,2)+1) | L48: =IF(B48="","",DATE(YEAR(B48),MONTH(B48),1))
D49: =IF(OR(B49="",C49=""),"",Panel!$C$5) | E49: =IF(OR(B49="",C49=""),"",IFERROR(C49/D49,0)) | F49: =IF(OR(B49="",C49=""),"",C49*Panel!$C$6/100000) | G49: =IF(OR(B49="",C49=""),"",IF(E49>=1,"Cumplido",IF(E49>=Panel!$C$7,"Casi","Por debajo"))) | H49: =IF(B49="","",MID("LunMarMiéJueVieSábDom",(WEEKDAY(B49,2)-1)*3+1,3)) | I49: =IF(OR(B49="",C49=""),"",IF(G49="Cumplido",IF(B49-N(B48)=1,N(I48),0)+1,0)) | J49: =IF(OR(B49="",C49=""),"",AVERAGE(C43:C49)) | K49: =IF(B49="","",B49-WEEKDAY(B49,2)+1) | L49: =IF(B49="","",DATE(YEAR(B49),MONTH(B49),1))
D50: =IF(OR(B50="",C50=""),"",Panel!$C$5) | E50: =IF(OR(B50="",C50=""),"",IFERROR(C50/D50,0)) | F50: =IF(OR(B50="",C50=""),"",C50*Panel!$C$6/100000) | G50: =IF(OR(B50="",C50=""),"",IF(E50>=1,"Cumplido",IF(E50>=Panel!$C$7,"Casi","Por debajo"))) | H50: =IF(B50="","",MID("LunMarMiéJueVieSábDom",(WEEKDAY(B50,2)-1)*3+1,3)) | I50: =IF(OR(B50="",C50=""),"",IF(G50="Cumplido",IF(B50-N(B49)=1,N(I49),0)+1,0)) | J50: =IF(OR(B50="",C50=""),"",AVERAGE(C44:C50)) | K50: =IF(B50="","",B50-WEEKDAY(B50,2)+1) | L50: =IF(B50="","",DATE(YEAR(B50),MONTH(B50),1))
D51: =IF(OR(B51="",C51=""),"",Panel!$C$5) | E51: =IF(OR(B51="",C51=""),"",IFERROR(C51/D51,0)) | F51: =IF(OR(B51="",C51=""),"",C51*Panel!$C$6/100000) | G51: =IF(OR(B51="",C51=""),"",IF(E51>=1,"Cumplido",IF(E51>=Panel!$C$7,"Casi","Por debajo"))) | H51: =IF(B51="","",MID("LunMarMiéJueVieSábDom",(WEEKDAY(B51,2)-1)*3+1,3)) | I51: =IF(OR(B51="",C51=""),"",IF(G51="Cumplido",IF(B51-N(B50)=1,N(I50),0)+1,0)) | J51: =IF(OR(B51="",C51=""),"",AVERAGE(C45:C51)) | K51: =IF(B51="","",B51-WEEKDAY(B51,2)+1) | L51: =IF(B51="","",DATE(YEAR(B51),MONTH(B51),1))
D52: =IF(OR(B52="",C52=""),"",Panel!$C$5) | E52: =IF(OR(B52="",C52=""),"",IFERROR(C52/D52,0)) | F52: =IF(OR(B52="",C52=""),"",C52*Panel!$C$6/100000) | G52: =IF(OR(B52="",C52=""),"",IF(E52>=1,"Cumplido",IF(E52>=Panel!$C$7,"Casi","Por debajo"))) | H52: =IF(B52="","",MID("LunMarMiéJueVieSábDom",(WEEKDAY(B52,2)-1)*3+1,3)) | I52: =IF(OR(B52="",C52=""),"",IF(G52="Cumplido",IF(B52-N(B51)=1,N(I51),0)+1,0)) | J52: =IF(OR(B52="",C52=""),"",AVERAGE(C46:C52)) | K52: =IF(B52="","",B52-WEEKDAY(B52,2)+1) | L52: =IF(B52="","",DATE(YEAR(B52),MONTH(B52),1))
D53: =IF(OR(B53="",C53=""),"",Panel!$C$5) | E53: =IF(OR(B53="",C53=""),"",IFERROR(C53/D53,0)) | F53: =IF(OR(B53="",C53=""),"",C53*Panel!$C$6/100000) | G53: =IF(OR(B53="",C53=""),"",IF(E53>=1,"Cumplido",IF(E53>=Panel!$C$7,"Casi","Por debajo"))) | H53: =IF(B53="","",MID("LunMarMiéJueVieSábDom",(WEEKDAY(B53,2)-1)*3+1,3)) | I53: =IF(OR(B53="",C53=""),"",IF(G53="Cumplido",IF(B53-N(B52)=1,N(I52),0)+1,0)) | J53: =IF(OR(B53="",C53=""),"",AVERAGE(C47:C53)) | K53: =IF(B53="","",B53-WEEKDAY(B53,2)+1) | L53: =IF(B53="","",DATE(YEAR(B53),MONTH(B53),1))
D54: =IF(OR(B54="",C54=""),"",Panel!$C$5) | E54: =IF(OR(B54="",C54=""),"",IFERROR(C54/D54,0)) | F54: =IF(OR(B54="",C54=""),"",C54*Panel!$C$6/100000) | G54: =IF(OR(B54="",C54=""),"",IF(E54>=1,"Cumplido",IF(E54>=Panel!$C$7,"Casi","Por debajo"))) | H54: =IF(B54="","",MID("LunMarMiéJueVieSábDom",(WEEKDAY(B54,2)-1)*3+1,3)) | I54: =IF(OR(B54="",C54=""),"",IF(G54="Cumplido",IF(B54-N(B53)=1,N(I53),0)+1,0)) | J54: =IF(OR(B54="",C54=""),"",AVERAGE(C48:C54)) | K54: =IF(B54="","",B54-WEEKDAY(B54,2)+1) | L54: =IF(B54="","",DATE(YEAR(B54),MONTH(B54),1))
... D157: =IF(OR(B157="",C157=""),"",Panel!$C$5) | E157: =IF(OR(B157="",C157=""),"",IFERROR(C157/D157,0)) | F157: =IF(OR(B157="",C157=""),"",C157*Panel!$C$6/100000) | G157: =IF(OR(B157="",C157=""),"",IF(E157>=1,"Cumplido",IF(E157>=Panel!$C$7,"Casi","Por debajo"))) | H157: =IF(B157="","",MID("LunMarMiéJueVieSábDom",(WEEKDAY(B157,2)-1)*3+1,3)) | I157: =IF(OR(B157="",C157=""),"",IF(G157="Cumplido",IF(B157-N(B156)=1,N(I156),0)+1,0)) | J157: =IF(OR(B157="",C157=""),"",AVERAGE(C151:C157)) | K157: =IF(B157="","",B157-WEEKDAY(B157,2)+1) | L157: =IF(B157="","",DATE(YEAR(B157),MONTH(B157),1))

Sheet Semanas
B2: Resumen por semanas
B3: Semanas de lunes a domingo, calculadas con los días del registro.
B7: Semana (lunes) | C7: Días registrados | D7: Pasos totales | E7: Media diaria | F7: Días cumplidos | G7: % días cumplidos | H7: Km aprox. | I7: Variación vs semana anterior | J7: Situación
B8: =IF(COUNT(Registro!$B$8:$B$157)=0,"",MIN(Registro!$B$8:$B$157)-WEEKDAY(MIN(Registro!$B$8:$B$157),2)+1) | C8: =IF(B8="","",COUNTIFS(Registro!$K$8:$K$157,B8,Registro!$C$8:$C$157,">=0")) | D8: =IF(B8="","",SUMIF(Registro!$K$8:$K$157,B8,Registro!$C$8:$C$157)) | E8: =IF(B8="","",IF(C8=0,0,D8/C8)) | F8: =IF(B8="","",COUNTIFS(Registro!$K$8:$K$157,B8,Registro!$G$8:$G$157,"Cumplido")) | G8: =IF(B8="","",IF(C8=0,0,F8/C8)) | H8: =IF(B8="","",SUMIF(Registro!$K$8:$K$157,B8,Registro!$F$8:$F$157)) | I8: ="" | J8: =IF(B8="","",IF(E8>=Panel!$C$5,"En objetivo","Por debajo"))
B9: =IF(B8="","",IF(B8+7>MAX(Registro!$B$8:$B$157),"",B8+7)) | C9: =IF(B9="","",COUNTIFS(Registro!$K$8:$K$157,B9,Registro!$C$8:$C$157,">=0")) | D9: =IF(B9="","",SUMIF(Registro!$K$8:$K$157,B9,Registro!$C$8:$C$157)) | E9: =IF(B9="","",IF(C9=0,0,D9/C9)) | F9: =IF(B9="","",COUNTIFS(Registro!$K$8:$K$157,B9,Registro!$G$8:$G$157,"Cumplido")) | G9: =IF(B9="","",IF(C9=0,0,F9/C9)) | H9: =IF(B9="","",SUMIF(Registro!$K$8:$K$157,B9,Registro!$F$8:$F$157)) | I9: =IF(B9="","",IFERROR(E9/E8-1,"")) | J9: =IF(B9="","",IF(E9>=Panel!$C$5,"En objetivo","Por debajo"))
B10: =IF(B9="","",IF(B9+7>MAX(Registro!$B$8:$B$157),"",B9+7)) | C10: =IF(B10="","",COUNTIFS(Registro!$K$8:$K$157,B10,Registro!$C$8:$C$157,">=0")) | D10: =IF(B10="","",SUMIF(Registro!$K$8:$K$157,B10,Registro!$C$8:$C$157)) | E10: =IF(B10="","",IF(C10=0,0,D10/C10)) | F10: =IF(B10="","",COUNTIFS(Registro!$K$8:$K$157,B10,Registro!$G$8:$G$157,"Cumplido")) | G10: =IF(B10="","",IF(C10=0,0,F10/C10)) | H10: =IF(B10="","",SUMIF(Registro!$K$8:$K$157,B10,Registro!$F$8:$F$157)) | I10: =IF(B10="","",IFERROR(E10/E9-1,"")) | J10: =IF(B10="","",IF(E10>=Panel!$C$5,"En objetivo","Por debajo"))
B11: =IF(B10="","",IF(B10+7>MAX(Registro!$B$8:$B$157),"",B10+7)) | C11: =IF(B11="","",COUNTIFS(Registro!$K$8:$K$157,B11,Registro!$C$8:$C$157,">=0")) | D11: =IF(B11="","",SUMIF(Registro!$K$8:$K$157,B11,Registro!$C$8:$C$157)) | E11: =IF(B11="","",IF(C11=0,0,D11/C11)) | F11: =IF(B11="","",COUNTIFS(Registro!$K$8:$K$157,B11,Registro!$G$8:$G$157,"Cumplido")) | G11: =IF(B11="","",IF(C11=0,0,F11/C11)) | H11: =IF(B11="","",SUMIF(Registro!$K$8:$K$157,B11,Registro!$F$8:$F$157)) | I11: =IF(B11="","",IFERROR(E11/E10-1,"")) | J11: =IF(B11="","",IF(E11>=Panel!$C$5,"En objetivo","Por debajo"))
B12: =IF(B11="","",IF(B11+7>MAX(Registro!$B$8:$B$157),"",B11+7)) | C12: =IF(B12="","",COUNTIFS(Registro!$K$8:$K$157,B12,Registro!$C$8:$C$157,">=0")) | D12: =IF(B12="","",SUMIF(Registro!$K$8:$K$157,B12,Registro!$C$8:$C$157)) | E12: =IF(B12="","",IF(C12=0,0,D12/C12)) | F12: =IF(B12="","",COUNTIFS(Registro!$K$8:$K$157,B12,Registro!$G$8:$G$157,"Cumplido")) | G12: =IF(B12="","",IF(C12=0,0,F12/C12)) | H12: =IF(B12="","",SUMIF(Registro!$K$8:$K$157,B12,Registro!$F$8:$F$157)) | I12: =IF(B12="","",IFERROR(E12/E11-1,"")) | J12: =IF(B12="","",IF(E12>=Panel!$C$5,"En objetivo","Por debajo"))
B13: =IF(B12="","",IF(B12+7>MAX(Registro!$B$8:$B$157),"",B12+7)) | C13: =IF(B13="","",COUNTIFS(Registro!$K$8:$K$157,B13,Registro!$C$8:$C$157,">=0")) | D13: =IF(B13="","",SUMIF(Registro!$K$8:$K$157,B13,Registro!$C$8:$C$157)) | E13: =IF(B13="","",IF(C13=0,0,D13/C13)) | F13: =IF(B13="","",COUNTIFS(Registro!$K$8:$K$157,B13,Registro!$G$8:$G$157,"Cumplido")) | G13: =IF(B13="","",IF(C13=0,0,F13/C13)) | H13: =IF(B13="","",SUMIF(Registro!$K$8:$K$157,B13,Registro!$F$8:$F$157)) | I13: =IF(B13="","",IFERROR(E13/E12-1,"")) | J13: =IF(B13="","",IF(E13>=Panel!$C$5,"En objetivo","Por debajo"))
B14: =IF(B13="","",IF(B13+7>MAX(Registro!$B$8:$B$157),"",B13+7)) | C14: =IF(B14="","",COUNTIFS(Registro!$K$8:$K$157,B14,Registro!$C$8:$C$157,">=0")) | D14: =IF(B14="","",SUMIF(Registro!$K$8:$K$157,B14,Registro!$C$8:$C$157)) | E14: =IF(B14="","",IF(C14=0,0,D14/C14)) | F14: =IF(B14="","",COUNTIFS(Registro!$K$8:$K$157,B14,Registro!$G$8:$G$157,"Cumplido")) | G14: =IF(B14="","",IF(C14=0,0,F14/C14)) | H14: =IF(B14="","",SUMIF(Registro!$K$8:$K$157,B14,Registro!$F$8:$F$157)) | I14: =IF(B14="","",IFERROR(E14/E13-1,"")) | J14: =IF(B14="","",IF(E14>=Panel!$C$5,"En objetivo","Por debajo"))
B15: =IF(B14="","",IF(B14+7>MAX(Registro!$B$8:$B$157),"",B14+7)) | C15: =IF(B15="","",COUNTIFS(Registro!$K$8:$K$157,B15,Registro!$C$8:$C$157,">=0")) | D15: =IF(B15="","",SUMIF(Registro!$K$8:$K$157,B15,Registro!$C$8:$C$157)) | E15: =IF(B15="","",IF(C15=0,0,D15/C15)) | F15: =IF(B15="","",COUNTIFS(Registro!$K$8:$K$157,B15,Registro!$G$8:$G$157,"Cumplido")) | G15: =IF(B15="","",IF(C15=0,0,F15/C15)) | H15: =IF(B15="","",SUMIF(Registro!$K$8:$K$157,B15,Registro!$F$8:$F$157)) | I15: =IF(B15="","",IFERROR(E15/E14-1,"")) | J15: =IF(B15="","",IF(E15>=Panel!$C$5,"En objetivo","Por debajo"))
B16: =IF(B15="","",IF(B15+7>MAX(Registro!$B$8:$B$157),"",B15+7)) | C16: =IF(B16="","",COUNTIFS(Registro!$K$8:$K$157,B16,Registro!$C$8:$C$157,">=0")) | D16: =IF(B16="","",SUMIF(Registro!$K$8:$K$157,B16,Registro!$C$8:$C$157)) | E16: =IF(B16="","",IF(C16=0,0,D16/C16)) | F16: =IF(B16="","",COUNTIFS(Registro!$K$8:$K$157,B16,Registro!$G$8:$G$157,"Cumplido")) | G16: =IF(B16="","",IF(C16=0,0,F16/C16)) | H16: =IF(B16="","",SUMIF(Registro!$K$8:$K$157,B16,Registro!$F$8:$F$157)) | I16: =IF(B16="","",IFERROR(E16/E15-1,"")) | J16: =IF(B16="","",IF(E16>=Panel!$C$5,"En objetivo","Por debajo"))
B17: =IF(B16="","",IF(B16+7>MAX(Registro!$B$8:$B$157),"",B16+7)) | C17: =IF(B17="","",COUNTIFS(Registro!$K$8:$K$157,B17,Registro!$C$8:$C$157,">=0")) | D17: =IF(B17="","",SUMIF(Registro!$K$8:$K$157,B17,Registro!$C$8:$C$157)) | E17: =IF(B17="","",IF(C17=0,0,D17/C17)) | F17: =IF(B17="","",COUNTIFS(Registro!$K$8:$K$157,B17,Registro!$G$8:$G$157,"Cumplido")) | G17: =IF(B17="","",IF(C17=0,0,F17/C17)) | H17: =IF(B17="","",SUMIF(Registro!$K$8:$K$157,B17,Registro!$F$8:$F$157)) | I17: =IF(B17="","",IFERROR(E17/E16-1,"")) | J17: =IF(B17="","",IF(E17>=Panel!$C$5,"En objetivo","Por debajo"))
B18: =IF(B17="","",IF(B17+7>MAX(Registro!$B$8:$B$157),"",B17+7)) | C18: =IF(B18="","",COUNTIFS(Registro!$K$8:$K$157,B18,Registro!$C$8:$C$157,">=0")) | D18: =IF(B18="","",SUMIF(Registro!$K$8:$K$157,B18,Registro!$C$8:$C$157)) | E18: =IF(B18="","",IF(C18=0,0,D18/C18)) | F18: =IF(B18="","",COUNTIFS(Registro!$K$8:$K$157,B18,Registro!$G$8:$G$157,"Cumplido")) | G18: =IF(B18="","",IF(C18=0,0,F18/C18)) | H18: =IF(B18="","",SUMIF(Registro!$K$8:$K$157,B18,Registro!$F$8:$F$157)) | I18: =IF(B18="","",IFERROR(E18/E17-1,"")) | J18: =IF(B18="","",IF(E18>=Panel!$C$5,"En objetivo","Por debajo"))
B19: =IF(B18="","",IF(B18+7>MAX(Registro!$B$8:$B$157),"",B18+7)) | C19: =IF(B19="","",COUNTIFS(Registro!$K$8:$K$157,B19,Registro!$C$8:$C$157,">=0")) | D19: =IF(B19="","",SUMIF(Registro!$K$8:$K$157,B19,Registro!$C$8:$C$157)) | E19: =IF(B19="","",IF(C19=0,0,D19/C19)) | F19: =IF(B19="","",COUNTIFS(Registro!$K$8:$K$157,B19,Registro!$G$8:$G$157,"Cumplido")) | G19: =IF(B19="","",IF(C19=0,0,F19/C19)) | H19: =IF(B19="","",SUMIF(Registro!$K$8:$K$157,B19,Registro!$F$8:$F$157)) | I19: =IF(B19="","",IFERROR(E19/E18-1,"")) | J19: =IF(B19="","",IF(E19>=Panel!$C$5,"En objetivo","Por debajo"))
B20: =IF(B19="","",IF(B19+7>MAX(Registro!$B$8:$B$157),"",B19+7)) | C20: =IF(B20="","",COUNTIFS(Registro!$K$8:$K$157,B20,Registro!$C$8:$C$157,">=0")) | D20: =IF(B20="","",SUMIF(Registro!$K$8:$K$157,B20,Registro!$C$8:$C$157)) | E20: =IF(B20="","",IF(C20=0,0,D20/C20)) | F20: =IF(B20="","",COUNTIFS(Registro!$K$8:$K$157,B20,Registro!$G$8:$G$157,"Cumplido")) | G20: =IF(B20="","",IF(C20=0,0,F20/C20)) | H20: =IF(B20="","",SUMIF(Registro!$K$8:$K$157,B20,Registro!$F$8:$F$157)) | I20: =IF(B20="","",IFERROR(E20/E19-1,"")) | J20: =IF(B20="","",IF(E20>=Panel!$C$5,"En objetivo","Por debajo"))
... B37: =IF(B36="","",IF(B36+7>MAX(Registro!$B$8:$B$157),"",B36+7)) | C37: =IF(B37="","",COUNTIFS(Registro!$K$8:$K$157,B37,Registro!$C$8:$C$157,">=0")) | D37: =IF(B37="","",SUMIF(Registro!$K$8:$K$157,B37,Registro!$C$8:$C$157)) | E37: =IF(B37="","",IF(C37=0,0,D37/C37)) | F37: =IF(B37="","",COUNTIFS(Registro!$K$8:$K$157,B37,Registro!$G$8:$G$157,"Cumplido")) | G37: =IF(B37="","",IF(C37=0,0,F37/C37)) | H37: =IF(B37="","",SUMIF(Registro!$K$8:$K$157,B37,Registro!$F$8:$F$157)) | I37: =IF(B37="","",IFERROR(E37/E36-1,"")) | J37: =IF(B37="","",IF(E37>=Panel!$C$5,"En objetivo","Por debajo"))
B39: La media diaria divide los pasos entre los días registrados de esa semana, así una semana incompleta no sale penalizada.

Sheet Meses
B2: Resumen por meses
B3: Totales y medias de cada mes natural con datos en el registro.
B7: Mes | C7: Días registrados | D7: Pasos totales | E7: Media diaria | F7: Días cumplidos | G7: % días cumplidos | H7: Km aprox. | I7: Mejor día (pasos)
B8: =IF(COUNT(Registro!$B$8:$B$157)=0,"",DATE(YEAR(MIN(Registro!$B$8:$B$157)),MONTH(MIN(Registro!$B$8:$B$157)),1)) | C8: =IF(B8="","",COUNTIFS(Registro!$L$8:$L$157,B8,Registro!$C$8:$C$157,">=0")) | D8: =IF(B8="","",SUMIF(Registro!$L$8:$L$157,B8,Registro!$C$8:$C$157)) | E8: =IF(B8="","",IF(C8=0,0,D8/C8)) | F8: =IF(B8="","",COUNTIFS(Registro!$L$8:$L$157,B8,Registro!$G$8:$G$157,"Cumplido")) | G8: =IF(B8="","",IF(C8=0,0,F8/C8)) | H8: =IF(B8="","",SUMIF(Registro!$L$8:$L$157,B8,Registro!$F$8:$F$157)) | I8: =IF(B8="","",SUMPRODUCT(MAX((Registro!$L$8:$L$157=B8)*Registro!$C$8:$C$157)))
B9: =IF(B8="","",IF(EDATE(B8,1)>MAX(Registro!$B$8:$B$157),"",EDATE(B8,1))) | C9: =IF(B9="","",COUNTIFS(Registro!$L$8:$L$157,B9,Registro!$C$8:$C$157,">=0")) | D9: =IF(B9="","",SUMIF(Registro!$L$8:$L$157,B9,Registro!$C$8:$C$157)) | E9: =IF(B9="","",IF(C9=0,0,D9/C9)) | F9: =IF(B9="","",COUNTIFS(Registro!$L$8:$L$157,B9,Registro!$G$8:$G$157,"Cumplido")) | G9: =IF(B9="","",IF(C9=0,0,F9/C9)) | H9: =IF(B9="","",SUMIF(Registro!$L$8:$L$157,B9,Registro!$F$8:$F$157)) | I9: =IF(B9="","",SUMPRODUCT(MAX((Registro!$L$8:$L$157=B9)*Registro!$C$8:$C$157)))
B10: =IF(B9="","",IF(EDATE(B9,1)>MAX(Registro!$B$8:$B$157),"",EDATE(B9,1))) | C10: =IF(B10="","",COUNTIFS(Registro!$L$8:$L$157,B10,Registro!$C$8:$C$157,">=0")) | D10: =IF(B10="","",SUMIF(Registro!$L$8:$L$157,B10,Registro!$C$8:$C$157)) | E10: =IF(B10="","",IF(C10=0,0,D10/C10)) | F10: =IF(B10="","",COUNTIFS(Registro!$L$8:$L$157,B10,Registro!$G$8:$G$157,"Cumplido")) | G10: =IF(B10="","",IF(C10=0,0,F10/C10)) | H10: =IF(B10="","",SUMIF(Registro!$L$8:$L$157,B10,Registro!$F$8:$F$157)) | I10: =IF(B10="","",SUMPRODUCT(MAX((Registro!$L$8:$L$157=B10)*Registro!$C$8:$C$157)))
B11: =IF(B10="","",IF(EDATE(B10,1)>MAX(Registro!$B$8:$B$157),"",EDATE(B10,1))) | C11: =IF(B11="","",COUNTIFS(Registro!$L$8:$L$157,B11,Registro!$C$8:$C$157,">=0")) | D11: =IF(B11="","",SUMIF(Registro!$L$8:$L$157,B11,Registro!$C$8:$C$157)) | E11: =IF(B11="","",IF(C11=0,0,D11/C11)) | F11: =IF(B11="","",COUNTIFS(Registro!$L$8:$L$157,B11,Registro!$G$8:$G$157,"Cumplido")) | G11: =IF(B11="","",IF(C11=0,0,F11/C11)) | H11: =IF(B11="","",SUMIF(Registro!$L$8:$L$157,B11,Registro!$F$8:$F$157)) | I11: =IF(B11="","",SUMPRODUCT(MAX((Registro!$L$8:$L$157=B11)*Registro!$C$8:$C$157)))
B12: =IF(B11="","",IF(EDATE(B11,1)>MAX(Registro!$B$8:$B$157),"",EDATE(B11,1))) | C12: =IF(B12="","",COUNTIFS(Registro!$L$8:$L$157,B12,Registro!$C$8:$C$157,">=0")) | D12: =IF(B12="","",SUMIF(Registro!$L$8:$L$157,B12,Registro!$C$8:$C$157)) | E12: =IF(B12="","",IF(C12=0,0,D12/C12)) | F12: =IF(B12="","",COUNTIFS(Registro!$L$8:$L$157,B12,Registro!$G$8:$G$157,"Cumplido")) | G12: =IF(B12="","",IF(C12=0,0,F12/C12)) | H12: =IF(B12="","",SUMIF(Registro!$L$8:$L$157,B12,Registro!$F$8:$F$157)) | I12: =IF(B12="","",SUMPRODUCT(MAX((Registro!$L$8:$L$157=B12)*Registro!$C$8:$C$157)))
B13: =IF(B12="","",IF(EDATE(B12,1)>MAX(Registro!$B$8:$B$157),"",EDATE(B12,1))) | C13: =IF(B13="","",COUNTIFS(Registro!$L$8:$L$157,B13,Registro!$C$8:$C$157,">=0")) | D13: =IF(B13="","",SUMIF(Registro!$L$8:$L$157,B13,Registro!$C$8:$C$157)) | E13: =IF(B13="","",IF(C13=0,0,D13/C13)) | F13: =IF(B13="","",COUNTIFS(Registro!$L$8:$L$157,B13,Registro!$G$8:$G$157,"Cumplido")) | G13: =IF(B13="","",IF(C13=0,0,F13/C13)) | H13: =IF(B13="","",SUMIF(Registro!$L$8:$L$157,B13,Registro!$F$8:$F$157)) | I13: =IF(B13="","",SUMPRODUCT(MAX((Registro!$L$8:$L$157=B13)*Registro!$C$8:$C$157)))
B14: =IF(B13="","",IF(EDATE(B13,1)>MAX(Registro!$B$8:$B$157),"",EDATE(B13,1))) | C14: =IF(B14="","",COUNTIFS(Registro!$L$8:$L$157,B14,Registro!$C$8:$C$157,">=0")) | D14: =IF(B14="","",SUMIF(Registro!$L$8:$L$157,B14,Registro!$C$8:$C$157)) | E14: =IF(B14="","",IF(C14=0,0,D14/C14)) | F14: =IF(B14="","",COUNTIFS(Registro!$L$8:$L$157,B14,Registro!$G$8:$G$157,"Cumplido")) | G14: =IF(B14="","",IF(C14=0,0,F14/C14)) | H14: =IF(B14="","",SUMIF(Registro!$L$8:$L$157,B14,Registro!$F$8:$F$157)) | I14: =IF(B14="","",SUMPRODUCT(MAX((Registro!$L$8:$L$157=B14)*Registro!$C$8:$C$157)))
B15: =IF(B14="","",IF(EDATE(B14,1)>MAX(Registro!$B$8:$B$157),"",EDATE(B14,1))) | C15: =IF(B15="","",COUNTIFS(Registro!$L$8:$L$157,B15,Registro!$C$8:$C$157,">=0")) | D15: =IF(B15="","",SUMIF(Registro!$L$8:$L$157,B15,Registro!$C$8:$C$157)) | E15: =IF(B15="","",IF(C15=0,0,D15/C15)) | F15: =IF(B15="","",COUNTIFS(Registro!$L$8:$L$157,B15,Registro!$G$8:$G$157,"Cumplido")) | G15: =IF(B15="","",IF(C15=0,0,F15/C15)) | H15: =IF(B15="","",SUMIF(Registro!$L$8:$L$157,B15,Registro!$F$8:$F$157)) | I15: =IF(B15="","",SUMPRODUCT(MAX((Registro!$L$8:$L$157=B15)*Registro!$C$8:$C$157)))
B16: =IF(B15="","",IF(EDATE(B15,1)>MAX(Registro!$B$8:$B$157),"",EDATE(B15,1))) | C16: =IF(B16="","",COUNTIFS(Registro!$L$8:$L$157,B16,Registro!$C$8:$C$157,">=0")) | D16: =IF(B16="","",SUMIF(Registro!$L$8:$L$157,B16,Registro!$C$8:$C$157)) | E16: =IF(B16="","",IF(C16=0,0,D16/C16)) | F16: =IF(B16="","",COUNTIFS(Registro!$L$8:$L$157,B16,Registro!$G$8:$G$157,"Cumplido")) | G16: =IF(B16="","",IF(C16=0,0,F16/C16)) | H16: =IF(B16="","",SUMIF(Registro!$L$8:$L$157,B16,Registro!$F$8:$F$157)) | I16: =IF(B16="","",SUMPRODUCT(MAX((Registro!$L$8:$L$157=B16)*Registro!$C$8:$C$157)))
B17: =IF(B16="","",IF(EDATE(B16,1)>MAX(Registro!$B$8:$B$157),"",EDATE(B16,1))) | C17: =IF(B17="","",COUNTIFS(Registro!$L$8:$L$157,B17,Registro!$C$8:$C$157,">=0")) | D17: =IF(B17="","",SUMIF(Registro!$L$8:$L$157,B17,Registro!$C$8:$C$157)) | E17: =IF(B17="","",IF(C17=0,0,D17/C17)) | F17: =IF(B17="","",COUNTIFS(Registro!$L$8:$L$157,B17,Registro!$G$8:$G$157,"Cumplido")) | G17: =IF(B17="","",IF(C17=0,0,F17/C17)) | H17: =IF(B17="","",SUMIF(Registro!$L$8:$L$157,B17,Registro!$F$8:$F$157)) | I17: =IF(B17="","",SUMPRODUCT(MAX((Registro!$L$8:$L$157=B17)*Registro!$C$8:$C$157)))
B18: =IF(B17="","",IF(EDATE(B17,1)>MAX(Registro!$B$8:$B$157),"",EDATE(B17,1))) | C18: =IF(B18="","",COUNTIFS(Registro!$L$8:$L$157,B18,Registro!$C$8:$C$157,">=0")) | D18: =IF(B18="","",SUMIF(Registro!$L$8:$L$157,B18,Registro!$C$8:$C$157)) | E18: =IF(B18="","",IF(C18=0,0,D18/C18)) | F18: =IF(B18="","",COUNTIFS(Registro!$L$8:$L$157,B18,Registro!$G$8:$G$157,"Cumplido")) | G18: =IF(B18="","",IF(C18=0,0,F18/C18)) | H18: =IF(B18="","",SUMIF(Registro!$L$8:$L$157,B18,Registro!$F$8:$F$157)) | I18: =IF(B18="","",SUMPRODUCT(MAX((Registro!$L$8:$L$157=B18)*Registro!$C$8:$C$157)))
B19: =IF(B18="","",IF(EDATE(B18,1)>MAX(Registro!$B$8:$B$157),"",EDATE(B18,1))) | C19: =IF(B19="","",COUNTIFS(Registro!$L$8:$L$157,B19,Registro!$C$8:$C$157,">=0")) | D19: =IF(B19="","",SUMIF(Registro!$L$8:$L$157,B19,Registro!$C$8:$C$157)) | E19: =IF(B19="","",IF(C19=0,0,D19/C19)) | F19: =IF(B19="","",COUNTIFS(Registro!$L$8:$L$157,B19,Registro!$G$8:$G$157,"Cumplido")) | G19: =IF(B19="","",IF(C19=0,0,F19/C19)) | H19: =IF(B19="","",SUMIF(Registro!$L$8:$L$157,B19,Registro!$F$8:$F$157)) | I19: =IF(B19="","",SUMPRODUCT(MAX((Registro!$L$8:$L$157=B19)*Registro!$C$8:$C$157)))
B20: Total | C20: =SUM(C8:C19) | D20: =SUM(D8:D19) | E20: =IF(C20=0,0,D20/C20) | F20: =SUM(F8:F19) | G20: =IF(C20=0,0,F20/C20) | H20: =SUM(H8:H19) | I20: =MAX(I8:I19)
B22: Los meses en verde claro (columna «% días cumplidos») son aquellos en los que cumpliste el objetivo al menos el 70 % de los días.

Sheet Instrucciones
B2: Contador de pasos diarios · Cómo usarlo
B3: Plantilla gratuita de Plantillas de Cálculo · plantillasdecalculo.com
B5: CÓMO USARLA
B6: 1. En la hoja «Panel» fija tu objetivo diario en pasos (por defecto 8.000), la longitud de tu paso en centímetros y el umbral para marcar un día como «Casi».
B7: 2. En «Registro» escribe una fila por día: la fecha y los pasos que marca tu móvil o tu pulsera. Hazlo de más antiguo a más reciente.
B8: 3. Si quieres, añade una nota (lluvia, excursión, día de descanso) en la última columna para recordar qué pasó ese día.
B9: 4. Las columnas verdes se calculan solas: % del objetivo, kilómetros aproximados, estado, racha, media de 7 días, semana y mes.
B10: 5. Abre el «Panel»: pasos totales, media diaria, km, mejor día, racha actual, mejor racha, días cumplidos y media de los últimos 7 días.
B11: 6. Revisa la tabla de los últimos 14 días y los dos gráficos (barras por día y línea de la media semanal frente al objetivo).
B12: 7. Consulta «Semanas» y «Meses» para ver la evolución a medio plazo; se rellenan solas hasta el último día que registres.
B13: 8. Para empezar de cero, borra solo fechas, pasos y notas de «Registro» (hay 150 filas preparadas); las fórmulas se mantienen.
B15: CONSEJOS
... B23: Aviso: esta plantilla sirve únicamente para registrar y organizar tus pasos. No es un dispositivo médico ni sustituye el consejo de un profesional sanitario; si tienes dudas sobre tu nivel de actividad física, consúltalas con tu médico.
