Workbook

Sheet Panel
B2: Panel de gastos hormiga
B3: Cuánto se te va en pequeños gastos, cuánto serían al año y cuánto podrías ahorrar. Todo se calcula desde el Registro.
B5: Inicio del período analizado | D5: 46266 | E5: Los gastos del Registro con fecha dentro de este rango son los que se analizan.
B6: Fin del período analizado | D6: 46295 | E6: Puedes analizar una semana, un mes o varios meses: las proyecciones se ajustan solas.
B7: Tope mensual que te propones (€) | D7: 100 | E7: Parámetro tuyo, no una cifra oficial: sirve para ver si tu ritmo de gasto lo supera.
B8: Días del período | D8: =MAX(D6-D5+1,1)
B10: GASTADO EN EL PERÍODO | D10: MEDIA DIARIA | F10: PROYECCIÓN MENSUAL | H10: PROYECCIÓN ANUAL
B11: =SUMIFS(Registro!$E$7:$E$66,Registro!$B$7:$B$66,">="&Panel!$D$5,Registro!$B$7:$B$66,"<="&Panel!$D$6) | D11: =B11/D8 | F11: =D11*365/12 | H11: =D11*365
B13: Nº DE GASTOS | D13: GASTO MEDIO POR COMPRA | F13: AHORRO ANUAL POTENCIAL | H13: USO DEL TOPE MENSUAL
B14: =COUNTIFS(Registro!$B$7:$B$66,">="&Panel!$D$5,Registro!$B$7:$B$66,"<="&Panel!$D$6) | D14: =IF(B14=0,0,B11/B14) | F14: ='Categorías'!I18 | H14: =IF(D7>0,F11/D7,0)
B16: =IFERROR("Categoría que más pesa: "&INDEX('Categorías'!B8:B17,MATCH(1,'Categorías'!J8:J17,0))&" ("&ROUND(INDEX('Categorías'!E8:E17,MATCH(1,'Categorías'!J8:J17,0))*100,0)&" % del total)","")
B17: =IF(F11>D7,"A este ritmo superas tu tope mensual en "&ROUND(F11-D7,0)&" €.","A este ritmo te mantienes dentro de tu tope mensual.")&" Con tus recortes ahorrarías unos "&ROUND(F14/12,0)&" € al mes."
B19: RANKING DE CATEGORÍAS (de más a menos gasto)
B20: Pos. | C20: Categoría | D20: Total período | E20: % del total | F20: Proyección anual | G20: Ahorro anual potencial
B21: 1 | C21: =IFERROR(INDEX('Categorías'!$B$8:$B$17,MATCH(B21,'Categorías'!$J$8:$J$17,0)),"") | D21: =IF(C21="","",INDEX('Categorías'!$D$8:$D$17,MATCH(B21,'Categorías'!$J$8:$J$17,0))) | E21: =IF(C21="","",INDEX('Categorías'!$E$8:$E$17,MATCH(B21,'Categorías'!$J$8:$J$17,0))) | F21: =IF(C21="","",INDEX('Categorías'!$G$8:$G$17,MATCH(B21,'Categorías'!$J$8:$J$17,0))) | G21: =IF(C21="","",INDEX('Categorías'!$I$8:$I$17,MATCH(B21,'Categorías'!$J$8:$J$17,0)))
B22: 2 | C22: =IFERROR(INDEX('Categorías'!$B$8:$B$17,MATCH(B22,'Categorías'!$J$8:$J$17,0)),"") | D22: =IF(C22="","",INDEX('Categorías'!$D$8:$D$17,MATCH(B22,'Categorías'!$J$8:$J$17,0))) | E22: =IF(C22="","",INDEX('Categorías'!$E$8:$E$17,MATCH(B22,'Categorías'!$J$8:$J$17,0))) | F22: =IF(C22="","",INDEX('Categorías'!$G$8:$G$17,MATCH(B22,'Categorías'!$J$8:$J$17,0))) | G22: =IF(C22="","",INDEX('Categorías'!$I$8:$I$17,MATCH(B22,'Categorías'!$J$8:$J$17,0)))
B23: 3 | C23: =IFERROR(INDEX('Categorías'!$B$8:$B$17,MATCH(B23,'Categorías'!$J$8:$J$17,0)),"") | D23: =IF(C23="","",INDEX('Categorías'!$D$8:$D$17,MATCH(B23,'Categorías'!$J$8:$J$17,0))) | E23: =IF(C23="","",INDEX('Categorías'!$E$8:$E$17,MATCH(B23,'Categorías'!$J$8:$J$17,0))) | F23: =IF(C23="","",INDEX('Categorías'!$G$8:$G$17,MATCH(B23,'Categorías'!$J$8:$J$17,0))) | G23: =IF(C23="","",INDEX('Categorías'!$I$8:$I$17,MATCH(B23,'Categorías'!$J$8:$J$17,0)))
B24: 4 | C24: =IFERROR(INDEX('Categorías'!$B$8:$B$17,MATCH(B24,'Categorías'!$J$8:$J$17,0)),"") | D24: =IF(C24="","",INDEX('Categorías'!$D$8:$D$17,MATCH(B24,'Categorías'!$J$8:$J$17,0))) | E24: =IF(C24="","",INDEX('Categorías'!$E$8:$E$17,MATCH(B24,'Categorías'!$J$8:$J$17,0))) | F24: =IF(C24="","",INDEX('Categorías'!$G$8:$G$17,MATCH(B24,'Categorías'!$J$8:$J$17,0))) | G24: =IF(C24="","",INDEX('Categorías'!$I$8:$I$17,MATCH(B24,'Categorías'!$J$8:$J$17,0)))
B25: 5 | C25: =IFERROR(INDEX('Categorías'!$B$8:$B$17,MATCH(B25,'Categorías'!$J$8:$J$17,0)),"") | D25: =IF(C25="","",INDEX('Categorías'!$D$8:$D$17,MATCH(B25,'Categorías'!$J$8:$J$17,0))) | E25: =IF(C25="","",INDEX('Categorías'!$E$8:$E$17,MATCH(B25,'Categorías'!$J$8:$J$17,0))) | F25: =IF(C25="","",INDEX('Categorías'!$G$8:$G$17,MATCH(B25,'Categorías'!$J$8:$J$17,0))) | G25: =IF(C25="","",INDEX('Categorías'!$I$8:$I$17,MATCH(B25,'Categorías'!$J$8:$J$17,0)))
B26: 6 | C26: =IFERROR(INDEX('Categorías'!$B$8:$B$17,MATCH(B26,'Categorías'!$J$8:$J$17,0)),"") | D26: =IF(C26="","",INDEX('Categorías'!$D$8:$D$17,MATCH(B26,'Categorías'!$J$8:$J$17,0))) | E26: =IF(C26="","",INDEX('Categorías'!$E$8:$E$17,MATCH(B26,'Categorías'!$J$8:$J$17,0))) | F26: =IF(C26="","",INDEX('Categorías'!$G$8:$G$17,MATCH(B26,'Categorías'!$J$8:$J$17,0))) | G26: =IF(C26="","",INDEX('Categorías'!$I$8:$I$17,MATCH(B26,'Categorías'!$J$8:$J$17,0)))
B27: 7 | C27: =IFERROR(INDEX('Categorías'!$B$8:$B$17,MATCH(B27,'Categorías'!$J$8:$J$17,0)),"") | D27: =IF(C27="","",INDEX('Categorías'!$D$8:$D$17,MATCH(B27,'Categorías'!$J$8:$J$17,0))) | E27: =IF(C27="","",INDEX('Categorías'!$E$8:$E$17,MATCH(B27,'Categorías'!$J$8:$J$17,0))) | F27: =IF(C27="","",INDEX('Categorías'!$G$8:$G$17,MATCH(B27,'Categorías'!$J$8:$J$17,0))) | G27: =IF(C27="","",INDEX('Categorías'!$I$8:$I$17,MATCH(B27,'Categorías'!$J$8:$J$17,0)))
B28: 8 | C28: =IFERROR(INDEX('Categorías'!$B$8:$B$17,MATCH(B28,'Categorías'!$J$8:$J$17,0)),"") | D28: =IF(C28="","",INDEX('Categorías'!$D$8:$D$17,MATCH(B28,'Categorías'!$J$8:$J$17,0))) | E28: =IF(C28="","",INDEX('Categorías'!$E$8:$E$17,MATCH(B28,'Categorías'!$J$8:$J$17,0))) | F28: =IF(C28="","",INDEX('Categorías'!$G$8:$G$17,MATCH(B28,'Categorías'!$J$8:$J$17,0))) | G28: =IF(C28="","",INDEX('Categorías'!$I$8:$I$17,MATCH(B28,'Categorías'!$J$8:$J$17,0)))
B29: Se muestran las 8 categorías con más gasto; la hoja Categorías admite hasta 10.
B30: GASTO POR DÍA DE LA SEMANA
B31: Día | C31: Nº de gastos | D31: Total período | E31: % del total
B32: Lun | C32: =COUNTIFS(Registro!$F$7:$F$66,B32,Registro!$B$7:$B$66,">="&Panel!$D$5,Registro!$B$7:$B$66,"<="&Panel!$D$6) | D32: =SUMIFS(Registro!$E$7:$E$66,Registro!$F$7:$F$66,B32,Registro!$B$7:$B$66,">="&Panel!$D$5,Registro!$B$7:$B$66,"<="&Panel!$D$6) | E32: =IF($B$11=0,0,D32/$B$11)
B33: Mar | C33: =COUNTIFS(Registro!$F$7:$F$66,B33,Registro!$B$7:$B$66,">="&Panel!$D$5,Registro!$B$7:$B$66,"<="&Panel!$D$6) | D33: =SUMIFS(Registro!$E$7:$E$66,Registro!$F$7:$F$66,B33,Registro!$B$7:$B$66,">="&Panel!$D$5,Registro!$B$7:$B$66,"<="&Panel!$D$6) | E33: =IF($B$11=0,0,D33/$B$11)
B34: Mié | C34: =COUNTIFS(Registro!$F$7:$F$66,B34,Registro!$B$7:$B$66,">="&Panel!$D$5,Registro!$B$7:$B$66,"<="&Panel!$D$6) | D34: =SUMIFS(Registro!$E$7:$E$66,Registro!$F$7:$F$66,B34,Registro!$B$7:$B$66,">="&Panel!$D$5,Registro!$B$7:$B$66,"<="&Panel!$D$6) | E34: =IF($B$11=0,0,D34/$B$11)
B35: Jue | C35: =COUNTIFS(Registro!$F$7:$F$66,B35,Registro!$B$7:$B$66,">="&Panel!$D$5,Registro!$B$7:$B$66,"<="&Panel!$D$6) | D35: =SUMIFS(Registro!$E$7:$E$66,Registro!$F$7:$F$66,B35,Registro!$B$7:$B$66,">="&Panel!$D$5,Registro!$B$7:$B$66,"<="&Panel!$D$6) | E35: =IF($B$11=0,0,D35/$B$11)
B36: Vie | C36: =COUNTIFS(Registro!$F$7:$F$66,B36,Registro!$B$7:$B$66,">="&Panel!$D$5,Registro!$B$7:$B$66,"<="&Panel!$D$6) | D36: =SUMIFS(Registro!$E$7:$E$66,Registro!$F$7:$F$66,B36,Registro!$B$7:$B$66,">="&Panel!$D$5,Registro!$B$7:$B$66,"<="&Panel!$D$6) | E36: =IF($B$11=0,0,D36/$B$11)
B37: Sáb | C37: =COUNTIFS(Registro!$F$7:$F$66,B37,Registro!$B$7:$B$66,">="&Panel!$D$5,Registro!$B$7:$B$66,"<="&Panel!$D$6) | D37: =SUMIFS(Registro!$E$7:$E$66,Registro!$F$7:$F$66,B37,Registro!$B$7:$B$66,">="&Panel!$D$5,Registro!$B$7:$B$66,"<="&Panel!$D$6) | E37: =IF($B$11=0,0,D37/$B$11)
B38: Dom | C38: =COUNTIFS(Registro!$F$7:$F$66,B38,Registro!$B$7:$B$66,">="&Panel!$D$5,Registro!$B$7:$B$66,"<="&Panel!$D$6) | D38: =SUMIFS(Registro!$E$7:$E$66,Registro!$F$7:$F$66,B38,Registro!$B$7:$B$66,">="&Panel!$D$5,Registro!$B$7:$B$66,"<="&Panel!$D$6) | E38: =IF($B$11=0,0,D38/$B$11)
B39: ="Día con más gasto: "&INDEX(B32:B38,MATCH(MAX(D32:D38),D32:D38,0))
B43: EVOLUCIÓN POR SEMANAS DEL PERÍODO
B44: Semana | C44: Desde | D44: Hasta | E44: Total semana | F44: Media diaria
B45: 1 | C45: =IF($D$5+7*(B45-1)>$D$6,"",$D$5+7*(B45-1)) | D45: =IF(C45="","",MIN($D$6,C45+6)) | E45: =IF(C45="","",SUMIF(Registro!$G$7:$G$66,B45,Registro!$E$7:$E$66)) | F45: =IF(C45="","",E45/(D45-C45+1))
B46: 2 | C46: =IF($D$5+7*(B46-1)>$D$6,"",$D$5+7*(B46-1)) | D46: =IF(C46="","",MIN($D$6,C46+6)) | E46: =IF(C46="","",SUMIF(Registro!$G$7:$G$66,B46,Registro!$E$7:$E$66)) | F46: =IF(C46="","",E46/(D46-C46+1))
B47: 3 | C47: =IF($D$5+7*(B47-1)>$D$6,"",$D$5+7*(B47-1)) | D47: =IF(C47="","",MIN($D$6,C47+6)) | E47: =IF(C47="","",SUMIF(Registro!$G$7:$G$66,B47,Registro!$E$7:$E$66)) | F47: =IF(C47="","",E47/(D47-C47+1))
B48: 4 | C48: =IF($D$5+7*(B48-1)>$D$6,"",$D$5+7*(B48-1)) | D48: =IF(C48="","",MIN($D$6,C48+6)) | E48: =IF(C48="","",SUMIF(Registro!$G$7:$G$66,B48,Registro!$E$7:$E$66)) | F48: =IF(C48="","",E48/(D48-C48+1))
B49: 5 | C49: =IF($D$5+7*(B49-1)>$D$6,"",$D$5+7*(B49-1)) | D49: =IF(C49="","",MIN($D$6,C49+6)) | E49: =IF(C49="","",SUMIF(Registro!$G$7:$G$66,B49,Registro!$E$7:$E$66)) | F49: =IF(C49="","",E49/(D49-C49+1))
B50: El gráfico semanal cubre las 5 primeras semanas desde la fecha de inicio.

Sheet Registro
B2: Registro diario de gastos hormiga
B3: Apunta cada pequeño gasto: fecha, concepto, categoría e importe (celdas crema). El resto se calcula solo.
C4: Total de todos los registros | E4: =SUM(E7:E66)
B6: Fecha | C6: Concepto | D6: Categoría | E6: Importe | F6: Día | G6: Semana del período | H6: ¿En el período?
B7: 46266 | C7: Café con leche y tostada | D7: Cafés y desayunos | E7: 3.2 | F7: =IF(B7="","",MID("LunMarMiéJueVieSábDom",(WEEKDAY(B7,2)-1)*3+1,3)) | G7: =IF(OR(B7="",B7<Panel!$D$5,B7>Panel!$D$6),"",INT((B7-Panel!$D$5)/7)+1) | H7: =IF(B7="","",IF(AND(B7>=Panel!$D$5,B7<=Panel!$D$6),"Sí","No"))
B8: 46266 | C8: Galletas de la máquina | D8: Snacks y vending | E8: 1.5 | F8: =IF(B8="","",MID("LunMarMiéJueVieSábDom",(WEEKDAY(B8,2)-1)*3+1,3)) | G8: =IF(OR(B8="",B8<Panel!$D$5,B8>Panel!$D$6),"",INT((B8-Panel!$D$5)/7)+1) | H8: =IF(B8="","",IF(AND(B8>=Panel!$D$5,B8<=Panel!$D$6),"Sí","No"))
B9: 46267 | C9: Refresco en la oficina | D9: Bebidas | E9: 1.8 | F9: =IF(B9="","",MID("LunMarMiéJueVieSábDom",(WEEKDAY(B9,2)-1)*3+1,3)) | G9: =IF(OR(B9="",B9<Panel!$D$5,B9>Panel!$D$6),"",INT((B9-Panel!$D$5)/7)+1) | H9: =IF(B9="","",IF(AND(B9>=Panel!$D$5,B9<=Panel!$D$6),"Sí","No"))
B10: 46268 | C10: Café para llevar | D10: Cafés y desayunos | E10: 1.6 | F10: =IF(B10="","",MID("LunMarMiéJueVieSábDom",(WEEKDAY(B10,2)-1)*3+1,3)) | G10: =IF(OR(B10="",B10<Panel!$D$5,B10>Panel!$D$6),"",INT((B10-Panel!$D$5)/7)+1) | H10: =IF(B10="","",IF(AND(B10>=Panel!$D$5,B10<=Panel!$D$6),"Sí","No"))
B11: 46268 | C11: Bollería de la panadería | D11: Snacks y vending | E11: 2.1 | F11: =IF(B11="","",MID("LunMarMiéJueVieSábDom",(WEEKDAY(B11,2)-1)*3+1,3)) | G11: =IF(OR(B11="",B11<Panel!$D$5,B11>Panel!$D$6),"",INT((B11-Panel!$D$5)/7)+1) | H11: =IF(B11="","",IF(AND(B11>=Panel!$D$5,B11<=Panel!$D$6),"Sí","No"))
B12: 46269 | C12: Patinete compartido | D12: Transporte suelto | E12: 3.8 | F12: =IF(B12="","",MID("LunMarMiéJueVieSábDom",(WEEKDAY(B12,2)-1)*3+1,3)) | G12: =IF(OR(B12="",B12<Panel!$D$5,B12>Panel!$D$6),"",INT((B12-Panel!$D$5)/7)+1) | H12: =IF(B12="","",IF(AND(B12>=Panel!$D$5,B12<=Panel!$D$6),"Sí","No"))
B13: 46270 | C13: Hamburguesa para llevar | D13: Comida para llevar | E13: 8.9 | F13: =IF(B13="","",MID("LunMarMiéJueVieSábDom",(WEEKDAY(B13,2)-1)*3+1,3)) | G13: =IF(OR(B13="",B13<Panel!$D$5,B13>Panel!$D$6),"",INT((B13-Panel!$D$5)/7)+1) | H13: =IF(B13="","",IF(AND(B13>=Panel!$D$5,B13<=Panel!$D$6),"Sí","No"))
B14: 46272 | C14: Café con leche y tostada | D14: Cafés y desayunos | E14: 3.2 | F14: =IF(B14="","",MID("LunMarMiéJueVieSábDom",(WEEKDAY(B14,2)-1)*3+1,3)) | G14: =IF(OR(B14="",B14<Panel!$D$5,B14>Panel!$D$6),"",INT((B14-Panel!$D$5)/7)+1) | H14: =IF(B14="","",IF(AND(B14>=Panel!$D$5,B14<=Panel!$D$6),"Sí","No"))
B15: 46273 | C15: Botella de agua en el kiosco | D15: Bebidas | E15: 1.5 | F15: =IF(B15="","",MID("LunMarMiéJueVieSábDom",(WEEKDAY(B15,2)-1)*3+1,3)) | G15: =IF(OR(B15="",B15<Panel!$D$5,B15>Panel!$D$6),"",INT((B15-Panel!$D$5)/7)+1) | H15: =IF(B15="","",IF(AND(B15>=Panel!$D$5,B15<=Panel!$D$6),"Sí","No"))
B16: 46274 | C16: Compra in-app juego móvil | D16: Apps y compras in-app | E16: 4.99 | F16: =IF(B16="","",MID("LunMarMiéJueVieSábDom",(WEEKDAY(B16,2)-1)*3+1,3)) | G16: =IF(OR(B16="",B16<Panel!$D$5,B16>Panel!$D$6),"",INT((B16-Panel!$D$5)/7)+1) | H16: =IF(B16="","",IF(AND(B16>=Panel!$D$5,B16<=Panel!$D$6),"Sí","No"))
B17: 46275 | C17: Café para llevar | D17: Cafés y desayunos | E17: 1.6 | F17: =IF(B17="","",MID("LunMarMiéJueVieSábDom",(WEEKDAY(B17,2)-1)*3+1,3)) | G17: =IF(OR(B17="",B17<Panel!$D$5,B17>Panel!$D$6),"",INT((B17-Panel!$D$5)/7)+1) | H17: =IF(B17="","",IF(AND(B17>=Panel!$D$5,B17<=Panel!$D$6),"Sí","No"))
B18: 46275 | C18: Barrita de chocolate | D18: Snacks y vending | E18: 1.2 | F18: =IF(B18="","",MID("LunMarMiéJueVieSábDom",(WEEKDAY(B18,2)-1)*3+1,3)) | G18: =IF(OR(B18="",B18<Panel!$D$5,B18>Panel!$D$6),"",INT((B18-Panel!$D$5)/7)+1) | H18: =IF(B18="","",IF(AND(B18>=Panel!$D$5,B18<=Panel!$D$6),"Sí","No"))
... B38: 46295 | C38: Parking de zona azul | D38: Transporte suelto | E38: 2.4 | F38: =IF(B38="","",MID("LunMarMiéJueVieSábDom",(WEEKDAY(B38,2)-1)*3+1,3)) | G38: =IF(OR(B38="",B38<Panel!$D$5,B38>Panel!$D$6),"",INT((B38-Panel!$D$5)/7)+1) | H38: =IF(B38="","",IF(AND(B38>=Panel!$D$5,B38<=Panel!$D$6),"Sí","No"))
F39: =IF(B39="","",MID("LunMarMiéJueVieSábDom",(WEEKDAY(B39,2)-1)*3+1,3)) | G39: =IF(OR(B39="",B39<Panel!$D$5,B39>Panel!$D$6),"",INT((B39-Panel!$D$5)/7)+1) | H39: =IF(B39="","",IF(AND(B39>=Panel!$D$5,B39<=Panel!$D$6),"Sí","No"))
F40: =IF(B40="","",MID("LunMarMiéJueVieSábDom",(WEEKDAY(B40,2)-1)*3+1,3)) | G40: =IF(OR(B40="",B40<Panel!$D$5,B40>Panel!$D$6),"",INT((B40-Panel!$D$5)/7)+1) | H40: =IF(B40="","",IF(AND(B40>=Panel!$D$5,B40<=Panel!$D$6),"Sí","No"))
F41: =IF(B41="","",MID("LunMarMiéJueVieSábDom",(WEEKDAY(B41,2)-1)*3+1,3)) | G41: =IF(OR(B41="",B41<Panel!$D$5,B41>Panel!$D$6),"",INT((B41-Panel!$D$5)/7)+1) | H41: =IF(B41="","",IF(AND(B41>=Panel!$D$5,B41<=Panel!$D$6),"Sí","No"))
F42: =IF(B42="","",MID("LunMarMiéJueVieSábDom",(WEEKDAY(B42,2)-1)*3+1,3)) | G42: =IF(OR(B42="",B42<Panel!$D$5,B42>Panel!$D$6),"",INT((B42-Panel!$D$5)/7)+1) | H42: =IF(B42="","",IF(AND(B42>=Panel!$D$5,B42<=Panel!$D$6),"Sí","No"))
F43: =IF(B43="","",MID("LunMarMiéJueVieSábDom",(WEEKDAY(B43,2)-1)*3+1,3)) | G43: =IF(OR(B43="",B43<Panel!$D$5,B43>Panel!$D$6),"",INT((B43-Panel!$D$5)/7)+1) | H43: =IF(B43="","",IF(AND(B43>=Panel!$D$5,B43<=Panel!$D$6),"Sí","No"))
F44: =IF(B44="","",MID("LunMarMiéJueVieSábDom",(WEEKDAY(B44,2)-1)*3+1,3)) | G44: =IF(OR(B44="",B44<Panel!$D$5,B44>Panel!$D$6),"",INT((B44-Panel!$D$5)/7)+1) | H44: =IF(B44="","",IF(AND(B44>=Panel!$D$5,B44<=Panel!$D$6),"Sí","No"))
F45: =IF(B45="","",MID("LunMarMiéJueVieSábDom",(WEEKDAY(B45,2)-1)*3+1,3)) | G45: =IF(OR(B45="",B45<Panel!$D$5,B45>Panel!$D$6),"",INT((B45-Panel!$D$5)/7)+1) | H45: =IF(B45="","",IF(AND(B45>=Panel!$D$5,B45<=Panel!$D$6),"Sí","No"))
F46: =IF(B46="","",MID("LunMarMiéJueVieSábDom",(WEEKDAY(B46,2)-1)*3+1,3)) | G46: =IF(OR(B46="",B46<Panel!$D$5,B46>Panel!$D$6),"",INT((B46-Panel!$D$5)/7)+1) | H46: =IF(B46="","",IF(AND(B46>=Panel!$D$5,B46<=Panel!$D$6),"Sí","No"))
F47: =IF(B47="","",MID("LunMarMiéJueVieSábDom",(WEEKDAY(B47,2)-1)*3+1,3)) | G47: =IF(OR(B47="",B47<Panel!$D$5,B47>Panel!$D$6),"",INT((B47-Panel!$D$5)/7)+1) | H47: =IF(B47="","",IF(AND(B47>=Panel!$D$5,B47<=Panel!$D$6),"Sí","No"))
F48: =IF(B48="","",MID("LunMarMiéJueVieSábDom",(WEEKDAY(B48,2)-1)*3+1,3)) | G48: =IF(OR(B48="",B48<Panel!$D$5,B48>Panel!$D$6),"",INT((B48-Panel!$D$5)/7)+1) | H48: =IF(B48="","",IF(AND(B48>=Panel!$D$5,B48<=Panel!$D$6),"Sí","No"))
F49: =IF(B49="","",MID("LunMarMiéJueVieSábDom",(WEEKDAY(B49,2)-1)*3+1,3)) | G49: =IF(OR(B49="",B49<Panel!$D$5,B49>Panel!$D$6),"",INT((B49-Panel!$D$5)/7)+1) | H49: =IF(B49="","",IF(AND(B49>=Panel!$D$5,B49<=Panel!$D$6),"Sí","No"))
F50: =IF(B50="","",MID("LunMarMiéJueVieSábDom",(WEEKDAY(B50,2)-1)*3+1,3)) | G50: =IF(OR(B50="",B50<Panel!$D$5,B50>Panel!$D$6),"",INT((B50-Panel!$D$5)/7)+1) | H50: =IF(B50="","",IF(AND(B50>=Panel!$D$5,B50<=Panel!$D$6),"Sí","No"))
... F66: =IF(B66="","",MID("LunMarMiéJueVieSábDom",(WEEKDAY(B66,2)-1)*3+1,3)) | G66: =IF(OR(B66="",B66<Panel!$D$5,B66>Panel!$D$6),"",INT((B66-Panel!$D$5)/7)+1) | H66: =IF(B66="","",IF(AND(B66>=Panel!$D$5,B66<=Panel!$D$6),"Sí","No"))
B68: En ámbar: gastos que triplican o más la media de tus registros. «¿En el período?» indica si cuenta en el Panel (según las fechas D5 y D6 del Panel).

Sheet Categorías
B2: Categorías y ahorro potencial
B3: Define tus categorías (celdas crema) y el porcentaje que te propones recortar en cada una.
B4: Las cifras se calculan para el período fijado en el Panel (celdas D5 y D6). Cambia el % de reducción para ver cuánto ahorrarías al año.
B7: Categoría | C7: Nº gastos | D7: Total período | E7: % del total | F7: Gasto medio | G7: Proyección anual | H7: % de reducción | I7: Ahorro anual potencial | J7: Ranking
B8: Cafés y desayunos | C8: =IF(B8="","",COUNTIFS(Registro!$D$7:$D$66,B8,Registro!$B$7:$B$66,">="&Panel!$D$5,Registro!$B$7:$B$66,"<="&Panel!$D$6)) | D8: =IF(B8="","",SUMIFS(Registro!$E$7:$E$66,Registro!$D$7:$D$66,B8,Registro!$B$7:$B$66,">="&Panel!$D$5,Registro!$B$7:$B$66,"<="&Panel!$D$6)) | E8: =IF(B8="","",IF($D$18=0,0,D8/$D$18)) | F8: =IF(B8="","",IF(C8=0,0,D8/C8)) | G8: =IF(B8="","",D8/Panel!$D$8*365) | H8: 0.5 | I8: =IF(B8="","",ROUND(G8*N(H8),2)) | J8: =IF(B8="","",RANK(D8,$D$8:$D$17)+COUNTIF($D$8:D8,D8)-1)
B9: Snacks y vending | C9: =IF(B9="","",COUNTIFS(Registro!$D$7:$D$66,B9,Registro!$B$7:$B$66,">="&Panel!$D$5,Registro!$B$7:$B$66,"<="&Panel!$D$6)) | D9: =IF(B9="","",SUMIFS(Registro!$E$7:$E$66,Registro!$D$7:$D$66,B9,Registro!$B$7:$B$66,">="&Panel!$D$5,Registro!$B$7:$B$66,"<="&Panel!$D$6)) | E9: =IF(B9="","",IF($D$18=0,0,D9/$D$18)) | F9: =IF(B9="","",IF(C9=0,0,D9/C9)) | G9: =IF(B9="","",D9/Panel!$D$8*365) | H9: 0.6 | I9: =IF(B9="","",ROUND(G9*N(H9),2)) | J9: =IF(B9="","",RANK(D9,$D$8:$D$17)+COUNTIF($D$8:D9,D9)-1)
B10: Bebidas | C10: =IF(B10="","",COUNTIFS(Registro!$D$7:$D$66,B10,Registro!$B$7:$B$66,">="&Panel!$D$5,Registro!$B$7:$B$66,"<="&Panel!$D$6)) | D10: =IF(B10="","",SUMIFS(Registro!$E$7:$E$66,Registro!$D$7:$D$66,B10,Registro!$B$7:$B$66,">="&Panel!$D$5,Registro!$B$7:$B$66,"<="&Panel!$D$6)) | E10: =IF(B10="","",IF($D$18=0,0,D10/$D$18)) | F10: =IF(B10="","",IF(C10=0,0,D10/C10)) | G10: =IF(B10="","",D10/Panel!$D$8*365) | H10: 0.5 | I10: =IF(B10="","",ROUND(G10*N(H10),2)) | J10: =IF(B10="","",RANK(D10,$D$8:$D$17)+COUNTIF($D$8:D10,D10)-1)
B11: Apps y compras in-app | C11: =IF(B11="","",COUNTIFS(Registro!$D$7:$D$66,B11,Registro!$B$7:$B$66,">="&Panel!$D$5,Registro!$B$7:$B$66,"<="&Panel!$D$6)) | D11: =IF(B11="","",SUMIFS(Registro!$E$7:$E$66,Registro!$D$7:$D$66,B11,Registro!$B$7:$B$66,">="&Panel!$D$5,Registro!$B$7:$B$66,"<="&Panel!$D$6)) | E11: =IF(B11="","",IF($D$18=0,0,D11/$D$18)) | F11: =IF(B11="","",IF(C11=0,0,D11/C11)) | G11: =IF(B11="","",D11/Panel!$D$8*365) | H11: 0.4 | I11: =IF(B11="","",ROUND(G11*N(H11),2)) | J11: =IF(B11="","",RANK(D11,$D$8:$D$17)+COUNTIF($D$8:D11,D11)-1)
B12: Comida para llevar | C12: =IF(B12="","",COUNTIFS(Registro!$D$7:$D$66,B12,Registro!$B$7:$B$66,">="&Panel!$D$5,Registro!$B$7:$B$66,"<="&Panel!$D$6)) | D12: =IF(B12="","",SUMIFS(Registro!$E$7:$E$66,Registro!$D$7:$D$66,B12,Registro!$B$7:$B$66,">="&Panel!$D$5,Registro!$B$7:$B$66,"<="&Panel!$D$6)) | E12: =IF(B12="","",IF($D$18=0,0,D12/$D$18)) | F12: =IF(B12="","",IF(C12=0,0,D12/C12)) | G12: =IF(B12="","",D12/Panel!$D$8*365) | H12: 0.4 | I12: =IF(B12="","",ROUND(G12*N(H12),2)) | J12: =IF(B12="","",RANK(D12,$D$8:$D$17)+COUNTIF($D$8:D12,D12)-1)
B13: Compras impulso | C13: =IF(B13="","",COUNTIFS(Registro!$D$7:$D$66,B13,Registro!$B$7:$B$66,">="&Panel!$D$5,Registro!$B$7:$B$66,"<="&Panel!$D$6)) | D13: =IF(B13="","",SUMIFS(Registro!$E$7:$E$66,Registro!$D$7:$D$66,B13,Registro!$B$7:$B$66,">="&Panel!$D$5,Registro!$B$7:$B$66,"<="&Panel!$D$6)) | E13: =IF(B13="","",IF($D$18=0,0,D13/$D$18)) | F13: =IF(B13="","",IF(C13=0,0,D13/C13)) | G13: =IF(B13="","",D13/Panel!$D$8*365) | H13: 0.5 | I13: =IF(B13="","",ROUND(G13*N(H13),2)) | J13: =IF(B13="","",RANK(D13,$D$8:$D$17)+COUNTIF($D$8:D13,D13)-1)
B14: Transporte suelto | C14: =IF(B14="","",COUNTIFS(Registro!$D$7:$D$66,B14,Registro!$B$7:$B$66,">="&Panel!$D$5,Registro!$B$7:$B$66,"<="&Panel!$D$6)) | D14: =IF(B14="","",SUMIFS(Registro!$E$7:$E$66,Registro!$D$7:$D$66,B14,Registro!$B$7:$B$66,">="&Panel!$D$5,Registro!$B$7:$B$66,"<="&Panel!$D$6)) | E14: =IF(B14="","",IF($D$18=0,0,D14/$D$18)) | F14: =IF(B14="","",IF(C14=0,0,D14/C14)) | G14: =IF(B14="","",D14/Panel!$D$8*365) | H14: 0.2 | I14: =IF(B14="","",ROUND(G14*N(H14),2)) | J14: =IF(B14="","",RANK(D14,$D$8:$D$17)+COUNTIF($D$8:D14,D14)-1)
B15: Otros | C15: =IF(B15="","",COUNTIFS(Registro!$D$7:$D$66,B15,Registro!$B$7:$B$66,">="&Panel!$D$5,Registro!$B$7:$B$66,"<="&Panel!$D$6)) | D15: =IF(B15="","",SUMIFS(Registro!$E$7:$E$66,Registro!$D$7:$D$66,B15,Registro!$B$7:$B$66,">="&Panel!$D$5,Registro!$B$7:$B$66,"<="&Panel!$D$6)) | E15: =IF(B15="","",IF($D$18=0,0,D15/$D$18)) | F15: =IF(B15="","",IF(C15=0,0,D15/C15)) | G15: =IF(B15="","",D15/Panel!$D$8*365) | H15: 0.25 | I15: =IF(B15="","",ROUND(G15*N(H15),2)) | J15: =IF(B15="","",RANK(D15,$D$8:$D$17)+COUNTIF($D$8:D15,D15)-1)
C16: =IF(B16="","",COUNTIFS(Registro!$D$7:$D$66,B16,Registro!$B$7:$B$66,">="&Panel!$D$5,Registro!$B$7:$B$66,"<="&Panel!$D$6)) | D16: =IF(B16="","",SUMIFS(Registro!$E$7:$E$66,Registro!$D$7:$D$66,B16,Registro!$B$7:$B$66,">="&Panel!$D$5,Registro!$B$7:$B$66,"<="&Panel!$D$6)) | E16: =IF(B16="","",IF($D$18=0,0,D16/$D$18)) | F16: =IF(B16="","",IF(C16=0,0,D16/C16)) | G16: =IF(B16="","",D16/Panel!$D$8*365) | I16: =IF(B16="","",ROUND(G16*N(H16),2)) | J16: =IF(B16="","",RANK(D16,$D$8:$D$17)+COUNTIF($D$8:D16,D16)-1)
C17: =IF(B17="","",COUNTIFS(Registro!$D$7:$D$66,B17,Registro!$B$7:$B$66,">="&Panel!$D$5,Registro!$B$7:$B$66,"<="&Panel!$D$6)) | D17: =IF(B17="","",SUMIFS(Registro!$E$7:$E$66,Registro!$D$7:$D$66,B17,Registro!$B$7:$B$66,">="&Panel!$D$5,Registro!$B$7:$B$66,"<="&Panel!$D$6)) | E17: =IF(B17="","",IF($D$18=0,0,D17/$D$18)) | F17: =IF(B17="","",IF(C17=0,0,D17/C17)) | G17: =IF(B17="","",D17/Panel!$D$8*365) | I17: =IF(B17="","",ROUND(G17*N(H17),2)) | J17: =IF(B17="","",RANK(D17,$D$8:$D$17)+COUNTIF($D$8:D17,D17)-1)
B18: Total | C18: =SUM(C8:C17) | D18: =SUM(D8:D17) | E18: =SUM(E8:E17) | F18: =IF(C18=0,0,D18/C18) | G18: =SUM(G8:G17) | H18: =IF(G18=0,0,I18/G18) | I18: =SUM(I8:I17)
B19: Importe sin categoría válida | D19: =ROUND(Panel!$B$11-D18,2) | E19: =IF(D19=0,"Todo está bien categorizado.","Revisa el Registro: hay gastos sin categoría o con una categoría que no está en esta lista.")

Sheet Instrucciones
B2: Cómo usar la plantilla de control de gastos hormiga
B3: Plantilla gratuita de Plantillas de Cálculo · plantillasdecalculo.com
B5: CÓMO USARLA
B6: 1. Hoja «Categorías», celdas B8:B17: revisa las categorías de ejemplo (café, snacks, bebidas…) y cámbialas por las tuyas. Admite hasta 10; las que dejes vacías no cuentan.
B7: 2. Hoja «Registro», a partir de la fila 7: apunta cada gasto pequeño con su fecha, un concepto corto, la categoría (desplegable) y el importe. Hay 60 filas listas; borra los ejemplos.
B8: 3. Registra el gasto el mismo día, aunque sean 1,50 €: lo importante de un gasto hormiga es que no se te escape. La columna «Día» y la «Semana del período» se rellenan solas.
B9: 4. Hoja «Panel», celdas D5 y D6: indica el período que quieres analizar (por ejemplo, un mes natural). Todo el Panel se recalcula con esas fechas.
B10: 5. Celda D7 del Panel: escribe el tope mensual que quieres darte para este tipo de gastos. El indicador «Uso del tope mensual» se pondrá en rojo si tu ritmo lo supera.
B11: 6. Hoja «Categorías», columna H: fija el porcentaje que te propones reducir en cada categoría. La columna «Ahorro anual potencial» te dice cuánto representaría al año.
B12: 7. Mira el Panel: gastado en el período, media diaria, proyección mensual y anual, ranking de categorías y día de la semana con más gasto. Empieza por recortar la categoría número 1.
B13: 8. Repite el análisis cada mes cambiando las fechas del Panel, o añade más meses al Registro y analiza todo el trimestre.
B15: CONSEJOS
... B24: Aviso: plantilla educativa para registrar y organizar tus pequeños gastos. No constituye asesoramiento financiero ni sustituye a un profesional. Las proyecciones son estimaciones basadas en tus propios datos.
