Workbook

Sheet Panel
B2: Panel Leitner
B3: Qué toca repasar hoy, cómo están repartidas tus tarjetas en las 5 cajas y tu porcentaje de acierto.
B5: PARA REPASAR HOY | C5: TARJETAS TOTALES | E5: % ACIERTO GLOBAL | G5: DOMINADAS (CAJA 5)
B6: =COUNTIF(Tarjetas!$O$8:$O$47,1) | C6: =COUNT(Tarjetas!$B$8:$B$47) | E6: =IF(SUM(Tarjetas!$H$8:$H$47)+SUM(Tarjetas!$I$8:$I$47)=0,0,SUM(Tarjetas!$H$8:$H$47)/(SUM(Tarjetas!$H$8:$H$47)+SUM(Tarjetas!$I$8:$I$47))) | G6: =COUNTIF(Tarjetas!$Q$8:$Q$47,5)
B9: LAS 5 CAJAS (EDITA CADA CUÁNTOS DÍAS SE REVISA CADA UNA)
B10: Caja | C10: Revisar cada (días) | D10: Tarjetas | E10: Para repasar hoy | F10: % del total
B11: Caja 1 | C11: 1 | D11: =COUNTIF(Tarjetas!$Q$8:$Q$47,1) | E11: =COUNTIFS(Tarjetas!$Q$8:$Q$47,1,Tarjetas!$O$8:$O$47,1) | F11: =IF($D$16=0,0,D11/$D$16)
B12: Caja 2 | C12: 3 | D12: =COUNTIF(Tarjetas!$Q$8:$Q$47,2) | E12: =COUNTIFS(Tarjetas!$Q$8:$Q$47,2,Tarjetas!$O$8:$O$47,1) | F12: =IF($D$16=0,0,D12/$D$16)
B13: Caja 3 | C13: 7 | D13: =COUNTIF(Tarjetas!$Q$8:$Q$47,3) | E13: =COUNTIFS(Tarjetas!$Q$8:$Q$47,3,Tarjetas!$O$8:$O$47,1) | F13: =IF($D$16=0,0,D13/$D$16)
B14: Caja 4 | C14: 14 | D14: =COUNTIF(Tarjetas!$Q$8:$Q$47,4) | E14: =COUNTIFS(Tarjetas!$Q$8:$Q$47,4,Tarjetas!$O$8:$O$47,1) | F14: =IF($D$16=0,0,D14/$D$16)
B15: Caja 5 | C15: 30 | D15: =COUNTIF(Tarjetas!$Q$8:$Q$47,5) | E15: =COUNTIFS(Tarjetas!$Q$8:$Q$47,5,Tarjetas!$O$8:$O$47,1) | F15: =IF($D$16=0,0,D15/$D$16)
B16: Total | D16: =SUM(D11:D15) | E16: =SUM(E11:E15) | F16: =SUM(F11:F15)
B18: ESTADO DE LA COLECCIÓN
B19: Nuevas (sin repasar) | C19: Atrasadas | D19: Toca hoy | E19: Próximos 7 días | F19: Sesiones en 7 días | G19: Días desde el último repaso
B20: =COUNTIF(Tarjetas!$L$8:$L$47,"Nueva") | C20: =COUNTIF(Tarjetas!$L$8:$L$47,"Atrasada") | D20: =COUNTIF(Tarjetas!$L$8:$L$47,"Hoy") | E20: =COUNTIFS(Tarjetas!$K$8:$K$47,">"&Tarjetas!$C$5,Tarjetas!$K$8:$K$47,"<="&Tarjetas!$C$5+7) | F20: =COUNTIFS(Repasos!$B$8:$B$47,">="&Tarjetas!$C$5-6,Repasos!$B$8:$B$47,"<="&Tarjetas!$C$5) | G20: =IF(COUNT(Repasos!$B$8:$B$47)=0,"-",Tarjetas!$C$5-MAX(Repasos!$B$8:$B$47))
B22: LAS PRIMERAS 10 TARJETAS PARA REPASAR HOY
B23: Mazo | C23: Pregunta | G23: Caja | H23: Estado | I23: Días de retraso
B24: =IF($K24="","",INDEX(Tarjetas!$C$8:$C$47,$K24)) | C24: =IF($K24="","",INDEX(Tarjetas!$D$8:$D$47,$K24)) | G24: =IF($K24="","",INDEX(Tarjetas!$Q$8:$Q$47,$K24)) | H24: =IF($K24="","",INDEX(Tarjetas!$L$8:$L$47,$K24)) | I24: =IF($K24="","",INDEX(Tarjetas!$M$8:$M$47,$K24)) | K24: =IFERROR(MATCH(1,Tarjetas!$P$8:$P$47,0),"")
B25: =IF($K25="","",INDEX(Tarjetas!$C$8:$C$47,$K25)) | C25: =IF($K25="","",INDEX(Tarjetas!$D$8:$D$47,$K25)) | G25: =IF($K25="","",INDEX(Tarjetas!$Q$8:$Q$47,$K25)) | H25: =IF($K25="","",INDEX(Tarjetas!$L$8:$L$47,$K25)) | I25: =IF($K25="","",INDEX(Tarjetas!$M$8:$M$47,$K25)) | K25: =IFERROR(MATCH(2,Tarjetas!$P$8:$P$47,0),"")
B26: =IF($K26="","",INDEX(Tarjetas!$C$8:$C$47,$K26)) | C26: =IF($K26="","",INDEX(Tarjetas!$D$8:$D$47,$K26)) | G26: =IF($K26="","",INDEX(Tarjetas!$Q$8:$Q$47,$K26)) | H26: =IF($K26="","",INDEX(Tarjetas!$L$8:$L$47,$K26)) | I26: =IF($K26="","",INDEX(Tarjetas!$M$8:$M$47,$K26)) | K26: =IFERROR(MATCH(3,Tarjetas!$P$8:$P$47,0),"")
B27: =IF($K27="","",INDEX(Tarjetas!$C$8:$C$47,$K27)) | C27: =IF($K27="","",INDEX(Tarjetas!$D$8:$D$47,$K27)) | G27: =IF($K27="","",INDEX(Tarjetas!$Q$8:$Q$47,$K27)) | H27: =IF($K27="","",INDEX(Tarjetas!$L$8:$L$47,$K27)) | I27: =IF($K27="","",INDEX(Tarjetas!$M$8:$M$47,$K27)) | K27: =IFERROR(MATCH(4,Tarjetas!$P$8:$P$47,0),"")
B28: =IF($K28="","",INDEX(Tarjetas!$C$8:$C$47,$K28)) | C28: =IF($K28="","",INDEX(Tarjetas!$D$8:$D$47,$K28)) | G28: =IF($K28="","",INDEX(Tarjetas!$Q$8:$Q$47,$K28)) | H28: =IF($K28="","",INDEX(Tarjetas!$L$8:$L$47,$K28)) | I28: =IF($K28="","",INDEX(Tarjetas!$M$8:$M$47,$K28)) | K28: =IFERROR(MATCH(5,Tarjetas!$P$8:$P$47,0),"")
B29: =IF($K29="","",INDEX(Tarjetas!$C$8:$C$47,$K29)) | C29: =IF($K29="","",INDEX(Tarjetas!$D$8:$D$47,$K29)) | G29: =IF($K29="","",INDEX(Tarjetas!$Q$8:$Q$47,$K29)) | H29: =IF($K29="","",INDEX(Tarjetas!$L$8:$L$47,$K29)) | I29: =IF($K29="","",INDEX(Tarjetas!$M$8:$M$47,$K29)) | K29: =IFERROR(MATCH(6,Tarjetas!$P$8:$P$47,0),"")
B30: =IF($K30="","",INDEX(Tarjetas!$C$8:$C$47,$K30)) | C30: =IF($K30="","",INDEX(Tarjetas!$D$8:$D$47,$K30)) | G30: =IF($K30="","",INDEX(Tarjetas!$Q$8:$Q$47,$K30)) | H30: =IF($K30="","",INDEX(Tarjetas!$L$8:$L$47,$K30)) | I30: =IF($K30="","",INDEX(Tarjetas!$M$8:$M$47,$K30)) | K30: =IFERROR(MATCH(7,Tarjetas!$P$8:$P$47,0),"")
B31: =IF($K31="","",INDEX(Tarjetas!$C$8:$C$47,$K31)) | C31: =IF($K31="","",INDEX(Tarjetas!$D$8:$D$47,$K31)) | G31: =IF($K31="","",INDEX(Tarjetas!$Q$8:$Q$47,$K31)) | H31: =IF($K31="","",INDEX(Tarjetas!$L$8:$L$47,$K31)) | I31: =IF($K31="","",INDEX(Tarjetas!$M$8:$M$47,$K31)) | K31: =IFERROR(MATCH(8,Tarjetas!$P$8:$P$47,0),"")
B32: =IF($K32="","",INDEX(Tarjetas!$C$8:$C$47,$K32)) | C32: =IF($K32="","",INDEX(Tarjetas!$D$8:$D$47,$K32)) | G32: =IF($K32="","",INDEX(Tarjetas!$Q$8:$Q$47,$K32)) | H32: =IF($K32="","",INDEX(Tarjetas!$L$8:$L$47,$K32)) | I32: =IF($K32="","",INDEX(Tarjetas!$M$8:$M$47,$K32)) | K32: =IFERROR(MATCH(9,Tarjetas!$P$8:$P$47,0),"")
B33: =IF($K33="","",INDEX(Tarjetas!$C$8:$C$47,$K33)) | C33: =IF($K33="","",INDEX(Tarjetas!$D$8:$D$47,$K33)) | G33: =IF($K33="","",INDEX(Tarjetas!$Q$8:$Q$47,$K33)) | H33: =IF($K33="","",INDEX(Tarjetas!$L$8:$L$47,$K33)) | I33: =IF($K33="","",INDEX(Tarjetas!$M$8:$M$47,$K33)) | K33: =IFERROR(MATCH(10,Tarjetas!$P$8:$P$47,0),"")
B34: Si hoy hay más de 10 tarjetas pendientes, filtra la columna «Estado» en la hoja «Tarjetas» para verlas todas.
B36: TARJETAS POR CAJA

Sheet Tarjetas
B2: Tarjetas Leitner
B3: Una fila por tarjeta: escribe mazo, pregunta, respuesta, caja (1-5) y la fecha de tu último repaso. La próxima revisión se calcula sola.
B5: Hoy: | C5: =TODAY() | D5: Las tarjetas «Nueva», «Hoy» y «Atrasada» son las que toca repasar.
B7: Nº | C7: Mazo | D7: Pregunta | E7: Respuesta | F7: Caja (1-5) | G7: Último repaso | H7: Aciertos | I7: Fallos | J7: % acierto | K7: Próxima revisión | L7: Estado | M7: Días de retraso | N7: Caja si aciertas | O7: Repasar | P7: Orden | Q7: Caja ef.
B8: =IF(D8="","",ROW()-7) | C8: Inglés: phrasal verbs | D8: ¿Qué significa «give up»? | E8: Rendirse / dejar de hacer algo | F8: 3 | G8: 46287 | H8: 4 | I8: 1 | J8: =IF(D8="","",IF(N(H8)+N(I8)=0,"",N(H8)/(N(H8)+N(I8)))) | K8: =IF(OR(D8="",G8=""),"",G8+INDEX(Panel!$C$11:$C$15,Q8)) | L8: =IF(D8="","",IF(G8="","Nueva",IF(K8<$C$5,"Atrasada",IF(K8=$C$5,"Hoy","Al día")))) | M8: =IF(K8="","",$C$5-K8) | N8: =IF(D8="","",MIN(5,Q8+1)) | O8: =IF(L8="","",IF(L8="Al día",0,1)) | P8: =IF(O8=1,COUNTIF($O$8:O8,1),"") | Q8: =IF(D8="","",IF(OR(F8="",F8<1,F8>5),1,INT(F8)))
B9: =IF(D9="","",ROW()-7) | C9: Inglés: phrasal verbs | D9: «Look forward to» | E9: Tener ganas de / esperar con ilusión | F9: 4 | G9: 46290 | H9: 5 | I9: 0 | J9: =IF(D9="","",IF(N(H9)+N(I9)=0,"",N(H9)/(N(H9)+N(I9)))) | K9: =IF(OR(D9="",G9=""),"",G9+INDEX(Panel!$C$11:$C$15,Q9)) | L9: =IF(D9="","",IF(G9="","Nueva",IF(K9<$C$5,"Atrasada",IF(K9=$C$5,"Hoy","Al día")))) | M9: =IF(K9="","",$C$5-K9) | N9: =IF(D9="","",MIN(5,Q9+1)) | O9: =IF(L9="","",IF(L9="Al día",0,1)) | P9: =IF(O9=1,COUNTIF($O$8:O9,1),"") | Q9: =IF(D9="","",IF(OR(F9="",F9<1,F9>5),1,INT(F9)))
B10: =IF(D10="","",ROW()-7) | C10: Inglés: phrasal verbs | D10: «Run out of» | E10: Quedarse sin | F10: 1 | G10: 46296 | H10: 2 | I10: 3 | J10: =IF(D10="","",IF(N(H10)+N(I10)=0,"",N(H10)/(N(H10)+N(I10)))) | K10: =IF(OR(D10="",G10=""),"",G10+INDEX(Panel!$C$11:$C$15,Q10)) | L10: =IF(D10="","",IF(G10="","Nueva",IF(K10<$C$5,"Atrasada",IF(K10=$C$5,"Hoy","Al día")))) | M10: =IF(K10="","",$C$5-K10) | N10: =IF(D10="","",MIN(5,Q10+1)) | O10: =IF(L10="","",IF(L10="Al día",0,1)) | P10: =IF(O10=1,COUNTIF($O$8:O10,1),"") | Q10: =IF(D10="","",IF(OR(F10="",F10<1,F10>5),1,INT(F10)))
B11: =IF(D11="","",ROW()-7) | C11: Inglés: phrasal verbs | D11: «Put off» | E11: Aplazar | F11: 2 | G11: 46293 | H11: 3 | I11: 2 | J11: =IF(D11="","",IF(N(H11)+N(I11)=0,"",N(H11)/(N(H11)+N(I11)))) | K11: =IF(OR(D11="",G11=""),"",G11+INDEX(Panel!$C$11:$C$15,Q11)) | L11: =IF(D11="","",IF(G11="","Nueva",IF(K11<$C$5,"Atrasada",IF(K11=$C$5,"Hoy","Al día")))) | M11: =IF(K11="","",$C$5-K11) | N11: =IF(D11="","",MIN(5,Q11+1)) | O11: =IF(L11="","",IF(L11="Al día",0,1)) | P11: =IF(O11=1,COUNTIF($O$8:O11,1),"") | Q11: =IF(D11="","",IF(OR(F11="",F11<1,F11>5),1,INT(F11)))
B12: =IF(D12="","",ROW()-7) | C12: Inglés: phrasal verbs | D12: «Come across» | E12: Encontrarse con algo por casualidad | H12: 0 | I12: 0 | J12: =IF(D12="","",IF(N(H12)+N(I12)=0,"",N(H12)/(N(H12)+N(I12)))) | K12: =IF(OR(D12="",G12=""),"",G12+INDEX(Panel!$C$11:$C$15,Q12)) | L12: =IF(D12="","",IF(G12="","Nueva",IF(K12<$C$5,"Atrasada",IF(K12=$C$5,"Hoy","Al día")))) | M12: =IF(K12="","",$C$5-K12) | N12: =IF(D12="","",MIN(5,Q12+1)) | O12: =IF(L12="","",IF(L12="Al día",0,1)) | P12: =IF(O12=1,COUNTIF($O$8:O12,1),"") | Q12: =IF(D12="","",IF(OR(F12="",F12<1,F12>5),1,INT(F12)))
B13: =IF(D13="","",ROW()-7) | C13: Capitales de Europa | D13: Capital de Polonia | E13: Varsovia | F13: 5 | G13: 46275 | H13: 6 | I13: 0 | J13: =IF(D13="","",IF(N(H13)+N(I13)=0,"",N(H13)/(N(H13)+N(I13)))) | K13: =IF(OR(D13="",G13=""),"",G13+INDEX(Panel!$C$11:$C$15,Q13)) | L13: =IF(D13="","",IF(G13="","Nueva",IF(K13<$C$5,"Atrasada",IF(K13=$C$5,"Hoy","Al día")))) | M13: =IF(K13="","",$C$5-K13) | N13: =IF(D13="","",MIN(5,Q13+1)) | O13: =IF(L13="","",IF(L13="Al día",0,1)) | P13: =IF(O13=1,COUNTIF($O$8:O13,1),"") | Q13: =IF(D13="","",IF(OR(F13="",F13<1,F13>5),1,INT(F13)))
B14: =IF(D14="","",ROW()-7) | C14: Capitales de Europa | D14: Capital de Portugal | E14: Lisboa | F14: 4 | G14: 46285 | H14: 5 | I14: 1 | J14: =IF(D14="","",IF(N(H14)+N(I14)=0,"",N(H14)/(N(H14)+N(I14)))) | K14: =IF(OR(D14="",G14=""),"",G14+INDEX(Panel!$C$11:$C$15,Q14)) | L14: =IF(D14="","",IF(G14="","Nueva",IF(K14<$C$5,"Atrasada",IF(K14=$C$5,"Hoy","Al día")))) | M14: =IF(K14="","",$C$5-K14) | N14: =IF(D14="","",MIN(5,Q14+1)) | O14: =IF(L14="","",IF(L14="Al día",0,1)) | P14: =IF(O14=1,COUNTIF($O$8:O14,1),"") | Q14: =IF(D14="","",IF(OR(F14="",F14<1,F14>5),1,INT(F14)))
B15: =IF(D15="","",ROW()-7) | C15: Capitales de Europa | D15: Capital de Finlandia | E15: Helsinki | F15: 2 | G15: 46294 | H15: 3 | I15: 1 | J15: =IF(D15="","",IF(N(H15)+N(I15)=0,"",N(H15)/(N(H15)+N(I15)))) | K15: =IF(OR(D15="",G15=""),"",G15+INDEX(Panel!$C$11:$C$15,Q15)) | L15: =IF(D15="","",IF(G15="","Nueva",IF(K15<$C$5,"Atrasada",IF(K15=$C$5,"Hoy","Al día")))) | M15: =IF(K15="","",$C$5-K15) | N15: =IF(D15="","",MIN(5,Q15+1)) | O15: =IF(L15="","",IF(L15="Al día",0,1)) | P15: =IF(O15=1,COUNTIF($O$8:O15,1),"") | Q15: =IF(D15="","",IF(OR(F15="",F15<1,F15>5),1,INT(F15)))
B16: =IF(D16="","",ROW()-7) | C16: Capitales de Europa | D16: Capital de Croacia | E16: Zagreb | F16: 1 | G16: 46296 | H16: 1 | I16: 2 | J16: =IF(D16="","",IF(N(H16)+N(I16)=0,"",N(H16)/(N(H16)+N(I16)))) | K16: =IF(OR(D16="",G16=""),"",G16+INDEX(Panel!$C$11:$C$15,Q16)) | L16: =IF(D16="","",IF(G16="","Nueva",IF(K16<$C$5,"Atrasada",IF(K16=$C$5,"Hoy","Al día")))) | M16: =IF(K16="","",$C$5-K16) | N16: =IF(D16="","",MIN(5,Q16+1)) | O16: =IF(L16="","",IF(L16="Al día",0,1)) | P16: =IF(O16=1,COUNTIF($O$8:O16,1),"") | Q16: =IF(D16="","",IF(OR(F16="",F16<1,F16>5),1,INT(F16)))
B17: =IF(D17="","",ROW()-7) | C17: Derecho Constitucional | D17: Artículo de la CE sobre la igualdad ante la ley | E17: Artículo 14 | F17: 3 | G17: 46285 | H17: 5 | I17: 2 | J17: =IF(D17="","",IF(N(H17)+N(I17)=0,"",N(H17)/(N(H17)+N(I17)))) | K17: =IF(OR(D17="",G17=""),"",G17+INDEX(Panel!$C$11:$C$15,Q17)) | L17: =IF(D17="","",IF(G17="","Nueva",IF(K17<$C$5,"Atrasada",IF(K17=$C$5,"Hoy","Al día")))) | M17: =IF(K17="","",$C$5-K17) | N17: =IF(D17="","",MIN(5,Q17+1)) | O17: =IF(L17="","",IF(L17="Al día",0,1)) | P17: =IF(O17=1,COUNTIF($O$8:O17,1),"") | Q17: =IF(D17="","",IF(OR(F17="",F17<1,F17>5),1,INT(F17)))
B18: =IF(D18="","",ROW()-7) | C18: Derecho Constitucional | D18: ¿Cuántos años dura una legislatura? | E18: 4 años | F18: 5 | G18: 46267 | H18: 7 | I18: 0 | J18: =IF(D18="","",IF(N(H18)+N(I18)=0,"",N(H18)/(N(H18)+N(I18)))) | K18: =IF(OR(D18="",G18=""),"",G18+INDEX(Panel!$C$11:$C$15,Q18)) | L18: =IF(D18="","",IF(G18="","Nueva",IF(K18<$C$5,"Atrasada",IF(K18=$C$5,"Hoy","Al día")))) | M18: =IF(K18="","",$C$5-K18) | N18: =IF(D18="","",MIN(5,Q18+1)) | O18: =IF(L18="","",IF(L18="Al día",0,1)) | P18: =IF(O18=1,COUNTIF($O$8:O18,1),"") | Q18: =IF(D18="","",IF(OR(F18="",F18<1,F18>5),1,INT(F18)))
B19: =IF(D19="","",ROW()-7) | C19: Derecho Constitucional | D19: ¿Quién sanciona y promulga las leyes? | E19: El Rey | F19: 2 | G19: 46296 | H19: 2 | I19: 2 | J19: =IF(D19="","",IF(N(H19)+N(I19)=0,"",N(H19)/(N(H19)+N(I19)))) | K19: =IF(OR(D19="",G19=""),"",G19+INDEX(Panel!$C$11:$C$15,Q19)) | L19: =IF(D19="","",IF(G19="","Nueva",IF(K19<$C$5,"Atrasada",IF(K19=$C$5,"Hoy","Al día")))) | M19: =IF(K19="","",$C$5-K19) | N19: =IF(D19="","",MIN(5,Q19+1)) | O19: =IF(L19="","",IF(L19="Al día",0,1)) | P19: =IF(O19=1,COUNTIF($O$8:O19,1),"") | Q19: =IF(D19="","",IF(OR(F19="",F19<1,F19>5),1,INT(F19)))
B20: =IF(D20="","",ROW()-7) | C20: Fórmulas de Excel | D20: Atajo para fijar una referencia ($A$1) | E20: Tecla F4 | F20: 5 | G20: 46254 | H20: 8 | I20: 1 | J20: =IF(D20="","",IF(N(H20)+N(I20)=0,"",N(H20)/(N(H20)+N(I20)))) | K20: =IF(OR(D20="",G20=""),"",G20+INDEX(Panel!$C$11:$C$15,Q20)) | L20: =IF(D20="","",IF(G20="","Nueva",IF(K20<$C$5,"Atrasada",IF(K20=$C$5,"Hoy","Al día")))) | M20: =IF(K20="","",$C$5-K20) | N20: =IF(D20="","",MIN(5,Q20+1)) | O20: =IF(L20="","",IF(L20="Al día",0,1)) | P20: =IF(O20=1,COUNTIF($O$8:O20,1),"") | Q20: =IF(D20="","",IF(OR(F20="",F20<1,F20>5),1,INT(F20)))
B21: =IF(D21="","",ROW()-7) | C21: Fórmulas de Excel | D21: Función que busca en la primera columna de una tabla | E21: BUSCARV (VLOOKUP) | F21: 4 | G21: 46283 | H21: 4 | I21: 1 | J21: =IF(D21="","",IF(N(H21)+N(I21)=0,"",N(H21)/(N(H21)+N(I21)))) | K21: =IF(OR(D21="",G21=""),"",G21+INDEX(Panel!$C$11:$C$15,Q21)) | L21: =IF(D21="","",IF(G21="","Nueva",IF(K21<$C$5,"Atrasada",IF(K21=$C$5,"Hoy","Al día")))) | M21: =IF(K21="","",$C$5-K21) | N21: =IF(D21="","",MIN(5,Q21+1)) | O21: =IF(L21="","",IF(L21="Al día",0,1)) | P21: =IF(O21=1,COUNTIF($O$8:O21,1),"") | Q21: =IF(D21="","",IF(OR(F21="",F21<1,F21>5),1,INT(F21)))
B22: =IF(D22="","",ROW()-7) | C22: Fórmulas de Excel | D22: ¿Qué hace SUMAR.SI? | E22: Suma las celdas que cumplen un criterio | F22: 3 | G22: 46295 | H22: 3 | I22: 0 | J22: =IF(D22="","",IF(N(H22)+N(I22)=0,"",N(H22)/(N(H22)+N(I22)))) | K22: =IF(OR(D22="",G22=""),"",G22+INDEX(Panel!$C$11:$C$15,Q22)) | L22: =IF(D22="","",IF(G22="","Nueva",IF(K22<$C$5,"Atrasada",IF(K22=$C$5,"Hoy","Al día")))) | M22: =IF(K22="","",$C$5-K22) | N22: =IF(D22="","",MIN(5,Q22+1)) | O22: =IF(L22="","",IF(L22="Al día",0,1)) | P22: =IF(O22=1,COUNTIF($O$8:O22,1),"") | Q22: =IF(D22="","",IF(OR(F22="",F22<1,F22>5),1,INT(F22)))
B23: =IF(D23="","",ROW()-7) | C23: Anatomía básica | D23: Hueso más largo del cuerpo humano | E23: Fémur | F23: 5 | G23: 46295 | H23: 4 | I23: 0 | J23: =IF(D23="","",IF(N(H23)+N(I23)=0,"",N(H23)/(N(H23)+N(I23)))) | K23: =IF(OR(D23="",G23=""),"",G23+INDEX(Panel!$C$11:$C$15,Q23)) | L23: =IF(D23="","",IF(G23="","Nueva",IF(K23<$C$5,"Atrasada",IF(K23=$C$5,"Hoy","Al día")))) | M23: =IF(K23="","",$C$5-K23) | N23: =IF(D23="","",MIN(5,Q23+1)) | O23: =IF(L23="","",IF(L23="Al día",0,1)) | P23: =IF(O23=1,COUNTIF($O$8:O23,1),"") | Q23: =IF(D23="","",IF(OR(F23="",F23<1,F23>5),1,INT(F23)))
B24: =IF(D24="","",ROW()-7) | C24: Anatomía básica | D24: Función de los alvéolos pulmonares | E24: Intercambio de gases (O2 y CO2) | H24: 0 | I24: 0 | J24: =IF(D24="","",IF(N(H24)+N(I24)=0,"",N(H24)/(N(H24)+N(I24)))) | K24: =IF(OR(D24="",G24=""),"",G24+INDEX(Panel!$C$11:$C$15,Q24)) | L24: =IF(D24="","",IF(G24="","Nueva",IF(K24<$C$5,"Atrasada",IF(K24=$C$5,"Hoy","Al día")))) | M24: =IF(K24="","",$C$5-K24) | N24: =IF(D24="","",MIN(5,Q24+1)) | O24: =IF(L24="","",IF(L24="Al día",0,1)) | P24: =IF(O24=1,COUNTIF($O$8:O24,1),"") | Q24: =IF(D24="","",IF(OR(F24="",F24<1,F24>5),1,INT(F24)))
B25: =IF(D25="","",ROW()-7) | J25: =IF(D25="","",IF(N(H25)+N(I25)=0,"",N(H25)/(N(H25)+N(I25)))) | K25: =IF(OR(D25="",G25=""),"",G25+INDEX(Panel!$C$11:$C$15,Q25)) | L25: =IF(D25="","",IF(G25="","Nueva",IF(K25<$C$5,"Atrasada",IF(K25=$C$5,"Hoy","Al día")))) | M25: =IF(K25="","",$C$5-K25) | N25: =IF(D25="","",MIN(5,Q25+1)) | O25: =IF(L25="","",IF(L25="Al día",0,1)) | P25: =IF(O25=1,COUNTIF($O$8:O25,1),"") | Q25: =IF(D25="","",IF(OR(F25="",F25<1,F25>5),1,INT(F25)))
B26: =IF(D26="","",ROW()-7) | J26: =IF(D26="","",IF(N(H26)+N(I26)=0,"",N(H26)/(N(H26)+N(I26)))) | K26: =IF(OR(D26="",G26=""),"",G26+INDEX(Panel!$C$11:$C$15,Q26)) | L26: =IF(D26="","",IF(G26="","Nueva",IF(K26<$C$5,"Atrasada",IF(K26=$C$5,"Hoy","Al día")))) | M26: =IF(K26="","",$C$5-K26) | N26: =IF(D26="","",MIN(5,Q26+1)) | O26: =IF(L26="","",IF(L26="Al día",0,1)) | P26: =IF(O26=1,COUNTIF($O$8:O26,1),"") | Q26: =IF(D26="","",IF(OR(F26="",F26<1,F26>5),1,INT(F26)))
B27: =IF(D27="","",ROW()-7) | J27: =IF(D27="","",IF(N(H27)+N(I27)=0,"",N(H27)/(N(H27)+N(I27)))) | K27: =IF(OR(D27="",G27=""),"",G27+INDEX(Panel!$C$11:$C$15,Q27)) | L27: =IF(D27="","",IF(G27="","Nueva",IF(K27<$C$5,"Atrasada",IF(K27=$C$5,"Hoy","Al día")))) | M27: =IF(K27="","",$C$5-K27) | N27: =IF(D27="","",MIN(5,Q27+1)) | O27: =IF(L27="","",IF(L27="Al día",0,1)) | P27: =IF(O27=1,COUNTIF($O$8:O27,1),"") | Q27: =IF(D27="","",IF(OR(F27="",F27<1,F27>5),1,INT(F27)))
B28: =IF(D28="","",ROW()-7) | J28: =IF(D28="","",IF(N(H28)+N(I28)=0,"",N(H28)/(N(H28)+N(I28)))) | K28: =IF(OR(D28="",G28=""),"",G28+INDEX(Panel!$C$11:$C$15,Q28)) | L28: =IF(D28="","",IF(G28="","Nueva",IF(K28<$C$5,"Atrasada",IF(K28=$C$5,"Hoy","Al día")))) | M28: =IF(K28="","",$C$5-K28) | N28: =IF(D28="","",MIN(5,Q28+1)) | O28: =IF(L28="","",IF(L28="Al día",0,1)) | P28: =IF(O28=1,COUNTIF($O$8:O28,1),"") | Q28: =IF(D28="","",IF(OR(F28="",F28<1,F28>5),1,INT(F28)))
B29: =IF(D29="","",ROW()-7) | J29: =IF(D29="","",IF(N(H29)+N(I29)=0,"",N(H29)/(N(H29)+N(I29)))) | K29: =IF(OR(D29="",G29=""),"",G29+INDEX(Panel!$C$11:$C$15,Q29)) | L29: =IF(D29="","",IF(G29="","Nueva",IF(K29<$C$5,"Atrasada",IF(K29=$C$5,"Hoy","Al día")))) | M29: =IF(K29="","",$C$5-K29) | N29: =IF(D29="","",MIN(5,Q29+1)) | O29: =IF(L29="","",IF(L29="Al día",0,1)) | P29: =IF(O29=1,COUNTIF($O$8:O29,1),"") | Q29: =IF(D29="","",IF(OR(F29="",F29<1,F29>5),1,INT(F29)))
B30: =IF(D30="","",ROW()-7) | J30: =IF(D30="","",IF(N(H30)+N(I30)=0,"",N(H30)/(N(H30)+N(I30)))) | K30: =IF(OR(D30="",G30=""),"",G30+INDEX(Panel!$C$11:$C$15,Q30)) | L30: =IF(D30="","",IF(G30="","Nueva",IF(K30<$C$5,"Atrasada",IF(K30=$C$5,"Hoy","Al día")))) | M30: =IF(K30="","",$C$5-K30) | N30: =IF(D30="","",MIN(5,Q30+1)) | O30: =IF(L30="","",IF(L30="Al día",0,1)) | P30: =IF(O30=1,COUNTIF($O$8:O30,1),"") | Q30: =IF(D30="","",IF(OR(F30="",F30<1,F30>5),1,INT(F30)))
B31: =IF(D31="","",ROW()-7) | J31: =IF(D31="","",IF(N(H31)+N(I31)=0,"",N(H31)/(N(H31)+N(I31)))) | K31: =IF(OR(D31="",G31=""),"",G31+INDEX(Panel!$C$11:$C$15,Q31)) | L31: =IF(D31="","",IF(G31="","Nueva",IF(K31<$C$5,"Atrasada",IF(K31=$C$5,"Hoy","Al día")))) | M31: =IF(K31="","",$C$5-K31) | N31: =IF(D31="","",MIN(5,Q31+1)) | O31: =IF(L31="","",IF(L31="Al día",0,1)) | P31: =IF(O31=1,COUNTIF($O$8:O31,1),"") | Q31: =IF(D31="","",IF(OR(F31="",F31<1,F31>5),1,INT(F31)))
B32: =IF(D32="","",ROW()-7) | J32: =IF(D32="","",IF(N(H32)+N(I32)=0,"",N(H32)/(N(H32)+N(I32)))) | K32: =IF(OR(D32="",G32=""),"",G32+INDEX(Panel!$C$11:$C$15,Q32)) | L32: =IF(D32="","",IF(G32="","Nueva",IF(K32<$C$5,"Atrasada",IF(K32=$C$5,"Hoy","Al día")))) | M32: =IF(K32="","",$C$5-K32) | N32: =IF(D32="","",MIN(5,Q32+1)) | O32: =IF(L32="","",IF(L32="Al día",0,1)) | P32: =IF(O32=1,COUNTIF($O$8:O32,1),"") | Q32: =IF(D32="","",IF(OR(F32="",F32<1,F32>5),1,INT(F32)))
B33: =IF(D33="","",ROW()-7) | J33: =IF(D33="","",IF(N(H33)+N(I33)=0,"",N(H33)/(N(H33)+N(I33)))) | K33: =IF(OR(D33="",G33=""),"",G33+INDEX(Panel!$C$11:$C$15,Q33)) | L33: =IF(D33="","",IF(G33="","Nueva",IF(K33<$C$5,"Atrasada",IF(K33=$C$5,"Hoy","Al día")))) | M33: =IF(K33="","",$C$5-K33) | N33: =IF(D33="","",MIN(5,Q33+1)) | O33: =IF(L33="","",IF(L33="Al día",0,1)) | P33: =IF(O33=1,COUNTIF($O$8:O33,1),"") | Q33: =IF(D33="","",IF(OR(F33="",F33<1,F33>5),1,INT(F33)))
B34: =IF(D34="","",ROW()-7) | J34: =IF(D34="","",IF(N(H34)+N(I34)=0,"",N(H34)/(N(H34)+N(I34)))) | K34: =IF(OR(D34="",G34=""),"",G34+INDEX(Panel!$C$11:$C$15,Q34)) | L34: =IF(D34="","",IF(G34="","Nueva",IF(K34<$C$5,"Atrasada",IF(K34=$C$5,"Hoy","Al día")))) | M34: =IF(K34="","",$C$5-K34) | N34: =IF(D34="","",MIN(5,Q34+1)) | O34: =IF(L34="","",IF(L34="Al día",0,1)) | P34: =IF(O34=1,COUNTIF($O$8:O34,1),"") | Q34: =IF(D34="","",IF(OR(F34="",F34<1,F34>5),1,INT(F34)))
B35: =IF(D35="","",ROW()-7) | J35: =IF(D35="","",IF(N(H35)+N(I35)=0,"",N(H35)/(N(H35)+N(I35)))) | K35: =IF(OR(D35="",G35=""),"",G35+INDEX(Panel!$C$11:$C$15,Q35)) | L35: =IF(D35="","",IF(G35="","Nueva",IF(K35<$C$5,"Atrasada",IF(K35=$C$5,"Hoy","Al día")))) | M35: =IF(K35="","",$C$5-K35) | N35: =IF(D35="","",MIN(5,Q35+1)) | O35: =IF(L35="","",IF(L35="Al día",0,1)) | P35: =IF(O35=1,COUNTIF($O$8:O35,1),"") | Q35: =IF(D35="","",IF(OR(F35="",F35<1,F35>5),1,INT(F35)))
B36: =IF(D36="","",ROW()-7) | J36: =IF(D36="","",IF(N(H36)+N(I36)=0,"",N(H36)/(N(H36)+N(I36)))) | K36: =IF(OR(D36="",G36=""),"",G36+INDEX(Panel!$C$11:$C$15,Q36)) | L36: =IF(D36="","",IF(G36="","Nueva",IF(K36<$C$5,"Atrasada",IF(K36=$C$5,"Hoy","Al día")))) | M36: =IF(K36="","",$C$5-K36) | N36: =IF(D36="","",MIN(5,Q36+1)) | O36: =IF(L36="","",IF(L36="Al día",0,1)) | P36: =IF(O36=1,COUNTIF($O$8:O36,1),"") | Q36: =IF(D36="","",IF(OR(F36="",F36<1,F36>5),1,INT(F36)))
... B47: =IF(D47="","",ROW()-7) | J47: =IF(D47="","",IF(N(H47)+N(I47)=0,"",N(H47)/(N(H47)+N(I47)))) | K47: =IF(OR(D47="",G47=""),"",G47+INDEX(Panel!$C$11:$C$15,Q47)) | L47: =IF(D47="","",IF(G47="","Nueva",IF(K47<$C$5,"Atrasada",IF(K47=$C$5,"Hoy","Al día")))) | M47: =IF(K47="","",$C$5-K47) | N47: =IF(D47="","",MIN(5,Q47+1)) | O47: =IF(L47="","",IF(L47="Al día",0,1)) | P47: =IF(O47=1,COUNTIF($O$8:O47,1),"") | Q47: =IF(D47="","",IF(OR(F47="",F47<1,F47>5),1,INT(F47)))

Sheet Mazos
B2: Mazos
B3: Resumen por mazo: cuántas tarjetas tiene, cuántas toca repasar hoy, cuántas dominas y tu porcentaje de acierto.
B7: Mazo | C7: Tarjetas | D7: Para repasar hoy | E7: Dominadas (caja 5) | F7: % dominadas | G7: Aciertos | H7: Fallos | I7: % acierto | J7: Sesiones
B8: Inglés: phrasal verbs | C8: =IF(B8="","",COUNTIF(Tarjetas!$C$8:$C$47,B8)) | D8: =IF(B8="","",COUNTIFS(Tarjetas!$C$8:$C$47,B8,Tarjetas!$O$8:$O$47,1)) | E8: =IF(B8="","",COUNTIFS(Tarjetas!$C$8:$C$47,B8,Tarjetas!$Q$8:$Q$47,5)) | F8: =IF(B8="","",IF(C8=0,0,E8/C8)) | G8: =IF(B8="","",SUMIF(Tarjetas!$C$8:$C$47,B8,Tarjetas!$H$8:$H$47)) | H8: =IF(B8="","",SUMIF(Tarjetas!$C$8:$C$47,B8,Tarjetas!$I$8:$I$47)) | I8: =IF(B8="","",IF(G8+H8=0,0,G8/(G8+H8))) | J8: =IF(B8="","",COUNTIF(Repasos!$C$8:$C$47,B8))
B9: Capitales de Europa | C9: =IF(B9="","",COUNTIF(Tarjetas!$C$8:$C$47,B9)) | D9: =IF(B9="","",COUNTIFS(Tarjetas!$C$8:$C$47,B9,Tarjetas!$O$8:$O$47,1)) | E9: =IF(B9="","",COUNTIFS(Tarjetas!$C$8:$C$47,B9,Tarjetas!$Q$8:$Q$47,5)) | F9: =IF(B9="","",IF(C9=0,0,E9/C9)) | G9: =IF(B9="","",SUMIF(Tarjetas!$C$8:$C$47,B9,Tarjetas!$H$8:$H$47)) | H9: =IF(B9="","",SUMIF(Tarjetas!$C$8:$C$47,B9,Tarjetas!$I$8:$I$47)) | I9: =IF(B9="","",IF(G9+H9=0,0,G9/(G9+H9))) | J9: =IF(B9="","",COUNTIF(Repasos!$C$8:$C$47,B9))
B10: Derecho Constitucional | C10: =IF(B10="","",COUNTIF(Tarjetas!$C$8:$C$47,B10)) | D10: =IF(B10="","",COUNTIFS(Tarjetas!$C$8:$C$47,B10,Tarjetas!$O$8:$O$47,1)) | E10: =IF(B10="","",COUNTIFS(Tarjetas!$C$8:$C$47,B10,Tarjetas!$Q$8:$Q$47,5)) | F10: =IF(B10="","",IF(C10=0,0,E10/C10)) | G10: =IF(B10="","",SUMIF(Tarjetas!$C$8:$C$47,B10,Tarjetas!$H$8:$H$47)) | H10: =IF(B10="","",SUMIF(Tarjetas!$C$8:$C$47,B10,Tarjetas!$I$8:$I$47)) | I10: =IF(B10="","",IF(G10+H10=0,0,G10/(G10+H10))) | J10: =IF(B10="","",COUNTIF(Repasos!$C$8:$C$47,B10))
B11: Fórmulas de Excel | C11: =IF(B11="","",COUNTIF(Tarjetas!$C$8:$C$47,B11)) | D11: =IF(B11="","",COUNTIFS(Tarjetas!$C$8:$C$47,B11,Tarjetas!$O$8:$O$47,1)) | E11: =IF(B11="","",COUNTIFS(Tarjetas!$C$8:$C$47,B11,Tarjetas!$Q$8:$Q$47,5)) | F11: =IF(B11="","",IF(C11=0,0,E11/C11)) | G11: =IF(B11="","",SUMIF(Tarjetas!$C$8:$C$47,B11,Tarjetas!$H$8:$H$47)) | H11: =IF(B11="","",SUMIF(Tarjetas!$C$8:$C$47,B11,Tarjetas!$I$8:$I$47)) | I11: =IF(B11="","",IF(G11+H11=0,0,G11/(G11+H11))) | J11: =IF(B11="","",COUNTIF(Repasos!$C$8:$C$47,B11))
B12: Anatomía básica | C12: =IF(B12="","",COUNTIF(Tarjetas!$C$8:$C$47,B12)) | D12: =IF(B12="","",COUNTIFS(Tarjetas!$C$8:$C$47,B12,Tarjetas!$O$8:$O$47,1)) | E12: =IF(B12="","",COUNTIFS(Tarjetas!$C$8:$C$47,B12,Tarjetas!$Q$8:$Q$47,5)) | F12: =IF(B12="","",IF(C12=0,0,E12/C12)) | G12: =IF(B12="","",SUMIF(Tarjetas!$C$8:$C$47,B12,Tarjetas!$H$8:$H$47)) | H12: =IF(B12="","",SUMIF(Tarjetas!$C$8:$C$47,B12,Tarjetas!$I$8:$I$47)) | I12: =IF(B12="","",IF(G12+H12=0,0,G12/(G12+H12))) | J12: =IF(B12="","",COUNTIF(Repasos!$C$8:$C$47,B12))
C13: =IF(B13="","",COUNTIF(Tarjetas!$C$8:$C$47,B13)) | D13: =IF(B13="","",COUNTIFS(Tarjetas!$C$8:$C$47,B13,Tarjetas!$O$8:$O$47,1)) | E13: =IF(B13="","",COUNTIFS(Tarjetas!$C$8:$C$47,B13,Tarjetas!$Q$8:$Q$47,5)) | F13: =IF(B13="","",IF(C13=0,0,E13/C13)) | G13: =IF(B13="","",SUMIF(Tarjetas!$C$8:$C$47,B13,Tarjetas!$H$8:$H$47)) | H13: =IF(B13="","",SUMIF(Tarjetas!$C$8:$C$47,B13,Tarjetas!$I$8:$I$47)) | I13: =IF(B13="","",IF(G13+H13=0,0,G13/(G13+H13))) | J13: =IF(B13="","",COUNTIF(Repasos!$C$8:$C$47,B13))
C14: =IF(B14="","",COUNTIF(Tarjetas!$C$8:$C$47,B14)) | D14: =IF(B14="","",COUNTIFS(Tarjetas!$C$8:$C$47,B14,Tarjetas!$O$8:$O$47,1)) | E14: =IF(B14="","",COUNTIFS(Tarjetas!$C$8:$C$47,B14,Tarjetas!$Q$8:$Q$47,5)) | F14: =IF(B14="","",IF(C14=0,0,E14/C14)) | G14: =IF(B14="","",SUMIF(Tarjetas!$C$8:$C$47,B14,Tarjetas!$H$8:$H$47)) | H14: =IF(B14="","",SUMIF(Tarjetas!$C$8:$C$47,B14,Tarjetas!$I$8:$I$47)) | I14: =IF(B14="","",IF(G14+H14=0,0,G14/(G14+H14))) | J14: =IF(B14="","",COUNTIF(Repasos!$C$8:$C$47,B14))
C15: =IF(B15="","",COUNTIF(Tarjetas!$C$8:$C$47,B15)) | D15: =IF(B15="","",COUNTIFS(Tarjetas!$C$8:$C$47,B15,Tarjetas!$O$8:$O$47,1)) | E15: =IF(B15="","",COUNTIFS(Tarjetas!$C$8:$C$47,B15,Tarjetas!$Q$8:$Q$47,5)) | F15: =IF(B15="","",IF(C15=0,0,E15/C15)) | G15: =IF(B15="","",SUMIF(Tarjetas!$C$8:$C$47,B15,Tarjetas!$H$8:$H$47)) | H15: =IF(B15="","",SUMIF(Tarjetas!$C$8:$C$47,B15,Tarjetas!$I$8:$I$47)) | I15: =IF(B15="","",IF(G15+H15=0,0,G15/(G15+H15))) | J15: =IF(B15="","",COUNTIF(Repasos!$C$8:$C$47,B15))
B16: Total | C16: =SUM(C8:C15) | D16: =SUM(D8:D15) | E16: =SUM(E8:E15) | F16: =IF(C16=0,0,E16/C16) | G16: =SUM(G8:G15) | H16: =SUM(H8:H15) | I16: =IF(G16+H16=0,0,G16/(G16+H16)) | J16: =SUM(J8:J15)
B18: En ámbar: mazos con tarjetas por repasar hoy. En rojo: acierto por debajo del 60 %. Estos nombres alimentan el desplegable de «Tarjetas» y «Repasos».

Sheet Repasos
B2: Registro de sesiones de repaso
B3: Anota cada sesión: cuántas tarjetas repasaste, cuántas acertaste y cuánto tardaste.
B5: Sesiones: | C5: =COUNT(B8:B47) | D5: Tarjetas: | E5: =SUM(D8:D47) | F5: % acierto: | G5: =IF(E5=0,0,SUM(E8:E47)/E5) | H5: Minutos: | I5: =SUM(H8:H47)
B7: Fecha | C7: Mazo | D7: Tarjetas repasadas | E7: Aciertos | F7: Fallos | G7: % acierto | H7: Minutos | I7: Tarjetas por minuto
B8: 46275 | C8: Capitales de Europa | D8: 4 | E8: 4 | F8: =IF(D8="","",MAX(0,D8-N(E8))) | G8: =IF(D8="","",IF(D8=0,0,N(E8)/D8)) | H8: 6 | I8: =IF(OR(D8="",N(H8)=0),"",ROUND(D8/H8,2))
B9: 46279 | C9: Inglés: phrasal verbs | D9: 5 | E9: 3 | F9: =IF(D9="","",MAX(0,D9-N(E9))) | G9: =IF(D9="","",IF(D9=0,0,N(E9)/D9)) | H9: 9 | I9: =IF(OR(D9="",N(H9)=0),"",ROUND(D9/H9,2))
B10: 46283 | C10: Fórmulas de Excel | D10: 3 | E10: 3 | F10: =IF(D10="","",MAX(0,D10-N(E10))) | G10: =IF(D10="","",IF(D10=0,0,N(E10)/D10)) | H10: 5 | I10: =IF(OR(D10="",N(H10)=0),"",ROUND(D10/H10,2))
B11: 46285 | C11: Derecho Constitucional | D11: 3 | E11: 2 | F11: =IF(D11="","",MAX(0,D11-N(E11))) | G11: =IF(D11="","",IF(D11=0,0,N(E11)/D11)) | H11: 8 | I11: =IF(OR(D11="",N(H11)=0),"",ROUND(D11/H11,2))
B12: 46287 | C12: Inglés: phrasal verbs | D12: 5 | E12: 4 | F12: =IF(D12="","",MAX(0,D12-N(E12))) | G12: =IF(D12="","",IF(D12=0,0,N(E12)/D12)) | H12: 8 | I12: =IF(OR(D12="",N(H12)=0),"",ROUND(D12/H12,2))
B13: 46290 | C13: Inglés: phrasal verbs | D13: 4 | E13: 4 | F13: =IF(D13="","",MAX(0,D13-N(E13))) | G13: =IF(D13="","",IF(D13=0,0,N(E13)/D13)) | H13: 6 | I13: =IF(OR(D13="",N(H13)=0),"",ROUND(D13/H13,2))
B14: 46293 | C14: Inglés: phrasal verbs | D14: 5 | E14: 3 | F14: =IF(D14="","",MAX(0,D14-N(E14))) | G14: =IF(D14="","",IF(D14=0,0,N(E14)/D14)) | H14: 9 | I14: =IF(OR(D14="",N(H14)=0),"",ROUND(D14/H14,2))
B15: 46294 | C15: Capitales de Europa | D15: 4 | E15: 3 | F15: =IF(D15="","",MAX(0,D15-N(E15))) | G15: =IF(D15="","",IF(D15=0,0,N(E15)/D15)) | H15: 5 | I15: =IF(OR(D15="",N(H15)=0),"",ROUND(D15/H15,2))
B16: 46295 | C16: Fórmulas de Excel | D16: 4 | E16: 3 | F16: =IF(D16="","",MAX(0,D16-N(E16))) | G16: =IF(D16="","",IF(D16=0,0,N(E16)/D16)) | H16: 7 | I16: =IF(OR(D16="",N(H16)=0),"",ROUND(D16/H16,2))
B17: 46296 | C17: Derecho Constitucional | D17: 6 | E17: 4 | F17: =IF(D17="","",MAX(0,D17-N(E17))) | G17: =IF(D17="","",IF(D17=0,0,N(E17)/D17)) | H17: 10 | I17: =IF(OR(D17="",N(H17)=0),"",ROUND(D17/H17,2))
F18: =IF(D18="","",MAX(0,D18-N(E18))) | G18: =IF(D18="","",IF(D18=0,0,N(E18)/D18)) | I18: =IF(OR(D18="",N(H18)=0),"",ROUND(D18/H18,2))
F19: =IF(D19="","",MAX(0,D19-N(E19))) | G19: =IF(D19="","",IF(D19=0,0,N(E19)/D19)) | I19: =IF(OR(D19="",N(H19)=0),"",ROUND(D19/H19,2))
F20: =IF(D20="","",MAX(0,D20-N(E20))) | G20: =IF(D20="","",IF(D20=0,0,N(E20)/D20)) | I20: =IF(OR(D20="",N(H20)=0),"",ROUND(D20/H20,2))
F21: =IF(D21="","",MAX(0,D21-N(E21))) | G21: =IF(D21="","",IF(D21=0,0,N(E21)/D21)) | I21: =IF(OR(D21="",N(H21)=0),"",ROUND(D21/H21,2))
F22: =IF(D22="","",MAX(0,D22-N(E22))) | G22: =IF(D22="","",IF(D22=0,0,N(E22)/D22)) | I22: =IF(OR(D22="",N(H22)=0),"",ROUND(D22/H22,2))
F23: =IF(D23="","",MAX(0,D23-N(E23))) | G23: =IF(D23="","",IF(D23=0,0,N(E23)/D23)) | I23: =IF(OR(D23="",N(H23)=0),"",ROUND(D23/H23,2))
F24: =IF(D24="","",MAX(0,D24-N(E24))) | G24: =IF(D24="","",IF(D24=0,0,N(E24)/D24)) | I24: =IF(OR(D24="",N(H24)=0),"",ROUND(D24/H24,2))
F25: =IF(D25="","",MAX(0,D25-N(E25))) | G25: =IF(D25="","",IF(D25=0,0,N(E25)/D25)) | I25: =IF(OR(D25="",N(H25)=0),"",ROUND(D25/H25,2))
F26: =IF(D26="","",MAX(0,D26-N(E26))) | G26: =IF(D26="","",IF(D26=0,0,N(E26)/D26)) | I26: =IF(OR(D26="",N(H26)=0),"",ROUND(D26/H26,2))
F27: =IF(D27="","",MAX(0,D27-N(E27))) | G27: =IF(D27="","",IF(D27=0,0,N(E27)/D27)) | I27: =IF(OR(D27="",N(H27)=0),"",ROUND(D27/H27,2))
F28: =IF(D28="","",MAX(0,D28-N(E28))) | G28: =IF(D28="","",IF(D28=0,0,N(E28)/D28)) | I28: =IF(OR(D28="",N(H28)=0),"",ROUND(D28/H28,2))
F29: =IF(D29="","",MAX(0,D29-N(E29))) | G29: =IF(D29="","",IF(D29=0,0,N(E29)/D29)) | I29: =IF(OR(D29="",N(H29)=0),"",ROUND(D29/H29,2))
... F47: =IF(D47="","",MAX(0,D47-N(E47))) | G47: =IF(D47="","",IF(D47=0,0,N(E47)/D47)) | I47: =IF(OR(D47="",N(H47)=0),"",ROUND(D47/H47,2))

Sheet Instrucciones
B2: Flashcards Leitner · Cómo usarlas
B3: Plantilla gratuita de Plantillas de Cálculo · plantillasdecalculo.com
B5: CÓMO USARLA
B6: 1. En la hoja «Mazos» escribe los nombres de tus mazos (hasta 8): son las asignaturas o temas que quieres memorizar.
B7: 2. En «Tarjetas» añade una fila por tarjeta: elige el mazo en el desplegable y escribe la pregunta y la respuesta. Las tarjetas nuevas quedan sin fecha de repaso y salen como «Nueva».
B8: 3. En el «Panel» (celdas C11:C15) ajusta cada cuántos días se revisa cada caja. Por defecto: 1, 3, 7, 14 y 30 días. Son parámetros tuyos, no una norma.
B9: 4. Abre el Panel cada día: «Para repasar hoy» cuenta las tarjetas Nuevas, Atrasadas y de Hoy, y la lista de abajo te muestra las 10 primeras.
B10: 5. Repasa cada tarjeta tapando la respuesta. Si aciertas, sube una caja (la columna «Caja si aciertas» te lo recuerda); si fallas, vuelve a la caja 1.
B11: 6. Después de repasar, actualiza en «Tarjetas» la caja (F), la fecha del último repaso (G) y suma un acierto o un fallo en H o I. La próxima revisión y el estado se recalculan solos.
B12: 7. Anota la sesión en «Repasos»: fecha, mazo, tarjetas repasadas, aciertos y minutos. Alimenta los KPI de sesiones y de días sin repasar del Panel.
B13: 8. Mira «Mazos» para ver qué mazo tiene más pendientes y cuál tiene peor porcentaje de acierto (en rojo por debajo del 60 %).
B15: CONSEJOS
... B23: Aviso: esta plantilla solo organiza tus repasos; los intervalos de cada caja son orientativos y editables, y no garantizan resultados de aprendizaje ni de examen.
