Workbook

Sheet Panel
B2: Panel del generador de grupos
B3: Vista rápida del reparto. Cambia el nº de grupos o la semilla en la hoja «Alumnado».
B5: ALUMNOS | D5: Nº DE GRUPOS | F5: ALUMNOS POR GRUPO
B6: =Alumnado!F5 | D6: =Alumnado!$C$5 | F6: =Alumnado!F6
B8: GRUPOS EQUILIBRADOS | D8: SEPARACIONES INCUMPLIDAS | F8: AFINIDADES CUMPLIDAS
B9: =COUNTIF(Grupos!I9:I16,"Equilibrado")&" de "&Alumnado!$C$5 | D9: =COUNTIF(Alumnado!$M$9:$M$48,"Sí") | F9: =IFERROR(COUNTIF(Alumnado!$N$9:$N$48,"Cumplida")/(COUNTIF(Alumnado!$N$9:$N$48,"Cumplida")+COUNTIF(Alumnado!$N$9:$N$48,"No cumplida")),"Sin datos")
B11: Estado del reparto: | C11: =IF(B6=0,"Añade alumnos en la hoja Alumnado",IF(Grupos!E19>0,"Hay alumnos con grupo manual fuera de rango",IF(D9>0,"Revisa las separaciones incumplidas",IF(COUNTIF(Grupos!I9:I16,"Revisar")>0,"Hay grupos por revisar","Reparto correcto"))))
B13: Grupo | C13: Alumnos | D13: Media de nivel | E13: Separaciones | F13: Estado
B14: =IF(Grupos!C9="","",Grupos!B9) | C14: =IF(Grupos!C9="","",Grupos!C9) | D14: =IF(Grupos!C9="","",Grupos!G9) | E14: =IF(Grupos!C9="","",Grupos!H9) | F14: =IF(Grupos!C9="","",Grupos!I9)
B15: =IF(Grupos!C10="","",Grupos!B10) | C15: =IF(Grupos!C10="","",Grupos!C10) | D15: =IF(Grupos!C10="","",Grupos!G10) | E15: =IF(Grupos!C10="","",Grupos!H10) | F15: =IF(Grupos!C10="","",Grupos!I10)
B16: =IF(Grupos!C11="","",Grupos!B11) | C16: =IF(Grupos!C11="","",Grupos!C11) | D16: =IF(Grupos!C11="","",Grupos!G11) | E16: =IF(Grupos!C11="","",Grupos!H11) | F16: =IF(Grupos!C11="","",Grupos!I11)
B17: =IF(Grupos!C12="","",Grupos!B12) | C17: =IF(Grupos!C12="","",Grupos!C12) | D17: =IF(Grupos!C12="","",Grupos!G12) | E17: =IF(Grupos!C12="","",Grupos!H12) | F17: =IF(Grupos!C12="","",Grupos!I12)
B18: =IF(Grupos!C13="","",Grupos!B13) | C18: =IF(Grupos!C13="","",Grupos!C13) | D18: =IF(Grupos!C13="","",Grupos!G13) | E18: =IF(Grupos!C13="","",Grupos!H13) | F18: =IF(Grupos!C13="","",Grupos!I13)
B19: =IF(Grupos!C14="","",Grupos!B14) | C19: =IF(Grupos!C14="","",Grupos!C14) | D19: =IF(Grupos!C14="","",Grupos!G14) | E19: =IF(Grupos!C14="","",Grupos!H14) | F19: =IF(Grupos!C14="","",Grupos!I14)
B20: =IF(Grupos!C15="","",Grupos!B15) | C20: =IF(Grupos!C15="","",Grupos!C15) | D20: =IF(Grupos!C15="","",Grupos!G15) | E20: =IF(Grupos!C15="","",Grupos!H15) | F20: =IF(Grupos!C15="","",Grupos!I15)
B21: =IF(Grupos!C16="","",Grupos!B16) | C21: =IF(Grupos!C16="","",Grupos!C16) | D21: =IF(Grupos!C16="","",Grupos!G16) | E21: =IF(Grupos!C16="","",Grupos!H16) | F21: =IF(Grupos!C16="","",Grupos!I16)

Sheet Alumnado
B2: Alumnado y reglas del reparto
B3: Apunta a cada alumno con su nivel. El reparto es por fórmula, con orden fijado: no cambia al abrir el archivo.
B5: Nº de grupos: | C5: 6 | E5: Alumnos: | F5: =COUNTIF(B9:B48,"?*") | G5: Cambia la semilla (1 a 1008) para obtener otro reparto aleatorio equilibrado.
B6: Semilla del reparto: | C6: 37 | E6: Alumnos por grupo: | F6: =IF(OR(C5<1,F5=0),"",IF(MOD(F5,C5)=0,F5/C5,INT(F5/C5)&"-"&(INT(F5/C5)+1))) | G6: Grupo manual: escribe un nº para forzar a un alumno en un grupo concreto.
B8: Alumno | C8: Nivel | D8: Separar de (no juntar con) | E8: Preferiría con | F8: Nº de sorteo | G8: Puntos | H8: Clave | I8: Orden | J8: Grupo automático | K8: Grupo manual | L8: Grupo final | M8: Separación incumplida | N8: Afinidad | O8: Pos. | P8: Etiqueta
B9: Lucía Prieto | C9: Alto | E9: Marcos Gil | F9: =IF(B9="","",MOD(1*$C$6,1009)) | G9: =IF(B9="","",IFERROR(VLOOKUP(C9,Listas!$A$2:$B$4,2,FALSE),2)) | H9: =IF(B9="","",G9*10000+F9) | I9: =IF(B9="","",COUNTIF($H$9:$H$48,">"&H9)+1) | J9: =IF(OR(B9="",$C$5<1),"",IF(MOD(INT((I9-1)/$C$5),2)=0,MOD(I9-1,$C$5)+1,$C$5-MOD(I9-1,$C$5))) | L9: =IF(B9="","",IF(K9<>"",K9,J9)) | M9: =IF(OR(B9="",D9=""),"",IF(IFERROR(INDEX($L$9:$L$48,MATCH(D9,$B$9:$B$48,0)),"")=L9,"Sí","No")) | N9: =IF(OR(B9="",E9=""),"",IF(IFERROR(INDEX($L$9:$L$48,MATCH(E9,$B$9:$B$48,0)),"")=L9,"Cumplida","No cumplida")) | O9: =IF(OR(B9="",L9=""),"",L9*100+COUNTIF($L$9:L9,L9)) | P9: =IF(B9="","",B9&IF(C9="",""," ("&LEFT(C9,1)&")"))
B10: Marcos Gil | C10: Medio | F10: =IF(B10="","",MOD(2*$C$6,1009)) | G10: =IF(B10="","",IFERROR(VLOOKUP(C10,Listas!$A$2:$B$4,2,FALSE),2)) | H10: =IF(B10="","",G10*10000+F10) | I10: =IF(B10="","",COUNTIF($H$9:$H$48,">"&H10)+1) | J10: =IF(OR(B10="",$C$5<1),"",IF(MOD(INT((I10-1)/$C$5),2)=0,MOD(I10-1,$C$5)+1,$C$5-MOD(I10-1,$C$5))) | L10: =IF(B10="","",IF(K10<>"",K10,J10)) | M10: =IF(OR(B10="",D10=""),"",IF(IFERROR(INDEX($L$9:$L$48,MATCH(D10,$B$9:$B$48,0)),"")=L10,"Sí","No")) | N10: =IF(OR(B10="",E10=""),"",IF(IFERROR(INDEX($L$9:$L$48,MATCH(E10,$B$9:$B$48,0)),"")=L10,"Cumplida","No cumplida")) | O10: =IF(OR(B10="",L10=""),"",L10*100+COUNTIF($L$9:L10,L10)) | P10: =IF(B10="","",B10&IF(C10="",""," ("&LEFT(C10,1)&")"))
B11: Sara Ortega | C11: Alto | D11: Hugo Serrano | F11: =IF(B11="","",MOD(3*$C$6,1009)) | G11: =IF(B11="","",IFERROR(VLOOKUP(C11,Listas!$A$2:$B$4,2,FALSE),2)) | H11: =IF(B11="","",G11*10000+F11) | I11: =IF(B11="","",COUNTIF($H$9:$H$48,">"&H11)+1) | J11: =IF(OR(B11="",$C$5<1),"",IF(MOD(INT((I11-1)/$C$5),2)=0,MOD(I11-1,$C$5)+1,$C$5-MOD(I11-1,$C$5))) | L11: =IF(B11="","",IF(K11<>"",K11,J11)) | M11: =IF(OR(B11="",D11=""),"",IF(IFERROR(INDEX($L$9:$L$48,MATCH(D11,$B$9:$B$48,0)),"")=L11,"Sí","No")) | N11: =IF(OR(B11="",E11=""),"",IF(IFERROR(INDEX($L$9:$L$48,MATCH(E11,$B$9:$B$48,0)),"")=L11,"Cumplida","No cumplida")) | O11: =IF(OR(B11="",L11=""),"",L11*100+COUNTIF($L$9:L11,L11)) | P11: =IF(B11="","",B11&IF(C11="",""," ("&LEFT(C11,1)&")"))
B12: Hugo Serrano | C12: Bajo | F12: =IF(B12="","",MOD(4*$C$6,1009)) | G12: =IF(B12="","",IFERROR(VLOOKUP(C12,Listas!$A$2:$B$4,2,FALSE),2)) | H12: =IF(B12="","",G12*10000+F12) | I12: =IF(B12="","",COUNTIF($H$9:$H$48,">"&H12)+1) | J12: =IF(OR(B12="",$C$5<1),"",IF(MOD(INT((I12-1)/$C$5),2)=0,MOD(I12-1,$C$5)+1,$C$5-MOD(I12-1,$C$5))) | L12: =IF(B12="","",IF(K12<>"",K12,J12)) | M12: =IF(OR(B12="",D12=""),"",IF(IFERROR(INDEX($L$9:$L$48,MATCH(D12,$B$9:$B$48,0)),"")=L12,"Sí","No")) | N12: =IF(OR(B12="",E12=""),"",IF(IFERROR(INDEX($L$9:$L$48,MATCH(E12,$B$9:$B$48,0)),"")=L12,"Cumplida","No cumplida")) | O12: =IF(OR(B12="",L12=""),"",L12*100+COUNTIF($L$9:L12,L12)) | P12: =IF(B12="","",B12&IF(C12="",""," ("&LEFT(C12,1)&")"))
B13: Aitana Ruiz | C13: Medio | E13: Noa Castillo | F13: =IF(B13="","",MOD(5*$C$6,1009)) | G13: =IF(B13="","",IFERROR(VLOOKUP(C13,Listas!$A$2:$B$4,2,FALSE),2)) | H13: =IF(B13="","",G13*10000+F13) | I13: =IF(B13="","",COUNTIF($H$9:$H$48,">"&H13)+1) | J13: =IF(OR(B13="",$C$5<1),"",IF(MOD(INT((I13-1)/$C$5),2)=0,MOD(I13-1,$C$5)+1,$C$5-MOD(I13-1,$C$5))) | L13: =IF(B13="","",IF(K13<>"",K13,J13)) | M13: =IF(OR(B13="",D13=""),"",IF(IFERROR(INDEX($L$9:$L$48,MATCH(D13,$B$9:$B$48,0)),"")=L13,"Sí","No")) | N13: =IF(OR(B13="",E13=""),"",IF(IFERROR(INDEX($L$9:$L$48,MATCH(E13,$B$9:$B$48,0)),"")=L13,"Cumplida","No cumplida")) | O13: =IF(OR(B13="",L13=""),"",L13*100+COUNTIF($L$9:L13,L13)) | P13: =IF(B13="","",B13&IF(C13="",""," ("&LEFT(C13,1)&")"))
B14: Daniel Moreno | C14: Bajo | F14: =IF(B14="","",MOD(6*$C$6,1009)) | G14: =IF(B14="","",IFERROR(VLOOKUP(C14,Listas!$A$2:$B$4,2,FALSE),2)) | H14: =IF(B14="","",G14*10000+F14) | I14: =IF(B14="","",COUNTIF($H$9:$H$48,">"&H14)+1) | J14: =IF(OR(B14="",$C$5<1),"",IF(MOD(INT((I14-1)/$C$5),2)=0,MOD(I14-1,$C$5)+1,$C$5-MOD(I14-1,$C$5))) | L14: =IF(B14="","",IF(K14<>"",K14,J14)) | M14: =IF(OR(B14="",D14=""),"",IF(IFERROR(INDEX($L$9:$L$48,MATCH(D14,$B$9:$B$48,0)),"")=L14,"Sí","No")) | N14: =IF(OR(B14="",E14=""),"",IF(IFERROR(INDEX($L$9:$L$48,MATCH(E14,$B$9:$B$48,0)),"")=L14,"Cumplida","No cumplida")) | O14: =IF(OR(B14="",L14=""),"",L14*100+COUNTIF($L$9:L14,L14)) | P14: =IF(B14="","",B14&IF(C14="",""," ("&LEFT(C14,1)&")"))
B15: Noa Castillo | C15: Alto | F15: =IF(B15="","",MOD(7*$C$6,1009)) | G15: =IF(B15="","",IFERROR(VLOOKUP(C15,Listas!$A$2:$B$4,2,FALSE),2)) | H15: =IF(B15="","",G15*10000+F15) | I15: =IF(B15="","",COUNTIF($H$9:$H$48,">"&H15)+1) | J15: =IF(OR(B15="",$C$5<1),"",IF(MOD(INT((I15-1)/$C$5),2)=0,MOD(I15-1,$C$5)+1,$C$5-MOD(I15-1,$C$5))) | L15: =IF(B15="","",IF(K15<>"",K15,J15)) | M15: =IF(OR(B15="",D15=""),"",IF(IFERROR(INDEX($L$9:$L$48,MATCH(D15,$B$9:$B$48,0)),"")=L15,"Sí","No")) | N15: =IF(OR(B15="",E15=""),"",IF(IFERROR(INDEX($L$9:$L$48,MATCH(E15,$B$9:$B$48,0)),"")=L15,"Cumplida","No cumplida")) | O15: =IF(OR(B15="",L15=""),"",L15*100+COUNTIF($L$9:L15,L15)) | P15: =IF(B15="","",B15&IF(C15="",""," ("&LEFT(C15,1)&")"))
B16: Pablo Vega | C16: Medio | D16: Daniel Moreno | F16: =IF(B16="","",MOD(8*$C$6,1009)) | G16: =IF(B16="","",IFERROR(VLOOKUP(C16,Listas!$A$2:$B$4,2,FALSE),2)) | H16: =IF(B16="","",G16*10000+F16) | I16: =IF(B16="","",COUNTIF($H$9:$H$48,">"&H16)+1) | J16: =IF(OR(B16="",$C$5<1),"",IF(MOD(INT((I16-1)/$C$5),2)=0,MOD(I16-1,$C$5)+1,$C$5-MOD(I16-1,$C$5))) | L16: =IF(B16="","",IF(K16<>"",K16,J16)) | M16: =IF(OR(B16="",D16=""),"",IF(IFERROR(INDEX($L$9:$L$48,MATCH(D16,$B$9:$B$48,0)),"")=L16,"Sí","No")) | N16: =IF(OR(B16="",E16=""),"",IF(IFERROR(INDEX($L$9:$L$48,MATCH(E16,$B$9:$B$48,0)),"")=L16,"Cumplida","No cumplida")) | O16: =IF(OR(B16="",L16=""),"",L16*100+COUNTIF($L$9:L16,L16)) | P16: =IF(B16="","",B16&IF(C16="",""," ("&LEFT(C16,1)&")"))
B17: Carla Navarro | C17: Medio | E17: Claudia Marín | F17: =IF(B17="","",MOD(9*$C$6,1009)) | G17: =IF(B17="","",IFERROR(VLOOKUP(C17,Listas!$A$2:$B$4,2,FALSE),2)) | H17: =IF(B17="","",G17*10000+F17) | I17: =IF(B17="","",COUNTIF($H$9:$H$48,">"&H17)+1) | J17: =IF(OR(B17="",$C$5<1),"",IF(MOD(INT((I17-1)/$C$5),2)=0,MOD(I17-1,$C$5)+1,$C$5-MOD(I17-1,$C$5))) | L17: =IF(B17="","",IF(K17<>"",K17,J17)) | M17: =IF(OR(B17="",D17=""),"",IF(IFERROR(INDEX($L$9:$L$48,MATCH(D17,$B$9:$B$48,0)),"")=L17,"Sí","No")) | N17: =IF(OR(B17="",E17=""),"",IF(IFERROR(INDEX($L$9:$L$48,MATCH(E17,$B$9:$B$48,0)),"")=L17,"Cumplida","No cumplida")) | O17: =IF(OR(B17="",L17=""),"",L17*100+COUNTIF($L$9:L17,L17)) | P17: =IF(B17="","",B17&IF(C17="",""," ("&LEFT(C17,1)&")"))
B18: Iván Romero | C18: Bajo | F18: =IF(B18="","",MOD(10*$C$6,1009)) | G18: =IF(B18="","",IFERROR(VLOOKUP(C18,Listas!$A$2:$B$4,2,FALSE),2)) | H18: =IF(B18="","",G18*10000+F18) | I18: =IF(B18="","",COUNTIF($H$9:$H$48,">"&H18)+1) | J18: =IF(OR(B18="",$C$5<1),"",IF(MOD(INT((I18-1)/$C$5),2)=0,MOD(I18-1,$C$5)+1,$C$5-MOD(I18-1,$C$5))) | L18: =IF(B18="","",IF(K18<>"",K18,J18)) | M18: =IF(OR(B18="",D18=""),"",IF(IFERROR(INDEX($L$9:$L$48,MATCH(D18,$B$9:$B$48,0)),"")=L18,"Sí","No")) | N18: =IF(OR(B18="",E18=""),"",IF(IFERROR(INDEX($L$9:$L$48,MATCH(E18,$B$9:$B$48,0)),"")=L18,"Cumplida","No cumplida")) | O18: =IF(OR(B18="",L18=""),"",L18*100+COUNTIF($L$9:L18,L18)) | P18: =IF(B18="","",B18&IF(C18="",""," ("&LEFT(C18,1)&")"))
B19: Martina Sanz | C19: Alto | F19: =IF(B19="","",MOD(11*$C$6,1009)) | G19: =IF(B19="","",IFERROR(VLOOKUP(C19,Listas!$A$2:$B$4,2,FALSE),2)) | H19: =IF(B19="","",G19*10000+F19) | I19: =IF(B19="","",COUNTIF($H$9:$H$48,">"&H19)+1) | J19: =IF(OR(B19="",$C$5<1),"",IF(MOD(INT((I19-1)/$C$5),2)=0,MOD(I19-1,$C$5)+1,$C$5-MOD(I19-1,$C$5))) | L19: =IF(B19="","",IF(K19<>"",K19,J19)) | M19: =IF(OR(B19="",D19=""),"",IF(IFERROR(INDEX($L$9:$L$48,MATCH(D19,$B$9:$B$48,0)),"")=L19,"Sí","No")) | N19: =IF(OR(B19="",E19=""),"",IF(IFERROR(INDEX($L$9:$L$48,MATCH(E19,$B$9:$B$48,0)),"")=L19,"Cumplida","No cumplida")) | O19: =IF(OR(B19="",L19=""),"",L19*100+COUNTIF($L$9:L19,L19)) | P19: =IF(B19="","",B19&IF(C19="",""," ("&LEFT(C19,1)&")"))
B20: Adrián Molina | C20: Medio | E20: Pablo Vega | F20: =IF(B20="","",MOD(12*$C$6,1009)) | G20: =IF(B20="","",IFERROR(VLOOKUP(C20,Listas!$A$2:$B$4,2,FALSE),2)) | H20: =IF(B20="","",G20*10000+F20) | I20: =IF(B20="","",COUNTIF($H$9:$H$48,">"&H20)+1) | J20: =IF(OR(B20="",$C$5<1),"",IF(MOD(INT((I20-1)/$C$5),2)=0,MOD(I20-1,$C$5)+1,$C$5-MOD(I20-1,$C$5))) | L20: =IF(B20="","",IF(K20<>"",K20,J20)) | M20: =IF(OR(B20="",D20=""),"",IF(IFERROR(INDEX($L$9:$L$48,MATCH(D20,$B$9:$B$48,0)),"")=L20,"Sí","No")) | N20: =IF(OR(B20="",E20=""),"",IF(IFERROR(INDEX($L$9:$L$48,MATCH(E20,$B$9:$B$48,0)),"")=L20,"Cumplida","No cumplida")) | O20: =IF(OR(B20="",L20=""),"",L20*100+COUNTIF($L$9:L20,L20)) | P20: =IF(B20="","",B20&IF(C20="",""," ("&LEFT(C20,1)&")"))
B21: Julia Herrera | C21: Medio | F21: =IF(B21="","",MOD(13*$C$6,1009)) | G21: =IF(B21="","",IFERROR(VLOOKUP(C21,Listas!$A$2:$B$4,2,FALSE),2)) | H21: =IF(B21="","",G21*10000+F21) | I21: =IF(B21="","",COUNTIF($H$9:$H$48,">"&H21)+1) | J21: =IF(OR(B21="",$C$5<1),"",IF(MOD(INT((I21-1)/$C$5),2)=0,MOD(I21-1,$C$5)+1,$C$5-MOD(I21-1,$C$5))) | L21: =IF(B21="","",IF(K21<>"",K21,J21)) | M21: =IF(OR(B21="",D21=""),"",IF(IFERROR(INDEX($L$9:$L$48,MATCH(D21,$B$9:$B$48,0)),"")=L21,"Sí","No")) | N21: =IF(OR(B21="",E21=""),"",IF(IFERROR(INDEX($L$9:$L$48,MATCH(E21,$B$9:$B$48,0)),"")=L21,"Cumplida","No cumplida")) | O21: =IF(OR(B21="",L21=""),"",L21*100+COUNTIF($L$9:L21,L21)) | P21: =IF(B21="","",B21&IF(C21="",""," ("&LEFT(C21,1)&")"))
B22: Álvaro Cano | C22: Bajo | D22: Iván Romero | F22: =IF(B22="","",MOD(14*$C$6,1009)) | G22: =IF(B22="","",IFERROR(VLOOKUP(C22,Listas!$A$2:$B$4,2,FALSE),2)) | H22: =IF(B22="","",G22*10000+F22) | I22: =IF(B22="","",COUNTIF($H$9:$H$48,">"&H22)+1) | J22: =IF(OR(B22="",$C$5<1),"",IF(MOD(INT((I22-1)/$C$5),2)=0,MOD(I22-1,$C$5)+1,$C$5-MOD(I22-1,$C$5))) | L22: =IF(B22="","",IF(K22<>"",K22,J22)) | M22: =IF(OR(B22="",D22=""),"",IF(IFERROR(INDEX($L$9:$L$48,MATCH(D22,$B$9:$B$48,0)),"")=L22,"Sí","No")) | N22: =IF(OR(B22="",E22=""),"",IF(IFERROR(INDEX($L$9:$L$48,MATCH(E22,$B$9:$B$48,0)),"")=L22,"Cumplida","No cumplida")) | O22: =IF(OR(B22="",L22=""),"",L22*100+COUNTIF($L$9:L22,L22)) | P22: =IF(B22="","",B22&IF(C22="",""," ("&LEFT(C22,1)&")"))
B23: Valeria Ramos | C23: Alto | F23: =IF(B23="","",MOD(15*$C$6,1009)) | G23: =IF(B23="","",IFERROR(VLOOKUP(C23,Listas!$A$2:$B$4,2,FALSE),2)) | H23: =IF(B23="","",G23*10000+F23) | I23: =IF(B23="","",COUNTIF($H$9:$H$48,">"&H23)+1) | J23: =IF(OR(B23="",$C$5<1),"",IF(MOD(INT((I23-1)/$C$5),2)=0,MOD(I23-1,$C$5)+1,$C$5-MOD(I23-1,$C$5))) | L23: =IF(B23="","",IF(K23<>"",K23,J23)) | M23: =IF(OR(B23="",D23=""),"",IF(IFERROR(INDEX($L$9:$L$48,MATCH(D23,$B$9:$B$48,0)),"")=L23,"Sí","No")) | N23: =IF(OR(B23="",E23=""),"",IF(IFERROR(INDEX($L$9:$L$48,MATCH(E23,$B$9:$B$48,0)),"")=L23,"Cumplida","No cumplida")) | O23: =IF(OR(B23="",L23=""),"",L23*100+COUNTIF($L$9:L23,L23)) | P23: =IF(B23="","",B23&IF(C23="",""," ("&LEFT(C23,1)&")"))
B24: Rubén Iglesias | C24: Medio | F24: =IF(B24="","",MOD(16*$C$6,1009)) | G24: =IF(B24="","",IFERROR(VLOOKUP(C24,Listas!$A$2:$B$4,2,FALSE),2)) | H24: =IF(B24="","",G24*10000+F24) | I24: =IF(B24="","",COUNTIF($H$9:$H$48,">"&H24)+1) | J24: =IF(OR(B24="",$C$5<1),"",IF(MOD(INT((I24-1)/$C$5),2)=0,MOD(I24-1,$C$5)+1,$C$5-MOD(I24-1,$C$5))) | L24: =IF(B24="","",IF(K24<>"",K24,J24)) | M24: =IF(OR(B24="",D24=""),"",IF(IFERROR(INDEX($L$9:$L$48,MATCH(D24,$B$9:$B$48,0)),"")=L24,"Sí","No")) | N24: =IF(OR(B24="",E24=""),"",IF(IFERROR(INDEX($L$9:$L$48,MATCH(E24,$B$9:$B$48,0)),"")=L24,"Cumplida","No cumplida")) | O24: =IF(OR(B24="",L24=""),"",L24*100+COUNTIF($L$9:L24,L24)) | P24: =IF(B24="","",B24&IF(C24="",""," ("&LEFT(C24,1)&")"))
B25: Emma Delgado | C25: Medio | E25: Carla Navarro | F25: =IF(B25="","",MOD(17*$C$6,1009)) | G25: =IF(B25="","",IFERROR(VLOOKUP(C25,Listas!$A$2:$B$4,2,FALSE),2)) | H25: =IF(B25="","",G25*10000+F25) | I25: =IF(B25="","",COUNTIF($H$9:$H$48,">"&H25)+1) | J25: =IF(OR(B25="",$C$5<1),"",IF(MOD(INT((I25-1)/$C$5),2)=0,MOD(I25-1,$C$5)+1,$C$5-MOD(I25-1,$C$5))) | L25: =IF(B25="","",IF(K25<>"",K25,J25)) | M25: =IF(OR(B25="",D25=""),"",IF(IFERROR(INDEX($L$9:$L$48,MATCH(D25,$B$9:$B$48,0)),"")=L25,"Sí","No")) | N25: =IF(OR(B25="",E25=""),"",IF(IFERROR(INDEX($L$9:$L$48,MATCH(E25,$B$9:$B$48,0)),"")=L25,"Cumplida","No cumplida")) | O25: =IF(OR(B25="",L25=""),"",L25*100+COUNTIF($L$9:L25,L25)) | P25: =IF(B25="","",B25&IF(C25="",""," ("&LEFT(C25,1)&")"))
B26: Gonzalo Pastor | C26: Bajo | F26: =IF(B26="","",MOD(18*$C$6,1009)) | G26: =IF(B26="","",IFERROR(VLOOKUP(C26,Listas!$A$2:$B$4,2,FALSE),2)) | H26: =IF(B26="","",G26*10000+F26) | I26: =IF(B26="","",COUNTIF($H$9:$H$48,">"&H26)+1) | J26: =IF(OR(B26="",$C$5<1),"",IF(MOD(INT((I26-1)/$C$5),2)=0,MOD(I26-1,$C$5)+1,$C$5-MOD(I26-1,$C$5))) | L26: =IF(B26="","",IF(K26<>"",K26,J26)) | M26: =IF(OR(B26="",D26=""),"",IF(IFERROR(INDEX($L$9:$L$48,MATCH(D26,$B$9:$B$48,0)),"")=L26,"Sí","No")) | N26: =IF(OR(B26="",E26=""),"",IF(IFERROR(INDEX($L$9:$L$48,MATCH(E26,$B$9:$B$48,0)),"")=L26,"Cumplida","No cumplida")) | O26: =IF(OR(B26="",L26=""),"",L26*100+COUNTIF($L$9:L26,L26)) | P26: =IF(B26="","",B26&IF(C26="",""," ("&LEFT(C26,1)&")"))
B27: Claudia Marín | C27: Medio | F27: =IF(B27="","",MOD(19*$C$6,1009)) | G27: =IF(B27="","",IFERROR(VLOOKUP(C27,Listas!$A$2:$B$4,2,FALSE),2)) | H27: =IF(B27="","",G27*10000+F27) | I27: =IF(B27="","",COUNTIF($H$9:$H$48,">"&H27)+1) | J27: =IF(OR(B27="",$C$5<1),"",IF(MOD(INT((I27-1)/$C$5),2)=0,MOD(I27-1,$C$5)+1,$C$5-MOD(I27-1,$C$5))) | L27: =IF(B27="","",IF(K27<>"",K27,J27)) | M27: =IF(OR(B27="",D27=""),"",IF(IFERROR(INDEX($L$9:$L$48,MATCH(D27,$B$9:$B$48,0)),"")=L27,"Sí","No")) | N27: =IF(OR(B27="",E27=""),"",IF(IFERROR(INDEX($L$9:$L$48,MATCH(E27,$B$9:$B$48,0)),"")=L27,"Cumplida","No cumplida")) | O27: =IF(OR(B27="",L27=""),"",L27*100+COUNTIF($L$9:L27,L27)) | P27: =IF(B27="","",B27&IF(C27="",""," ("&LEFT(C27,1)&")"))
B28: Samuel Vidal | C28: Alto | F28: =IF(B28="","",MOD(20*$C$6,1009)) | G28: =IF(B28="","",IFERROR(VLOOKUP(C28,Listas!$A$2:$B$4,2,FALSE),2)) | H28: =IF(B28="","",G28*10000+F28) | I28: =IF(B28="","",COUNTIF($H$9:$H$48,">"&H28)+1) | J28: =IF(OR(B28="",$C$5<1),"",IF(MOD(INT((I28-1)/$C$5),2)=0,MOD(I28-1,$C$5)+1,$C$5-MOD(I28-1,$C$5))) | L28: =IF(B28="","",IF(K28<>"",K28,J28)) | M28: =IF(OR(B28="",D28=""),"",IF(IFERROR(INDEX($L$9:$L$48,MATCH(D28,$B$9:$B$48,0)),"")=L28,"Sí","No")) | N28: =IF(OR(B28="",E28=""),"",IF(IFERROR(INDEX($L$9:$L$48,MATCH(E28,$B$9:$B$48,0)),"")=L28,"Cumplida","No cumplida")) | O28: =IF(OR(B28="",L28=""),"",L28*100+COUNTIF($L$9:L28,L28)) | P28: =IF(B28="","",B28&IF(C28="",""," ("&LEFT(C28,1)&")"))
B29: Inés Cabrera | C29: Bajo | F29: =IF(B29="","",MOD(21*$C$6,1009)) | G29: =IF(B29="","",IFERROR(VLOOKUP(C29,Listas!$A$2:$B$4,2,FALSE),2)) | H29: =IF(B29="","",G29*10000+F29) | I29: =IF(B29="","",COUNTIF($H$9:$H$48,">"&H29)+1) | J29: =IF(OR(B29="",$C$5<1),"",IF(MOD(INT((I29-1)/$C$5),2)=0,MOD(I29-1,$C$5)+1,$C$5-MOD(I29-1,$C$5))) | L29: =IF(B29="","",IF(K29<>"",K29,J29)) | M29: =IF(OR(B29="",D29=""),"",IF(IFERROR(INDEX($L$9:$L$48,MATCH(D29,$B$9:$B$48,0)),"")=L29,"Sí","No")) | N29: =IF(OR(B29="",E29=""),"",IF(IFERROR(INDEX($L$9:$L$48,MATCH(E29,$B$9:$B$48,0)),"")=L29,"Cumplida","No cumplida")) | O29: =IF(OR(B29="",L29=""),"",L29*100+COUNTIF($L$9:L29,L29)) | P29: =IF(B29="","",B29&IF(C29="",""," ("&LEFT(C29,1)&")"))
B30: Mario Gallego | C30: Medio | F30: =IF(B30="","",MOD(22*$C$6,1009)) | G30: =IF(B30="","",IFERROR(VLOOKUP(C30,Listas!$A$2:$B$4,2,FALSE),2)) | H30: =IF(B30="","",G30*10000+F30) | I30: =IF(B30="","",COUNTIF($H$9:$H$48,">"&H30)+1) | J30: =IF(OR(B30="",$C$5<1),"",IF(MOD(INT((I30-1)/$C$5),2)=0,MOD(I30-1,$C$5)+1,$C$5-MOD(I30-1,$C$5))) | L30: =IF(B30="","",IF(K30<>"",K30,J30)) | M30: =IF(OR(B30="",D30=""),"",IF(IFERROR(INDEX($L$9:$L$48,MATCH(D30,$B$9:$B$48,0)),"")=L30,"Sí","No")) | N30: =IF(OR(B30="",E30=""),"",IF(IFERROR(INDEX($L$9:$L$48,MATCH(E30,$B$9:$B$48,0)),"")=L30,"Cumplida","No cumplida")) | O30: =IF(OR(B30="",L30=""),"",L30*100+COUNTIF($L$9:L30,L30)) | P30: =IF(B30="","",B30&IF(C30="",""," ("&LEFT(C30,1)&")"))
B31: Paula Fuentes | C31: Alto | F31: =IF(B31="","",MOD(23*$C$6,1009)) | G31: =IF(B31="","",IFERROR(VLOOKUP(C31,Listas!$A$2:$B$4,2,FALSE),2)) | H31: =IF(B31="","",G31*10000+F31) | I31: =IF(B31="","",COUNTIF($H$9:$H$48,">"&H31)+1) | J31: =IF(OR(B31="",$C$5<1),"",IF(MOD(INT((I31-1)/$C$5),2)=0,MOD(I31-1,$C$5)+1,$C$5-MOD(I31-1,$C$5))) | L31: =IF(B31="","",IF(K31<>"",K31,J31)) | M31: =IF(OR(B31="",D31=""),"",IF(IFERROR(INDEX($L$9:$L$48,MATCH(D31,$B$9:$B$48,0)),"")=L31,"Sí","No")) | N31: =IF(OR(B31="",E31=""),"",IF(IFERROR(INDEX($L$9:$L$48,MATCH(E31,$B$9:$B$48,0)),"")=L31,"Cumplida","No cumplida")) | O31: =IF(OR(B31="",L31=""),"",L31*100+COUNTIF($L$9:L31,L31)) | P31: =IF(B31="","",B31&IF(C31="",""," ("&LEFT(C31,1)&")"))
B32: Óscar Lozano | C32: Medio | F32: =IF(B32="","",MOD(24*$C$6,1009)) | G32: =IF(B32="","",IFERROR(VLOOKUP(C32,Listas!$A$2:$B$4,2,FALSE),2)) | H32: =IF(B32="","",G32*10000+F32) | I32: =IF(B32="","",COUNTIF($H$9:$H$48,">"&H32)+1) | J32: =IF(OR(B32="",$C$5<1),"",IF(MOD(INT((I32-1)/$C$5),2)=0,MOD(I32-1,$C$5)+1,$C$5-MOD(I32-1,$C$5))) | L32: =IF(B32="","",IF(K32<>"",K32,J32)) | M32: =IF(OR(B32="",D32=""),"",IF(IFERROR(INDEX($L$9:$L$48,MATCH(D32,$B$9:$B$48,0)),"")=L32,"Sí","No")) | N32: =IF(OR(B32="",E32=""),"",IF(IFERROR(INDEX($L$9:$L$48,MATCH(E32,$B$9:$B$48,0)),"")=L32,"Cumplida","No cumplida")) | O32: =IF(OR(B32="",L32=""),"",L32*100+COUNTIF($L$9:L32,L32)) | P32: =IF(B32="","",B32&IF(C32="",""," ("&LEFT(C32,1)&")"))
F33: =IF(B33="","",MOD(25*$C$6,1009)) | G33: =IF(B33="","",IFERROR(VLOOKUP(C33,Listas!$A$2:$B$4,2,FALSE),2)) | H33: =IF(B33="","",G33*10000+F33) | I33: =IF(B33="","",COUNTIF($H$9:$H$48,">"&H33)+1) | J33: =IF(OR(B33="",$C$5<1),"",IF(MOD(INT((I33-1)/$C$5),2)=0,MOD(I33-1,$C$5)+1,$C$5-MOD(I33-1,$C$5))) | L33: =IF(B33="","",IF(K33<>"",K33,J33)) | M33: =IF(OR(B33="",D33=""),"",IF(IFERROR(INDEX($L$9:$L$48,MATCH(D33,$B$9:$B$48,0)),"")=L33,"Sí","No")) | N33: =IF(OR(B33="",E33=""),"",IF(IFERROR(INDEX($L$9:$L$48,MATCH(E33,$B$9:$B$48,0)),"")=L33,"Cumplida","No cumplida")) | O33: =IF(OR(B33="",L33=""),"",L33*100+COUNTIF($L$9:L33,L33)) | P33: =IF(B33="","",B33&IF(C33="",""," ("&LEFT(C33,1)&")"))
F34: =IF(B34="","",MOD(26*$C$6,1009)) | G34: =IF(B34="","",IFERROR(VLOOKUP(C34,Listas!$A$2:$B$4,2,FALSE),2)) | H34: =IF(B34="","",G34*10000+F34) | I34: =IF(B34="","",COUNTIF($H$9:$H$48,">"&H34)+1) | J34: =IF(OR(B34="",$C$5<1),"",IF(MOD(INT((I34-1)/$C$5),2)=0,MOD(I34-1,$C$5)+1,$C$5-MOD(I34-1,$C$5))) | L34: =IF(B34="","",IF(K34<>"",K34,J34)) | M34: =IF(OR(B34="",D34=""),"",IF(IFERROR(INDEX($L$9:$L$48,MATCH(D34,$B$9:$B$48,0)),"")=L34,"Sí","No")) | N34: =IF(OR(B34="",E34=""),"",IF(IFERROR(INDEX($L$9:$L$48,MATCH(E34,$B$9:$B$48,0)),"")=L34,"Cumplida","No cumplida")) | O34: =IF(OR(B34="",L34=""),"",L34*100+COUNTIF($L$9:L34,L34)) | P34: =IF(B34="","",B34&IF(C34="",""," ("&LEFT(C34,1)&")"))
F35: =IF(B35="","",MOD(27*$C$6,1009)) | G35: =IF(B35="","",IFERROR(VLOOKUP(C35,Listas!$A$2:$B$4,2,FALSE),2)) | H35: =IF(B35="","",G35*10000+F35) | I35: =IF(B35="","",COUNTIF($H$9:$H$48,">"&H35)+1) | J35: =IF(OR(B35="",$C$5<1),"",IF(MOD(INT((I35-1)/$C$5),2)=0,MOD(I35-1,$C$5)+1,$C$5-MOD(I35-1,$C$5))) | L35: =IF(B35="","",IF(K35<>"",K35,J35)) | M35: =IF(OR(B35="",D35=""),"",IF(IFERROR(INDEX($L$9:$L$48,MATCH(D35,$B$9:$B$48,0)),"")=L35,"Sí","No")) | N35: =IF(OR(B35="",E35=""),"",IF(IFERROR(INDEX($L$9:$L$48,MATCH(E35,$B$9:$B$48,0)),"")=L35,"Cumplida","No cumplida")) | O35: =IF(OR(B35="",L35=""),"",L35*100+COUNTIF($L$9:L35,L35)) | P35: =IF(B35="","",B35&IF(C35="",""," ("&LEFT(C35,1)&")"))
F36: =IF(B36="","",MOD(28*$C$6,1009)) | G36: =IF(B36="","",IFERROR(VLOOKUP(C36,Listas!$A$2:$B$4,2,FALSE),2)) | H36: =IF(B36="","",G36*10000+F36) | I36: =IF(B36="","",COUNTIF($H$9:$H$48,">"&H36)+1) | J36: =IF(OR(B36="",$C$5<1),"",IF(MOD(INT((I36-1)/$C$5),2)=0,MOD(I36-1,$C$5)+1,$C$5-MOD(I36-1,$C$5))) | L36: =IF(B36="","",IF(K36<>"",K36,J36)) | M36: =IF(OR(B36="",D36=""),"",IF(IFERROR(INDEX($L$9:$L$48,MATCH(D36,$B$9:$B$48,0)),"")=L36,"Sí","No")) | N36: =IF(OR(B36="",E36=""),"",IF(IFERROR(INDEX($L$9:$L$48,MATCH(E36,$B$9:$B$48,0)),"")=L36,"Cumplida","No cumplida")) | O36: =IF(OR(B36="",L36=""),"",L36*100+COUNTIF($L$9:L36,L36)) | P36: =IF(B36="","",B36&IF(C36="",""," ("&LEFT(C36,1)&")"))
F37: =IF(B37="","",MOD(29*$C$6,1009)) | G37: =IF(B37="","",IFERROR(VLOOKUP(C37,Listas!$A$2:$B$4,2,FALSE),2)) | H37: =IF(B37="","",G37*10000+F37) | I37: =IF(B37="","",COUNTIF($H$9:$H$48,">"&H37)+1) | J37: =IF(OR(B37="",$C$5<1),"",IF(MOD(INT((I37-1)/$C$5),2)=0,MOD(I37-1,$C$5)+1,$C$5-MOD(I37-1,$C$5))) | L37: =IF(B37="","",IF(K37<>"",K37,J37)) | M37: =IF(OR(B37="",D37=""),"",IF(IFERROR(INDEX($L$9:$L$48,MATCH(D37,$B$9:$B$48,0)),"")=L37,"Sí","No")) | N37: =IF(OR(B37="",E37=""),"",IF(IFERROR(INDEX($L$9:$L$48,MATCH(E37,$B$9:$B$48,0)),"")=L37,"Cumplida","No cumplida")) | O37: =IF(OR(B37="",L37=""),"",L37*100+COUNTIF($L$9:L37,L37)) | P37: =IF(B37="","",B37&IF(C37="",""," ("&LEFT(C37,1)&")"))
F38: =IF(B38="","",MOD(30*$C$6,1009)) | G38: =IF(B38="","",IFERROR(VLOOKUP(C38,Listas!$A$2:$B$4,2,FALSE),2)) | H38: =IF(B38="","",G38*10000+F38) | I38: =IF(B38="","",COUNTIF($H$9:$H$48,">"&H38)+1) | J38: =IF(OR(B38="",$C$5<1),"",IF(MOD(INT((I38-1)/$C$5),2)=0,MOD(I38-1,$C$5)+1,$C$5-MOD(I38-1,$C$5))) | L38: =IF(B38="","",IF(K38<>"",K38,J38)) | M38: =IF(OR(B38="",D38=""),"",IF(IFERROR(INDEX($L$9:$L$48,MATCH(D38,$B$9:$B$48,0)),"")=L38,"Sí","No")) | N38: =IF(OR(B38="",E38=""),"",IF(IFERROR(INDEX($L$9:$L$48,MATCH(E38,$B$9:$B$48,0)),"")=L38,"Cumplida","No cumplida")) | O38: =IF(OR(B38="",L38=""),"",L38*100+COUNTIF($L$9:L38,L38)) | P38: =IF(B38="","",B38&IF(C38="",""," ("&LEFT(C38,1)&")"))
F39: =IF(B39="","",MOD(31*$C$6,1009)) | G39: =IF(B39="","",IFERROR(VLOOKUP(C39,Listas!$A$2:$B$4,2,FALSE),2)) | H39: =IF(B39="","",G39*10000+F39) | I39: =IF(B39="","",COUNTIF($H$9:$H$48,">"&H39)+1) | J39: =IF(OR(B39="",$C$5<1),"",IF(MOD(INT((I39-1)/$C$5),2)=0,MOD(I39-1,$C$5)+1,$C$5-MOD(I39-1,$C$5))) | L39: =IF(B39="","",IF(K39<>"",K39,J39)) | M39: =IF(OR(B39="",D39=""),"",IF(IFERROR(INDEX($L$9:$L$48,MATCH(D39,$B$9:$B$48,0)),"")=L39,"Sí","No")) | N39: =IF(OR(B39="",E39=""),"",IF(IFERROR(INDEX($L$9:$L$48,MATCH(E39,$B$9:$B$48,0)),"")=L39,"Cumplida","No cumplida")) | O39: =IF(OR(B39="",L39=""),"",L39*100+COUNTIF($L$9:L39,L39)) | P39: =IF(B39="","",B39&IF(C39="",""," ("&LEFT(C39,1)&")"))
F40: =IF(B40="","",MOD(32*$C$6,1009)) | G40: =IF(B40="","",IFERROR(VLOOKUP(C40,Listas!$A$2:$B$4,2,FALSE),2)) | H40: =IF(B40="","",G40*10000+F40) | I40: =IF(B40="","",COUNTIF($H$9:$H$48,">"&H40)+1) | J40: =IF(OR(B40="",$C$5<1),"",IF(MOD(INT((I40-1)/$C$5),2)=0,MOD(I40-1,$C$5)+1,$C$5-MOD(I40-1,$C$5))) | L40: =IF(B40="","",IF(K40<>"",K40,J40)) | M40: =IF(OR(B40="",D40=""),"",IF(IFERROR(INDEX($L$9:$L$48,MATCH(D40,$B$9:$B$48,0)),"")=L40,"Sí","No")) | N40: =IF(OR(B40="",E40=""),"",IF(IFERROR(INDEX($L$9:$L$48,MATCH(E40,$B$9:$B$48,0)),"")=L40,"Cumplida","No cumplida")) | O40: =IF(OR(B40="",L40=""),"",L40*100+COUNTIF($L$9:L40,L40)) | P40: =IF(B40="","",B40&IF(C40="",""," ("&LEFT(C40,1)&")"))
F41: =IF(B41="","",MOD(33*$C$6,1009)) | G41: =IF(B41="","",IFERROR(VLOOKUP(C41,Listas!$A$2:$B$4,2,FALSE),2)) | H41: =IF(B41="","",G41*10000+F41) | I41: =IF(B41="","",COUNTIF($H$9:$H$48,">"&H41)+1) | J41: =IF(OR(B41="",$C$5<1),"",IF(MOD(INT((I41-1)/$C$5),2)=0,MOD(I41-1,$C$5)+1,$C$5-MOD(I41-1,$C$5))) | L41: =IF(B41="","",IF(K41<>"",K41,J41)) | M41: =IF(OR(B41="",D41=""),"",IF(IFERROR(INDEX($L$9:$L$48,MATCH(D41,$B$9:$B$48,0)),"")=L41,"Sí","No")) | N41: =IF(OR(B41="",E41=""),"",IF(IFERROR(INDEX($L$9:$L$48,MATCH(E41,$B$9:$B$48,0)),"")=L41,"Cumplida","No cumplida")) | O41: =IF(OR(B41="",L41=""),"",L41*100+COUNTIF($L$9:L41,L41)) | P41: =IF(B41="","",B41&IF(C41="",""," ("&LEFT(C41,1)&")"))
F42: =IF(B42="","",MOD(34*$C$6,1009)) | G42: =IF(B42="","",IFERROR(VLOOKUP(C42,Listas!$A$2:$B$4,2,FALSE),2)) | H42: =IF(B42="","",G42*10000+F42) | I42: =IF(B42="","",COUNTIF($H$9:$H$48,">"&H42)+1) | J42: =IF(OR(B42="",$C$5<1),"",IF(MOD(INT((I42-1)/$C$5),2)=0,MOD(I42-1,$C$5)+1,$C$5-MOD(I42-1,$C$5))) | L42: =IF(B42="","",IF(K42<>"",K42,J42)) | M42: =IF(OR(B42="",D42=""),"",IF(IFERROR(INDEX($L$9:$L$48,MATCH(D42,$B$9:$B$48,0)),"")=L42,"Sí","No")) | N42: =IF(OR(B42="",E42=""),"",IF(IFERROR(INDEX($L$9:$L$48,MATCH(E42,$B$9:$B$48,0)),"")=L42,"Cumplida","No cumplida")) | O42: =IF(OR(B42="",L42=""),"",L42*100+COUNTIF($L$9:L42,L42)) | P42: =IF(B42="","",B42&IF(C42="",""," ("&LEFT(C42,1)&")"))
F43: =IF(B43="","",MOD(35*$C$6,1009)) | G43: =IF(B43="","",IFERROR(VLOOKUP(C43,Listas!$A$2:$B$4,2,FALSE),2)) | H43: =IF(B43="","",G43*10000+F43) | I43: =IF(B43="","",COUNTIF($H$9:$H$48,">"&H43)+1) | J43: =IF(OR(B43="",$C$5<1),"",IF(MOD(INT((I43-1)/$C$5),2)=0,MOD(I43-1,$C$5)+1,$C$5-MOD(I43-1,$C$5))) | L43: =IF(B43="","",IF(K43<>"",K43,J43)) | M43: =IF(OR(B43="",D43=""),"",IF(IFERROR(INDEX($L$9:$L$48,MATCH(D43,$B$9:$B$48,0)),"")=L43,"Sí","No")) | N43: =IF(OR(B43="",E43=""),"",IF(IFERROR(INDEX($L$9:$L$48,MATCH(E43,$B$9:$B$48,0)),"")=L43,"Cumplida","No cumplida")) | O43: =IF(OR(B43="",L43=""),"",L43*100+COUNTIF($L$9:L43,L43)) | P43: =IF(B43="","",B43&IF(C43="",""," ("&LEFT(C43,1)&")"))
F44: =IF(B44="","",MOD(36*$C$6,1009)) | G44: =IF(B44="","",IFERROR(VLOOKUP(C44,Listas!$A$2:$B$4,2,FALSE),2)) | H44: =IF(B44="","",G44*10000+F44) | I44: =IF(B44="","",COUNTIF($H$9:$H$48,">"&H44)+1) | J44: =IF(OR(B44="",$C$5<1),"",IF(MOD(INT((I44-1)/$C$5),2)=0,MOD(I44-1,$C$5)+1,$C$5-MOD(I44-1,$C$5))) | L44: =IF(B44="","",IF(K44<>"",K44,J44)) | M44: =IF(OR(B44="",D44=""),"",IF(IFERROR(INDEX($L$9:$L$48,MATCH(D44,$B$9:$B$48,0)),"")=L44,"Sí","No")) | N44: =IF(OR(B44="",E44=""),"",IF(IFERROR(INDEX($L$9:$L$48,MATCH(E44,$B$9:$B$48,0)),"")=L44,"Cumplida","No cumplida")) | O44: =IF(OR(B44="",L44=""),"",L44*100+COUNTIF($L$9:L44,L44)) | P44: =IF(B44="","",B44&IF(C44="",""," ("&LEFT(C44,1)&")"))
F45: =IF(B45="","",MOD(37*$C$6,1009)) | G45: =IF(B45="","",IFERROR(VLOOKUP(C45,Listas!$A$2:$B$4,2,FALSE),2)) | H45: =IF(B45="","",G45*10000+F45) | I45: =IF(B45="","",COUNTIF($H$9:$H$48,">"&H45)+1) | J45: =IF(OR(B45="",$C$5<1),"",IF(MOD(INT((I45-1)/$C$5),2)=0,MOD(I45-1,$C$5)+1,$C$5-MOD(I45-1,$C$5))) | L45: =IF(B45="","",IF(K45<>"",K45,J45)) | M45: =IF(OR(B45="",D45=""),"",IF(IFERROR(INDEX($L$9:$L$48,MATCH(D45,$B$9:$B$48,0)),"")=L45,"Sí","No")) | N45: =IF(OR(B45="",E45=""),"",IF(IFERROR(INDEX($L$9:$L$48,MATCH(E45,$B$9:$B$48,0)),"")=L45,"Cumplida","No cumplida")) | O45: =IF(OR(B45="",L45=""),"",L45*100+COUNTIF($L$9:L45,L45)) | P45: =IF(B45="","",B45&IF(C45="",""," ("&LEFT(C45,1)&")"))
F46: =IF(B46="","",MOD(38*$C$6,1009)) | G46: =IF(B46="","",IFERROR(VLOOKUP(C46,Listas!$A$2:$B$4,2,FALSE),2)) | H46: =IF(B46="","",G46*10000+F46) | I46: =IF(B46="","",COUNTIF($H$9:$H$48,">"&H46)+1) | J46: =IF(OR(B46="",$C$5<1),"",IF(MOD(INT((I46-1)/$C$5),2)=0,MOD(I46-1,$C$5)+1,$C$5-MOD(I46-1,$C$5))) | L46: =IF(B46="","",IF(K46<>"",K46,J46)) | M46: =IF(OR(B46="",D46=""),"",IF(IFERROR(INDEX($L$9:$L$48,MATCH(D46,$B$9:$B$48,0)),"")=L46,"Sí","No")) | N46: =IF(OR(B46="",E46=""),"",IF(IFERROR(INDEX($L$9:$L$48,MATCH(E46,$B$9:$B$48,0)),"")=L46,"Cumplida","No cumplida")) | O46: =IF(OR(B46="",L46=""),"",L46*100+COUNTIF($L$9:L46,L46)) | P46: =IF(B46="","",B46&IF(C46="",""," ("&LEFT(C46,1)&")"))
F47: =IF(B47="","",MOD(39*$C$6,1009)) | G47: =IF(B47="","",IFERROR(VLOOKUP(C47,Listas!$A$2:$B$4,2,FALSE),2)) | H47: =IF(B47="","",G47*10000+F47) | I47: =IF(B47="","",COUNTIF($H$9:$H$48,">"&H47)+1) | J47: =IF(OR(B47="",$C$5<1),"",IF(MOD(INT((I47-1)/$C$5),2)=0,MOD(I47-1,$C$5)+1,$C$5-MOD(I47-1,$C$5))) | L47: =IF(B47="","",IF(K47<>"",K47,J47)) | M47: =IF(OR(B47="",D47=""),"",IF(IFERROR(INDEX($L$9:$L$48,MATCH(D47,$B$9:$B$48,0)),"")=L47,"Sí","No")) | N47: =IF(OR(B47="",E47=""),"",IF(IFERROR(INDEX($L$9:$L$48,MATCH(E47,$B$9:$B$48,0)),"")=L47,"Cumplida","No cumplida")) | O47: =IF(OR(B47="",L47=""),"",L47*100+COUNTIF($L$9:L47,L47)) | P47: =IF(B47="","",B47&IF(C47="",""," ("&LEFT(C47,1)&")"))
F48: =IF(B48="","",MOD(40*$C$6,1009)) | G48: =IF(B48="","",IFERROR(VLOOKUP(C48,Listas!$A$2:$B$4,2,FALSE),2)) | H48: =IF(B48="","",G48*10000+F48) | I48: =IF(B48="","",COUNTIF($H$9:$H$48,">"&H48)+1) | J48: =IF(OR(B48="",$C$5<1),"",IF(MOD(INT((I48-1)/$C$5),2)=0,MOD(I48-1,$C$5)+1,$C$5-MOD(I48-1,$C$5))) | L48: =IF(B48="","",IF(K48<>"",K48,J48)) | M48: =IF(OR(B48="",D48=""),"",IF(IFERROR(INDEX($L$9:$L$48,MATCH(D48,$B$9:$B$48,0)),"")=L48,"Sí","No")) | N48: =IF(OR(B48="",E48=""),"",IF(IFERROR(INDEX($L$9:$L$48,MATCH(E48,$B$9:$B$48,0)),"")=L48,"Cumplida","No cumplida")) | O48: =IF(OR(B48="",L48=""),"",L48*100+COUNTIF($L$9:L48,L48)) | P48: =IF(B48="","",B48&IF(C48="",""," ("&LEFT(C48,1)&")"))

Sheet Grupos
B2: Equilibrio de los grupos
B3: Resumen automático por grupo: tamaño, mezcla de niveles y si respeta las separaciones. Puedes renombrar los grupos.
B5: Tolerancia de equilibrio: | C5: 0.4 | D5: puntos de diferencia con la media de la clase
B6: Media de nivel de la clase: | C6: =IFERROR(ROUND(AVERAGE(Alumnado!$G$9:$G$48),2),0)
B8: Grupo | C8: Alumnos | D8: Altos | E8: Medios | F8: Bajos | G8: Media de nivel | H8: Separaciones incumplidas | I8: Estado
A9: 1 | B9: Grupo 1 | C9: =IF($A9>Alumnado!$C$5,"",COUNTIF(Alumnado!$L$9:$L$48,$A9)) | D9: =IF(C9="","",COUNTIFS(Alumnado!$L$9:$L$48,$A9,Alumnado!$C$9:$C$48,"Alto")) | E9: =IF(C9="","",C9-D9-F9) | F9: =IF(C9="","",COUNTIFS(Alumnado!$L$9:$L$48,$A9,Alumnado!$C$9:$C$48,"Bajo")) | G9: =IF(C9="","",IF(C9=0,0,ROUND(SUMIF(Alumnado!$L$9:$L$48,$A9,Alumnado!$G$9:$G$48)/C9,2))) | H9: =IF(C9="","",COUNTIFS(Alumnado!$L$9:$L$48,$A9,Alumnado!$M$9:$M$48,"Sí")) | I9: =IF(C9="","",IF(C9=0,"Vacío",IF(H9>0,"Conflicto",IF(ABS(G9-$C$6)<=$C$5,"Equilibrado","Revisar"))))
A10: 2 | B10: Grupo 2 | C10: =IF($A10>Alumnado!$C$5,"",COUNTIF(Alumnado!$L$9:$L$48,$A10)) | D10: =IF(C10="","",COUNTIFS(Alumnado!$L$9:$L$48,$A10,Alumnado!$C$9:$C$48,"Alto")) | E10: =IF(C10="","",C10-D10-F10) | F10: =IF(C10="","",COUNTIFS(Alumnado!$L$9:$L$48,$A10,Alumnado!$C$9:$C$48,"Bajo")) | G10: =IF(C10="","",IF(C10=0,0,ROUND(SUMIF(Alumnado!$L$9:$L$48,$A10,Alumnado!$G$9:$G$48)/C10,2))) | H10: =IF(C10="","",COUNTIFS(Alumnado!$L$9:$L$48,$A10,Alumnado!$M$9:$M$48,"Sí")) | I10: =IF(C10="","",IF(C10=0,"Vacío",IF(H10>0,"Conflicto",IF(ABS(G10-$C$6)<=$C$5,"Equilibrado","Revisar"))))
A11: 3 | B11: Grupo 3 | C11: =IF($A11>Alumnado!$C$5,"",COUNTIF(Alumnado!$L$9:$L$48,$A11)) | D11: =IF(C11="","",COUNTIFS(Alumnado!$L$9:$L$48,$A11,Alumnado!$C$9:$C$48,"Alto")) | E11: =IF(C11="","",C11-D11-F11) | F11: =IF(C11="","",COUNTIFS(Alumnado!$L$9:$L$48,$A11,Alumnado!$C$9:$C$48,"Bajo")) | G11: =IF(C11="","",IF(C11=0,0,ROUND(SUMIF(Alumnado!$L$9:$L$48,$A11,Alumnado!$G$9:$G$48)/C11,2))) | H11: =IF(C11="","",COUNTIFS(Alumnado!$L$9:$L$48,$A11,Alumnado!$M$9:$M$48,"Sí")) | I11: =IF(C11="","",IF(C11=0,"Vacío",IF(H11>0,"Conflicto",IF(ABS(G11-$C$6)<=$C$5,"Equilibrado","Revisar"))))
A12: 4 | B12: Grupo 4 | C12: =IF($A12>Alumnado!$C$5,"",COUNTIF(Alumnado!$L$9:$L$48,$A12)) | D12: =IF(C12="","",COUNTIFS(Alumnado!$L$9:$L$48,$A12,Alumnado!$C$9:$C$48,"Alto")) | E12: =IF(C12="","",C12-D12-F12) | F12: =IF(C12="","",COUNTIFS(Alumnado!$L$9:$L$48,$A12,Alumnado!$C$9:$C$48,"Bajo")) | G12: =IF(C12="","",IF(C12=0,0,ROUND(SUMIF(Alumnado!$L$9:$L$48,$A12,Alumnado!$G$9:$G$48)/C12,2))) | H12: =IF(C12="","",COUNTIFS(Alumnado!$L$9:$L$48,$A12,Alumnado!$M$9:$M$48,"Sí")) | I12: =IF(C12="","",IF(C12=0,"Vacío",IF(H12>0,"Conflicto",IF(ABS(G12-$C$6)<=$C$5,"Equilibrado","Revisar"))))
A13: 5 | B13: Grupo 5 | C13: =IF($A13>Alumnado!$C$5,"",COUNTIF(Alumnado!$L$9:$L$48,$A13)) | D13: =IF(C13="","",COUNTIFS(Alumnado!$L$9:$L$48,$A13,Alumnado!$C$9:$C$48,"Alto")) | E13: =IF(C13="","",C13-D13-F13) | F13: =IF(C13="","",COUNTIFS(Alumnado!$L$9:$L$48,$A13,Alumnado!$C$9:$C$48,"Bajo")) | G13: =IF(C13="","",IF(C13=0,0,ROUND(SUMIF(Alumnado!$L$9:$L$48,$A13,Alumnado!$G$9:$G$48)/C13,2))) | H13: =IF(C13="","",COUNTIFS(Alumnado!$L$9:$L$48,$A13,Alumnado!$M$9:$M$48,"Sí")) | I13: =IF(C13="","",IF(C13=0,"Vacío",IF(H13>0,"Conflicto",IF(ABS(G13-$C$6)<=$C$5,"Equilibrado","Revisar"))))
A14: 6 | B14: Grupo 6 | C14: =IF($A14>Alumnado!$C$5,"",COUNTIF(Alumnado!$L$9:$L$48,$A14)) | D14: =IF(C14="","",COUNTIFS(Alumnado!$L$9:$L$48,$A14,Alumnado!$C$9:$C$48,"Alto")) | E14: =IF(C14="","",C14-D14-F14) | F14: =IF(C14="","",COUNTIFS(Alumnado!$L$9:$L$48,$A14,Alumnado!$C$9:$C$48,"Bajo")) | G14: =IF(C14="","",IF(C14=0,0,ROUND(SUMIF(Alumnado!$L$9:$L$48,$A14,Alumnado!$G$9:$G$48)/C14,2))) | H14: =IF(C14="","",COUNTIFS(Alumnado!$L$9:$L$48,$A14,Alumnado!$M$9:$M$48,"Sí")) | I14: =IF(C14="","",IF(C14=0,"Vacío",IF(H14>0,"Conflicto",IF(ABS(G14-$C$6)<=$C$5,"Equilibrado","Revisar"))))
A15: 7 | B15: Grupo 7 | C15: =IF($A15>Alumnado!$C$5,"",COUNTIF(Alumnado!$L$9:$L$48,$A15)) | D15: =IF(C15="","",COUNTIFS(Alumnado!$L$9:$L$48,$A15,Alumnado!$C$9:$C$48,"Alto")) | E15: =IF(C15="","",C15-D15-F15) | F15: =IF(C15="","",COUNTIFS(Alumnado!$L$9:$L$48,$A15,Alumnado!$C$9:$C$48,"Bajo")) | G15: =IF(C15="","",IF(C15=0,0,ROUND(SUMIF(Alumnado!$L$9:$L$48,$A15,Alumnado!$G$9:$G$48)/C15,2))) | H15: =IF(C15="","",COUNTIFS(Alumnado!$L$9:$L$48,$A15,Alumnado!$M$9:$M$48,"Sí")) | I15: =IF(C15="","",IF(C15=0,"Vacío",IF(H15>0,"Conflicto",IF(ABS(G15-$C$6)<=$C$5,"Equilibrado","Revisar"))))
A16: 8 | B16: Grupo 8 | C16: =IF($A16>Alumnado!$C$5,"",COUNTIF(Alumnado!$L$9:$L$48,$A16)) | D16: =IF(C16="","",COUNTIFS(Alumnado!$L$9:$L$48,$A16,Alumnado!$C$9:$C$48,"Alto")) | E16: =IF(C16="","",C16-D16-F16) | F16: =IF(C16="","",COUNTIFS(Alumnado!$L$9:$L$48,$A16,Alumnado!$C$9:$C$48,"Bajo")) | G16: =IF(C16="","",IF(C16=0,0,ROUND(SUMIF(Alumnado!$L$9:$L$48,$A16,Alumnado!$G$9:$G$48)/C16,2))) | H16: =IF(C16="","",COUNTIFS(Alumnado!$L$9:$L$48,$A16,Alumnado!$M$9:$M$48,"Sí")) | I16: =IF(C16="","",IF(C16=0,"Vacío",IF(H16>0,"Conflicto",IF(ABS(G16-$C$6)<=$C$5,"Equilibrado","Revisar"))))
B17: Total | C17: =SUM(C9:C16) | D17: =SUM(D9:D16) | E17: =SUM(E9:E16) | F17: =SUM(F9:F16) | G17: =C6 | H17: =SUM(H9:H16)
B19: Alumnos con grupo fuera de rango: | E19: =COUNTIF(Alumnado!$L$9:$L$48,">"&Alumnado!$C$5)
B20: Puntos por nivel: Alto = 3, Medio = 2, Bajo = 1 (alumnos sin nivel cuentan como Medio).

Sheet Listado
B2: Listado por grupo
B3: Composición final de cada grupo lista para imprimir. (A) = nivel alto, (M) = medio, (B) = bajo.
B5: Alumnos: | C5: =Alumnado!F5 | D5: Grupos: | E5: =Alumnado!$C$5
A7: Nº | B7: 1 | C7: 2 | D7: 3 | E7: 4 | F7: 5 | G7: 6 | H7: 7 | I7: 8
B8: =IF(B$7>Alumnado!$C$5,"",INDEX(Grupos!$B$9:$B$16,B$7)) | C8: =IF(C$7>Alumnado!$C$5,"",INDEX(Grupos!$B$9:$B$16,C$7)) | D8: =IF(D$7>Alumnado!$C$5,"",INDEX(Grupos!$B$9:$B$16,D$7)) | E8: =IF(E$7>Alumnado!$C$5,"",INDEX(Grupos!$B$9:$B$16,E$7)) | F8: =IF(F$7>Alumnado!$C$5,"",INDEX(Grupos!$B$9:$B$16,F$7)) | G8: =IF(G$7>Alumnado!$C$5,"",INDEX(Grupos!$B$9:$B$16,G$7)) | H8: =IF(H$7>Alumnado!$C$5,"",INDEX(Grupos!$B$9:$B$16,H$7)) | I8: =IF(I$7>Alumnado!$C$5,"",INDEX(Grupos!$B$9:$B$16,I$7))
A9: 1 | B9: =IFERROR(INDEX(Alumnado!$P$9:$P$48,MATCH(B$7*100+$A9,Alumnado!$O$9:$O$48,0)),"") | C9: =IFERROR(INDEX(Alumnado!$P$9:$P$48,MATCH(C$7*100+$A9,Alumnado!$O$9:$O$48,0)),"") | D9: =IFERROR(INDEX(Alumnado!$P$9:$P$48,MATCH(D$7*100+$A9,Alumnado!$O$9:$O$48,0)),"") | E9: =IFERROR(INDEX(Alumnado!$P$9:$P$48,MATCH(E$7*100+$A9,Alumnado!$O$9:$O$48,0)),"") | F9: =IFERROR(INDEX(Alumnado!$P$9:$P$48,MATCH(F$7*100+$A9,Alumnado!$O$9:$O$48,0)),"") | G9: =IFERROR(INDEX(Alumnado!$P$9:$P$48,MATCH(G$7*100+$A9,Alumnado!$O$9:$O$48,0)),"") | H9: =IFERROR(INDEX(Alumnado!$P$9:$P$48,MATCH(H$7*100+$A9,Alumnado!$O$9:$O$48,0)),"") | I9: =IFERROR(INDEX(Alumnado!$P$9:$P$48,MATCH(I$7*100+$A9,Alumnado!$O$9:$O$48,0)),"")
A10: 2 | B10: =IFERROR(INDEX(Alumnado!$P$9:$P$48,MATCH(B$7*100+$A10,Alumnado!$O$9:$O$48,0)),"") | C10: =IFERROR(INDEX(Alumnado!$P$9:$P$48,MATCH(C$7*100+$A10,Alumnado!$O$9:$O$48,0)),"") | D10: =IFERROR(INDEX(Alumnado!$P$9:$P$48,MATCH(D$7*100+$A10,Alumnado!$O$9:$O$48,0)),"") | E10: =IFERROR(INDEX(Alumnado!$P$9:$P$48,MATCH(E$7*100+$A10,Alumnado!$O$9:$O$48,0)),"") | F10: =IFERROR(INDEX(Alumnado!$P$9:$P$48,MATCH(F$7*100+$A10,Alumnado!$O$9:$O$48,0)),"") | G10: =IFERROR(INDEX(Alumnado!$P$9:$P$48,MATCH(G$7*100+$A10,Alumnado!$O$9:$O$48,0)),"") | H10: =IFERROR(INDEX(Alumnado!$P$9:$P$48,MATCH(H$7*100+$A10,Alumnado!$O$9:$O$48,0)),"") | I10: =IFERROR(INDEX(Alumnado!$P$9:$P$48,MATCH(I$7*100+$A10,Alumnado!$O$9:$O$48,0)),"")
A11: 3 | B11: =IFERROR(INDEX(Alumnado!$P$9:$P$48,MATCH(B$7*100+$A11,Alumnado!$O$9:$O$48,0)),"") | C11: =IFERROR(INDEX(Alumnado!$P$9:$P$48,MATCH(C$7*100+$A11,Alumnado!$O$9:$O$48,0)),"") | D11: =IFERROR(INDEX(Alumnado!$P$9:$P$48,MATCH(D$7*100+$A11,Alumnado!$O$9:$O$48,0)),"") | E11: =IFERROR(INDEX(Alumnado!$P$9:$P$48,MATCH(E$7*100+$A11,Alumnado!$O$9:$O$48,0)),"") | F11: =IFERROR(INDEX(Alumnado!$P$9:$P$48,MATCH(F$7*100+$A11,Alumnado!$O$9:$O$48,0)),"") | G11: =IFERROR(INDEX(Alumnado!$P$9:$P$48,MATCH(G$7*100+$A11,Alumnado!$O$9:$O$48,0)),"") | H11: =IFERROR(INDEX(Alumnado!$P$9:$P$48,MATCH(H$7*100+$A11,Alumnado!$O$9:$O$48,0)),"") | I11: =IFERROR(INDEX(Alumnado!$P$9:$P$48,MATCH(I$7*100+$A11,Alumnado!$O$9:$O$48,0)),"")
A12: 4 | B12: =IFERROR(INDEX(Alumnado!$P$9:$P$48,MATCH(B$7*100+$A12,Alumnado!$O$9:$O$48,0)),"") | C12: =IFERROR(INDEX(Alumnado!$P$9:$P$48,MATCH(C$7*100+$A12,Alumnado!$O$9:$O$48,0)),"") | D12: =IFERROR(INDEX(Alumnado!$P$9:$P$48,MATCH(D$7*100+$A12,Alumnado!$O$9:$O$48,0)),"") | E12: =IFERROR(INDEX(Alumnado!$P$9:$P$48,MATCH(E$7*100+$A12,Alumnado!$O$9:$O$48,0)),"") | F12: =IFERROR(INDEX(Alumnado!$P$9:$P$48,MATCH(F$7*100+$A12,Alumnado!$O$9:$O$48,0)),"") | G12: =IFERROR(INDEX(Alumnado!$P$9:$P$48,MATCH(G$7*100+$A12,Alumnado!$O$9:$O$48,0)),"") | H12: =IFERROR(INDEX(Alumnado!$P$9:$P$48,MATCH(H$7*100+$A12,Alumnado!$O$9:$O$48,0)),"") | I12: =IFERROR(INDEX(Alumnado!$P$9:$P$48,MATCH(I$7*100+$A12,Alumnado!$O$9:$O$48,0)),"")
A13: 5 | B13: =IFERROR(INDEX(Alumnado!$P$9:$P$48,MATCH(B$7*100+$A13,Alumnado!$O$9:$O$48,0)),"") | C13: =IFERROR(INDEX(Alumnado!$P$9:$P$48,MATCH(C$7*100+$A13,Alumnado!$O$9:$O$48,0)),"") | D13: =IFERROR(INDEX(Alumnado!$P$9:$P$48,MATCH(D$7*100+$A13,Alumnado!$O$9:$O$48,0)),"") | E13: =IFERROR(INDEX(Alumnado!$P$9:$P$48,MATCH(E$7*100+$A13,Alumnado!$O$9:$O$48,0)),"") | F13: =IFERROR(INDEX(Alumnado!$P$9:$P$48,MATCH(F$7*100+$A13,Alumnado!$O$9:$O$48,0)),"") | G13: =IFERROR(INDEX(Alumnado!$P$9:$P$48,MATCH(G$7*100+$A13,Alumnado!$O$9:$O$48,0)),"") | H13: =IFERROR(INDEX(Alumnado!$P$9:$P$48,MATCH(H$7*100+$A13,Alumnado!$O$9:$O$48,0)),"") | I13: =IFERROR(INDEX(Alumnado!$P$9:$P$48,MATCH(I$7*100+$A13,Alumnado!$O$9:$O$48,0)),"")
A14: 6 | B14: =IFERROR(INDEX(Alumnado!$P$9:$P$48,MATCH(B$7*100+$A14,Alumnado!$O$9:$O$48,0)),"") | C14: =IFERROR(INDEX(Alumnado!$P$9:$P$48,MATCH(C$7*100+$A14,Alumnado!$O$9:$O$48,0)),"") | D14: =IFERROR(INDEX(Alumnado!$P$9:$P$48,MATCH(D$7*100+$A14,Alumnado!$O$9:$O$48,0)),"") | E14: =IFERROR(INDEX(Alumnado!$P$9:$P$48,MATCH(E$7*100+$A14,Alumnado!$O$9:$O$48,0)),"") | F14: =IFERROR(INDEX(Alumnado!$P$9:$P$48,MATCH(F$7*100+$A14,Alumnado!$O$9:$O$48,0)),"") | G14: =IFERROR(INDEX(Alumnado!$P$9:$P$48,MATCH(G$7*100+$A14,Alumnado!$O$9:$O$48,0)),"") | H14: =IFERROR(INDEX(Alumnado!$P$9:$P$48,MATCH(H$7*100+$A14,Alumnado!$O$9:$O$48,0)),"") | I14: =IFERROR(INDEX(Alumnado!$P$9:$P$48,MATCH(I$7*100+$A14,Alumnado!$O$9:$O$48,0)),"")
A15: 7 | B15: =IFERROR(INDEX(Alumnado!$P$9:$P$48,MATCH(B$7*100+$A15,Alumnado!$O$9:$O$48,0)),"") | C15: =IFERROR(INDEX(Alumnado!$P$9:$P$48,MATCH(C$7*100+$A15,Alumnado!$O$9:$O$48,0)),"") | D15: =IFERROR(INDEX(Alumnado!$P$9:$P$48,MATCH(D$7*100+$A15,Alumnado!$O$9:$O$48,0)),"") | E15: =IFERROR(INDEX(Alumnado!$P$9:$P$48,MATCH(E$7*100+$A15,Alumnado!$O$9:$O$48,0)),"") | F15: =IFERROR(INDEX(Alumnado!$P$9:$P$48,MATCH(F$7*100+$A15,Alumnado!$O$9:$O$48,0)),"") | G15: =IFERROR(INDEX(Alumnado!$P$9:$P$48,MATCH(G$7*100+$A15,Alumnado!$O$9:$O$48,0)),"") | H15: =IFERROR(INDEX(Alumnado!$P$9:$P$48,MATCH(H$7*100+$A15,Alumnado!$O$9:$O$48,0)),"") | I15: =IFERROR(INDEX(Alumnado!$P$9:$P$48,MATCH(I$7*100+$A15,Alumnado!$O$9:$O$48,0)),"")
A16: 8 | B16: =IFERROR(INDEX(Alumnado!$P$9:$P$48,MATCH(B$7*100+$A16,Alumnado!$O$9:$O$48,0)),"") | C16: =IFERROR(INDEX(Alumnado!$P$9:$P$48,MATCH(C$7*100+$A16,Alumnado!$O$9:$O$48,0)),"") | D16: =IFERROR(INDEX(Alumnado!$P$9:$P$48,MATCH(D$7*100+$A16,Alumnado!$O$9:$O$48,0)),"") | E16: =IFERROR(INDEX(Alumnado!$P$9:$P$48,MATCH(E$7*100+$A16,Alumnado!$O$9:$O$48,0)),"") | F16: =IFERROR(INDEX(Alumnado!$P$9:$P$48,MATCH(F$7*100+$A16,Alumnado!$O$9:$O$48,0)),"") | G16: =IFERROR(INDEX(Alumnado!$P$9:$P$48,MATCH(G$7*100+$A16,Alumnado!$O$9:$O$48,0)),"") | H16: =IFERROR(INDEX(Alumnado!$P$9:$P$48,MATCH(H$7*100+$A16,Alumnado!$O$9:$O$48,0)),"") | I16: =IFERROR(INDEX(Alumnado!$P$9:$P$48,MATCH(I$7*100+$A16,Alumnado!$O$9:$O$48,0)),"")
A17: 9 | B17: =IFERROR(INDEX(Alumnado!$P$9:$P$48,MATCH(B$7*100+$A17,Alumnado!$O$9:$O$48,0)),"") | C17: =IFERROR(INDEX(Alumnado!$P$9:$P$48,MATCH(C$7*100+$A17,Alumnado!$O$9:$O$48,0)),"") | D17: =IFERROR(INDEX(Alumnado!$P$9:$P$48,MATCH(D$7*100+$A17,Alumnado!$O$9:$O$48,0)),"") | E17: =IFERROR(INDEX(Alumnado!$P$9:$P$48,MATCH(E$7*100+$A17,Alumnado!$O$9:$O$48,0)),"") | F17: =IFERROR(INDEX(Alumnado!$P$9:$P$48,MATCH(F$7*100+$A17,Alumnado!$O$9:$O$48,0)),"") | G17: =IFERROR(INDEX(Alumnado!$P$9:$P$48,MATCH(G$7*100+$A17,Alumnado!$O$9:$O$48,0)),"") | H17: =IFERROR(INDEX(Alumnado!$P$9:$P$48,MATCH(H$7*100+$A17,Alumnado!$O$9:$O$48,0)),"") | I17: =IFERROR(INDEX(Alumnado!$P$9:$P$48,MATCH(I$7*100+$A17,Alumnado!$O$9:$O$48,0)),"")
A18: 10 | B18: =IFERROR(INDEX(Alumnado!$P$9:$P$48,MATCH(B$7*100+$A18,Alumnado!$O$9:$O$48,0)),"") | C18: =IFERROR(INDEX(Alumnado!$P$9:$P$48,MATCH(C$7*100+$A18,Alumnado!$O$9:$O$48,0)),"") | D18: =IFERROR(INDEX(Alumnado!$P$9:$P$48,MATCH(D$7*100+$A18,Alumnado!$O$9:$O$48,0)),"") | E18: =IFERROR(INDEX(Alumnado!$P$9:$P$48,MATCH(E$7*100+$A18,Alumnado!$O$9:$O$48,0)),"") | F18: =IFERROR(INDEX(Alumnado!$P$9:$P$48,MATCH(F$7*100+$A18,Alumnado!$O$9:$O$48,0)),"") | G18: =IFERROR(INDEX(Alumnado!$P$9:$P$48,MATCH(G$7*100+$A18,Alumnado!$O$9:$O$48,0)),"") | H18: =IFERROR(INDEX(Alumnado!$P$9:$P$48,MATCH(H$7*100+$A18,Alumnado!$O$9:$O$48,0)),"") | I18: =IFERROR(INDEX(Alumnado!$P$9:$P$48,MATCH(I$7*100+$A18,Alumnado!$O$9:$O$48,0)),"")
A19: 11 | B19: =IFERROR(INDEX(Alumnado!$P$9:$P$48,MATCH(B$7*100+$A19,Alumnado!$O$9:$O$48,0)),"") | C19: =IFERROR(INDEX(Alumnado!$P$9:$P$48,MATCH(C$7*100+$A19,Alumnado!$O$9:$O$48,0)),"") | D19: =IFERROR(INDEX(Alumnado!$P$9:$P$48,MATCH(D$7*100+$A19,Alumnado!$O$9:$O$48,0)),"") | E19: =IFERROR(INDEX(Alumnado!$P$9:$P$48,MATCH(E$7*100+$A19,Alumnado!$O$9:$O$48,0)),"") | F19: =IFERROR(INDEX(Alumnado!$P$9:$P$48,MATCH(F$7*100+$A19,Alumnado!$O$9:$O$48,0)),"") | G19: =IFERROR(INDEX(Alumnado!$P$9:$P$48,MATCH(G$7*100+$A19,Alumnado!$O$9:$O$48,0)),"") | H19: =IFERROR(INDEX(Alumnado!$P$9:$P$48,MATCH(H$7*100+$A19,Alumnado!$O$9:$O$48,0)),"") | I19: =IFERROR(INDEX(Alumnado!$P$9:$P$48,MATCH(I$7*100+$A19,Alumnado!$O$9:$O$48,0)),"")
A20: 12 | B20: =IFERROR(INDEX(Alumnado!$P$9:$P$48,MATCH(B$7*100+$A20,Alumnado!$O$9:$O$48,0)),"") | C20: =IFERROR(INDEX(Alumnado!$P$9:$P$48,MATCH(C$7*100+$A20,Alumnado!$O$9:$O$48,0)),"") | D20: =IFERROR(INDEX(Alumnado!$P$9:$P$48,MATCH(D$7*100+$A20,Alumnado!$O$9:$O$48,0)),"") | E20: =IFERROR(INDEX(Alumnado!$P$9:$P$48,MATCH(E$7*100+$A20,Alumnado!$O$9:$O$48,0)),"") | F20: =IFERROR(INDEX(Alumnado!$P$9:$P$48,MATCH(F$7*100+$A20,Alumnado!$O$9:$O$48,0)),"") | G20: =IFERROR(INDEX(Alumnado!$P$9:$P$48,MATCH(G$7*100+$A20,Alumnado!$O$9:$O$48,0)),"") | H20: =IFERROR(INDEX(Alumnado!$P$9:$P$48,MATCH(H$7*100+$A20,Alumnado!$O$9:$O$48,0)),"") | I20: =IFERROR(INDEX(Alumnado!$P$9:$P$48,MATCH(I$7*100+$A20,Alumnado!$O$9:$O$48,0)),"")
... A28: 20 | B28: =IFERROR(INDEX(Alumnado!$P$9:$P$48,MATCH(B$7*100+$A28,Alumnado!$O$9:$O$48,0)),"") | C28: =IFERROR(INDEX(Alumnado!$P$9:$P$48,MATCH(C$7*100+$A28,Alumnado!$O$9:$O$48,0)),"") | D28: =IFERROR(INDEX(Alumnado!$P$9:$P$48,MATCH(D$7*100+$A28,Alumnado!$O$9:$O$48,0)),"") | E28: =IFERROR(INDEX(Alumnado!$P$9:$P$48,MATCH(E$7*100+$A28,Alumnado!$O$9:$O$48,0)),"") | F28: =IFERROR(INDEX(Alumnado!$P$9:$P$48,MATCH(F$7*100+$A28,Alumnado!$O$9:$O$48,0)),"") | G28: =IFERROR(INDEX(Alumnado!$P$9:$P$48,MATCH(G$7*100+$A28,Alumnado!$O$9:$O$48,0)),"") | H28: =IFERROR(INDEX(Alumnado!$P$9:$P$48,MATCH(H$7*100+$A28,Alumnado!$O$9:$O$48,0)),"") | I28: =IFERROR(INDEX(Alumnado!$P$9:$P$48,MATCH(I$7*100+$A28,Alumnado!$O$9:$O$48,0)),"")
A30: Σ | B30: =IF(B$7>Alumnado!$C$5,"",INDEX(Grupos!$C$9:$C$16,B$7)&" alumnos") | C30: =IF(C$7>Alumnado!$C$5,"",INDEX(Grupos!$C$9:$C$16,C$7)&" alumnos") | D30: =IF(D$7>Alumnado!$C$5,"",INDEX(Grupos!$C$9:$C$16,D$7)&" alumnos") | E30: =IF(E$7>Alumnado!$C$5,"",INDEX(Grupos!$C$9:$C$16,E$7)&" alumnos") | F30: =IF(F$7>Alumnado!$C$5,"",INDEX(Grupos!$C$9:$C$16,F$7)&" alumnos") | G30: =IF(G$7>Alumnado!$C$5,"",INDEX(Grupos!$C$9:$C$16,G$7)&" alumnos") | H30: =IF(H$7>Alumnado!$C$5,"",INDEX(Grupos!$C$9:$C$16,H$7)&" alumnos") | I30: =IF(I$7>Alumnado!$C$5,"",INDEX(Grupos!$C$9:$C$16,I$7)&" alumnos")

Sheet Listas
A1: Nivel | B1: Puntos
A2: Alto | B2: 3
A3: Medio | B3: 2
A4: Bajo | B4: 1

Sheet Instrucciones
B2: Cómo usar el generador de grupos
B3: Plantilla gratuita de Plantillas de Cálculo · plantillasdecalculo.com
B5: CÓMO USARLA
B6: 1. Ve a la hoja «Alumnado» y escribe el nombre de cada alumno en la columna «Alumno» (hay sitio para 40). Usa nombres de pila o iniciales si prefieres no guardar datos personales.
B7: 2. Elige su «Nivel» en el desplegable (Alto, Medio o Bajo). Es una valoración tuya: sirve para mezclar niveles en cada grupo, no es una nota.
B8: 3. Si dos alumnos no deben coincidir, elige en «Separar de» el nombre del otro. Si quieres que alguien trabaje con un compañero, elígelo en «Preferiría con».
B9: 4. Cambia el «Nº de grupos» (1 a 8) en la celda C5. Los grupos se reparten solos: se ordena a la clase por nivel y se reparte en serpiente para que todos tengan una mezcla similar.
B10: 5. Si no te convence el reparto, cambia la «Semilla del reparto» (C6, de 1 a 1008) para obtener otro aleatorio. Con una misma semilla el resultado es siempre el mismo.
B11: 6. Para forzar un cambio concreto, escribe un nº de grupo en «Grupo manual». Ese alumno pasa a ese grupo y se recalculan los avisos y el equilibrio.
B12: 7. Revisa la hoja «Grupos» (media de nivel y estado de cada uno) y los avisos de «Separación incumplida» y «Afinidad» en «Alumnado».
B13: 8. Imprime o copia la hoja «Listado»: tiene a cada grupo en una columna, con su nivel entre paréntesis (A, M o B).
B15: CONSEJOS
... B22: Las celdas con fondo crema y texto azul son para rellenar; las verdes se calculan solas.
