Workbook

Sheet Horario
B2: Mi horario universitario
B3: Parrilla semanal automática: se rellena sola con lo que escribas en «Clases». Cada asignatura tiene su color.
B5: Primera hora: | C5: 0.33333333 | D5: Cambia la hora si tus clases empiezan antes o después de las 8:00.
B7: Hora | C7: Lunes | D7: Martes | E7: Miércoles | F7: Jueves | G7: Viernes
B8: =$C$5+0/24 | C8: =IF(SUMPRODUCT((Clases!$D$8:$D$47=C$7)*(Clases!$E$8:$E$47<=$B8+0.0001)*(Clases!$F$8:$F$47>$B8+0.0001))=0,"",IF(SUMPRODUCT((Clases!$D$8:$D$47=C$7)*(Clases!$E$8:$E$47<=$B8+0.0001)*(Clases!$F$8:$F$47>$B8+0.0001))>1,"¡SOLAPE!",INDEX(Clases!$B$1:$B$47,SUMPRODUCT((Clases!$D$8:$D$47=C$7)*(Clases!$E$8:$E$47<=$B8+0.0001)*(Clases!$F$8:$F$47>$B8+0.0001)*ROW(Clases!$D$8:$D$47)))&CHAR(10)&INDEX(Clases!$C$1:$C$47,SUMPRODUCT((Clases!$D$8:$D$47=C$7)*(Clases!$E$8:$E$47<=$B8+0.0001)*(Clases!$F$8:$F$47>$B8+0.0001)*ROW(Clases!$D$8:$D$47)))&" · "&INDEX(Clases!$G$1:$G$47,SUMPRODUCT((Clases!$D$8:$D$47=C$7)*(Clases!$E$8:$E$47<=$B8+0.0001)*(Clases!$F$8:$F$47>$B8+0.0001)*ROW(Clases!$D$8:$D$47))))) | D8: =IF(SUMPRODUCT((Clases!$D$8:$D$47=D$7)*(Clases!$E$8:$E$47<=$B8+0.0001)*(Clases!$F$8:$F$47>$B8+0.0001))=0,"",IF(SUMPRODUCT((Clases!$D$8:$D$47=D$7)*(Clases!$E$8:$E$47<=$B8+0.0001)*(Clases!$F$8:$F$47>$B8+0.0001))>1,"¡SOLAPE!",INDEX(Clases!$B$1:$B$47,SUMPRODUCT((Clases!$D$8:$D$47=D$7)*(Clases!$E$8:$E$47<=$B8+0.0001)*(Clases!$F$8:$F$47>$B8+0.0001)*ROW(Clases!$D$8:$D$47)))&CHAR(10)&INDEX(Clases!$C$1:$C$47,SUMPRODUCT((Clases!$D$8:$D$47=D$7)*(Clases!$E$8:$E$47<=$B8+0.0001)*(Clases!$F$8:$F$47>$B8+0.0001)*ROW(Clases!$D$8:$D$47)))&" · "&INDEX(Clases!$G$1:$G$47,SUMPRODUCT((Clases!$D$8:$D$47=D$7)*(Clases!$E$8:$E$47<=$B8+0.0001)*(Clases!$F$8:$F$47>$B8+0.0001)*ROW(Clases!$D$8:$D$47))))) | E8: =IF(SUMPRODUCT((Clases!$D$8:$D$47=E$7)*(Clases!$E$8:$E$47<=$B8+0.0001)*(Clases!$F$8:$F$47>$B8+0.0001))=0,"",IF(SUMPRODUCT((Clases!$D$8:$D$47=E$7)*(Clases!$E$8:$E$47<=$B8+0.0001)*(Clases!$F$8:$F$47>$B8+0.0001))>1,"¡SOLAPE!",INDEX(Clases!$B$1:$B$47,SUMPRODUCT((Clases!$D$8:$D$47=E$7)*(Clases!$E$8:$E$47<=$B8+0.0001)*(Clases!$F$8:$F$47>$B8+0.0001)*ROW(Clases!$D$8:$D$47)))&CHAR(10)&INDEX(Clases!$C$1:$C$47,SUMPRODUCT((Clases!$D$8:$D$47=E$7)*(Clases!$E$8:$E$47<=$B8+0.0001)*(Clases!$F$8:$F$47>$B8+0.0001)*ROW(Clases!$D$8:$D$47)))&" · "&INDEX(Clases!$G$1:$G$47,SUMPRODUCT((Clases!$D$8:$D$47=E$7)*(Clases!$E$8:$E$47<=$B8+0.0001)*(Clases!$F$8:$F$47>$B8+0.0001)*ROW(Clases!$D$8:$D$47))))) | F8: =IF(SUMPRODUCT((Clases!$D$8:$D$47=F$7)*(Clases!$E$8:$E$47<=$B8+0.0001)*(Clases!$F$8:$F$47>$B8+0.0001))=0,"",IF(SUMPRODUCT((Clases!$D$8:$D$47=F$7)*(Clases!$E$8:$E$47<=$B8+0.0001)*(Clases!$F$8:$F$47>$B8+0.0001))>1,"¡SOLAPE!",INDEX(Clases!$B$1:$B$47,SUMPRODUCT((Clases!$D$8:$D$47=F$7)*(Clases!$E$8:$E$47<=$B8+0.0001)*(Clases!$F$8:$F$47>$B8+0.0001)*ROW(Clases!$D$8:$D$47)))&CHAR(10)&INDEX(Clases!$C$1:$C$47,SUMPRODUCT((Clases!$D$8:$D$47=F$7)*(Clases!$E$8:$E$47<=$B8+0.0001)*(Clases!$F$8:$F$47>$B8+0.0001)*ROW(Clases!$D$8:$D$47)))&" · "&INDEX(Clases!$G$1:$G$47,SUMPRODUCT((Clases!$D$8:$D$47=F$7)*(Clases!$E$8:$E$47<=$B8+0.0001)*(Clases!$F$8:$F$47>$B8+0.0001)*ROW(Clases!$D$8:$D$47))))) | G8: =IF(SUMPRODUCT((Clases!$D$8:$D$47=G$7)*(Clases!$E$8:$E$47<=$B8+0.0001)*(Clases!$F$8:$F$47>$B8+0.0001))=0,"",IF(SUMPRODUCT((Clases!$D$8:$D$47=G$7)*(Clases!$E$8:$E$47<=$B8+0.0001)*(Clases!$F$8:$F$47>$B8+0.0001))>1,"¡SOLAPE!",INDEX(Clases!$B$1:$B$47,SUMPRODUCT((Clases!$D$8:$D$47=G$7)*(Clases!$E$8:$E$47<=$B8+0.0001)*(Clases!$F$8:$F$47>$B8+0.0001)*ROW(Clases!$D$8:$D$47)))&CHAR(10)&INDEX(Clases!$C$1:$C$47,SUMPRODUCT((Clases!$D$8:$D$47=G$7)*(Clases!$E$8:$E$47<=$B8+0.0001)*(Clases!$F$8:$F$47>$B8+0.0001)*ROW(Clases!$D$8:$D$47)))&" · "&INDEX(Clases!$G$1:$G$47,SUMPRODUCT((Clases!$D$8:$D$47=G$7)*(Clases!$E$8:$E$47<=$B8+0.0001)*(Clases!$F$8:$F$47>$B8+0.0001)*ROW(Clases!$D$8:$D$47)))))
B9: =$C$5+1/24 | C9: =IF(SUMPRODUCT((Clases!$D$8:$D$47=C$7)*(Clases!$E$8:$E$47<=$B9+0.0001)*(Clases!$F$8:$F$47>$B9+0.0001))=0,"",IF(SUMPRODUCT((Clases!$D$8:$D$47=C$7)*(Clases!$E$8:$E$47<=$B9+0.0001)*(Clases!$F$8:$F$47>$B9+0.0001))>1,"¡SOLAPE!",INDEX(Clases!$B$1:$B$47,SUMPRODUCT((Clases!$D$8:$D$47=C$7)*(Clases!$E$8:$E$47<=$B9+0.0001)*(Clases!$F$8:$F$47>$B9+0.0001)*ROW(Clases!$D$8:$D$47)))&CHAR(10)&INDEX(Clases!$C$1:$C$47,SUMPRODUCT((Clases!$D$8:$D$47=C$7)*(Clases!$E$8:$E$47<=$B9+0.0001)*(Clases!$F$8:$F$47>$B9+0.0001)*ROW(Clases!$D$8:$D$47)))&" · "&INDEX(Clases!$G$1:$G$47,SUMPRODUCT((Clases!$D$8:$D$47=C$7)*(Clases!$E$8:$E$47<=$B9+0.0001)*(Clases!$F$8:$F$47>$B9+0.0001)*ROW(Clases!$D$8:$D$47))))) | D9: =IF(SUMPRODUCT((Clases!$D$8:$D$47=D$7)*(Clases!$E$8:$E$47<=$B9+0.0001)*(Clases!$F$8:$F$47>$B9+0.0001))=0,"",IF(SUMPRODUCT((Clases!$D$8:$D$47=D$7)*(Clases!$E$8:$E$47<=$B9+0.0001)*(Clases!$F$8:$F$47>$B9+0.0001))>1,"¡SOLAPE!",INDEX(Clases!$B$1:$B$47,SUMPRODUCT((Clases!$D$8:$D$47=D$7)*(Clases!$E$8:$E$47<=$B9+0.0001)*(Clases!$F$8:$F$47>$B9+0.0001)*ROW(Clases!$D$8:$D$47)))&CHAR(10)&INDEX(Clases!$C$1:$C$47,SUMPRODUCT((Clases!$D$8:$D$47=D$7)*(Clases!$E$8:$E$47<=$B9+0.0001)*(Clases!$F$8:$F$47>$B9+0.0001)*ROW(Clases!$D$8:$D$47)))&" · "&INDEX(Clases!$G$1:$G$47,SUMPRODUCT((Clases!$D$8:$D$47=D$7)*(Clases!$E$8:$E$47<=$B9+0.0001)*(Clases!$F$8:$F$47>$B9+0.0001)*ROW(Clases!$D$8:$D$47))))) | E9: =IF(SUMPRODUCT((Clases!$D$8:$D$47=E$7)*(Clases!$E$8:$E$47<=$B9+0.0001)*(Clases!$F$8:$F$47>$B9+0.0001))=0,"",IF(SUMPRODUCT((Clases!$D$8:$D$47=E$7)*(Clases!$E$8:$E$47<=$B9+0.0001)*(Clases!$F$8:$F$47>$B9+0.0001))>1,"¡SOLAPE!",INDEX(Clases!$B$1:$B$47,SUMPRODUCT((Clases!$D$8:$D$47=E$7)*(Clases!$E$8:$E$47<=$B9+0.0001)*(Clases!$F$8:$F$47>$B9+0.0001)*ROW(Clases!$D$8:$D$47)))&CHAR(10)&INDEX(Clases!$C$1:$C$47,SUMPRODUCT((Clases!$D$8:$D$47=E$7)*(Clases!$E$8:$E$47<=$B9+0.0001)*(Clases!$F$8:$F$47>$B9+0.0001)*ROW(Clases!$D$8:$D$47)))&" · "&INDEX(Clases!$G$1:$G$47,SUMPRODUCT((Clases!$D$8:$D$47=E$7)*(Clases!$E$8:$E$47<=$B9+0.0001)*(Clases!$F$8:$F$47>$B9+0.0001)*ROW(Clases!$D$8:$D$47))))) | F9: =IF(SUMPRODUCT((Clases!$D$8:$D$47=F$7)*(Clases!$E$8:$E$47<=$B9+0.0001)*(Clases!$F$8:$F$47>$B9+0.0001))=0,"",IF(SUMPRODUCT((Clases!$D$8:$D$47=F$7)*(Clases!$E$8:$E$47<=$B9+0.0001)*(Clases!$F$8:$F$47>$B9+0.0001))>1,"¡SOLAPE!",INDEX(Clases!$B$1:$B$47,SUMPRODUCT((Clases!$D$8:$D$47=F$7)*(Clases!$E$8:$E$47<=$B9+0.0001)*(Clases!$F$8:$F$47>$B9+0.0001)*ROW(Clases!$D$8:$D$47)))&CHAR(10)&INDEX(Clases!$C$1:$C$47,SUMPRODUCT((Clases!$D$8:$D$47=F$7)*(Clases!$E$8:$E$47<=$B9+0.0001)*(Clases!$F$8:$F$47>$B9+0.0001)*ROW(Clases!$D$8:$D$47)))&" · "&INDEX(Clases!$G$1:$G$47,SUMPRODUCT((Clases!$D$8:$D$47=F$7)*(Clases!$E$8:$E$47<=$B9+0.0001)*(Clases!$F$8:$F$47>$B9+0.0001)*ROW(Clases!$D$8:$D$47))))) | G9: =IF(SUMPRODUCT((Clases!$D$8:$D$47=G$7)*(Clases!$E$8:$E$47<=$B9+0.0001)*(Clases!$F$8:$F$47>$B9+0.0001))=0,"",IF(SUMPRODUCT((Clases!$D$8:$D$47=G$7)*(Clases!$E$8:$E$47<=$B9+0.0001)*(Clases!$F$8:$F$47>$B9+0.0001))>1,"¡SOLAPE!",INDEX(Clases!$B$1:$B$47,SUMPRODUCT((Clases!$D$8:$D$47=G$7)*(Clases!$E$8:$E$47<=$B9+0.0001)*(Clases!$F$8:$F$47>$B9+0.0001)*ROW(Clases!$D$8:$D$47)))&CHAR(10)&INDEX(Clases!$C$1:$C$47,SUMPRODUCT((Clases!$D$8:$D$47=G$7)*(Clases!$E$8:$E$47<=$B9+0.0001)*(Clases!$F$8:$F$47>$B9+0.0001)*ROW(Clases!$D$8:$D$47)))&" · "&INDEX(Clases!$G$1:$G$47,SUMPRODUCT((Clases!$D$8:$D$47=G$7)*(Clases!$E$8:$E$47<=$B9+0.0001)*(Clases!$F$8:$F$47>$B9+0.0001)*ROW(Clases!$D$8:$D$47)))))
B10: =$C$5+2/24 | C10: =IF(SUMPRODUCT((Clases!$D$8:$D$47=C$7)*(Clases!$E$8:$E$47<=$B10+0.0001)*(Clases!$F$8:$F$47>$B10+0.0001))=0,"",IF(SUMPRODUCT((Clases!$D$8:$D$47=C$7)*(Clases!$E$8:$E$47<=$B10+0.0001)*(Clases!$F$8:$F$47>$B10+0.0001))>1,"¡SOLAPE!",INDEX(Clases!$B$1:$B$47,SUMPRODUCT((Clases!$D$8:$D$47=C$7)*(Clases!$E$8:$E$47<=$B10+0.0001)*(Clases!$F$8:$F$47>$B10+0.0001)*ROW(Clases!$D$8:$D$47)))&CHAR(10)&INDEX(Clases!$C$1:$C$47,SUMPRODUCT((Clases!$D$8:$D$47=C$7)*(Clases!$E$8:$E$47<=$B10+0.0001)*(Clases!$F$8:$F$47>$B10+0.0001)*ROW(Clases!$D$8:$D$47)))&" · "&INDEX(Clases!$G$1:$G$47,SUMPRODUCT((Clases!$D$8:$D$47=C$7)*(Clases!$E$8:$E$47<=$B10+0.0001)*(Clases!$F$8:$F$47>$B10+0.0001)*ROW(Clases!$D$8:$D$47))))) | D10: =IF(SUMPRODUCT((Clases!$D$8:$D$47=D$7)*(Clases!$E$8:$E$47<=$B10+0.0001)*(Clases!$F$8:$F$47>$B10+0.0001))=0,"",IF(SUMPRODUCT((Clases!$D$8:$D$47=D$7)*(Clases!$E$8:$E$47<=$B10+0.0001)*(Clases!$F$8:$F$47>$B10+0.0001))>1,"¡SOLAPE!",INDEX(Clases!$B$1:$B$47,SUMPRODUCT((Clases!$D$8:$D$47=D$7)*(Clases!$E$8:$E$47<=$B10+0.0001)*(Clases!$F$8:$F$47>$B10+0.0001)*ROW(Clases!$D$8:$D$47)))&CHAR(10)&INDEX(Clases!$C$1:$C$47,SUMPRODUCT((Clases!$D$8:$D$47=D$7)*(Clases!$E$8:$E$47<=$B10+0.0001)*(Clases!$F$8:$F$47>$B10+0.0001)*ROW(Clases!$D$8:$D$47)))&" · "&INDEX(Clases!$G$1:$G$47,SUMPRODUCT((Clases!$D$8:$D$47=D$7)*(Clases!$E$8:$E$47<=$B10+0.0001)*(Clases!$F$8:$F$47>$B10+0.0001)*ROW(Clases!$D$8:$D$47))))) | E10: =IF(SUMPRODUCT((Clases!$D$8:$D$47=E$7)*(Clases!$E$8:$E$47<=$B10+0.0001)*(Clases!$F$8:$F$47>$B10+0.0001))=0,"",IF(SUMPRODUCT((Clases!$D$8:$D$47=E$7)*(Clases!$E$8:$E$47<=$B10+0.0001)*(Clases!$F$8:$F$47>$B10+0.0001))>1,"¡SOLAPE!",INDEX(Clases!$B$1:$B$47,SUMPRODUCT((Clases!$D$8:$D$47=E$7)*(Clases!$E$8:$E$47<=$B10+0.0001)*(Clases!$F$8:$F$47>$B10+0.0001)*ROW(Clases!$D$8:$D$47)))&CHAR(10)&INDEX(Clases!$C$1:$C$47,SUMPRODUCT((Clases!$D$8:$D$47=E$7)*(Clases!$E$8:$E$47<=$B10+0.0001)*(Clases!$F$8:$F$47>$B10+0.0001)*ROW(Clases!$D$8:$D$47)))&" · "&INDEX(Clases!$G$1:$G$47,SUMPRODUCT((Clases!$D$8:$D$47=E$7)*(Clases!$E$8:$E$47<=$B10+0.0001)*(Clases!$F$8:$F$47>$B10+0.0001)*ROW(Clases!$D$8:$D$47))))) | F10: =IF(SUMPRODUCT((Clases!$D$8:$D$47=F$7)*(Clases!$E$8:$E$47<=$B10+0.0001)*(Clases!$F$8:$F$47>$B10+0.0001))=0,"",IF(SUMPRODUCT((Clases!$D$8:$D$47=F$7)*(Clases!$E$8:$E$47<=$B10+0.0001)*(Clases!$F$8:$F$47>$B10+0.0001))>1,"¡SOLAPE!",INDEX(Clases!$B$1:$B$47,SUMPRODUCT((Clases!$D$8:$D$47=F$7)*(Clases!$E$8:$E$47<=$B10+0.0001)*(Clases!$F$8:$F$47>$B10+0.0001)*ROW(Clases!$D$8:$D$47)))&CHAR(10)&INDEX(Clases!$C$1:$C$47,SUMPRODUCT((Clases!$D$8:$D$47=F$7)*(Clases!$E$8:$E$47<=$B10+0.0001)*(Clases!$F$8:$F$47>$B10+0.0001)*ROW(Clases!$D$8:$D$47)))&" · "&INDEX(Clases!$G$1:$G$47,SUMPRODUCT((Clases!$D$8:$D$47=F$7)*(Clases!$E$8:$E$47<=$B10+0.0001)*(Clases!$F$8:$F$47>$B10+0.0001)*ROW(Clases!$D$8:$D$47))))) | G10: =IF(SUMPRODUCT((Clases!$D$8:$D$47=G$7)*(Clases!$E$8:$E$47<=$B10+0.0001)*(Clases!$F$8:$F$47>$B10+0.0001))=0,"",IF(SUMPRODUCT((Clases!$D$8:$D$47=G$7)*(Clases!$E$8:$E$47<=$B10+0.0001)*(Clases!$F$8:$F$47>$B10+0.0001))>1,"¡SOLAPE!",INDEX(Clases!$B$1:$B$47,SUMPRODUCT((Clases!$D$8:$D$47=G$7)*(Clases!$E$8:$E$47<=$B10+0.0001)*(Clases!$F$8:$F$47>$B10+0.0001)*ROW(Clases!$D$8:$D$47)))&CHAR(10)&INDEX(Clases!$C$1:$C$47,SUMPRODUCT((Clases!$D$8:$D$47=G$7)*(Clases!$E$8:$E$47<=$B10+0.0001)*(Clases!$F$8:$F$47>$B10+0.0001)*ROW(Clases!$D$8:$D$47)))&" · "&INDEX(Clases!$G$1:$G$47,SUMPRODUCT((Clases!$D$8:$D$47=G$7)*(Clases!$E$8:$E$47<=$B10+0.0001)*(Clases!$F$8:$F$47>$B10+0.0001)*ROW(Clases!$D$8:$D$47)))))
B11: =$C$5+3/24 | C11: =IF(SUMPRODUCT((Clases!$D$8:$D$47=C$7)*(Clases!$E$8:$E$47<=$B11+0.0001)*(Clases!$F$8:$F$47>$B11+0.0001))=0,"",IF(SUMPRODUCT((Clases!$D$8:$D$47=C$7)*(Clases!$E$8:$E$47<=$B11+0.0001)*(Clases!$F$8:$F$47>$B11+0.0001))>1,"¡SOLAPE!",INDEX(Clases!$B$1:$B$47,SUMPRODUCT((Clases!$D$8:$D$47=C$7)*(Clases!$E$8:$E$47<=$B11+0.0001)*(Clases!$F$8:$F$47>$B11+0.0001)*ROW(Clases!$D$8:$D$47)))&CHAR(10)&INDEX(Clases!$C$1:$C$47,SUMPRODUCT((Clases!$D$8:$D$47=C$7)*(Clases!$E$8:$E$47<=$B11+0.0001)*(Clases!$F$8:$F$47>$B11+0.0001)*ROW(Clases!$D$8:$D$47)))&" · "&INDEX(Clases!$G$1:$G$47,SUMPRODUCT((Clases!$D$8:$D$47=C$7)*(Clases!$E$8:$E$47<=$B11+0.0001)*(Clases!$F$8:$F$47>$B11+0.0001)*ROW(Clases!$D$8:$D$47))))) | D11: =IF(SUMPRODUCT((Clases!$D$8:$D$47=D$7)*(Clases!$E$8:$E$47<=$B11+0.0001)*(Clases!$F$8:$F$47>$B11+0.0001))=0,"",IF(SUMPRODUCT((Clases!$D$8:$D$47=D$7)*(Clases!$E$8:$E$47<=$B11+0.0001)*(Clases!$F$8:$F$47>$B11+0.0001))>1,"¡SOLAPE!",INDEX(Clases!$B$1:$B$47,SUMPRODUCT((Clases!$D$8:$D$47=D$7)*(Clases!$E$8:$E$47<=$B11+0.0001)*(Clases!$F$8:$F$47>$B11+0.0001)*ROW(Clases!$D$8:$D$47)))&CHAR(10)&INDEX(Clases!$C$1:$C$47,SUMPRODUCT((Clases!$D$8:$D$47=D$7)*(Clases!$E$8:$E$47<=$B11+0.0001)*(Clases!$F$8:$F$47>$B11+0.0001)*ROW(Clases!$D$8:$D$47)))&" · "&INDEX(Clases!$G$1:$G$47,SUMPRODUCT((Clases!$D$8:$D$47=D$7)*(Clases!$E$8:$E$47<=$B11+0.0001)*(Clases!$F$8:$F$47>$B11+0.0001)*ROW(Clases!$D$8:$D$47))))) | E11: =IF(SUMPRODUCT((Clases!$D$8:$D$47=E$7)*(Clases!$E$8:$E$47<=$B11+0.0001)*(Clases!$F$8:$F$47>$B11+0.0001))=0,"",IF(SUMPRODUCT((Clases!$D$8:$D$47=E$7)*(Clases!$E$8:$E$47<=$B11+0.0001)*(Clases!$F$8:$F$47>$B11+0.0001))>1,"¡SOLAPE!",INDEX(Clases!$B$1:$B$47,SUMPRODUCT((Clases!$D$8:$D$47=E$7)*(Clases!$E$8:$E$47<=$B11+0.0001)*(Clases!$F$8:$F$47>$B11+0.0001)*ROW(Clases!$D$8:$D$47)))&CHAR(10)&INDEX(Clases!$C$1:$C$47,SUMPRODUCT((Clases!$D$8:$D$47=E$7)*(Clases!$E$8:$E$47<=$B11+0.0001)*(Clases!$F$8:$F$47>$B11+0.0001)*ROW(Clases!$D$8:$D$47)))&" · "&INDEX(Clases!$G$1:$G$47,SUMPRODUCT((Clases!$D$8:$D$47=E$7)*(Clases!$E$8:$E$47<=$B11+0.0001)*(Clases!$F$8:$F$47>$B11+0.0001)*ROW(Clases!$D$8:$D$47))))) | F11: =IF(SUMPRODUCT((Clases!$D$8:$D$47=F$7)*(Clases!$E$8:$E$47<=$B11+0.0001)*(Clases!$F$8:$F$47>$B11+0.0001))=0,"",IF(SUMPRODUCT((Clases!$D$8:$D$47=F$7)*(Clases!$E$8:$E$47<=$B11+0.0001)*(Clases!$F$8:$F$47>$B11+0.0001))>1,"¡SOLAPE!",INDEX(Clases!$B$1:$B$47,SUMPRODUCT((Clases!$D$8:$D$47=F$7)*(Clases!$E$8:$E$47<=$B11+0.0001)*(Clases!$F$8:$F$47>$B11+0.0001)*ROW(Clases!$D$8:$D$47)))&CHAR(10)&INDEX(Clases!$C$1:$C$47,SUMPRODUCT((Clases!$D$8:$D$47=F$7)*(Clases!$E$8:$E$47<=$B11+0.0001)*(Clases!$F$8:$F$47>$B11+0.0001)*ROW(Clases!$D$8:$D$47)))&" · "&INDEX(Clases!$G$1:$G$47,SUMPRODUCT((Clases!$D$8:$D$47=F$7)*(Clases!$E$8:$E$47<=$B11+0.0001)*(Clases!$F$8:$F$47>$B11+0.0001)*ROW(Clases!$D$8:$D$47))))) | G11: =IF(SUMPRODUCT((Clases!$D$8:$D$47=G$7)*(Clases!$E$8:$E$47<=$B11+0.0001)*(Clases!$F$8:$F$47>$B11+0.0001))=0,"",IF(SUMPRODUCT((Clases!$D$8:$D$47=G$7)*(Clases!$E$8:$E$47<=$B11+0.0001)*(Clases!$F$8:$F$47>$B11+0.0001))>1,"¡SOLAPE!",INDEX(Clases!$B$1:$B$47,SUMPRODUCT((Clases!$D$8:$D$47=G$7)*(Clases!$E$8:$E$47<=$B11+0.0001)*(Clases!$F$8:$F$47>$B11+0.0001)*ROW(Clases!$D$8:$D$47)))&CHAR(10)&INDEX(Clases!$C$1:$C$47,SUMPRODUCT((Clases!$D$8:$D$47=G$7)*(Clases!$E$8:$E$47<=$B11+0.0001)*(Clases!$F$8:$F$47>$B11+0.0001)*ROW(Clases!$D$8:$D$47)))&" · "&INDEX(Clases!$G$1:$G$47,SUMPRODUCT((Clases!$D$8:$D$47=G$7)*(Clases!$E$8:$E$47<=$B11+0.0001)*(Clases!$F$8:$F$47>$B11+0.0001)*ROW(Clases!$D$8:$D$47)))))
B12: =$C$5+4/24 | C12: =IF(SUMPRODUCT((Clases!$D$8:$D$47=C$7)*(Clases!$E$8:$E$47<=$B12+0.0001)*(Clases!$F$8:$F$47>$B12+0.0001))=0,"",IF(SUMPRODUCT((Clases!$D$8:$D$47=C$7)*(Clases!$E$8:$E$47<=$B12+0.0001)*(Clases!$F$8:$F$47>$B12+0.0001))>1,"¡SOLAPE!",INDEX(Clases!$B$1:$B$47,SUMPRODUCT((Clases!$D$8:$D$47=C$7)*(Clases!$E$8:$E$47<=$B12+0.0001)*(Clases!$F$8:$F$47>$B12+0.0001)*ROW(Clases!$D$8:$D$47)))&CHAR(10)&INDEX(Clases!$C$1:$C$47,SUMPRODUCT((Clases!$D$8:$D$47=C$7)*(Clases!$E$8:$E$47<=$B12+0.0001)*(Clases!$F$8:$F$47>$B12+0.0001)*ROW(Clases!$D$8:$D$47)))&" · "&INDEX(Clases!$G$1:$G$47,SUMPRODUCT((Clases!$D$8:$D$47=C$7)*(Clases!$E$8:$E$47<=$B12+0.0001)*(Clases!$F$8:$F$47>$B12+0.0001)*ROW(Clases!$D$8:$D$47))))) | D12: =IF(SUMPRODUCT((Clases!$D$8:$D$47=D$7)*(Clases!$E$8:$E$47<=$B12+0.0001)*(Clases!$F$8:$F$47>$B12+0.0001))=0,"",IF(SUMPRODUCT((Clases!$D$8:$D$47=D$7)*(Clases!$E$8:$E$47<=$B12+0.0001)*(Clases!$F$8:$F$47>$B12+0.0001))>1,"¡SOLAPE!",INDEX(Clases!$B$1:$B$47,SUMPRODUCT((Clases!$D$8:$D$47=D$7)*(Clases!$E$8:$E$47<=$B12+0.0001)*(Clases!$F$8:$F$47>$B12+0.0001)*ROW(Clases!$D$8:$D$47)))&CHAR(10)&INDEX(Clases!$C$1:$C$47,SUMPRODUCT((Clases!$D$8:$D$47=D$7)*(Clases!$E$8:$E$47<=$B12+0.0001)*(Clases!$F$8:$F$47>$B12+0.0001)*ROW(Clases!$D$8:$D$47)))&" · "&INDEX(Clases!$G$1:$G$47,SUMPRODUCT((Clases!$D$8:$D$47=D$7)*(Clases!$E$8:$E$47<=$B12+0.0001)*(Clases!$F$8:$F$47>$B12+0.0001)*ROW(Clases!$D$8:$D$47))))) | E12: =IF(SUMPRODUCT((Clases!$D$8:$D$47=E$7)*(Clases!$E$8:$E$47<=$B12+0.0001)*(Clases!$F$8:$F$47>$B12+0.0001))=0,"",IF(SUMPRODUCT((Clases!$D$8:$D$47=E$7)*(Clases!$E$8:$E$47<=$B12+0.0001)*(Clases!$F$8:$F$47>$B12+0.0001))>1,"¡SOLAPE!",INDEX(Clases!$B$1:$B$47,SUMPRODUCT((Clases!$D$8:$D$47=E$7)*(Clases!$E$8:$E$47<=$B12+0.0001)*(Clases!$F$8:$F$47>$B12+0.0001)*ROW(Clases!$D$8:$D$47)))&CHAR(10)&INDEX(Clases!$C$1:$C$47,SUMPRODUCT((Clases!$D$8:$D$47=E$7)*(Clases!$E$8:$E$47<=$B12+0.0001)*(Clases!$F$8:$F$47>$B12+0.0001)*ROW(Clases!$D$8:$D$47)))&" · "&INDEX(Clases!$G$1:$G$47,SUMPRODUCT((Clases!$D$8:$D$47=E$7)*(Clases!$E$8:$E$47<=$B12+0.0001)*(Clases!$F$8:$F$47>$B12+0.0001)*ROW(Clases!$D$8:$D$47))))) | F12: =IF(SUMPRODUCT((Clases!$D$8:$D$47=F$7)*(Clases!$E$8:$E$47<=$B12+0.0001)*(Clases!$F$8:$F$47>$B12+0.0001))=0,"",IF(SUMPRODUCT((Clases!$D$8:$D$47=F$7)*(Clases!$E$8:$E$47<=$B12+0.0001)*(Clases!$F$8:$F$47>$B12+0.0001))>1,"¡SOLAPE!",INDEX(Clases!$B$1:$B$47,SUMPRODUCT((Clases!$D$8:$D$47=F$7)*(Clases!$E$8:$E$47<=$B12+0.0001)*(Clases!$F$8:$F$47>$B12+0.0001)*ROW(Clases!$D$8:$D$47)))&CHAR(10)&INDEX(Clases!$C$1:$C$47,SUMPRODUCT((Clases!$D$8:$D$47=F$7)*(Clases!$E$8:$E$47<=$B12+0.0001)*(Clases!$F$8:$F$47>$B12+0.0001)*ROW(Clases!$D$8:$D$47)))&" · "&INDEX(Clases!$G$1:$G$47,SUMPRODUCT((Clases!$D$8:$D$47=F$7)*(Clases!$E$8:$E$47<=$B12+0.0001)*(Clases!$F$8:$F$47>$B12+0.0001)*ROW(Clases!$D$8:$D$47))))) | G12: =IF(SUMPRODUCT((Clases!$D$8:$D$47=G$7)*(Clases!$E$8:$E$47<=$B12+0.0001)*(Clases!$F$8:$F$47>$B12+0.0001))=0,"",IF(SUMPRODUCT((Clases!$D$8:$D$47=G$7)*(Clases!$E$8:$E$47<=$B12+0.0001)*(Clases!$F$8:$F$47>$B12+0.0001))>1,"¡SOLAPE!",INDEX(Clases!$B$1:$B$47,SUMPRODUCT((Clases!$D$8:$D$47=G$7)*(Clases!$E$8:$E$47<=$B12+0.0001)*(Clases!$F$8:$F$47>$B12+0.0001)*ROW(Clases!$D$8:$D$47)))&CHAR(10)&INDEX(Clases!$C$1:$C$47,SUMPRODUCT((Clases!$D$8:$D$47=G$7)*(Clases!$E$8:$E$47<=$B12+0.0001)*(Clases!$F$8:$F$47>$B12+0.0001)*ROW(Clases!$D$8:$D$47)))&" · "&INDEX(Clases!$G$1:$G$47,SUMPRODUCT((Clases!$D$8:$D$47=G$7)*(Clases!$E$8:$E$47<=$B12+0.0001)*(Clases!$F$8:$F$47>$B12+0.0001)*ROW(Clases!$D$8:$D$47)))))
B13: =$C$5+5/24 | C13: =IF(SUMPRODUCT((Clases!$D$8:$D$47=C$7)*(Clases!$E$8:$E$47<=$B13+0.0001)*(Clases!$F$8:$F$47>$B13+0.0001))=0,"",IF(SUMPRODUCT((Clases!$D$8:$D$47=C$7)*(Clases!$E$8:$E$47<=$B13+0.0001)*(Clases!$F$8:$F$47>$B13+0.0001))>1,"¡SOLAPE!",INDEX(Clases!$B$1:$B$47,SUMPRODUCT((Clases!$D$8:$D$47=C$7)*(Clases!$E$8:$E$47<=$B13+0.0001)*(Clases!$F$8:$F$47>$B13+0.0001)*ROW(Clases!$D$8:$D$47)))&CHAR(10)&INDEX(Clases!$C$1:$C$47,SUMPRODUCT((Clases!$D$8:$D$47=C$7)*(Clases!$E$8:$E$47<=$B13+0.0001)*(Clases!$F$8:$F$47>$B13+0.0001)*ROW(Clases!$D$8:$D$47)))&" · "&INDEX(Clases!$G$1:$G$47,SUMPRODUCT((Clases!$D$8:$D$47=C$7)*(Clases!$E$8:$E$47<=$B13+0.0001)*(Clases!$F$8:$F$47>$B13+0.0001)*ROW(Clases!$D$8:$D$47))))) | D13: =IF(SUMPRODUCT((Clases!$D$8:$D$47=D$7)*(Clases!$E$8:$E$47<=$B13+0.0001)*(Clases!$F$8:$F$47>$B13+0.0001))=0,"",IF(SUMPRODUCT((Clases!$D$8:$D$47=D$7)*(Clases!$E$8:$E$47<=$B13+0.0001)*(Clases!$F$8:$F$47>$B13+0.0001))>1,"¡SOLAPE!",INDEX(Clases!$B$1:$B$47,SUMPRODUCT((Clases!$D$8:$D$47=D$7)*(Clases!$E$8:$E$47<=$B13+0.0001)*(Clases!$F$8:$F$47>$B13+0.0001)*ROW(Clases!$D$8:$D$47)))&CHAR(10)&INDEX(Clases!$C$1:$C$47,SUMPRODUCT((Clases!$D$8:$D$47=D$7)*(Clases!$E$8:$E$47<=$B13+0.0001)*(Clases!$F$8:$F$47>$B13+0.0001)*ROW(Clases!$D$8:$D$47)))&" · "&INDEX(Clases!$G$1:$G$47,SUMPRODUCT((Clases!$D$8:$D$47=D$7)*(Clases!$E$8:$E$47<=$B13+0.0001)*(Clases!$F$8:$F$47>$B13+0.0001)*ROW(Clases!$D$8:$D$47))))) | E13: =IF(SUMPRODUCT((Clases!$D$8:$D$47=E$7)*(Clases!$E$8:$E$47<=$B13+0.0001)*(Clases!$F$8:$F$47>$B13+0.0001))=0,"",IF(SUMPRODUCT((Clases!$D$8:$D$47=E$7)*(Clases!$E$8:$E$47<=$B13+0.0001)*(Clases!$F$8:$F$47>$B13+0.0001))>1,"¡SOLAPE!",INDEX(Clases!$B$1:$B$47,SUMPRODUCT((Clases!$D$8:$D$47=E$7)*(Clases!$E$8:$E$47<=$B13+0.0001)*(Clases!$F$8:$F$47>$B13+0.0001)*ROW(Clases!$D$8:$D$47)))&CHAR(10)&INDEX(Clases!$C$1:$C$47,SUMPRODUCT((Clases!$D$8:$D$47=E$7)*(Clases!$E$8:$E$47<=$B13+0.0001)*(Clases!$F$8:$F$47>$B13+0.0001)*ROW(Clases!$D$8:$D$47)))&" · "&INDEX(Clases!$G$1:$G$47,SUMPRODUCT((Clases!$D$8:$D$47=E$7)*(Clases!$E$8:$E$47<=$B13+0.0001)*(Clases!$F$8:$F$47>$B13+0.0001)*ROW(Clases!$D$8:$D$47))))) | F13: =IF(SUMPRODUCT((Clases!$D$8:$D$47=F$7)*(Clases!$E$8:$E$47<=$B13+0.0001)*(Clases!$F$8:$F$47>$B13+0.0001))=0,"",IF(SUMPRODUCT((Clases!$D$8:$D$47=F$7)*(Clases!$E$8:$E$47<=$B13+0.0001)*(Clases!$F$8:$F$47>$B13+0.0001))>1,"¡SOLAPE!",INDEX(Clases!$B$1:$B$47,SUMPRODUCT((Clases!$D$8:$D$47=F$7)*(Clases!$E$8:$E$47<=$B13+0.0001)*(Clases!$F$8:$F$47>$B13+0.0001)*ROW(Clases!$D$8:$D$47)))&CHAR(10)&INDEX(Clases!$C$1:$C$47,SUMPRODUCT((Clases!$D$8:$D$47=F$7)*(Clases!$E$8:$E$47<=$B13+0.0001)*(Clases!$F$8:$F$47>$B13+0.0001)*ROW(Clases!$D$8:$D$47)))&" · "&INDEX(Clases!$G$1:$G$47,SUMPRODUCT((Clases!$D$8:$D$47=F$7)*(Clases!$E$8:$E$47<=$B13+0.0001)*(Clases!$F$8:$F$47>$B13+0.0001)*ROW(Clases!$D$8:$D$47))))) | G13: =IF(SUMPRODUCT((Clases!$D$8:$D$47=G$7)*(Clases!$E$8:$E$47<=$B13+0.0001)*(Clases!$F$8:$F$47>$B13+0.0001))=0,"",IF(SUMPRODUCT((Clases!$D$8:$D$47=G$7)*(Clases!$E$8:$E$47<=$B13+0.0001)*(Clases!$F$8:$F$47>$B13+0.0001))>1,"¡SOLAPE!",INDEX(Clases!$B$1:$B$47,SUMPRODUCT((Clases!$D$8:$D$47=G$7)*(Clases!$E$8:$E$47<=$B13+0.0001)*(Clases!$F$8:$F$47>$B13+0.0001)*ROW(Clases!$D$8:$D$47)))&CHAR(10)&INDEX(Clases!$C$1:$C$47,SUMPRODUCT((Clases!$D$8:$D$47=G$7)*(Clases!$E$8:$E$47<=$B13+0.0001)*(Clases!$F$8:$F$47>$B13+0.0001)*ROW(Clases!$D$8:$D$47)))&" · "&INDEX(Clases!$G$1:$G$47,SUMPRODUCT((Clases!$D$8:$D$47=G$7)*(Clases!$E$8:$E$47<=$B13+0.0001)*(Clases!$F$8:$F$47>$B13+0.0001)*ROW(Clases!$D$8:$D$47)))))
B14: =$C$5+6/24 | C14: =IF(SUMPRODUCT((Clases!$D$8:$D$47=C$7)*(Clases!$E$8:$E$47<=$B14+0.0001)*(Clases!$F$8:$F$47>$B14+0.0001))=0,"",IF(SUMPRODUCT((Clases!$D$8:$D$47=C$7)*(Clases!$E$8:$E$47<=$B14+0.0001)*(Clases!$F$8:$F$47>$B14+0.0001))>1,"¡SOLAPE!",INDEX(Clases!$B$1:$B$47,SUMPRODUCT((Clases!$D$8:$D$47=C$7)*(Clases!$E$8:$E$47<=$B14+0.0001)*(Clases!$F$8:$F$47>$B14+0.0001)*ROW(Clases!$D$8:$D$47)))&CHAR(10)&INDEX(Clases!$C$1:$C$47,SUMPRODUCT((Clases!$D$8:$D$47=C$7)*(Clases!$E$8:$E$47<=$B14+0.0001)*(Clases!$F$8:$F$47>$B14+0.0001)*ROW(Clases!$D$8:$D$47)))&" · "&INDEX(Clases!$G$1:$G$47,SUMPRODUCT((Clases!$D$8:$D$47=C$7)*(Clases!$E$8:$E$47<=$B14+0.0001)*(Clases!$F$8:$F$47>$B14+0.0001)*ROW(Clases!$D$8:$D$47))))) | D14: =IF(SUMPRODUCT((Clases!$D$8:$D$47=D$7)*(Clases!$E$8:$E$47<=$B14+0.0001)*(Clases!$F$8:$F$47>$B14+0.0001))=0,"",IF(SUMPRODUCT((Clases!$D$8:$D$47=D$7)*(Clases!$E$8:$E$47<=$B14+0.0001)*(Clases!$F$8:$F$47>$B14+0.0001))>1,"¡SOLAPE!",INDEX(Clases!$B$1:$B$47,SUMPRODUCT((Clases!$D$8:$D$47=D$7)*(Clases!$E$8:$E$47<=$B14+0.0001)*(Clases!$F$8:$F$47>$B14+0.0001)*ROW(Clases!$D$8:$D$47)))&CHAR(10)&INDEX(Clases!$C$1:$C$47,SUMPRODUCT((Clases!$D$8:$D$47=D$7)*(Clases!$E$8:$E$47<=$B14+0.0001)*(Clases!$F$8:$F$47>$B14+0.0001)*ROW(Clases!$D$8:$D$47)))&" · "&INDEX(Clases!$G$1:$G$47,SUMPRODUCT((Clases!$D$8:$D$47=D$7)*(Clases!$E$8:$E$47<=$B14+0.0001)*(Clases!$F$8:$F$47>$B14+0.0001)*ROW(Clases!$D$8:$D$47))))) | E14: =IF(SUMPRODUCT((Clases!$D$8:$D$47=E$7)*(Clases!$E$8:$E$47<=$B14+0.0001)*(Clases!$F$8:$F$47>$B14+0.0001))=0,"",IF(SUMPRODUCT((Clases!$D$8:$D$47=E$7)*(Clases!$E$8:$E$47<=$B14+0.0001)*(Clases!$F$8:$F$47>$B14+0.0001))>1,"¡SOLAPE!",INDEX(Clases!$B$1:$B$47,SUMPRODUCT((Clases!$D$8:$D$47=E$7)*(Clases!$E$8:$E$47<=$B14+0.0001)*(Clases!$F$8:$F$47>$B14+0.0001)*ROW(Clases!$D$8:$D$47)))&CHAR(10)&INDEX(Clases!$C$1:$C$47,SUMPRODUCT((Clases!$D$8:$D$47=E$7)*(Clases!$E$8:$E$47<=$B14+0.0001)*(Clases!$F$8:$F$47>$B14+0.0001)*ROW(Clases!$D$8:$D$47)))&" · "&INDEX(Clases!$G$1:$G$47,SUMPRODUCT((Clases!$D$8:$D$47=E$7)*(Clases!$E$8:$E$47<=$B14+0.0001)*(Clases!$F$8:$F$47>$B14+0.0001)*ROW(Clases!$D$8:$D$47))))) | F14: =IF(SUMPRODUCT((Clases!$D$8:$D$47=F$7)*(Clases!$E$8:$E$47<=$B14+0.0001)*(Clases!$F$8:$F$47>$B14+0.0001))=0,"",IF(SUMPRODUCT((Clases!$D$8:$D$47=F$7)*(Clases!$E$8:$E$47<=$B14+0.0001)*(Clases!$F$8:$F$47>$B14+0.0001))>1,"¡SOLAPE!",INDEX(Clases!$B$1:$B$47,SUMPRODUCT((Clases!$D$8:$D$47=F$7)*(Clases!$E$8:$E$47<=$B14+0.0001)*(Clases!$F$8:$F$47>$B14+0.0001)*ROW(Clases!$D$8:$D$47)))&CHAR(10)&INDEX(Clases!$C$1:$C$47,SUMPRODUCT((Clases!$D$8:$D$47=F$7)*(Clases!$E$8:$E$47<=$B14+0.0001)*(Clases!$F$8:$F$47>$B14+0.0001)*ROW(Clases!$D$8:$D$47)))&" · "&INDEX(Clases!$G$1:$G$47,SUMPRODUCT((Clases!$D$8:$D$47=F$7)*(Clases!$E$8:$E$47<=$B14+0.0001)*(Clases!$F$8:$F$47>$B14+0.0001)*ROW(Clases!$D$8:$D$47))))) | G14: =IF(SUMPRODUCT((Clases!$D$8:$D$47=G$7)*(Clases!$E$8:$E$47<=$B14+0.0001)*(Clases!$F$8:$F$47>$B14+0.0001))=0,"",IF(SUMPRODUCT((Clases!$D$8:$D$47=G$7)*(Clases!$E$8:$E$47<=$B14+0.0001)*(Clases!$F$8:$F$47>$B14+0.0001))>1,"¡SOLAPE!",INDEX(Clases!$B$1:$B$47,SUMPRODUCT((Clases!$D$8:$D$47=G$7)*(Clases!$E$8:$E$47<=$B14+0.0001)*(Clases!$F$8:$F$47>$B14+0.0001)*ROW(Clases!$D$8:$D$47)))&CHAR(10)&INDEX(Clases!$C$1:$C$47,SUMPRODUCT((Clases!$D$8:$D$47=G$7)*(Clases!$E$8:$E$47<=$B14+0.0001)*(Clases!$F$8:$F$47>$B14+0.0001)*ROW(Clases!$D$8:$D$47)))&" · "&INDEX(Clases!$G$1:$G$47,SUMPRODUCT((Clases!$D$8:$D$47=G$7)*(Clases!$E$8:$E$47<=$B14+0.0001)*(Clases!$F$8:$F$47>$B14+0.0001)*ROW(Clases!$D$8:$D$47)))))
B15: =$C$5+7/24 | C15: =IF(SUMPRODUCT((Clases!$D$8:$D$47=C$7)*(Clases!$E$8:$E$47<=$B15+0.0001)*(Clases!$F$8:$F$47>$B15+0.0001))=0,"",IF(SUMPRODUCT((Clases!$D$8:$D$47=C$7)*(Clases!$E$8:$E$47<=$B15+0.0001)*(Clases!$F$8:$F$47>$B15+0.0001))>1,"¡SOLAPE!",INDEX(Clases!$B$1:$B$47,SUMPRODUCT((Clases!$D$8:$D$47=C$7)*(Clases!$E$8:$E$47<=$B15+0.0001)*(Clases!$F$8:$F$47>$B15+0.0001)*ROW(Clases!$D$8:$D$47)))&CHAR(10)&INDEX(Clases!$C$1:$C$47,SUMPRODUCT((Clases!$D$8:$D$47=C$7)*(Clases!$E$8:$E$47<=$B15+0.0001)*(Clases!$F$8:$F$47>$B15+0.0001)*ROW(Clases!$D$8:$D$47)))&" · "&INDEX(Clases!$G$1:$G$47,SUMPRODUCT((Clases!$D$8:$D$47=C$7)*(Clases!$E$8:$E$47<=$B15+0.0001)*(Clases!$F$8:$F$47>$B15+0.0001)*ROW(Clases!$D$8:$D$47))))) | D15: =IF(SUMPRODUCT((Clases!$D$8:$D$47=D$7)*(Clases!$E$8:$E$47<=$B15+0.0001)*(Clases!$F$8:$F$47>$B15+0.0001))=0,"",IF(SUMPRODUCT((Clases!$D$8:$D$47=D$7)*(Clases!$E$8:$E$47<=$B15+0.0001)*(Clases!$F$8:$F$47>$B15+0.0001))>1,"¡SOLAPE!",INDEX(Clases!$B$1:$B$47,SUMPRODUCT((Clases!$D$8:$D$47=D$7)*(Clases!$E$8:$E$47<=$B15+0.0001)*(Clases!$F$8:$F$47>$B15+0.0001)*ROW(Clases!$D$8:$D$47)))&CHAR(10)&INDEX(Clases!$C$1:$C$47,SUMPRODUCT((Clases!$D$8:$D$47=D$7)*(Clases!$E$8:$E$47<=$B15+0.0001)*(Clases!$F$8:$F$47>$B15+0.0001)*ROW(Clases!$D$8:$D$47)))&" · "&INDEX(Clases!$G$1:$G$47,SUMPRODUCT((Clases!$D$8:$D$47=D$7)*(Clases!$E$8:$E$47<=$B15+0.0001)*(Clases!$F$8:$F$47>$B15+0.0001)*ROW(Clases!$D$8:$D$47))))) | E15: =IF(SUMPRODUCT((Clases!$D$8:$D$47=E$7)*(Clases!$E$8:$E$47<=$B15+0.0001)*(Clases!$F$8:$F$47>$B15+0.0001))=0,"",IF(SUMPRODUCT((Clases!$D$8:$D$47=E$7)*(Clases!$E$8:$E$47<=$B15+0.0001)*(Clases!$F$8:$F$47>$B15+0.0001))>1,"¡SOLAPE!",INDEX(Clases!$B$1:$B$47,SUMPRODUCT((Clases!$D$8:$D$47=E$7)*(Clases!$E$8:$E$47<=$B15+0.0001)*(Clases!$F$8:$F$47>$B15+0.0001)*ROW(Clases!$D$8:$D$47)))&CHAR(10)&INDEX(Clases!$C$1:$C$47,SUMPRODUCT((Clases!$D$8:$D$47=E$7)*(Clases!$E$8:$E$47<=$B15+0.0001)*(Clases!$F$8:$F$47>$B15+0.0001)*ROW(Clases!$D$8:$D$47)))&" · "&INDEX(Clases!$G$1:$G$47,SUMPRODUCT((Clases!$D$8:$D$47=E$7)*(Clases!$E$8:$E$47<=$B15+0.0001)*(Clases!$F$8:$F$47>$B15+0.0001)*ROW(Clases!$D$8:$D$47))))) | F15: =IF(SUMPRODUCT((Clases!$D$8:$D$47=F$7)*(Clases!$E$8:$E$47<=$B15+0.0001)*(Clases!$F$8:$F$47>$B15+0.0001))=0,"",IF(SUMPRODUCT((Clases!$D$8:$D$47=F$7)*(Clases!$E$8:$E$47<=$B15+0.0001)*(Clases!$F$8:$F$47>$B15+0.0001))>1,"¡SOLAPE!",INDEX(Clases!$B$1:$B$47,SUMPRODUCT((Clases!$D$8:$D$47=F$7)*(Clases!$E$8:$E$47<=$B15+0.0001)*(Clases!$F$8:$F$47>$B15+0.0001)*ROW(Clases!$D$8:$D$47)))&CHAR(10)&INDEX(Clases!$C$1:$C$47,SUMPRODUCT((Clases!$D$8:$D$47=F$7)*(Clases!$E$8:$E$47<=$B15+0.0001)*(Clases!$F$8:$F$47>$B15+0.0001)*ROW(Clases!$D$8:$D$47)))&" · "&INDEX(Clases!$G$1:$G$47,SUMPRODUCT((Clases!$D$8:$D$47=F$7)*(Clases!$E$8:$E$47<=$B15+0.0001)*(Clases!$F$8:$F$47>$B15+0.0001)*ROW(Clases!$D$8:$D$47))))) | G15: =IF(SUMPRODUCT((Clases!$D$8:$D$47=G$7)*(Clases!$E$8:$E$47<=$B15+0.0001)*(Clases!$F$8:$F$47>$B15+0.0001))=0,"",IF(SUMPRODUCT((Clases!$D$8:$D$47=G$7)*(Clases!$E$8:$E$47<=$B15+0.0001)*(Clases!$F$8:$F$47>$B15+0.0001))>1,"¡SOLAPE!",INDEX(Clases!$B$1:$B$47,SUMPRODUCT((Clases!$D$8:$D$47=G$7)*(Clases!$E$8:$E$47<=$B15+0.0001)*(Clases!$F$8:$F$47>$B15+0.0001)*ROW(Clases!$D$8:$D$47)))&CHAR(10)&INDEX(Clases!$C$1:$C$47,SUMPRODUCT((Clases!$D$8:$D$47=G$7)*(Clases!$E$8:$E$47<=$B15+0.0001)*(Clases!$F$8:$F$47>$B15+0.0001)*ROW(Clases!$D$8:$D$47)))&" · "&INDEX(Clases!$G$1:$G$47,SUMPRODUCT((Clases!$D$8:$D$47=G$7)*(Clases!$E$8:$E$47<=$B15+0.0001)*(Clases!$F$8:$F$47>$B15+0.0001)*ROW(Clases!$D$8:$D$47)))))
B16: =$C$5+8/24 | C16: =IF(SUMPRODUCT((Clases!$D$8:$D$47=C$7)*(Clases!$E$8:$E$47<=$B16+0.0001)*(Clases!$F$8:$F$47>$B16+0.0001))=0,"",IF(SUMPRODUCT((Clases!$D$8:$D$47=C$7)*(Clases!$E$8:$E$47<=$B16+0.0001)*(Clases!$F$8:$F$47>$B16+0.0001))>1,"¡SOLAPE!",INDEX(Clases!$B$1:$B$47,SUMPRODUCT((Clases!$D$8:$D$47=C$7)*(Clases!$E$8:$E$47<=$B16+0.0001)*(Clases!$F$8:$F$47>$B16+0.0001)*ROW(Clases!$D$8:$D$47)))&CHAR(10)&INDEX(Clases!$C$1:$C$47,SUMPRODUCT((Clases!$D$8:$D$47=C$7)*(Clases!$E$8:$E$47<=$B16+0.0001)*(Clases!$F$8:$F$47>$B16+0.0001)*ROW(Clases!$D$8:$D$47)))&" · "&INDEX(Clases!$G$1:$G$47,SUMPRODUCT((Clases!$D$8:$D$47=C$7)*(Clases!$E$8:$E$47<=$B16+0.0001)*(Clases!$F$8:$F$47>$B16+0.0001)*ROW(Clases!$D$8:$D$47))))) | D16: =IF(SUMPRODUCT((Clases!$D$8:$D$47=D$7)*(Clases!$E$8:$E$47<=$B16+0.0001)*(Clases!$F$8:$F$47>$B16+0.0001))=0,"",IF(SUMPRODUCT((Clases!$D$8:$D$47=D$7)*(Clases!$E$8:$E$47<=$B16+0.0001)*(Clases!$F$8:$F$47>$B16+0.0001))>1,"¡SOLAPE!",INDEX(Clases!$B$1:$B$47,SUMPRODUCT((Clases!$D$8:$D$47=D$7)*(Clases!$E$8:$E$47<=$B16+0.0001)*(Clases!$F$8:$F$47>$B16+0.0001)*ROW(Clases!$D$8:$D$47)))&CHAR(10)&INDEX(Clases!$C$1:$C$47,SUMPRODUCT((Clases!$D$8:$D$47=D$7)*(Clases!$E$8:$E$47<=$B16+0.0001)*(Clases!$F$8:$F$47>$B16+0.0001)*ROW(Clases!$D$8:$D$47)))&" · "&INDEX(Clases!$G$1:$G$47,SUMPRODUCT((Clases!$D$8:$D$47=D$7)*(Clases!$E$8:$E$47<=$B16+0.0001)*(Clases!$F$8:$F$47>$B16+0.0001)*ROW(Clases!$D$8:$D$47))))) | E16: =IF(SUMPRODUCT((Clases!$D$8:$D$47=E$7)*(Clases!$E$8:$E$47<=$B16+0.0001)*(Clases!$F$8:$F$47>$B16+0.0001))=0,"",IF(SUMPRODUCT((Clases!$D$8:$D$47=E$7)*(Clases!$E$8:$E$47<=$B16+0.0001)*(Clases!$F$8:$F$47>$B16+0.0001))>1,"¡SOLAPE!",INDEX(Clases!$B$1:$B$47,SUMPRODUCT((Clases!$D$8:$D$47=E$7)*(Clases!$E$8:$E$47<=$B16+0.0001)*(Clases!$F$8:$F$47>$B16+0.0001)*ROW(Clases!$D$8:$D$47)))&CHAR(10)&INDEX(Clases!$C$1:$C$47,SUMPRODUCT((Clases!$D$8:$D$47=E$7)*(Clases!$E$8:$E$47<=$B16+0.0001)*(Clases!$F$8:$F$47>$B16+0.0001)*ROW(Clases!$D$8:$D$47)))&" · "&INDEX(Clases!$G$1:$G$47,SUMPRODUCT((Clases!$D$8:$D$47=E$7)*(Clases!$E$8:$E$47<=$B16+0.0001)*(Clases!$F$8:$F$47>$B16+0.0001)*ROW(Clases!$D$8:$D$47))))) | F16: =IF(SUMPRODUCT((Clases!$D$8:$D$47=F$7)*(Clases!$E$8:$E$47<=$B16+0.0001)*(Clases!$F$8:$F$47>$B16+0.0001))=0,"",IF(SUMPRODUCT((Clases!$D$8:$D$47=F$7)*(Clases!$E$8:$E$47<=$B16+0.0001)*(Clases!$F$8:$F$47>$B16+0.0001))>1,"¡SOLAPE!",INDEX(Clases!$B$1:$B$47,SUMPRODUCT((Clases!$D$8:$D$47=F$7)*(Clases!$E$8:$E$47<=$B16+0.0001)*(Clases!$F$8:$F$47>$B16+0.0001)*ROW(Clases!$D$8:$D$47)))&CHAR(10)&INDEX(Clases!$C$1:$C$47,SUMPRODUCT((Clases!$D$8:$D$47=F$7)*(Clases!$E$8:$E$47<=$B16+0.0001)*(Clases!$F$8:$F$47>$B16+0.0001)*ROW(Clases!$D$8:$D$47)))&" · "&INDEX(Clases!$G$1:$G$47,SUMPRODUCT((Clases!$D$8:$D$47=F$7)*(Clases!$E$8:$E$47<=$B16+0.0001)*(Clases!$F$8:$F$47>$B16+0.0001)*ROW(Clases!$D$8:$D$47))))) | G16: =IF(SUMPRODUCT((Clases!$D$8:$D$47=G$7)*(Clases!$E$8:$E$47<=$B16+0.0001)*(Clases!$F$8:$F$47>$B16+0.0001))=0,"",IF(SUMPRODUCT((Clases!$D$8:$D$47=G$7)*(Clases!$E$8:$E$47<=$B16+0.0001)*(Clases!$F$8:$F$47>$B16+0.0001))>1,"¡SOLAPE!",INDEX(Clases!$B$1:$B$47,SUMPRODUCT((Clases!$D$8:$D$47=G$7)*(Clases!$E$8:$E$47<=$B16+0.0001)*(Clases!$F$8:$F$47>$B16+0.0001)*ROW(Clases!$D$8:$D$47)))&CHAR(10)&INDEX(Clases!$C$1:$C$47,SUMPRODUCT((Clases!$D$8:$D$47=G$7)*(Clases!$E$8:$E$47<=$B16+0.0001)*(Clases!$F$8:$F$47>$B16+0.0001)*ROW(Clases!$D$8:$D$47)))&" · "&INDEX(Clases!$G$1:$G$47,SUMPRODUCT((Clases!$D$8:$D$47=G$7)*(Clases!$E$8:$E$47<=$B16+0.0001)*(Clases!$F$8:$F$47>$B16+0.0001)*ROW(Clases!$D$8:$D$47)))))
B17: =$C$5+9/24 | C17: =IF(SUMPRODUCT((Clases!$D$8:$D$47=C$7)*(Clases!$E$8:$E$47<=$B17+0.0001)*(Clases!$F$8:$F$47>$B17+0.0001))=0,"",IF(SUMPRODUCT((Clases!$D$8:$D$47=C$7)*(Clases!$E$8:$E$47<=$B17+0.0001)*(Clases!$F$8:$F$47>$B17+0.0001))>1,"¡SOLAPE!",INDEX(Clases!$B$1:$B$47,SUMPRODUCT((Clases!$D$8:$D$47=C$7)*(Clases!$E$8:$E$47<=$B17+0.0001)*(Clases!$F$8:$F$47>$B17+0.0001)*ROW(Clases!$D$8:$D$47)))&CHAR(10)&INDEX(Clases!$C$1:$C$47,SUMPRODUCT((Clases!$D$8:$D$47=C$7)*(Clases!$E$8:$E$47<=$B17+0.0001)*(Clases!$F$8:$F$47>$B17+0.0001)*ROW(Clases!$D$8:$D$47)))&" · "&INDEX(Clases!$G$1:$G$47,SUMPRODUCT((Clases!$D$8:$D$47=C$7)*(Clases!$E$8:$E$47<=$B17+0.0001)*(Clases!$F$8:$F$47>$B17+0.0001)*ROW(Clases!$D$8:$D$47))))) | D17: =IF(SUMPRODUCT((Clases!$D$8:$D$47=D$7)*(Clases!$E$8:$E$47<=$B17+0.0001)*(Clases!$F$8:$F$47>$B17+0.0001))=0,"",IF(SUMPRODUCT((Clases!$D$8:$D$47=D$7)*(Clases!$E$8:$E$47<=$B17+0.0001)*(Clases!$F$8:$F$47>$B17+0.0001))>1,"¡SOLAPE!",INDEX(Clases!$B$1:$B$47,SUMPRODUCT((Clases!$D$8:$D$47=D$7)*(Clases!$E$8:$E$47<=$B17+0.0001)*(Clases!$F$8:$F$47>$B17+0.0001)*ROW(Clases!$D$8:$D$47)))&CHAR(10)&INDEX(Clases!$C$1:$C$47,SUMPRODUCT((Clases!$D$8:$D$47=D$7)*(Clases!$E$8:$E$47<=$B17+0.0001)*(Clases!$F$8:$F$47>$B17+0.0001)*ROW(Clases!$D$8:$D$47)))&" · "&INDEX(Clases!$G$1:$G$47,SUMPRODUCT((Clases!$D$8:$D$47=D$7)*(Clases!$E$8:$E$47<=$B17+0.0001)*(Clases!$F$8:$F$47>$B17+0.0001)*ROW(Clases!$D$8:$D$47))))) | E17: =IF(SUMPRODUCT((Clases!$D$8:$D$47=E$7)*(Clases!$E$8:$E$47<=$B17+0.0001)*(Clases!$F$8:$F$47>$B17+0.0001))=0,"",IF(SUMPRODUCT((Clases!$D$8:$D$47=E$7)*(Clases!$E$8:$E$47<=$B17+0.0001)*(Clases!$F$8:$F$47>$B17+0.0001))>1,"¡SOLAPE!",INDEX(Clases!$B$1:$B$47,SUMPRODUCT((Clases!$D$8:$D$47=E$7)*(Clases!$E$8:$E$47<=$B17+0.0001)*(Clases!$F$8:$F$47>$B17+0.0001)*ROW(Clases!$D$8:$D$47)))&CHAR(10)&INDEX(Clases!$C$1:$C$47,SUMPRODUCT((Clases!$D$8:$D$47=E$7)*(Clases!$E$8:$E$47<=$B17+0.0001)*(Clases!$F$8:$F$47>$B17+0.0001)*ROW(Clases!$D$8:$D$47)))&" · "&INDEX(Clases!$G$1:$G$47,SUMPRODUCT((Clases!$D$8:$D$47=E$7)*(Clases!$E$8:$E$47<=$B17+0.0001)*(Clases!$F$8:$F$47>$B17+0.0001)*ROW(Clases!$D$8:$D$47))))) | F17: =IF(SUMPRODUCT((Clases!$D$8:$D$47=F$7)*(Clases!$E$8:$E$47<=$B17+0.0001)*(Clases!$F$8:$F$47>$B17+0.0001))=0,"",IF(SUMPRODUCT((Clases!$D$8:$D$47=F$7)*(Clases!$E$8:$E$47<=$B17+0.0001)*(Clases!$F$8:$F$47>$B17+0.0001))>1,"¡SOLAPE!",INDEX(Clases!$B$1:$B$47,SUMPRODUCT((Clases!$D$8:$D$47=F$7)*(Clases!$E$8:$E$47<=$B17+0.0001)*(Clases!$F$8:$F$47>$B17+0.0001)*ROW(Clases!$D$8:$D$47)))&CHAR(10)&INDEX(Clases!$C$1:$C$47,SUMPRODUCT((Clases!$D$8:$D$47=F$7)*(Clases!$E$8:$E$47<=$B17+0.0001)*(Clases!$F$8:$F$47>$B17+0.0001)*ROW(Clases!$D$8:$D$47)))&" · "&INDEX(Clases!$G$1:$G$47,SUMPRODUCT((Clases!$D$8:$D$47=F$7)*(Clases!$E$8:$E$47<=$B17+0.0001)*(Clases!$F$8:$F$47>$B17+0.0001)*ROW(Clases!$D$8:$D$47))))) | G17: =IF(SUMPRODUCT((Clases!$D$8:$D$47=G$7)*(Clases!$E$8:$E$47<=$B17+0.0001)*(Clases!$F$8:$F$47>$B17+0.0001))=0,"",IF(SUMPRODUCT((Clases!$D$8:$D$47=G$7)*(Clases!$E$8:$E$47<=$B17+0.0001)*(Clases!$F$8:$F$47>$B17+0.0001))>1,"¡SOLAPE!",INDEX(Clases!$B$1:$B$47,SUMPRODUCT((Clases!$D$8:$D$47=G$7)*(Clases!$E$8:$E$47<=$B17+0.0001)*(Clases!$F$8:$F$47>$B17+0.0001)*ROW(Clases!$D$8:$D$47)))&CHAR(10)&INDEX(Clases!$C$1:$C$47,SUMPRODUCT((Clases!$D$8:$D$47=G$7)*(Clases!$E$8:$E$47<=$B17+0.0001)*(Clases!$F$8:$F$47>$B17+0.0001)*ROW(Clases!$D$8:$D$47)))&" · "&INDEX(Clases!$G$1:$G$47,SUMPRODUCT((Clases!$D$8:$D$47=G$7)*(Clases!$E$8:$E$47<=$B17+0.0001)*(Clases!$F$8:$F$47>$B17+0.0001)*ROW(Clases!$D$8:$D$47)))))
B18: =$C$5+10/24 | C18: =IF(SUMPRODUCT((Clases!$D$8:$D$47=C$7)*(Clases!$E$8:$E$47<=$B18+0.0001)*(Clases!$F$8:$F$47>$B18+0.0001))=0,"",IF(SUMPRODUCT((Clases!$D$8:$D$47=C$7)*(Clases!$E$8:$E$47<=$B18+0.0001)*(Clases!$F$8:$F$47>$B18+0.0001))>1,"¡SOLAPE!",INDEX(Clases!$B$1:$B$47,SUMPRODUCT((Clases!$D$8:$D$47=C$7)*(Clases!$E$8:$E$47<=$B18+0.0001)*(Clases!$F$8:$F$47>$B18+0.0001)*ROW(Clases!$D$8:$D$47)))&CHAR(10)&INDEX(Clases!$C$1:$C$47,SUMPRODUCT((Clases!$D$8:$D$47=C$7)*(Clases!$E$8:$E$47<=$B18+0.0001)*(Clases!$F$8:$F$47>$B18+0.0001)*ROW(Clases!$D$8:$D$47)))&" · "&INDEX(Clases!$G$1:$G$47,SUMPRODUCT((Clases!$D$8:$D$47=C$7)*(Clases!$E$8:$E$47<=$B18+0.0001)*(Clases!$F$8:$F$47>$B18+0.0001)*ROW(Clases!$D$8:$D$47))))) | D18: =IF(SUMPRODUCT((Clases!$D$8:$D$47=D$7)*(Clases!$E$8:$E$47<=$B18+0.0001)*(Clases!$F$8:$F$47>$B18+0.0001))=0,"",IF(SUMPRODUCT((Clases!$D$8:$D$47=D$7)*(Clases!$E$8:$E$47<=$B18+0.0001)*(Clases!$F$8:$F$47>$B18+0.0001))>1,"¡SOLAPE!",INDEX(Clases!$B$1:$B$47,SUMPRODUCT((Clases!$D$8:$D$47=D$7)*(Clases!$E$8:$E$47<=$B18+0.0001)*(Clases!$F$8:$F$47>$B18+0.0001)*ROW(Clases!$D$8:$D$47)))&CHAR(10)&INDEX(Clases!$C$1:$C$47,SUMPRODUCT((Clases!$D$8:$D$47=D$7)*(Clases!$E$8:$E$47<=$B18+0.0001)*(Clases!$F$8:$F$47>$B18+0.0001)*ROW(Clases!$D$8:$D$47)))&" · "&INDEX(Clases!$G$1:$G$47,SUMPRODUCT((Clases!$D$8:$D$47=D$7)*(Clases!$E$8:$E$47<=$B18+0.0001)*(Clases!$F$8:$F$47>$B18+0.0001)*ROW(Clases!$D$8:$D$47))))) | E18: =IF(SUMPRODUCT((Clases!$D$8:$D$47=E$7)*(Clases!$E$8:$E$47<=$B18+0.0001)*(Clases!$F$8:$F$47>$B18+0.0001))=0,"",IF(SUMPRODUCT((Clases!$D$8:$D$47=E$7)*(Clases!$E$8:$E$47<=$B18+0.0001)*(Clases!$F$8:$F$47>$B18+0.0001))>1,"¡SOLAPE!",INDEX(Clases!$B$1:$B$47,SUMPRODUCT((Clases!$D$8:$D$47=E$7)*(Clases!$E$8:$E$47<=$B18+0.0001)*(Clases!$F$8:$F$47>$B18+0.0001)*ROW(Clases!$D$8:$D$47)))&CHAR(10)&INDEX(Clases!$C$1:$C$47,SUMPRODUCT((Clases!$D$8:$D$47=E$7)*(Clases!$E$8:$E$47<=$B18+0.0001)*(Clases!$F$8:$F$47>$B18+0.0001)*ROW(Clases!$D$8:$D$47)))&" · "&INDEX(Clases!$G$1:$G$47,SUMPRODUCT((Clases!$D$8:$D$47=E$7)*(Clases!$E$8:$E$47<=$B18+0.0001)*(Clases!$F$8:$F$47>$B18+0.0001)*ROW(Clases!$D$8:$D$47))))) | F18: =IF(SUMPRODUCT((Clases!$D$8:$D$47=F$7)*(Clases!$E$8:$E$47<=$B18+0.0001)*(Clases!$F$8:$F$47>$B18+0.0001))=0,"",IF(SUMPRODUCT((Clases!$D$8:$D$47=F$7)*(Clases!$E$8:$E$47<=$B18+0.0001)*(Clases!$F$8:$F$47>$B18+0.0001))>1,"¡SOLAPE!",INDEX(Clases!$B$1:$B$47,SUMPRODUCT((Clases!$D$8:$D$47=F$7)*(Clases!$E$8:$E$47<=$B18+0.0001)*(Clases!$F$8:$F$47>$B18+0.0001)*ROW(Clases!$D$8:$D$47)))&CHAR(10)&INDEX(Clases!$C$1:$C$47,SUMPRODUCT((Clases!$D$8:$D$47=F$7)*(Clases!$E$8:$E$47<=$B18+0.0001)*(Clases!$F$8:$F$47>$B18+0.0001)*ROW(Clases!$D$8:$D$47)))&" · "&INDEX(Clases!$G$1:$G$47,SUMPRODUCT((Clases!$D$8:$D$47=F$7)*(Clases!$E$8:$E$47<=$B18+0.0001)*(Clases!$F$8:$F$47>$B18+0.0001)*ROW(Clases!$D$8:$D$47))))) | G18: =IF(SUMPRODUCT((Clases!$D$8:$D$47=G$7)*(Clases!$E$8:$E$47<=$B18+0.0001)*(Clases!$F$8:$F$47>$B18+0.0001))=0,"",IF(SUMPRODUCT((Clases!$D$8:$D$47=G$7)*(Clases!$E$8:$E$47<=$B18+0.0001)*(Clases!$F$8:$F$47>$B18+0.0001))>1,"¡SOLAPE!",INDEX(Clases!$B$1:$B$47,SUMPRODUCT((Clases!$D$8:$D$47=G$7)*(Clases!$E$8:$E$47<=$B18+0.0001)*(Clases!$F$8:$F$47>$B18+0.0001)*ROW(Clases!$D$8:$D$47)))&CHAR(10)&INDEX(Clases!$C$1:$C$47,SUMPRODUCT((Clases!$D$8:$D$47=G$7)*(Clases!$E$8:$E$47<=$B18+0.0001)*(Clases!$F$8:$F$47>$B18+0.0001)*ROW(Clases!$D$8:$D$47)))&" · "&INDEX(Clases!$G$1:$G$47,SUMPRODUCT((Clases!$D$8:$D$47=G$7)*(Clases!$E$8:$E$47<=$B18+0.0001)*(Clases!$F$8:$F$47>$B18+0.0001)*ROW(Clases!$D$8:$D$47)))))
B19: =$C$5+11/24 | C19: =IF(SUMPRODUCT((Clases!$D$8:$D$47=C$7)*(Clases!$E$8:$E$47<=$B19+0.0001)*(Clases!$F$8:$F$47>$B19+0.0001))=0,"",IF(SUMPRODUCT((Clases!$D$8:$D$47=C$7)*(Clases!$E$8:$E$47<=$B19+0.0001)*(Clases!$F$8:$F$47>$B19+0.0001))>1,"¡SOLAPE!",INDEX(Clases!$B$1:$B$47,SUMPRODUCT((Clases!$D$8:$D$47=C$7)*(Clases!$E$8:$E$47<=$B19+0.0001)*(Clases!$F$8:$F$47>$B19+0.0001)*ROW(Clases!$D$8:$D$47)))&CHAR(10)&INDEX(Clases!$C$1:$C$47,SUMPRODUCT((Clases!$D$8:$D$47=C$7)*(Clases!$E$8:$E$47<=$B19+0.0001)*(Clases!$F$8:$F$47>$B19+0.0001)*ROW(Clases!$D$8:$D$47)))&" · "&INDEX(Clases!$G$1:$G$47,SUMPRODUCT((Clases!$D$8:$D$47=C$7)*(Clases!$E$8:$E$47<=$B19+0.0001)*(Clases!$F$8:$F$47>$B19+0.0001)*ROW(Clases!$D$8:$D$47))))) | D19: =IF(SUMPRODUCT((Clases!$D$8:$D$47=D$7)*(Clases!$E$8:$E$47<=$B19+0.0001)*(Clases!$F$8:$F$47>$B19+0.0001))=0,"",IF(SUMPRODUCT((Clases!$D$8:$D$47=D$7)*(Clases!$E$8:$E$47<=$B19+0.0001)*(Clases!$F$8:$F$47>$B19+0.0001))>1,"¡SOLAPE!",INDEX(Clases!$B$1:$B$47,SUMPRODUCT((Clases!$D$8:$D$47=D$7)*(Clases!$E$8:$E$47<=$B19+0.0001)*(Clases!$F$8:$F$47>$B19+0.0001)*ROW(Clases!$D$8:$D$47)))&CHAR(10)&INDEX(Clases!$C$1:$C$47,SUMPRODUCT((Clases!$D$8:$D$47=D$7)*(Clases!$E$8:$E$47<=$B19+0.0001)*(Clases!$F$8:$F$47>$B19+0.0001)*ROW(Clases!$D$8:$D$47)))&" · "&INDEX(Clases!$G$1:$G$47,SUMPRODUCT((Clases!$D$8:$D$47=D$7)*(Clases!$E$8:$E$47<=$B19+0.0001)*(Clases!$F$8:$F$47>$B19+0.0001)*ROW(Clases!$D$8:$D$47))))) | E19: =IF(SUMPRODUCT((Clases!$D$8:$D$47=E$7)*(Clases!$E$8:$E$47<=$B19+0.0001)*(Clases!$F$8:$F$47>$B19+0.0001))=0,"",IF(SUMPRODUCT((Clases!$D$8:$D$47=E$7)*(Clases!$E$8:$E$47<=$B19+0.0001)*(Clases!$F$8:$F$47>$B19+0.0001))>1,"¡SOLAPE!",INDEX(Clases!$B$1:$B$47,SUMPRODUCT((Clases!$D$8:$D$47=E$7)*(Clases!$E$8:$E$47<=$B19+0.0001)*(Clases!$F$8:$F$47>$B19+0.0001)*ROW(Clases!$D$8:$D$47)))&CHAR(10)&INDEX(Clases!$C$1:$C$47,SUMPRODUCT((Clases!$D$8:$D$47=E$7)*(Clases!$E$8:$E$47<=$B19+0.0001)*(Clases!$F$8:$F$47>$B19+0.0001)*ROW(Clases!$D$8:$D$47)))&" · "&INDEX(Clases!$G$1:$G$47,SUMPRODUCT((Clases!$D$8:$D$47=E$7)*(Clases!$E$8:$E$47<=$B19+0.0001)*(Clases!$F$8:$F$47>$B19+0.0001)*ROW(Clases!$D$8:$D$47))))) | F19: =IF(SUMPRODUCT((Clases!$D$8:$D$47=F$7)*(Clases!$E$8:$E$47<=$B19+0.0001)*(Clases!$F$8:$F$47>$B19+0.0001))=0,"",IF(SUMPRODUCT((Clases!$D$8:$D$47=F$7)*(Clases!$E$8:$E$47<=$B19+0.0001)*(Clases!$F$8:$F$47>$B19+0.0001))>1,"¡SOLAPE!",INDEX(Clases!$B$1:$B$47,SUMPRODUCT((Clases!$D$8:$D$47=F$7)*(Clases!$E$8:$E$47<=$B19+0.0001)*(Clases!$F$8:$F$47>$B19+0.0001)*ROW(Clases!$D$8:$D$47)))&CHAR(10)&INDEX(Clases!$C$1:$C$47,SUMPRODUCT((Clases!$D$8:$D$47=F$7)*(Clases!$E$8:$E$47<=$B19+0.0001)*(Clases!$F$8:$F$47>$B19+0.0001)*ROW(Clases!$D$8:$D$47)))&" · "&INDEX(Clases!$G$1:$G$47,SUMPRODUCT((Clases!$D$8:$D$47=F$7)*(Clases!$E$8:$E$47<=$B19+0.0001)*(Clases!$F$8:$F$47>$B19+0.0001)*ROW(Clases!$D$8:$D$47))))) | G19: =IF(SUMPRODUCT((Clases!$D$8:$D$47=G$7)*(Clases!$E$8:$E$47<=$B19+0.0001)*(Clases!$F$8:$F$47>$B19+0.0001))=0,"",IF(SUMPRODUCT((Clases!$D$8:$D$47=G$7)*(Clases!$E$8:$E$47<=$B19+0.0001)*(Clases!$F$8:$F$47>$B19+0.0001))>1,"¡SOLAPE!",INDEX(Clases!$B$1:$B$47,SUMPRODUCT((Clases!$D$8:$D$47=G$7)*(Clases!$E$8:$E$47<=$B19+0.0001)*(Clases!$F$8:$F$47>$B19+0.0001)*ROW(Clases!$D$8:$D$47)))&CHAR(10)&INDEX(Clases!$C$1:$C$47,SUMPRODUCT((Clases!$D$8:$D$47=G$7)*(Clases!$E$8:$E$47<=$B19+0.0001)*(Clases!$F$8:$F$47>$B19+0.0001)*ROW(Clases!$D$8:$D$47)))&" · "&INDEX(Clases!$G$1:$G$47,SUMPRODUCT((Clases!$D$8:$D$47=G$7)*(Clases!$E$8:$E$47<=$B19+0.0001)*(Clases!$F$8:$F$47>$B19+0.0001)*ROW(Clases!$D$8:$D$47)))))
B20: =$C$5+12/24 | C20: =IF(SUMPRODUCT((Clases!$D$8:$D$47=C$7)*(Clases!$E$8:$E$47<=$B20+0.0001)*(Clases!$F$8:$F$47>$B20+0.0001))=0,"",IF(SUMPRODUCT((Clases!$D$8:$D$47=C$7)*(Clases!$E$8:$E$47<=$B20+0.0001)*(Clases!$F$8:$F$47>$B20+0.0001))>1,"¡SOLAPE!",INDEX(Clases!$B$1:$B$47,SUMPRODUCT((Clases!$D$8:$D$47=C$7)*(Clases!$E$8:$E$47<=$B20+0.0001)*(Clases!$F$8:$F$47>$B20+0.0001)*ROW(Clases!$D$8:$D$47)))&CHAR(10)&INDEX(Clases!$C$1:$C$47,SUMPRODUCT((Clases!$D$8:$D$47=C$7)*(Clases!$E$8:$E$47<=$B20+0.0001)*(Clases!$F$8:$F$47>$B20+0.0001)*ROW(Clases!$D$8:$D$47)))&" · "&INDEX(Clases!$G$1:$G$47,SUMPRODUCT((Clases!$D$8:$D$47=C$7)*(Clases!$E$8:$E$47<=$B20+0.0001)*(Clases!$F$8:$F$47>$B20+0.0001)*ROW(Clases!$D$8:$D$47))))) | D20: =IF(SUMPRODUCT((Clases!$D$8:$D$47=D$7)*(Clases!$E$8:$E$47<=$B20+0.0001)*(Clases!$F$8:$F$47>$B20+0.0001))=0,"",IF(SUMPRODUCT((Clases!$D$8:$D$47=D$7)*(Clases!$E$8:$E$47<=$B20+0.0001)*(Clases!$F$8:$F$47>$B20+0.0001))>1,"¡SOLAPE!",INDEX(Clases!$B$1:$B$47,SUMPRODUCT((Clases!$D$8:$D$47=D$7)*(Clases!$E$8:$E$47<=$B20+0.0001)*(Clases!$F$8:$F$47>$B20+0.0001)*ROW(Clases!$D$8:$D$47)))&CHAR(10)&INDEX(Clases!$C$1:$C$47,SUMPRODUCT((Clases!$D$8:$D$47=D$7)*(Clases!$E$8:$E$47<=$B20+0.0001)*(Clases!$F$8:$F$47>$B20+0.0001)*ROW(Clases!$D$8:$D$47)))&" · "&INDEX(Clases!$G$1:$G$47,SUMPRODUCT((Clases!$D$8:$D$47=D$7)*(Clases!$E$8:$E$47<=$B20+0.0001)*(Clases!$F$8:$F$47>$B20+0.0001)*ROW(Clases!$D$8:$D$47))))) | E20: =IF(SUMPRODUCT((Clases!$D$8:$D$47=E$7)*(Clases!$E$8:$E$47<=$B20+0.0001)*(Clases!$F$8:$F$47>$B20+0.0001))=0,"",IF(SUMPRODUCT((Clases!$D$8:$D$47=E$7)*(Clases!$E$8:$E$47<=$B20+0.0001)*(Clases!$F$8:$F$47>$B20+0.0001))>1,"¡SOLAPE!",INDEX(Clases!$B$1:$B$47,SUMPRODUCT((Clases!$D$8:$D$47=E$7)*(Clases!$E$8:$E$47<=$B20+0.0001)*(Clases!$F$8:$F$47>$B20+0.0001)*ROW(Clases!$D$8:$D$47)))&CHAR(10)&INDEX(Clases!$C$1:$C$47,SUMPRODUCT((Clases!$D$8:$D$47=E$7)*(Clases!$E$8:$E$47<=$B20+0.0001)*(Clases!$F$8:$F$47>$B20+0.0001)*ROW(Clases!$D$8:$D$47)))&" · "&INDEX(Clases!$G$1:$G$47,SUMPRODUCT((Clases!$D$8:$D$47=E$7)*(Clases!$E$8:$E$47<=$B20+0.0001)*(Clases!$F$8:$F$47>$B20+0.0001)*ROW(Clases!$D$8:$D$47))))) | F20: =IF(SUMPRODUCT((Clases!$D$8:$D$47=F$7)*(Clases!$E$8:$E$47<=$B20+0.0001)*(Clases!$F$8:$F$47>$B20+0.0001))=0,"",IF(SUMPRODUCT((Clases!$D$8:$D$47=F$7)*(Clases!$E$8:$E$47<=$B20+0.0001)*(Clases!$F$8:$F$47>$B20+0.0001))>1,"¡SOLAPE!",INDEX(Clases!$B$1:$B$47,SUMPRODUCT((Clases!$D$8:$D$47=F$7)*(Clases!$E$8:$E$47<=$B20+0.0001)*(Clases!$F$8:$F$47>$B20+0.0001)*ROW(Clases!$D$8:$D$47)))&CHAR(10)&INDEX(Clases!$C$1:$C$47,SUMPRODUCT((Clases!$D$8:$D$47=F$7)*(Clases!$E$8:$E$47<=$B20+0.0001)*(Clases!$F$8:$F$47>$B20+0.0001)*ROW(Clases!$D$8:$D$47)))&" · "&INDEX(Clases!$G$1:$G$47,SUMPRODUCT((Clases!$D$8:$D$47=F$7)*(Clases!$E$8:$E$47<=$B20+0.0001)*(Clases!$F$8:$F$47>$B20+0.0001)*ROW(Clases!$D$8:$D$47))))) | G20: =IF(SUMPRODUCT((Clases!$D$8:$D$47=G$7)*(Clases!$E$8:$E$47<=$B20+0.0001)*(Clases!$F$8:$F$47>$B20+0.0001))=0,"",IF(SUMPRODUCT((Clases!$D$8:$D$47=G$7)*(Clases!$E$8:$E$47<=$B20+0.0001)*(Clases!$F$8:$F$47>$B20+0.0001))>1,"¡SOLAPE!",INDEX(Clases!$B$1:$B$47,SUMPRODUCT((Clases!$D$8:$D$47=G$7)*(Clases!$E$8:$E$47<=$B20+0.0001)*(Clases!$F$8:$F$47>$B20+0.0001)*ROW(Clases!$D$8:$D$47)))&CHAR(10)&INDEX(Clases!$C$1:$C$47,SUMPRODUCT((Clases!$D$8:$D$47=G$7)*(Clases!$E$8:$E$47<=$B20+0.0001)*(Clases!$F$8:$F$47>$B20+0.0001)*ROW(Clases!$D$8:$D$47)))&" · "&INDEX(Clases!$G$1:$G$47,SUMPRODUCT((Clases!$D$8:$D$47=G$7)*(Clases!$E$8:$E$47<=$B20+0.0001)*(Clases!$F$8:$F$47>$B20+0.0001)*ROW(Clases!$D$8:$D$47)))))
B22: Las franjas son de una hora. Si una clase dura dos horas, aparece en dos filas seguidas. En rojo «¡SOLAPE!»: dos clases a la misma hora.

Sheet Clases
B2: Clases de la semana
B3: Una fila por cada sesión: asignatura, tipo, día, hora de inicio y fin, aula y profesor.
B7: Asignatura | C7: Tipo | D7: Día | E7: Inicio | F7: Fin | G7: Aula | H7: Profesor/a | I7: Horas | J7: Control | K7: Clave ini | L7: Clave fin
B8: Microeconomía | C8: Teoría | D8: Lunes | E8: 0.375 | F8: 0.45833333 | G8: Aula 2.1 | H8: Prof. Ruiz | I8: =IF(OR(E8="",F8=""),"",ROUND((F8-E8)*24,2)) | J8: =IF(OR(D8="",E8="",F8=""),"",IF(F8<=E8,"Revisa hora",IF(SUMPRODUCT(($D$8:$D$47=D8)*($E$8:$E$47<F8)*($F$8:$F$47>E8))>1,"¡Solape!","OK"))) | K8: =IF(OR(D8="",E8=""),"",MATCH(D8,Listas!$B$2:$B$6,0)*10+E8) | L8: =IF(OR(D8="",F8=""),"",MATCH(D8,Listas!$B$2:$B$6,0)*10+F8)
B9: Estadística | C9: Teoría | D9: Lunes | E9: 0.45833333 | F9: 0.54166667 | G9: Aula 2.3 | H9: Prof. Molina | I9: =IF(OR(E9="",F9=""),"",ROUND((F9-E9)*24,2)) | J9: =IF(OR(D9="",E9="",F9=""),"",IF(F9<=E9,"Revisa hora",IF(SUMPRODUCT(($D$8:$D$47=D9)*($E$8:$E$47<F9)*($F$8:$F$47>E9))>1,"¡Solape!","OK"))) | K9: =IF(OR(D9="",E9=""),"",MATCH(D9,Listas!$B$2:$B$6,0)*10+E9) | L9: =IF(OR(D9="",F9=""),"",MATCH(D9,Listas!$B$2:$B$6,0)*10+F9)
B10: Informática Aplicada | C10: Práctica | D10: Lunes | E10: 0.625 | F10: 0.70833333 | G10: Lab. 1 | H10: Prof. Cano | I10: =IF(OR(E10="",F10=""),"",ROUND((F10-E10)*24,2)) | J10: =IF(OR(D10="",E10="",F10=""),"",IF(F10<=E10,"Revisa hora",IF(SUMPRODUCT(($D$8:$D$47=D10)*($E$8:$E$47<F10)*($F$8:$F$47>E10))>1,"¡Solape!","OK"))) | K10: =IF(OR(D10="",E10=""),"",MATCH(D10,Listas!$B$2:$B$6,0)*10+E10) | L10: =IF(OR(D10="",F10=""),"",MATCH(D10,Listas!$B$2:$B$6,0)*10+F10)
B11: Contabilidad Financiera | C11: Teoría | D11: Martes | E11: 0.375 | F11: 0.45833333 | G11: Aula 1.2 | H11: Prof. Navarro | I11: =IF(OR(E11="",F11=""),"",ROUND((F11-E11)*24,2)) | J11: =IF(OR(D11="",E11="",F11=""),"",IF(F11<=E11,"Revisa hora",IF(SUMPRODUCT(($D$8:$D$47=D11)*($E$8:$E$47<F11)*($F$8:$F$47>E11))>1,"¡Solape!","OK"))) | K11: =IF(OR(D11="",E11=""),"",MATCH(D11,Listas!$B$2:$B$6,0)*10+E11) | L11: =IF(OR(D11="",F11=""),"",MATCH(D11,Listas!$B$2:$B$6,0)*10+F11)
B12: Marketing | C12: Teoría | D12: Martes | E12: 0.45833333 | F12: 0.54166667 | G12: Aula 3.1 | H12: Prof. Serra | I12: =IF(OR(E12="",F12=""),"",ROUND((F12-E12)*24,2)) | J12: =IF(OR(D12="",E12="",F12=""),"",IF(F12<=E12,"Revisa hora",IF(SUMPRODUCT(($D$8:$D$47=D12)*($E$8:$E$47<F12)*($F$8:$F$47>E12))>1,"¡Solape!","OK"))) | K12: =IF(OR(D12="",E12=""),"",MATCH(D12,Listas!$B$2:$B$6,0)*10+E12) | L12: =IF(OR(D12="",F12=""),"",MATCH(D12,Listas!$B$2:$B$6,0)*10+F12)
B13: Inglés Técnico | C13: Seminario | D13: Martes | E13: 0.66666667 | F13: 0.75 | G13: Aula 4.1 | H13: Prof. Bennett | I13: =IF(OR(E13="",F13=""),"",ROUND((F13-E13)*24,2)) | J13: =IF(OR(D13="",E13="",F13=""),"",IF(F13<=E13,"Revisa hora",IF(SUMPRODUCT(($D$8:$D$47=D13)*($E$8:$E$47<F13)*($F$8:$F$47>E13))>1,"¡Solape!","OK"))) | K13: =IF(OR(D13="",E13=""),"",MATCH(D13,Listas!$B$2:$B$6,0)*10+E13) | L13: =IF(OR(D13="",F13=""),"",MATCH(D13,Listas!$B$2:$B$6,0)*10+F13)
B14: Matemáticas Empresariales | C14: Teoría | D14: Miércoles | E14: 0.375 | F14: 0.45833333 | G14: Aula 2.1 | H14: Prof. Ortega | I14: =IF(OR(E14="",F14=""),"",ROUND((F14-E14)*24,2)) | J14: =IF(OR(D14="",E14="",F14=""),"",IF(F14<=E14,"Revisa hora",IF(SUMPRODUCT(($D$8:$D$47=D14)*($E$8:$E$47<F14)*($F$8:$F$47>E14))>1,"¡Solape!","OK"))) | K14: =IF(OR(D14="",E14=""),"",MATCH(D14,Listas!$B$2:$B$6,0)*10+E14) | L14: =IF(OR(D14="",F14=""),"",MATCH(D14,Listas!$B$2:$B$6,0)*10+F14)
B15: Derecho Mercantil | C15: Teoría | D15: Miércoles | E15: 0.45833333 | F15: 0.54166667 | G15: Aula 1.1 | H15: Prof. Vidal | I15: =IF(OR(E15="",F15=""),"",ROUND((F15-E15)*24,2)) | J15: =IF(OR(D15="",E15="",F15=""),"",IF(F15<=E15,"Revisa hora",IF(SUMPRODUCT(($D$8:$D$47=D15)*($E$8:$E$47<F15)*($F$8:$F$47>E15))>1,"¡Solape!","OK"))) | K15: =IF(OR(D15="",E15=""),"",MATCH(D15,Listas!$B$2:$B$6,0)*10+E15) | L15: =IF(OR(D15="",F15=""),"",MATCH(D15,Listas!$B$2:$B$6,0)*10+F15)
B16: Estadística | C16: Práctica | D16: Miércoles | E16: 0.66666667 | F16: 0.75 | G16: Lab. 2 | H16: Prof. Molina | I16: =IF(OR(E16="",F16=""),"",ROUND((F16-E16)*24,2)) | J16: =IF(OR(D16="",E16="",F16=""),"",IF(F16<=E16,"Revisa hora",IF(SUMPRODUCT(($D$8:$D$47=D16)*($E$8:$E$47<F16)*($F$8:$F$47>E16))>1,"¡Solape!","OK"))) | K16: =IF(OR(D16="",E16=""),"",MATCH(D16,Listas!$B$2:$B$6,0)*10+E16) | L16: =IF(OR(D16="",F16=""),"",MATCH(D16,Listas!$B$2:$B$6,0)*10+F16)
B17: Microeconomía | C17: Práctica | D17: Jueves | E17: 0.375 | F17: 0.41666667 | G17: Aula 2.2 | H17: Prof. Ruiz | I17: =IF(OR(E17="",F17=""),"",ROUND((F17-E17)*24,2)) | J17: =IF(OR(D17="",E17="",F17=""),"",IF(F17<=E17,"Revisa hora",IF(SUMPRODUCT(($D$8:$D$47=D17)*($E$8:$E$47<F17)*($F$8:$F$47>E17))>1,"¡Solape!","OK"))) | K17: =IF(OR(D17="",E17=""),"",MATCH(D17,Listas!$B$2:$B$6,0)*10+E17) | L17: =IF(OR(D17="",F17=""),"",MATCH(D17,Listas!$B$2:$B$6,0)*10+F17)
B18: Contabilidad Financiera | C18: Práctica | D18: Jueves | E18: 0.41666667 | F18: 0.5 | G18: Aula 1.2 | H18: Prof. Navarro | I18: =IF(OR(E18="",F18=""),"",ROUND((F18-E18)*24,2)) | J18: =IF(OR(D18="",E18="",F18=""),"",IF(F18<=E18,"Revisa hora",IF(SUMPRODUCT(($D$8:$D$47=D18)*($E$8:$E$47<F18)*($F$8:$F$47>E18))>1,"¡Solape!","OK"))) | K18: =IF(OR(D18="",E18=""),"",MATCH(D18,Listas!$B$2:$B$6,0)*10+E18) | L18: =IF(OR(D18="",F18=""),"",MATCH(D18,Listas!$B$2:$B$6,0)*10+F18)
B19: Marketing | C19: Práctica | D19: Jueves | E19: 0.5 | F19: 0.58333333 | G19: Aula 3.1 | H19: Prof. Serra | I19: =IF(OR(E19="",F19=""),"",ROUND((F19-E19)*24,2)) | J19: =IF(OR(D19="",E19="",F19=""),"",IF(F19<=E19,"Revisa hora",IF(SUMPRODUCT(($D$8:$D$47=D19)*($E$8:$E$47<F19)*($F$8:$F$47>E19))>1,"¡Solape!","OK"))) | K19: =IF(OR(D19="",E19=""),"",MATCH(D19,Listas!$B$2:$B$6,0)*10+E19) | L19: =IF(OR(D19="",F19=""),"",MATCH(D19,Listas!$B$2:$B$6,0)*10+F19)
... B23: Inglés Técnico | C23: Teoría | D23: Viernes | E23: 0.5 | F23: 0.58333333 | G23: Aula 4.1 | H23: Prof. Bennett | I23: =IF(OR(E23="",F23=""),"",ROUND((F23-E23)*24,2)) | J23: =IF(OR(D23="",E23="",F23=""),"",IF(F23<=E23,"Revisa hora",IF(SUMPRODUCT(($D$8:$D$47=D23)*($E$8:$E$47<F23)*($F$8:$F$47>E23))>1,"¡Solape!","OK"))) | K23: =IF(OR(D23="",E23=""),"",MATCH(D23,Listas!$B$2:$B$6,0)*10+E23) | L23: =IF(OR(D23="",F23=""),"",MATCH(D23,Listas!$B$2:$B$6,0)*10+F23)
I24: =IF(OR(E24="",F24=""),"",ROUND((F24-E24)*24,2)) | J24: =IF(OR(D24="",E24="",F24=""),"",IF(F24<=E24,"Revisa hora",IF(SUMPRODUCT(($D$8:$D$47=D24)*($E$8:$E$47<F24)*($F$8:$F$47>E24))>1,"¡Solape!","OK"))) | K24: =IF(OR(D24="",E24=""),"",MATCH(D24,Listas!$B$2:$B$6,0)*10+E24) | L24: =IF(OR(D24="",F24=""),"",MATCH(D24,Listas!$B$2:$B$6,0)*10+F24)
I25: =IF(OR(E25="",F25=""),"",ROUND((F25-E25)*24,2)) | J25: =IF(OR(D25="",E25="",F25=""),"",IF(F25<=E25,"Revisa hora",IF(SUMPRODUCT(($D$8:$D$47=D25)*($E$8:$E$47<F25)*($F$8:$F$47>E25))>1,"¡Solape!","OK"))) | K25: =IF(OR(D25="",E25=""),"",MATCH(D25,Listas!$B$2:$B$6,0)*10+E25) | L25: =IF(OR(D25="",F25=""),"",MATCH(D25,Listas!$B$2:$B$6,0)*10+F25)
I26: =IF(OR(E26="",F26=""),"",ROUND((F26-E26)*24,2)) | J26: =IF(OR(D26="",E26="",F26=""),"",IF(F26<=E26,"Revisa hora",IF(SUMPRODUCT(($D$8:$D$47=D26)*($E$8:$E$47<F26)*($F$8:$F$47>E26))>1,"¡Solape!","OK"))) | K26: =IF(OR(D26="",E26=""),"",MATCH(D26,Listas!$B$2:$B$6,0)*10+E26) | L26: =IF(OR(D26="",F26=""),"",MATCH(D26,Listas!$B$2:$B$6,0)*10+F26)
I27: =IF(OR(E27="",F27=""),"",ROUND((F27-E27)*24,2)) | J27: =IF(OR(D27="",E27="",F27=""),"",IF(F27<=E27,"Revisa hora",IF(SUMPRODUCT(($D$8:$D$47=D27)*($E$8:$E$47<F27)*($F$8:$F$47>E27))>1,"¡Solape!","OK"))) | K27: =IF(OR(D27="",E27=""),"",MATCH(D27,Listas!$B$2:$B$6,0)*10+E27) | L27: =IF(OR(D27="",F27=""),"",MATCH(D27,Listas!$B$2:$B$6,0)*10+F27)
I28: =IF(OR(E28="",F28=""),"",ROUND((F28-E28)*24,2)) | J28: =IF(OR(D28="",E28="",F28=""),"",IF(F28<=E28,"Revisa hora",IF(SUMPRODUCT(($D$8:$D$47=D28)*($E$8:$E$47<F28)*($F$8:$F$47>E28))>1,"¡Solape!","OK"))) | K28: =IF(OR(D28="",E28=""),"",MATCH(D28,Listas!$B$2:$B$6,0)*10+E28) | L28: =IF(OR(D28="",F28=""),"",MATCH(D28,Listas!$B$2:$B$6,0)*10+F28)
I29: =IF(OR(E29="",F29=""),"",ROUND((F29-E29)*24,2)) | J29: =IF(OR(D29="",E29="",F29=""),"",IF(F29<=E29,"Revisa hora",IF(SUMPRODUCT(($D$8:$D$47=D29)*($E$8:$E$47<F29)*($F$8:$F$47>E29))>1,"¡Solape!","OK"))) | K29: =IF(OR(D29="",E29=""),"",MATCH(D29,Listas!$B$2:$B$6,0)*10+E29) | L29: =IF(OR(D29="",F29=""),"",MATCH(D29,Listas!$B$2:$B$6,0)*10+F29)
I30: =IF(OR(E30="",F30=""),"",ROUND((F30-E30)*24,2)) | J30: =IF(OR(D30="",E30="",F30=""),"",IF(F30<=E30,"Revisa hora",IF(SUMPRODUCT(($D$8:$D$47=D30)*($E$8:$E$47<F30)*($F$8:$F$47>E30))>1,"¡Solape!","OK"))) | K30: =IF(OR(D30="",E30=""),"",MATCH(D30,Listas!$B$2:$B$6,0)*10+E30) | L30: =IF(OR(D30="",F30=""),"",MATCH(D30,Listas!$B$2:$B$6,0)*10+F30)
I31: =IF(OR(E31="",F31=""),"",ROUND((F31-E31)*24,2)) | J31: =IF(OR(D31="",E31="",F31=""),"",IF(F31<=E31,"Revisa hora",IF(SUMPRODUCT(($D$8:$D$47=D31)*($E$8:$E$47<F31)*($F$8:$F$47>E31))>1,"¡Solape!","OK"))) | K31: =IF(OR(D31="",E31=""),"",MATCH(D31,Listas!$B$2:$B$6,0)*10+E31) | L31: =IF(OR(D31="",F31=""),"",MATCH(D31,Listas!$B$2:$B$6,0)*10+F31)
I32: =IF(OR(E32="",F32=""),"",ROUND((F32-E32)*24,2)) | J32: =IF(OR(D32="",E32="",F32=""),"",IF(F32<=E32,"Revisa hora",IF(SUMPRODUCT(($D$8:$D$47=D32)*($E$8:$E$47<F32)*($F$8:$F$47>E32))>1,"¡Solape!","OK"))) | K32: =IF(OR(D32="",E32=""),"",MATCH(D32,Listas!$B$2:$B$6,0)*10+E32) | L32: =IF(OR(D32="",F32=""),"",MATCH(D32,Listas!$B$2:$B$6,0)*10+F32)
I33: =IF(OR(E33="",F33=""),"",ROUND((F33-E33)*24,2)) | J33: =IF(OR(D33="",E33="",F33=""),"",IF(F33<=E33,"Revisa hora",IF(SUMPRODUCT(($D$8:$D$47=D33)*($E$8:$E$47<F33)*($F$8:$F$47>E33))>1,"¡Solape!","OK"))) | K33: =IF(OR(D33="",E33=""),"",MATCH(D33,Listas!$B$2:$B$6,0)*10+E33) | L33: =IF(OR(D33="",F33=""),"",MATCH(D33,Listas!$B$2:$B$6,0)*10+F33)
I34: =IF(OR(E34="",F34=""),"",ROUND((F34-E34)*24,2)) | J34: =IF(OR(D34="",E34="",F34=""),"",IF(F34<=E34,"Revisa hora",IF(SUMPRODUCT(($D$8:$D$47=D34)*($E$8:$E$47<F34)*($F$8:$F$47>E34))>1,"¡Solape!","OK"))) | K34: =IF(OR(D34="",E34=""),"",MATCH(D34,Listas!$B$2:$B$6,0)*10+E34) | L34: =IF(OR(D34="",F34=""),"",MATCH(D34,Listas!$B$2:$B$6,0)*10+F34)
I35: =IF(OR(E35="",F35=""),"",ROUND((F35-E35)*24,2)) | J35: =IF(OR(D35="",E35="",F35=""),"",IF(F35<=E35,"Revisa hora",IF(SUMPRODUCT(($D$8:$D$47=D35)*($E$8:$E$47<F35)*($F$8:$F$47>E35))>1,"¡Solape!","OK"))) | K35: =IF(OR(D35="",E35=""),"",MATCH(D35,Listas!$B$2:$B$6,0)*10+E35) | L35: =IF(OR(D35="",F35=""),"",MATCH(D35,Listas!$B$2:$B$6,0)*10+F35)
... I47: =IF(OR(E47="",F47=""),"",ROUND((F47-E47)*24,2)) | J47: =IF(OR(D47="",E47="",F47=""),"",IF(F47<=E47,"Revisa hora",IF(SUMPRODUCT(($D$8:$D$47=D47)*($E$8:$E$47<F47)*($F$8:$F$47>E47))>1,"¡Solape!","OK"))) | K47: =IF(OR(D47="",E47=""),"",MATCH(D47,Listas!$B$2:$B$6,0)*10+E47) | L47: =IF(OR(D47="",F47=""),"",MATCH(D47,Listas!$B$2:$B$6,0)*10+F47)
B48: Total horas semanales | I48: =SUM(I8:I47)

Sheet Asignaturas
B2: Asignaturas y horas lectivas
B3: Define tus asignaturas (cada una con su color) y mira las horas de teoría, práctica y estudio personal.
B5: Semanas lectivas del cuatrimestre: | E5: 15 | F5: Estudio personal por hora de clase (h): | J5: 1.5
B7: Asignatura | C7: Color | D7: Profesor/a | E7: ECTS | F7: Teoría (h/sem) | G7: Práctica (h/sem) | H7: Otras (h/sem) | I7: Total clase (h/sem) | J7: % del total | K7: Horas cuatrimestre | L7: Estudio personal (h/sem)
B8: Microeconomía | C8: Color 1 | D8: Prof. Ruiz | E8: 6 | F8: =IF(B8="","",SUMIFS(Clases!$I$8:$I$47,Clases!$B$8:$B$47,B8,Clases!$C$8:$C$47,"Teoría")) | G8: =IF(B8="","",SUMIFS(Clases!$I$8:$I$47,Clases!$B$8:$B$47,B8,Clases!$C$8:$C$47,"Práctica")) | H8: =IF(B8="","",I8-F8-G8) | I8: =IF(B8="","",SUMIF(Clases!$B$8:$B$47,B8,Clases!$I$8:$I$47)) | J8: =IF(B8="","",IF($I$18=0,0,I8/$I$18)) | K8: =IF(B8="","",I8*$E$5) | L8: =IF(B8="","",ROUND(I8*$J$5,1))
B9: Contabilidad Financiera | C9: Color 2 | D9: Prof. Navarro | E9: 6 | F9: =IF(B9="","",SUMIFS(Clases!$I$8:$I$47,Clases!$B$8:$B$47,B9,Clases!$C$8:$C$47,"Teoría")) | G9: =IF(B9="","",SUMIFS(Clases!$I$8:$I$47,Clases!$B$8:$B$47,B9,Clases!$C$8:$C$47,"Práctica")) | H9: =IF(B9="","",I9-F9-G9) | I9: =IF(B9="","",SUMIF(Clases!$B$8:$B$47,B9,Clases!$I$8:$I$47)) | J9: =IF(B9="","",IF($I$18=0,0,I9/$I$18)) | K9: =IF(B9="","",I9*$E$5) | L9: =IF(B9="","",ROUND(I9*$J$5,1))
B10: Estadística | C10: Color 3 | D10: Prof. Molina | E10: 6 | F10: =IF(B10="","",SUMIFS(Clases!$I$8:$I$47,Clases!$B$8:$B$47,B10,Clases!$C$8:$C$47,"Teoría")) | G10: =IF(B10="","",SUMIFS(Clases!$I$8:$I$47,Clases!$B$8:$B$47,B10,Clases!$C$8:$C$47,"Práctica")) | H10: =IF(B10="","",I10-F10-G10) | I10: =IF(B10="","",SUMIF(Clases!$B$8:$B$47,B10,Clases!$I$8:$I$47)) | J10: =IF(B10="","",IF($I$18=0,0,I10/$I$18)) | K10: =IF(B10="","",I10*$E$5) | L10: =IF(B10="","",ROUND(I10*$J$5,1))
B11: Derecho Mercantil | C11: Color 4 | D11: Prof. Vidal | E11: 4.5 | F11: =IF(B11="","",SUMIFS(Clases!$I$8:$I$47,Clases!$B$8:$B$47,B11,Clases!$C$8:$C$47,"Teoría")) | G11: =IF(B11="","",SUMIFS(Clases!$I$8:$I$47,Clases!$B$8:$B$47,B11,Clases!$C$8:$C$47,"Práctica")) | H11: =IF(B11="","",I11-F11-G11) | I11: =IF(B11="","",SUMIF(Clases!$B$8:$B$47,B11,Clases!$I$8:$I$47)) | J11: =IF(B11="","",IF($I$18=0,0,I11/$I$18)) | K11: =IF(B11="","",I11*$E$5) | L11: =IF(B11="","",ROUND(I11*$J$5,1))
B12: Matemáticas Empresariales | C12: Color 5 | D12: Prof. Ortega | E12: 6 | F12: =IF(B12="","",SUMIFS(Clases!$I$8:$I$47,Clases!$B$8:$B$47,B12,Clases!$C$8:$C$47,"Teoría")) | G12: =IF(B12="","",SUMIFS(Clases!$I$8:$I$47,Clases!$B$8:$B$47,B12,Clases!$C$8:$C$47,"Práctica")) | H12: =IF(B12="","",I12-F12-G12) | I12: =IF(B12="","",SUMIF(Clases!$B$8:$B$47,B12,Clases!$I$8:$I$47)) | J12: =IF(B12="","",IF($I$18=0,0,I12/$I$18)) | K12: =IF(B12="","",I12*$E$5) | L12: =IF(B12="","",ROUND(I12*$J$5,1))
B13: Marketing | C13: Color 6 | D13: Prof. Serra | E13: 6 | F13: =IF(B13="","",SUMIFS(Clases!$I$8:$I$47,Clases!$B$8:$B$47,B13,Clases!$C$8:$C$47,"Teoría")) | G13: =IF(B13="","",SUMIFS(Clases!$I$8:$I$47,Clases!$B$8:$B$47,B13,Clases!$C$8:$C$47,"Práctica")) | H13: =IF(B13="","",I13-F13-G13) | I13: =IF(B13="","",SUMIF(Clases!$B$8:$B$47,B13,Clases!$I$8:$I$47)) | J13: =IF(B13="","",IF($I$18=0,0,I13/$I$18)) | K13: =IF(B13="","",I13*$E$5) | L13: =IF(B13="","",ROUND(I13*$J$5,1))
B14: Inglés Técnico | C14: Color 7 | D14: Prof. Bennett | E14: 3 | F14: =IF(B14="","",SUMIFS(Clases!$I$8:$I$47,Clases!$B$8:$B$47,B14,Clases!$C$8:$C$47,"Teoría")) | G14: =IF(B14="","",SUMIFS(Clases!$I$8:$I$47,Clases!$B$8:$B$47,B14,Clases!$C$8:$C$47,"Práctica")) | H14: =IF(B14="","",I14-F14-G14) | I14: =IF(B14="","",SUMIF(Clases!$B$8:$B$47,B14,Clases!$I$8:$I$47)) | J14: =IF(B14="","",IF($I$18=0,0,I14/$I$18)) | K14: =IF(B14="","",I14*$E$5) | L14: =IF(B14="","",ROUND(I14*$J$5,1))
B15: Informática Aplicada | C15: Color 8 | D15: Prof. Cano | E15: 6 | F15: =IF(B15="","",SUMIFS(Clases!$I$8:$I$47,Clases!$B$8:$B$47,B15,Clases!$C$8:$C$47,"Teoría")) | G15: =IF(B15="","",SUMIFS(Clases!$I$8:$I$47,Clases!$B$8:$B$47,B15,Clases!$C$8:$C$47,"Práctica")) | H15: =IF(B15="","",I15-F15-G15) | I15: =IF(B15="","",SUMIF(Clases!$B$8:$B$47,B15,Clases!$I$8:$I$47)) | J15: =IF(B15="","",IF($I$18=0,0,I15/$I$18)) | K15: =IF(B15="","",I15*$E$5) | L15: =IF(B15="","",ROUND(I15*$J$5,1))
C16: Color 9 | F16: =IF(B16="","",SUMIFS(Clases!$I$8:$I$47,Clases!$B$8:$B$47,B16,Clases!$C$8:$C$47,"Teoría")) | G16: =IF(B16="","",SUMIFS(Clases!$I$8:$I$47,Clases!$B$8:$B$47,B16,Clases!$C$8:$C$47,"Práctica")) | H16: =IF(B16="","",I16-F16-G16) | I16: =IF(B16="","",SUMIF(Clases!$B$8:$B$47,B16,Clases!$I$8:$I$47)) | J16: =IF(B16="","",IF($I$18=0,0,I16/$I$18)) | K16: =IF(B16="","",I16*$E$5) | L16: =IF(B16="","",ROUND(I16*$J$5,1))
C17: Color 10 | F17: =IF(B17="","",SUMIFS(Clases!$I$8:$I$47,Clases!$B$8:$B$47,B17,Clases!$C$8:$C$47,"Teoría")) | G17: =IF(B17="","",SUMIFS(Clases!$I$8:$I$47,Clases!$B$8:$B$47,B17,Clases!$C$8:$C$47,"Práctica")) | H17: =IF(B17="","",I17-F17-G17) | I17: =IF(B17="","",SUMIF(Clases!$B$8:$B$47,B17,Clases!$I$8:$I$47)) | J17: =IF(B17="","",IF($I$18=0,0,I17/$I$18)) | K17: =IF(B17="","",I17*$E$5) | L17: =IF(B17="","",ROUND(I17*$J$5,1))
B18: Total | E18: =SUM(E8:E17) | F18: =SUM(F8:F17) | G18: =SUM(G8:G17) | H18: =SUM(H8:H17) | I18: =SUM(I8:I17) | J18: =SUM(J8:J17) | K18: =SUM(K8:K17) | L18: =SUM(L8:L17)
B20: Las horas de clase se calculan solas a partir de la hoja «Clases». El estudio personal es una estimación editable (celda J5), no un dato oficial.

Sheet Panel
B2: Panel de tu semana
B3: Resumen automático: horas de clase, días cargados, huecos entre clases y estudio personal estimado.
B5: HORAS DE CLASE / SEMANA | C5: ASIGNATURAS | D5: DÍA MÁS CARGADO | E5: HORAS DE HUECO | F5: CARGA TOTAL (CLASE + ESTUDIO) | G5: SOLAPES
B6: =Clases!I48 | C6: =COUNTIF(Asignaturas!I8:I17,">0") | D6: =IF(MAX(D12:D16)=0,"-",INDEX(B12:B16,MATCH(MAX(D12:D16),D12:D16,0))) | E6: =SUM(G12:G16) | F6: =Clases!I48+Asignaturas!L18 | G6: =COUNTIF(Clases!J8:J47,"¡Solape!")
B8: Entrada más temprana: | D8: =IF(COUNT(Clases!E8:E47)=0,"-",MIN(Clases!E8:E47)) | E8: Salida más tardía: | G8: =IF(COUNT(Clases!F8:F47)=0,"-",MAX(Clases!F8:F47))
B10: CARGA POR DÍA
B11: Día | C11: Sesiones | D11: Horas de clase | E11: Primera hora | F11: Última hora | G11: Huecos (h)
B12: =Listas!B2 | C12: =COUNTIFS(Clases!$D$8:$D$47,B12,Clases!$E$8:$E$47,">0") | D12: =SUMIF(Clases!$D$8:$D$47,B12,Clases!$I$8:$I$47) | E12: =IF(C12=0,"-",SMALL(Clases!$K$8:$K$47,COUNTIF(Clases!$K$8:$K$47,"<"&1*10)+1)-1*10) | F12: =IF(C12=0,"-",LARGE(Clases!$L$8:$L$47,COUNTIF(Clases!$L$8:$L$47,">="&2*10)+1)-1*10) | G12: =IF(C12=0,0,MAX(0,ROUND((F12-E12)*24-D12,2)))
B13: =Listas!B3 | C13: =COUNTIFS(Clases!$D$8:$D$47,B13,Clases!$E$8:$E$47,">0") | D13: =SUMIF(Clases!$D$8:$D$47,B13,Clases!$I$8:$I$47) | E13: =IF(C13=0,"-",SMALL(Clases!$K$8:$K$47,COUNTIF(Clases!$K$8:$K$47,"<"&2*10)+1)-2*10) | F13: =IF(C13=0,"-",LARGE(Clases!$L$8:$L$47,COUNTIF(Clases!$L$8:$L$47,">="&3*10)+1)-2*10) | G13: =IF(C13=0,0,MAX(0,ROUND((F13-E13)*24-D13,2)))
B14: =Listas!B4 | C14: =COUNTIFS(Clases!$D$8:$D$47,B14,Clases!$E$8:$E$47,">0") | D14: =SUMIF(Clases!$D$8:$D$47,B14,Clases!$I$8:$I$47) | E14: =IF(C14=0,"-",SMALL(Clases!$K$8:$K$47,COUNTIF(Clases!$K$8:$K$47,"<"&3*10)+1)-3*10) | F14: =IF(C14=0,"-",LARGE(Clases!$L$8:$L$47,COUNTIF(Clases!$L$8:$L$47,">="&4*10)+1)-3*10) | G14: =IF(C14=0,0,MAX(0,ROUND((F14-E14)*24-D14,2)))
B15: =Listas!B5 | C15: =COUNTIFS(Clases!$D$8:$D$47,B15,Clases!$E$8:$E$47,">0") | D15: =SUMIF(Clases!$D$8:$D$47,B15,Clases!$I$8:$I$47) | E15: =IF(C15=0,"-",SMALL(Clases!$K$8:$K$47,COUNTIF(Clases!$K$8:$K$47,"<"&4*10)+1)-4*10) | F15: =IF(C15=0,"-",LARGE(Clases!$L$8:$L$47,COUNTIF(Clases!$L$8:$L$47,">="&5*10)+1)-4*10) | G15: =IF(C15=0,0,MAX(0,ROUND((F15-E15)*24-D15,2)))
B16: =Listas!B6 | C16: =COUNTIFS(Clases!$D$8:$D$47,B16,Clases!$E$8:$E$47,">0") | D16: =SUMIF(Clases!$D$8:$D$47,B16,Clases!$I$8:$I$47) | E16: =IF(C16=0,"-",SMALL(Clases!$K$8:$K$47,COUNTIF(Clases!$K$8:$K$47,"<"&5*10)+1)-5*10) | F16: =IF(C16=0,"-",LARGE(Clases!$L$8:$L$47,COUNTIF(Clases!$L$8:$L$47,">="&6*10)+1)-5*10) | G16: =IF(C16=0,0,MAX(0,ROUND((F16-E16)*24-D16,2)))
B17: Total | C17: =SUM(C12:C16) | D17: =SUM(D12:D16) | G17: =SUM(G12:G16)
B19: HORAS DE CLASE POR DÍA
B36: HORAS DE CLASE POR ASIGNATURA

Sheet Instrucciones
B2: Horario universitario · Cómo usarlo
B3: Plantilla gratuita de Plantillas de Cálculo · plantillasdecalculo.com
B5: CÓMO USARLA
B6: 1. Abre la hoja «Asignaturas» y escribe tus asignaturas (hasta 10), el profesor y los ECTS. Cada una toma un color que verás en la parrilla.
B7: 2. Ajusta en esa misma hoja las semanas lectivas del cuatrimestre (E5) y cuántas horas de estudio personal estimas por hora de clase (J5).
B8: 3. Ve a «Clases» y añade una fila por cada sesión: elige asignatura, tipo (teoría, práctica...) y día en los desplegables.
B9: 4. Escribe la hora de inicio y de fin (por ejemplo 9:00 y 11:00), el aula y el profesor. Las filas hasta la 47 ya tienen fórmulas.
B10: 5. Mira la columna «Control»: «OK» es correcto, «¡Solape!» indica dos clases a la misma hora y «Revisa hora» que el fin es anterior al inicio.
B11: 6. Abre «Horario»: la parrilla se rellena sola con la asignatura, el tipo y el aula de cada franja. Cambia la primera hora (C5) si hace falta.
B12: 7. Consulta el «Panel» para ver las horas por día, el día más cargado, los huecos entre clases y la carga total semanal con estudio.
B13: 8. Imprime la hoja «Horario» (ya está preparada en horizontal y a una página de ancho) o guárdala como PDF.
B15: CONSEJOS
... B24: Aviso: las horas de estudio personal y las semanas lectivas son parámetros orientativos que tú defines. Consulta siempre la guía docente y el calendario oficial de tu universidad.

Sheet Listas
A1: Tipo | B1: Día
A2: Teoría | B2: Lunes
A3: Práctica | B3: Martes
A4: Laboratorio | B4: Miércoles
A5: Seminario | B5: Jueves
A6: Tutoría | B6: Viernes
