Workbook

Sheet Panel
B2: Panel del viaje en grupo
B3: Cuánto se ha gastado, cuánto toca por persona, quién paga a quién, el destino más votado y el estado de las habitaciones.
B5: TOTAL GASTADO | C5: COSTE MEDIO POR PERSONA | E5: PERSONAS DEL GRUPO | G5: DINERO EN EL BOTE | I5: TRANSFERENCIAS PARA CUADRAR
B6: =Gastos!C5 | C6: =IF(Participantes!D36=0,0,B6/Participantes!D36) | E6: =Participantes!D36 | G6: =Participantes!E36-Gastos!E5 | I6: =MAX(Listas!$M$2:$M$61)
B8: DESTINO GANADOR | C8: PUNTOS DEL GANADOR | E8: PERSONAS SIN HABITACIÓN | G8: COSTE ESTIMADO ALOJAMIENTO | I8: GASTOS SIN PAGADOR VÁLIDO
B9: =Viaje!C26 | C9: =MAX(Viaje!E16:E25) | E9: =SUMPRODUCT((Participantes!C6:C35<>"")*(Participantes!H6:H35="")*Participantes!D6:D35) | G9: =Viaje!I41 | I9: =SUMPRODUCT((Gastos!C8:C47<>"")*ISNA(MATCH(Gastos!F8:F47,Listas!B2:B32,0)))
B11: =IF(ROUND(SUM(Participantes!L6:L35),2)=0,"Cuentas cuadradas: la suma de saldos es 0 €. Viaje: "&Viaje!C6&" ("&Viaje!C10&" noches).","Revisa los datos: los saldos no suman 0 €. ¿Has elegido tesorero/a en la hoja Viaje?")
B13: QUIÉN PAGA A QUIÉN | F13: SALDO POR PERSONA
B14: Quién paga | C14: A quién | D14: Importe | F14: Persona | G14: Ha puesto (€) | H14: Su parte (€) | I14: Saldo (€)
B15: =IF($J15="","",INDEX(Participantes!$C$6:$C$35,SUMPRODUCT(--(Listas!$H$2:$H$31<INDEX(Listas!$K$2:$K$61,$J15)))+1)) | C15: =IF($J15="","",INDEX(Participantes!$C$6:$C$35,SUMPRODUCT(--(Listas!$H$32:$H$61<INDEX(Listas!$K$2:$K$61,$J15)))+1)) | D15: =IF($J15="","",INDEX(Listas!$J$2:$J$61,$J15)) | F15: =IF(Participantes!C6="","",Participantes!C6) | G15: =IF(Participantes!C6="","",N(Participantes!E6)+Participantes!I6) | H15: =IF(Participantes!C6="","",Participantes!J6) | I15: =IF(Participantes!C6="","",Participantes!L6) | J15: =IFERROR(MATCH(1,Listas!$M$2:$M$61,0),"")
B16: =IF($J16="","",INDEX(Participantes!$C$6:$C$35,SUMPRODUCT(--(Listas!$H$2:$H$31<INDEX(Listas!$K$2:$K$61,$J16)))+1)) | C16: =IF($J16="","",INDEX(Participantes!$C$6:$C$35,SUMPRODUCT(--(Listas!$H$32:$H$61<INDEX(Listas!$K$2:$K$61,$J16)))+1)) | D16: =IF($J16="","",INDEX(Listas!$J$2:$J$61,$J16)) | F16: =IF(Participantes!C7="","",Participantes!C7) | G16: =IF(Participantes!C7="","",N(Participantes!E7)+Participantes!I7) | H16: =IF(Participantes!C7="","",Participantes!J7) | I16: =IF(Participantes!C7="","",Participantes!L7) | J16: =IFERROR(MATCH(2,Listas!$M$2:$M$61,0),"")
B17: =IF($J17="","",INDEX(Participantes!$C$6:$C$35,SUMPRODUCT(--(Listas!$H$2:$H$31<INDEX(Listas!$K$2:$K$61,$J17)))+1)) | C17: =IF($J17="","",INDEX(Participantes!$C$6:$C$35,SUMPRODUCT(--(Listas!$H$32:$H$61<INDEX(Listas!$K$2:$K$61,$J17)))+1)) | D17: =IF($J17="","",INDEX(Listas!$J$2:$J$61,$J17)) | F17: =IF(Participantes!C8="","",Participantes!C8) | G17: =IF(Participantes!C8="","",N(Participantes!E8)+Participantes!I8) | H17: =IF(Participantes!C8="","",Participantes!J8) | I17: =IF(Participantes!C8="","",Participantes!L8) | J17: =IFERROR(MATCH(3,Listas!$M$2:$M$61,0),"")
B18: =IF($J18="","",INDEX(Participantes!$C$6:$C$35,SUMPRODUCT(--(Listas!$H$2:$H$31<INDEX(Listas!$K$2:$K$61,$J18)))+1)) | C18: =IF($J18="","",INDEX(Participantes!$C$6:$C$35,SUMPRODUCT(--(Listas!$H$32:$H$61<INDEX(Listas!$K$2:$K$61,$J18)))+1)) | D18: =IF($J18="","",INDEX(Listas!$J$2:$J$61,$J18)) | F18: =IF(Participantes!C9="","",Participantes!C9) | G18: =IF(Participantes!C9="","",N(Participantes!E9)+Participantes!I9) | H18: =IF(Participantes!C9="","",Participantes!J9) | I18: =IF(Participantes!C9="","",Participantes!L9) | J18: =IFERROR(MATCH(4,Listas!$M$2:$M$61,0),"")
B19: =IF($J19="","",INDEX(Participantes!$C$6:$C$35,SUMPRODUCT(--(Listas!$H$2:$H$31<INDEX(Listas!$K$2:$K$61,$J19)))+1)) | C19: =IF($J19="","",INDEX(Participantes!$C$6:$C$35,SUMPRODUCT(--(Listas!$H$32:$H$61<INDEX(Listas!$K$2:$K$61,$J19)))+1)) | D19: =IF($J19="","",INDEX(Listas!$J$2:$J$61,$J19)) | F19: =IF(Participantes!C10="","",Participantes!C10) | G19: =IF(Participantes!C10="","",N(Participantes!E10)+Participantes!I10) | H19: =IF(Participantes!C10="","",Participantes!J10) | I19: =IF(Participantes!C10="","",Participantes!L10) | J19: =IFERROR(MATCH(5,Listas!$M$2:$M$61,0),"")
B20: =IF($J20="","",INDEX(Participantes!$C$6:$C$35,SUMPRODUCT(--(Listas!$H$2:$H$31<INDEX(Listas!$K$2:$K$61,$J20)))+1)) | C20: =IF($J20="","",INDEX(Participantes!$C$6:$C$35,SUMPRODUCT(--(Listas!$H$32:$H$61<INDEX(Listas!$K$2:$K$61,$J20)))+1)) | D20: =IF($J20="","",INDEX(Listas!$J$2:$J$61,$J20)) | F20: =IF(Participantes!C11="","",Participantes!C11) | G20: =IF(Participantes!C11="","",N(Participantes!E11)+Participantes!I11) | H20: =IF(Participantes!C11="","",Participantes!J11) | I20: =IF(Participantes!C11="","",Participantes!L11) | J20: =IFERROR(MATCH(6,Listas!$M$2:$M$61,0),"")
B21: =IF($J21="","",INDEX(Participantes!$C$6:$C$35,SUMPRODUCT(--(Listas!$H$2:$H$31<INDEX(Listas!$K$2:$K$61,$J21)))+1)) | C21: =IF($J21="","",INDEX(Participantes!$C$6:$C$35,SUMPRODUCT(--(Listas!$H$32:$H$61<INDEX(Listas!$K$2:$K$61,$J21)))+1)) | D21: =IF($J21="","",INDEX(Listas!$J$2:$J$61,$J21)) | F21: =IF(Participantes!C12="","",Participantes!C12) | G21: =IF(Participantes!C12="","",N(Participantes!E12)+Participantes!I12) | H21: =IF(Participantes!C12="","",Participantes!J12) | I21: =IF(Participantes!C12="","",Participantes!L12) | J21: =IFERROR(MATCH(7,Listas!$M$2:$M$61,0),"")
B22: =IF($J22="","",INDEX(Participantes!$C$6:$C$35,SUMPRODUCT(--(Listas!$H$2:$H$31<INDEX(Listas!$K$2:$K$61,$J22)))+1)) | C22: =IF($J22="","",INDEX(Participantes!$C$6:$C$35,SUMPRODUCT(--(Listas!$H$32:$H$61<INDEX(Listas!$K$2:$K$61,$J22)))+1)) | D22: =IF($J22="","",INDEX(Listas!$J$2:$J$61,$J22)) | F22: =IF(Participantes!C13="","",Participantes!C13) | G22: =IF(Participantes!C13="","",N(Participantes!E13)+Participantes!I13) | H22: =IF(Participantes!C13="","",Participantes!J13) | I22: =IF(Participantes!C13="","",Participantes!L13) | J22: =IFERROR(MATCH(8,Listas!$M$2:$M$61,0),"")
B23: =IF($J23="","",INDEX(Participantes!$C$6:$C$35,SUMPRODUCT(--(Listas!$H$2:$H$31<INDEX(Listas!$K$2:$K$61,$J23)))+1)) | C23: =IF($J23="","",INDEX(Participantes!$C$6:$C$35,SUMPRODUCT(--(Listas!$H$32:$H$61<INDEX(Listas!$K$2:$K$61,$J23)))+1)) | D23: =IF($J23="","",INDEX(Listas!$J$2:$J$61,$J23)) | F23: =IF(Participantes!C14="","",Participantes!C14) | G23: =IF(Participantes!C14="","",N(Participantes!E14)+Participantes!I14) | H23: =IF(Participantes!C14="","",Participantes!J14) | I23: =IF(Participantes!C14="","",Participantes!L14) | J23: =IFERROR(MATCH(9,Listas!$M$2:$M$61,0),"")
B24: =IF($J24="","",INDEX(Participantes!$C$6:$C$35,SUMPRODUCT(--(Listas!$H$2:$H$31<INDEX(Listas!$K$2:$K$61,$J24)))+1)) | C24: =IF($J24="","",INDEX(Participantes!$C$6:$C$35,SUMPRODUCT(--(Listas!$H$32:$H$61<INDEX(Listas!$K$2:$K$61,$J24)))+1)) | D24: =IF($J24="","",INDEX(Listas!$J$2:$J$61,$J24)) | F24: =IF(Participantes!C15="","",Participantes!C15) | G24: =IF(Participantes!C15="","",N(Participantes!E15)+Participantes!I15) | H24: =IF(Participantes!C15="","",Participantes!J15) | I24: =IF(Participantes!C15="","",Participantes!L15) | J24: =IFERROR(MATCH(10,Listas!$M$2:$M$61,0),"")
B25: =IF($J25="","",INDEX(Participantes!$C$6:$C$35,SUMPRODUCT(--(Listas!$H$2:$H$31<INDEX(Listas!$K$2:$K$61,$J25)))+1)) | C25: =IF($J25="","",INDEX(Participantes!$C$6:$C$35,SUMPRODUCT(--(Listas!$H$32:$H$61<INDEX(Listas!$K$2:$K$61,$J25)))+1)) | D25: =IF($J25="","",INDEX(Listas!$J$2:$J$61,$J25)) | F25: =IF(Participantes!C16="","",Participantes!C16) | G25: =IF(Participantes!C16="","",N(Participantes!E16)+Participantes!I16) | H25: =IF(Participantes!C16="","",Participantes!J16) | I25: =IF(Participantes!C16="","",Participantes!L16) | J25: =IFERROR(MATCH(11,Listas!$M$2:$M$61,0),"")
B26: =IF($J26="","",INDEX(Participantes!$C$6:$C$35,SUMPRODUCT(--(Listas!$H$2:$H$31<INDEX(Listas!$K$2:$K$61,$J26)))+1)) | C26: =IF($J26="","",INDEX(Participantes!$C$6:$C$35,SUMPRODUCT(--(Listas!$H$32:$H$61<INDEX(Listas!$K$2:$K$61,$J26)))+1)) | D26: =IF($J26="","",INDEX(Listas!$J$2:$J$61,$J26)) | F26: =IF(Participantes!C17="","",Participantes!C17) | G26: =IF(Participantes!C17="","",N(Participantes!E17)+Participantes!I17) | H26: =IF(Participantes!C17="","",Participantes!J17) | I26: =IF(Participantes!C17="","",Participantes!L17) | J26: =IFERROR(MATCH(12,Listas!$M$2:$M$61,0),"")
B27: =IF($J27="","",INDEX(Participantes!$C$6:$C$35,SUMPRODUCT(--(Listas!$H$2:$H$31<INDEX(Listas!$K$2:$K$61,$J27)))+1)) | C27: =IF($J27="","",INDEX(Participantes!$C$6:$C$35,SUMPRODUCT(--(Listas!$H$32:$H$61<INDEX(Listas!$K$2:$K$61,$J27)))+1)) | D27: =IF($J27="","",INDEX(Listas!$J$2:$J$61,$J27)) | F27: =IF(Participantes!C18="","",Participantes!C18) | G27: =IF(Participantes!C18="","",N(Participantes!E18)+Participantes!I18) | H27: =IF(Participantes!C18="","",Participantes!J18) | I27: =IF(Participantes!C18="","",Participantes!L18) | J27: =IFERROR(MATCH(13,Listas!$M$2:$M$61,0),"")
B28: =IF($J28="","",INDEX(Participantes!$C$6:$C$35,SUMPRODUCT(--(Listas!$H$2:$H$31<INDEX(Listas!$K$2:$K$61,$J28)))+1)) | C28: =IF($J28="","",INDEX(Participantes!$C$6:$C$35,SUMPRODUCT(--(Listas!$H$32:$H$61<INDEX(Listas!$K$2:$K$61,$J28)))+1)) | D28: =IF($J28="","",INDEX(Listas!$J$2:$J$61,$J28)) | F28: =IF(Participantes!C19="","",Participantes!C19) | G28: =IF(Participantes!C19="","",N(Participantes!E19)+Participantes!I19) | H28: =IF(Participantes!C19="","",Participantes!J19) | I28: =IF(Participantes!C19="","",Participantes!L19) | J28: =IFERROR(MATCH(14,Listas!$M$2:$M$61,0),"")
B29: =IF($J29="","",INDEX(Participantes!$C$6:$C$35,SUMPRODUCT(--(Listas!$H$2:$H$31<INDEX(Listas!$K$2:$K$61,$J29)))+1)) | C29: =IF($J29="","",INDEX(Participantes!$C$6:$C$35,SUMPRODUCT(--(Listas!$H$32:$H$61<INDEX(Listas!$K$2:$K$61,$J29)))+1)) | D29: =IF($J29="","",INDEX(Listas!$J$2:$J$61,$J29)) | F29: =IF(Participantes!C20="","",Participantes!C20) | G29: =IF(Participantes!C20="","",N(Participantes!E20)+Participantes!I20) | H29: =IF(Participantes!C20="","",Participantes!J20) | I29: =IF(Participantes!C20="","",Participantes!L20) | J29: =IFERROR(MATCH(15,Listas!$M$2:$M$61,0),"")
B30: Total a transferir | D30: =SUM(D15:D29) | F30: =IF(I6=0,"Nadie debe nada: ¡cuentas saldadas!",IF(I6>15,"Se muestran 15 de "&I6&" transferencias; el resto, en Participantes.","Se muestran las "&I6&" transferencias necesarias para saldar."))

Sheet Participantes
B2: Participantes, aportaciones y saldos
B3: Una fila por persona (o pareja/familia con «Personas» > 1). El saldo neto dice quién debe pagar y quién debe cobrar.
B5: Nº | C5: Nombre | D5: Personas que representa | E5: Aportación al bote (€) | F5: Voto destino (1ª opción) | G5: Voto destino (2ª opción) | H5: Habitación | I5: Adelantado en gastos (€) | J5: Parte de los gastos (€) | K5: Balance (€) | L5: Saldo neto (€) | M5: Situación | N5: Debe pagar (€) | O5: Debe cobrar (€) | P5: Nota | Q5: Clave hab. (aux.)
B6: =IF(C6="","",ROW()-5) | C6: Marta | D6: 1 | E6: 60 | F6: Lisboa | G6: Oporto | H6: Hab. 1 | I6: =IF(C6="","",SUMIF(Gastos!$F$8:$F$47,C6,Gastos!$C$8:$C$47)) | J6: =IF(C6="","",D6*(SUM(Gastos!$I$8:$I$47)-SUMIF(Gastos!$G$8:$G$47,C6,Gastos!$I$8:$I$47))) | K6: =IF(C6="","",ROUND(N(E6)+I6-J6,2)) | L6: =IF(C6="","",IF(AND(Viaje!$C$7<>"",C6=Viaje!$C$7),-(SUM(K$6:K$35)-K6),K6)) | M6: =IF(C6="","",IF(L6>0.004,"Le deben",IF(L6<-0.004,"Debe pagar","En paz"))) | N6: =IF(C6="",0,MAX(0,-L6)) | O6: =IF(C6="",0,MAX(0,L6)) | P6: Tesorera | Q6: =IF(OR(C6="",H6=""),"",H6&"|"&COUNTIF($H$6:H6,H6))
B7: =IF(C7="","",ROW()-5) | C7: Pablo | D7: 1 | E7: 60 | F7: Granada | G7: Valencia | H7: Hab. 2 | I7: =IF(C7="","",SUMIF(Gastos!$F$8:$F$47,C7,Gastos!$C$8:$C$47)) | J7: =IF(C7="","",D7*(SUM(Gastos!$I$8:$I$47)-SUMIF(Gastos!$G$8:$G$47,C7,Gastos!$I$8:$I$47))) | K7: =IF(C7="","",ROUND(N(E7)+I7-J7,2)) | L7: =IF(C7="","",IF(AND(Viaje!$C$7<>"",C7=Viaje!$C$7),-(SUM(K$6:K$35)-K7),K7)) | M7: =IF(C7="","",IF(L7>0.004,"Le deben",IF(L7<-0.004,"Debe pagar","En paz"))) | N7: =IF(C7="",0,MAX(0,-L7)) | O7: =IF(C7="",0,MAX(0,L7)) | P7: Conduce el coche de alquiler | Q7: =IF(OR(C7="",H7=""),"",H7&"|"&COUNTIF($H$6:H7,H7))
B8: =IF(C8="","",ROW()-5) | C8: Lucía | D8: 1 | E8: 60 | F8: Lisboa | G8: Granada | H8: Hab. 1 | I8: =IF(C8="","",SUMIF(Gastos!$F$8:$F$47,C8,Gastos!$C$8:$C$47)) | J8: =IF(C8="","",D8*(SUM(Gastos!$I$8:$I$47)-SUMIF(Gastos!$G$8:$G$47,C8,Gastos!$I$8:$I$47))) | K8: =IF(C8="","",ROUND(N(E8)+I8-J8,2)) | L8: =IF(C8="","",IF(AND(Viaje!$C$7<>"",C8=Viaje!$C$7),-(SUM(K$6:K$35)-K8),K8)) | M8: =IF(C8="","",IF(L8>0.004,"Le deben",IF(L8<-0.004,"Debe pagar","En paz"))) | N8: =IF(C8="",0,MAX(0,-L8)) | O8: =IF(C8="",0,MAX(0,L8)) | Q8: =IF(OR(C8="",H8=""),"",H8&"|"&COUNTIF($H$6:H8,H8))
B9: =IF(C9="","",ROW()-5) | C9: Hugo | D9: 1 | E9: 60 | F9: Lisboa | G9: San Sebastián | H9: Hab. 2 | I9: =IF(C9="","",SUMIF(Gastos!$F$8:$F$47,C9,Gastos!$C$8:$C$47)) | J9: =IF(C9="","",D9*(SUM(Gastos!$I$8:$I$47)-SUMIF(Gastos!$G$8:$G$47,C9,Gastos!$I$8:$I$47))) | K9: =IF(C9="","",ROUND(N(E9)+I9-J9,2)) | L9: =IF(C9="","",IF(AND(Viaje!$C$7<>"",C9=Viaje!$C$7),-(SUM(K$6:K$35)-K9),K9)) | M9: =IF(C9="","",IF(L9>0.004,"Le deben",IF(L9<-0.004,"Debe pagar","En paz"))) | N9: =IF(C9="",0,MAX(0,-L9)) | O9: =IF(C9="",0,MAX(0,L9)) | Q9: =IF(OR(C9="",H9=""),"",H9&"|"&COUNTIF($H$6:H9,H9))
B10: =IF(C10="","",ROW()-5) | C10: Irene | D10: 1 | E10: 60 | F10: San Sebastián | G10: Lisboa | H10: Hab. 4 | I10: =IF(C10="","",SUMIF(Gastos!$F$8:$F$47,C10,Gastos!$C$8:$C$47)) | J10: =IF(C10="","",D10*(SUM(Gastos!$I$8:$I$47)-SUMIF(Gastos!$G$8:$G$47,C10,Gastos!$I$8:$I$47))) | K10: =IF(C10="","",ROUND(N(E10)+I10-J10,2)) | L10: =IF(C10="","",IF(AND(Viaje!$C$7<>"",C10=Viaje!$C$7),-(SUM(K$6:K$35)-K10),K10)) | M10: =IF(C10="","",IF(L10>0.004,"Le deben",IF(L10<-0.004,"Debe pagar","En paz"))) | N10: =IF(C10="",0,MAX(0,-L10)) | O10: =IF(C10="",0,MAX(0,L10)) | Q10: =IF(OR(C10="",H10=""),"",H10&"|"&COUNTIF($H$6:H10,H10))
B11: =IF(C11="","",ROW()-5) | C11: Sergio | D11: 1 | E11: 60 | F11: Lisboa | G11: Valencia | H11: Hab. 6 | I11: =IF(C11="","",SUMIF(Gastos!$F$8:$F$47,C11,Gastos!$C$8:$C$47)) | J11: =IF(C11="","",D11*(SUM(Gastos!$I$8:$I$47)-SUMIF(Gastos!$G$8:$G$47,C11,Gastos!$I$8:$I$47))) | K11: =IF(C11="","",ROUND(N(E11)+I11-J11,2)) | L11: =IF(C11="","",IF(AND(Viaje!$C$7<>"",C11=Viaje!$C$7),-(SUM(K$6:K$35)-K11),K11)) | M11: =IF(C11="","",IF(L11>0.004,"Le deben",IF(L11<-0.004,"Debe pagar","En paz"))) | N11: =IF(C11="",0,MAX(0,-L11)) | O11: =IF(C11="",0,MAX(0,L11)) | Q11: =IF(OR(C11="",H11=""),"",H11&"|"&COUNTIF($H$6:H11,H11))
B12: =IF(C12="","",ROW()-5) | C12: Nuria | D12: 1 | E12: 60 | F12: Granada | G12: Lisboa | H12: Hab. 4 | I12: =IF(C12="","",SUMIF(Gastos!$F$8:$F$47,C12,Gastos!$C$8:$C$47)) | J12: =IF(C12="","",D12*(SUM(Gastos!$I$8:$I$47)-SUMIF(Gastos!$G$8:$G$47,C12,Gastos!$I$8:$I$47))) | K12: =IF(C12="","",ROUND(N(E12)+I12-J12,2)) | L12: =IF(C12="","",IF(AND(Viaje!$C$7<>"",C12=Viaje!$C$7),-(SUM(K$6:K$35)-K12),K12)) | M12: =IF(C12="","",IF(L12>0.004,"Le deben",IF(L12<-0.004,"Debe pagar","En paz"))) | N12: =IF(C12="",0,MAX(0,-L12)) | O12: =IF(C12="",0,MAX(0,L12)) | Q12: =IF(OR(C12="",H12=""),"",H12&"|"&COUNTIF($H$6:H12,H12))
B13: =IF(C13="","",ROW()-5) | C13: Álvaro y Carla | D13: 2 | E13: 120 | F13: Mallorca | G13: Lisboa | H13: Hab. 3 | I13: =IF(C13="","",SUMIF(Gastos!$F$8:$F$47,C13,Gastos!$C$8:$C$47)) | J13: =IF(C13="","",D13*(SUM(Gastos!$I$8:$I$47)-SUMIF(Gastos!$G$8:$G$47,C13,Gastos!$I$8:$I$47))) | K13: =IF(C13="","",ROUND(N(E13)+I13-J13,2)) | L13: =IF(C13="","",IF(AND(Viaje!$C$7<>"",C13=Viaje!$C$7),-(SUM(K$6:K$35)-K13),K13)) | M13: =IF(C13="","",IF(L13>0.004,"Le deben",IF(L13<-0.004,"Debe pagar","En paz"))) | N13: =IF(C13="",0,MAX(0,-L13)) | O13: =IF(C13="",0,MAX(0,L13)) | P13: Pareja: cuentan como 2 personas | Q13: =IF(OR(C13="",H13=""),"",H13&"|"&COUNTIF($H$6:H13,H13))
B14: =IF(C14="","",ROW()-5) | C14: Elena | D14: 1 | E14: 60 | F14: Lisboa | G14: Oporto | H14: Hab. 4 | I14: =IF(C14="","",SUMIF(Gastos!$F$8:$F$47,C14,Gastos!$C$8:$C$47)) | J14: =IF(C14="","",D14*(SUM(Gastos!$I$8:$I$47)-SUMIF(Gastos!$G$8:$G$47,C14,Gastos!$I$8:$I$47))) | K14: =IF(C14="","",ROUND(N(E14)+I14-J14,2)) | L14: =IF(C14="","",IF(AND(Viaje!$C$7<>"",C14=Viaje!$C$7),-(SUM(K$6:K$35)-K14),K14)) | M14: =IF(C14="","",IF(L14>0.004,"Le deben",IF(L14<-0.004,"Debe pagar","En paz"))) | N14: =IF(C14="",0,MAX(0,-L14)) | O14: =IF(C14="",0,MAX(0,L14)) | Q14: =IF(OR(C14="",H14=""),"",H14&"|"&COUNTIF($H$6:H14,H14))
B15: =IF(C15="","",ROW()-5) | C15: Jorge | D15: 1 | E15: 60 | F15: Valencia | G15: Granada | H15: Hab. 5 | I15: =IF(C15="","",SUMIF(Gastos!$F$8:$F$47,C15,Gastos!$C$8:$C$47)) | J15: =IF(C15="","",D15*(SUM(Gastos!$I$8:$I$47)-SUMIF(Gastos!$G$8:$G$47,C15,Gastos!$I$8:$I$47))) | K15: =IF(C15="","",ROUND(N(E15)+I15-J15,2)) | L15: =IF(C15="","",IF(AND(Viaje!$C$7<>"",C15=Viaje!$C$7),-(SUM(K$6:K$35)-K15),K15)) | M15: =IF(C15="","",IF(L15>0.004,"Le deben",IF(L15<-0.004,"Debe pagar","En paz"))) | N15: =IF(C15="",0,MAX(0,-L15)) | O15: =IF(C15="",0,MAX(0,L15)) | P15: Prefiere habitación individual | Q15: =IF(OR(C15="",H15=""),"",H15&"|"&COUNTIF($H$6:H15,H15))
B16: =IF(C16="","",ROW()-5) | C16: Raúl | D16: 1 | E16: 60 | F16: San Sebastián | G16: Lisboa | H16: Hab. 6 | I16: =IF(C16="","",SUMIF(Gastos!$F$8:$F$47,C16,Gastos!$C$8:$C$47)) | J16: =IF(C16="","",D16*(SUM(Gastos!$I$8:$I$47)-SUMIF(Gastos!$G$8:$G$47,C16,Gastos!$I$8:$I$47))) | K16: =IF(C16="","",ROUND(N(E16)+I16-J16,2)) | L16: =IF(C16="","",IF(AND(Viaje!$C$7<>"",C16=Viaje!$C$7),-(SUM(K$6:K$35)-K16),K16)) | M16: =IF(C16="","",IF(L16>0.004,"Le deben",IF(L16<-0.004,"Debe pagar","En paz"))) | N16: =IF(C16="",0,MAX(0,-L16)) | O16: =IF(C16="",0,MAX(0,L16)) | Q16: =IF(OR(C16="",H16=""),"",H16&"|"&COUNTIF($H$6:H16,H16))
B17: =IF(C17="","",ROW()-5) | C17: Paula | D17: 1 | E17: 60 | I17: =IF(C17="","",SUMIF(Gastos!$F$8:$F$47,C17,Gastos!$C$8:$C$47)) | J17: =IF(C17="","",D17*(SUM(Gastos!$I$8:$I$47)-SUMIF(Gastos!$G$8:$G$47,C17,Gastos!$I$8:$I$47))) | K17: =IF(C17="","",ROUND(N(E17)+I17-J17,2)) | L17: =IF(C17="","",IF(AND(Viaje!$C$7<>"",C17=Viaje!$C$7),-(SUM(K$6:K$35)-K17),K17)) | M17: =IF(C17="","",IF(L17>0.004,"Le deben",IF(L17<-0.004,"Debe pagar","En paz"))) | N17: =IF(C17="",0,MAX(0,-L17)) | O17: =IF(C17="",0,MAX(0,L17)) | P17: Aún no ha votado ni elegido habitación | Q17: =IF(OR(C17="",H17=""),"",H17&"|"&COUNTIF($H$6:H17,H17))
B18: =IF(C18="","",ROW()-5) | D18: 1 | I18: =IF(C18="","",SUMIF(Gastos!$F$8:$F$47,C18,Gastos!$C$8:$C$47)) | J18: =IF(C18="","",D18*(SUM(Gastos!$I$8:$I$47)-SUMIF(Gastos!$G$8:$G$47,C18,Gastos!$I$8:$I$47))) | K18: =IF(C18="","",ROUND(N(E18)+I18-J18,2)) | L18: =IF(C18="","",IF(AND(Viaje!$C$7<>"",C18=Viaje!$C$7),-(SUM(K$6:K$35)-K18),K18)) | M18: =IF(C18="","",IF(L18>0.004,"Le deben",IF(L18<-0.004,"Debe pagar","En paz"))) | N18: =IF(C18="",0,MAX(0,-L18)) | O18: =IF(C18="",0,MAX(0,L18)) | Q18: =IF(OR(C18="",H18=""),"",H18&"|"&COUNTIF($H$6:H18,H18))
B19: =IF(C19="","",ROW()-5) | D19: 1 | I19: =IF(C19="","",SUMIF(Gastos!$F$8:$F$47,C19,Gastos!$C$8:$C$47)) | J19: =IF(C19="","",D19*(SUM(Gastos!$I$8:$I$47)-SUMIF(Gastos!$G$8:$G$47,C19,Gastos!$I$8:$I$47))) | K19: =IF(C19="","",ROUND(N(E19)+I19-J19,2)) | L19: =IF(C19="","",IF(AND(Viaje!$C$7<>"",C19=Viaje!$C$7),-(SUM(K$6:K$35)-K19),K19)) | M19: =IF(C19="","",IF(L19>0.004,"Le deben",IF(L19<-0.004,"Debe pagar","En paz"))) | N19: =IF(C19="",0,MAX(0,-L19)) | O19: =IF(C19="",0,MAX(0,L19)) | Q19: =IF(OR(C19="",H19=""),"",H19&"|"&COUNTIF($H$6:H19,H19))
B20: =IF(C20="","",ROW()-5) | D20: 1 | I20: =IF(C20="","",SUMIF(Gastos!$F$8:$F$47,C20,Gastos!$C$8:$C$47)) | J20: =IF(C20="","",D20*(SUM(Gastos!$I$8:$I$47)-SUMIF(Gastos!$G$8:$G$47,C20,Gastos!$I$8:$I$47))) | K20: =IF(C20="","",ROUND(N(E20)+I20-J20,2)) | L20: =IF(C20="","",IF(AND(Viaje!$C$7<>"",C20=Viaje!$C$7),-(SUM(K$6:K$35)-K20),K20)) | M20: =IF(C20="","",IF(L20>0.004,"Le deben",IF(L20<-0.004,"Debe pagar","En paz"))) | N20: =IF(C20="",0,MAX(0,-L20)) | O20: =IF(C20="",0,MAX(0,L20)) | Q20: =IF(OR(C20="",H20=""),"",H20&"|"&COUNTIF($H$6:H20,H20))
B21: =IF(C21="","",ROW()-5) | D21: 1 | I21: =IF(C21="","",SUMIF(Gastos!$F$8:$F$47,C21,Gastos!$C$8:$C$47)) | J21: =IF(C21="","",D21*(SUM(Gastos!$I$8:$I$47)-SUMIF(Gastos!$G$8:$G$47,C21,Gastos!$I$8:$I$47))) | K21: =IF(C21="","",ROUND(N(E21)+I21-J21,2)) | L21: =IF(C21="","",IF(AND(Viaje!$C$7<>"",C21=Viaje!$C$7),-(SUM(K$6:K$35)-K21),K21)) | M21: =IF(C21="","",IF(L21>0.004,"Le deben",IF(L21<-0.004,"Debe pagar","En paz"))) | N21: =IF(C21="",0,MAX(0,-L21)) | O21: =IF(C21="",0,MAX(0,L21)) | Q21: =IF(OR(C21="",H21=""),"",H21&"|"&COUNTIF($H$6:H21,H21))
B22: =IF(C22="","",ROW()-5) | D22: 1 | I22: =IF(C22="","",SUMIF(Gastos!$F$8:$F$47,C22,Gastos!$C$8:$C$47)) | J22: =IF(C22="","",D22*(SUM(Gastos!$I$8:$I$47)-SUMIF(Gastos!$G$8:$G$47,C22,Gastos!$I$8:$I$47))) | K22: =IF(C22="","",ROUND(N(E22)+I22-J22,2)) | L22: =IF(C22="","",IF(AND(Viaje!$C$7<>"",C22=Viaje!$C$7),-(SUM(K$6:K$35)-K22),K22)) | M22: =IF(C22="","",IF(L22>0.004,"Le deben",IF(L22<-0.004,"Debe pagar","En paz"))) | N22: =IF(C22="",0,MAX(0,-L22)) | O22: =IF(C22="",0,MAX(0,L22)) | Q22: =IF(OR(C22="",H22=""),"",H22&"|"&COUNTIF($H$6:H22,H22))
B23: =IF(C23="","",ROW()-5) | D23: 1 | I23: =IF(C23="","",SUMIF(Gastos!$F$8:$F$47,C23,Gastos!$C$8:$C$47)) | J23: =IF(C23="","",D23*(SUM(Gastos!$I$8:$I$47)-SUMIF(Gastos!$G$8:$G$47,C23,Gastos!$I$8:$I$47))) | K23: =IF(C23="","",ROUND(N(E23)+I23-J23,2)) | L23: =IF(C23="","",IF(AND(Viaje!$C$7<>"",C23=Viaje!$C$7),-(SUM(K$6:K$35)-K23),K23)) | M23: =IF(C23="","",IF(L23>0.004,"Le deben",IF(L23<-0.004,"Debe pagar","En paz"))) | N23: =IF(C23="",0,MAX(0,-L23)) | O23: =IF(C23="",0,MAX(0,L23)) | Q23: =IF(OR(C23="",H23=""),"",H23&"|"&COUNTIF($H$6:H23,H23))
B24: =IF(C24="","",ROW()-5) | D24: 1 | I24: =IF(C24="","",SUMIF(Gastos!$F$8:$F$47,C24,Gastos!$C$8:$C$47)) | J24: =IF(C24="","",D24*(SUM(Gastos!$I$8:$I$47)-SUMIF(Gastos!$G$8:$G$47,C24,Gastos!$I$8:$I$47))) | K24: =IF(C24="","",ROUND(N(E24)+I24-J24,2)) | L24: =IF(C24="","",IF(AND(Viaje!$C$7<>"",C24=Viaje!$C$7),-(SUM(K$6:K$35)-K24),K24)) | M24: =IF(C24="","",IF(L24>0.004,"Le deben",IF(L24<-0.004,"Debe pagar","En paz"))) | N24: =IF(C24="",0,MAX(0,-L24)) | O24: =IF(C24="",0,MAX(0,L24)) | Q24: =IF(OR(C24="",H24=""),"",H24&"|"&COUNTIF($H$6:H24,H24))
B25: =IF(C25="","",ROW()-5) | D25: 1 | I25: =IF(C25="","",SUMIF(Gastos!$F$8:$F$47,C25,Gastos!$C$8:$C$47)) | J25: =IF(C25="","",D25*(SUM(Gastos!$I$8:$I$47)-SUMIF(Gastos!$G$8:$G$47,C25,Gastos!$I$8:$I$47))) | K25: =IF(C25="","",ROUND(N(E25)+I25-J25,2)) | L25: =IF(C25="","",IF(AND(Viaje!$C$7<>"",C25=Viaje!$C$7),-(SUM(K$6:K$35)-K25),K25)) | M25: =IF(C25="","",IF(L25>0.004,"Le deben",IF(L25<-0.004,"Debe pagar","En paz"))) | N25: =IF(C25="",0,MAX(0,-L25)) | O25: =IF(C25="",0,MAX(0,L25)) | Q25: =IF(OR(C25="",H25=""),"",H25&"|"&COUNTIF($H$6:H25,H25))
B26: =IF(C26="","",ROW()-5) | D26: 1 | I26: =IF(C26="","",SUMIF(Gastos!$F$8:$F$47,C26,Gastos!$C$8:$C$47)) | J26: =IF(C26="","",D26*(SUM(Gastos!$I$8:$I$47)-SUMIF(Gastos!$G$8:$G$47,C26,Gastos!$I$8:$I$47))) | K26: =IF(C26="","",ROUND(N(E26)+I26-J26,2)) | L26: =IF(C26="","",IF(AND(Viaje!$C$7<>"",C26=Viaje!$C$7),-(SUM(K$6:K$35)-K26),K26)) | M26: =IF(C26="","",IF(L26>0.004,"Le deben",IF(L26<-0.004,"Debe pagar","En paz"))) | N26: =IF(C26="",0,MAX(0,-L26)) | O26: =IF(C26="",0,MAX(0,L26)) | Q26: =IF(OR(C26="",H26=""),"",H26&"|"&COUNTIF($H$6:H26,H26))
B27: =IF(C27="","",ROW()-5) | D27: 1 | I27: =IF(C27="","",SUMIF(Gastos!$F$8:$F$47,C27,Gastos!$C$8:$C$47)) | J27: =IF(C27="","",D27*(SUM(Gastos!$I$8:$I$47)-SUMIF(Gastos!$G$8:$G$47,C27,Gastos!$I$8:$I$47))) | K27: =IF(C27="","",ROUND(N(E27)+I27-J27,2)) | L27: =IF(C27="","",IF(AND(Viaje!$C$7<>"",C27=Viaje!$C$7),-(SUM(K$6:K$35)-K27),K27)) | M27: =IF(C27="","",IF(L27>0.004,"Le deben",IF(L27<-0.004,"Debe pagar","En paz"))) | N27: =IF(C27="",0,MAX(0,-L27)) | O27: =IF(C27="",0,MAX(0,L27)) | Q27: =IF(OR(C27="",H27=""),"",H27&"|"&COUNTIF($H$6:H27,H27))
B28: =IF(C28="","",ROW()-5) | D28: 1 | I28: =IF(C28="","",SUMIF(Gastos!$F$8:$F$47,C28,Gastos!$C$8:$C$47)) | J28: =IF(C28="","",D28*(SUM(Gastos!$I$8:$I$47)-SUMIF(Gastos!$G$8:$G$47,C28,Gastos!$I$8:$I$47))) | K28: =IF(C28="","",ROUND(N(E28)+I28-J28,2)) | L28: =IF(C28="","",IF(AND(Viaje!$C$7<>"",C28=Viaje!$C$7),-(SUM(K$6:K$35)-K28),K28)) | M28: =IF(C28="","",IF(L28>0.004,"Le deben",IF(L28<-0.004,"Debe pagar","En paz"))) | N28: =IF(C28="",0,MAX(0,-L28)) | O28: =IF(C28="",0,MAX(0,L28)) | Q28: =IF(OR(C28="",H28=""),"",H28&"|"&COUNTIF($H$6:H28,H28))
B29: =IF(C29="","",ROW()-5) | D29: 1 | I29: =IF(C29="","",SUMIF(Gastos!$F$8:$F$47,C29,Gastos!$C$8:$C$47)) | J29: =IF(C29="","",D29*(SUM(Gastos!$I$8:$I$47)-SUMIF(Gastos!$G$8:$G$47,C29,Gastos!$I$8:$I$47))) | K29: =IF(C29="","",ROUND(N(E29)+I29-J29,2)) | L29: =IF(C29="","",IF(AND(Viaje!$C$7<>"",C29=Viaje!$C$7),-(SUM(K$6:K$35)-K29),K29)) | M29: =IF(C29="","",IF(L29>0.004,"Le deben",IF(L29<-0.004,"Debe pagar","En paz"))) | N29: =IF(C29="",0,MAX(0,-L29)) | O29: =IF(C29="",0,MAX(0,L29)) | Q29: =IF(OR(C29="",H29=""),"",H29&"|"&COUNTIF($H$6:H29,H29))
... B35: =IF(C35="","",ROW()-5) | D35: 1 | I35: =IF(C35="","",SUMIF(Gastos!$F$8:$F$47,C35,Gastos!$C$8:$C$47)) | J35: =IF(C35="","",D35*(SUM(Gastos!$I$8:$I$47)-SUMIF(Gastos!$G$8:$G$47,C35,Gastos!$I$8:$I$47))) | K35: =IF(C35="","",ROUND(N(E35)+I35-J35,2)) | L35: =IF(C35="","",IF(AND(Viaje!$C$7<>"",C35=Viaje!$C$7),-(SUM(K$6:K$35)-K35),K35)) | M35: =IF(C35="","",IF(L35>0.004,"Le deben",IF(L35<-0.004,"Debe pagar","En paz"))) | N35: =IF(C35="",0,MAX(0,-L35)) | O35: =IF(C35="",0,MAX(0,L35)) | Q35: =IF(OR(C35="",H35=""),"",H35&"|"&COUNTIF($H$6:H35,H35))
C36: Totales | D36: =SUMPRODUCT((C6:C35<>"")*D6:D35) | E36: =SUM(E6:E35) | I36: =SUM(I6:I35) | J36: =SUM(J6:J35) | L36: =SUM(L6:L35) | N36: =SUM(N6:N35) | O36: =SUM(O6:O35)

Sheet Gastos
B2: Gastos del viaje
B3: Apunta cada gasto: quién lo pagó (o «Bote común») y, si alguien no participó, a quién excluir del reparto.
B5: Total gastado: | C5: =SUM(C8:C47) | D5: Pagado con el bote: | E5: =SUMIF(F8:F47,"Bote común",C8:C47)
L6: POR CATEGORÍA
B7: Concepto | C7: Importe (€) | D7: Categoría | E7: Fecha | F7: Pagado por | G7: Excluye a (opcional) | H7: Reparto entre (personas) | I7: Coste por persona (€) | J7: Nota | L7: Categoría | M7: Importe | N7: % del gasto
B8: Señal del alojamiento (reserva) | C8: 640 | D8: Alojamiento | E8: 46307 | F8: Bote común | H8: =IF(C8="","",Participantes!$D$36-IF(G8="",0,IFERROR(INDEX(Participantes!$D$6:$D$35,MATCH(G8,Participantes!$C$6:$C$35,0)),0))) | I8: =IF(OR(C8="",N(H8)<=0),"",C8/H8) | J8: Pagada desde el bote | L8: =Listas!A2 | M8: =SUMIF($D$8:$D$47,L8,$C$8:$C$47) | N8: =IF($M$14=0,0,M8/$M$14)
B9: Alquiler del coche (4 días) | C9: 210 | D9: Transporte | E9: 46346 | F9: Pablo | H9: =IF(C9="","",Participantes!$D$36-IF(G9="",0,IFERROR(INDEX(Participantes!$D$6:$D$35,MATCH(G9,Participantes!$C$6:$C$35,0)),0))) | I9: =IF(OR(C9="",N(H9)<=0),"",C9/H9) | L9: =Listas!A3 | M9: =SUMIF($D$8:$D$47,L9,$C$8:$C$47) | N9: =IF($M$14=0,0,M9/$M$14)
B10: Gasolina | C10: 68.4 | D10: Transporte | E10: 46360 | F10: Pablo | H10: =IF(C10="","",Participantes!$D$36-IF(G10="",0,IFERROR(INDEX(Participantes!$D$6:$D$35,MATCH(G10,Participantes!$C$6:$C$35,0)),0))) | I10: =IF(OR(C10="",N(H10)<=0),"",C10/H10) | L10: =Listas!A4 | M10: =SUMIF($D$8:$D$47,L10,$C$8:$C$47) | N10: =IF($M$14=0,0,M10/$M$14)
B11: Peajes | C11: 23.8 | D11: Transporte | E11: 46360 | F11: Pablo | H11: =IF(C11="","",Participantes!$D$36-IF(G11="",0,IFERROR(INDEX(Participantes!$D$6:$D$35,MATCH(G11,Participantes!$C$6:$C$35,0)),0))) | I11: =IF(OR(C11="",N(H11)<=0),"",C11/H11) | L11: =Listas!A5 | M11: =SUMIF($D$8:$D$47,L11,$C$8:$C$47) | N11: =IF($M$14=0,0,M11/$M$14)
B12: Compra del supermercado (primer día) | C12: 96.3 | D12: Compras comunes | E12: 46360 | F12: Irene | H12: =IF(C12="","",Participantes!$D$36-IF(G12="",0,IFERROR(INDEX(Participantes!$D$6:$D$35,MATCH(G12,Participantes!$C$6:$C$35,0)),0))) | I12: =IF(OR(C12="",N(H12)<=0),"",C12/H12) | L12: =Listas!A6 | M12: =SUMIF($D$8:$D$47,L12,$C$8:$C$47) | N12: =IF($M$14=0,0,M12/$M$14)
B13: Comida del sábado | C13: 78.9 | D13: Comida y bebida | E13: 46361 | F13: Marta | H13: =IF(C13="","",Participantes!$D$36-IF(G13="",0,IFERROR(INDEX(Participantes!$D$6:$D$35,MATCH(G13,Participantes!$C$6:$C$35,0)),0))) | I13: =IF(OR(C13="",N(H13)<=0),"",C13/H13) | L13: =Listas!A7 | M13: =SUMIF($D$8:$D$47,L13,$C$8:$C$47) | N13: =IF($M$14=0,0,M13/$M$14)
B14: Entradas al museo | C14: 54 | D14: Ocio y entradas | E14: 46361 | F14: Sergio | G14: Jorge | H14: =IF(C14="","",Participantes!$D$36-IF(G14="",0,IFERROR(INDEX(Participantes!$D$6:$D$35,MATCH(G14,Participantes!$C$6:$C$35,0)),0))) | I14: =IF(OR(C14="",N(H14)<=0),"",C14/H14) | J14: Jorge no entró | L14: Total | M14: =SUM(M8:M13) | N14: =SUM(N8:N13)
B15: Cena de grupo | C15: 187.5 | D15: Comida y bebida | E15: 46361 | F15: Lucía | H15: =IF(C15="","",Participantes!$D$36-IF(G15="",0,IFERROR(INDEX(Participantes!$D$6:$D$35,MATCH(G15,Participantes!$C$6:$C$35,0)),0))) | I15: =IF(OR(C15="",N(H15)<=0),"",C15/H15)
B16: Excursión en barco | C16: 120 | D16: Ocio y entradas | E16: 46362 | F16: Nuria | G16: Paula | H16: =IF(C16="","",Participantes!$D$36-IF(G16="",0,IFERROR(INDEX(Participantes!$D$6:$D$35,MATCH(G16,Participantes!$C$6:$C$35,0)),0))) | I16: =IF(OR(C16="",N(H16)<=0),"",C16/H16) | J16: Paula se quedó en el alojamiento | L16: Si dejas «Excluye a» vacío, el gasto se reparte entre todos.
B17: Parking | C17: 31 | D17: Transporte | E17: 46362 | F17: Pablo | H17: =IF(C17="","",Participantes!$D$36-IF(G17="",0,IFERROR(INDEX(Participantes!$D$6:$D$35,MATCH(G17,Participantes!$C$6:$C$35,0)),0))) | I17: =IF(OR(C17="",N(H17)<=0),"",C17/H17)
B18: Desayunos | C18: 42.6 | D18: Comida y bebida | E18: 46363 | F18: Elena | H18: =IF(C18="","",Participantes!$D$36-IF(G18="",0,IFERROR(INDEX(Participantes!$D$6:$D$35,MATCH(G18,Participantes!$C$6:$C$35,0)),0))) | I18: =IF(OR(C18="",N(H18)<=0),"",C18/H18)
B19: Billetes de metro y tranvía | C19: 28 | D19: Transporte | E19: 46363 | F19: Bote común | H19: =IF(C19="","",Participantes!$D$36-IF(G19="",0,IFERROR(INDEX(Participantes!$D$6:$D$35,MATCH(G19,Participantes!$C$6:$C$35,0)),0))) | I19: =IF(OR(C19="",N(H19)<=0),"",C19/H19) | J19: Pagados con la tarjeta del bote
B20: Taxi al aeropuerto | C20: 45 | D20: Transporte | E20: 46364 | F20: Jorge | H20: =IF(C20="","",Participantes!$D$36-IF(G20="",0,IFERROR(INDEX(Participantes!$D$6:$D$35,MATCH(G20,Participantes!$C$6:$C$35,0)),0))) | I20: =IF(OR(C20="",N(H20)<=0),"",C20/H20)
H21: =IF(C21="","",Participantes!$D$36-IF(G21="",0,IFERROR(INDEX(Participantes!$D$6:$D$35,MATCH(G21,Participantes!$C$6:$C$35,0)),0))) | I21: =IF(OR(C21="",N(H21)<=0),"",C21/H21)
H22: =IF(C22="","",Participantes!$D$36-IF(G22="",0,IFERROR(INDEX(Participantes!$D$6:$D$35,MATCH(G22,Participantes!$C$6:$C$35,0)),0))) | I22: =IF(OR(C22="",N(H22)<=0),"",C22/H22)
H23: =IF(C23="","",Participantes!$D$36-IF(G23="",0,IFERROR(INDEX(Participantes!$D$6:$D$35,MATCH(G23,Participantes!$C$6:$C$35,0)),0))) | I23: =IF(OR(C23="",N(H23)<=0),"",C23/H23)
H24: =IF(C24="","",Participantes!$D$36-IF(G24="",0,IFERROR(INDEX(Participantes!$D$6:$D$35,MATCH(G24,Participantes!$C$6:$C$35,0)),0))) | I24: =IF(OR(C24="",N(H24)<=0),"",C24/H24)
H25: =IF(C25="","",Participantes!$D$36-IF(G25="",0,IFERROR(INDEX(Participantes!$D$6:$D$35,MATCH(G25,Participantes!$C$6:$C$35,0)),0))) | I25: =IF(OR(C25="",N(H25)<=0),"",C25/H25)
H26: =IF(C26="","",Participantes!$D$36-IF(G26="",0,IFERROR(INDEX(Participantes!$D$6:$D$35,MATCH(G26,Participantes!$C$6:$C$35,0)),0))) | I26: =IF(OR(C26="",N(H26)<=0),"",C26/H26)
H27: =IF(C27="","",Participantes!$D$36-IF(G27="",0,IFERROR(INDEX(Participantes!$D$6:$D$35,MATCH(G27,Participantes!$C$6:$C$35,0)),0))) | I27: =IF(OR(C27="",N(H27)<=0),"",C27/H27)
H28: =IF(C28="","",Participantes!$D$36-IF(G28="",0,IFERROR(INDEX(Participantes!$D$6:$D$35,MATCH(G28,Participantes!$C$6:$C$35,0)),0))) | I28: =IF(OR(C28="",N(H28)<=0),"",C28/H28)
H29: =IF(C29="","",Participantes!$D$36-IF(G29="",0,IFERROR(INDEX(Participantes!$D$6:$D$35,MATCH(G29,Participantes!$C$6:$C$35,0)),0))) | I29: =IF(OR(C29="",N(H29)<=0),"",C29/H29)
H30: =IF(C30="","",Participantes!$D$36-IF(G30="",0,IFERROR(INDEX(Participantes!$D$6:$D$35,MATCH(G30,Participantes!$C$6:$C$35,0)),0))) | I30: =IF(OR(C30="",N(H30)<=0),"",C30/H30)
H31: =IF(C31="","",Participantes!$D$36-IF(G31="",0,IFERROR(INDEX(Participantes!$D$6:$D$35,MATCH(G31,Participantes!$C$6:$C$35,0)),0))) | I31: =IF(OR(C31="",N(H31)<=0),"",C31/H31)
H32: =IF(C32="","",Participantes!$D$36-IF(G32="",0,IFERROR(INDEX(Participantes!$D$6:$D$35,MATCH(G32,Participantes!$C$6:$C$35,0)),0))) | I32: =IF(OR(C32="",N(H32)<=0),"",C32/H32)
... H47: =IF(C47="","",Participantes!$D$36-IF(G47="",0,IFERROR(INDEX(Participantes!$D$6:$D$35,MATCH(G47,Participantes!$C$6:$C$35,0)),0))) | I47: =IF(OR(C47="",N(H47)<=0),"",C47/H47)

Sheet Viaje
B2: Datos del viaje, votación de destinos y habitaciones
B3: Define las fechas y quién guarda el bote, deja votar al grupo y reparte las habitaciones.
B5: DATOS DEL VIAJE
B6: Nombre del viaje | C6: Escapada de amigos · puente de diciembre
B7: Tesorero/a del bote | C7: Marta | D7: Quien guarda el dinero común. Elige un nombre de «Participantes».
B8: Fecha de salida | C8: 46360
B9: Fecha de regreso | C9: 46364
B10: Noches | C10: =IF(OR(C8="",C9=""),0,MAX(0,C9-C8)) | D10: Calculadas con las dos fechas anteriores.
B11: Puntos por voto de 1ª opción | C11: 3 | D11: Cada persona vota un destino como 1ª opción y otro como 2ª.
B12: Puntos por voto de 2ª opción | C12: 1 | D12: Edítalos si quieres dar más o menos peso a la segunda elección.
B14: VOTACIÓN DE DESTINOS
B15: Destino | C15: Votos 1ª opción | D15: Votos 2ª opción | E15: Puntos | F15: Posición | G15: Coste estimado por persona (€) | H15: Nota
B16: Lisboa | C16: =IF(B16="","",COUNTIF(Participantes!$F$6:$F$35,B16)) | D16: =IF(B16="","",COUNTIF(Participantes!$G$6:$G$35,B16)) | E16: =IF(B16="","",C16*$C$11+D16*$C$12) | F16: =IF(B16="","",RANK(E16,$E$16:$E$25)) | G16: 285 | H16: Vuelo directo desde Madrid
B17: Granada | C17: =IF(B17="","",COUNTIF(Participantes!$F$6:$F$35,B17)) | D17: =IF(B17="","",COUNTIF(Participantes!$G$6:$G$35,B17)) | E17: =IF(B17="","",C17*$C$11+D17*$C$12) | F17: =IF(B17="","",RANK(E17,$E$16:$E$25)) | G17: 190 | H17: Tren + coche
B18: San Sebastián | C18: =IF(B18="","",COUNTIF(Participantes!$F$6:$F$35,B18)) | D18: =IF(B18="","",COUNTIF(Participantes!$G$6:$G$35,B18)) | E18: =IF(B18="","",C18*$C$11+D18*$C$12) | F18: =IF(B18="","",RANK(E18,$E$16:$E$25)) | G18: 240 | H18: Gastronomía
B19: Mallorca | C19: =IF(B19="","",COUNTIF(Participantes!$F$6:$F$35,B19)) | D19: =IF(B19="","",COUNTIF(Participantes!$G$6:$G$35,B19)) | E19: =IF(B19="","",C19*$C$11+D19*$C$12) | F19: =IF(B19="","",RANK(E19,$E$16:$E$25)) | G19: 330 | H19: Cara en temporada alta
B20: Valencia | C20: =IF(B20="","",COUNTIF(Participantes!$F$6:$F$35,B20)) | D20: =IF(B20="","",COUNTIF(Participantes!$G$6:$G$35,B20)) | E20: =IF(B20="","",C20*$C$11+D20*$C$12) | F20: =IF(B20="","",RANK(E20,$E$16:$E$25)) | G20: 175 | H20: AVE directo
B21: Oporto | C21: =IF(B21="","",COUNTIF(Participantes!$F$6:$F$35,B21)) | D21: =IF(B21="","",COUNTIF(Participantes!$G$6:$G$35,B21)) | E21: =IF(B21="","",C21*$C$11+D21*$C$12) | F21: =IF(B21="","",RANK(E21,$E$16:$E$25)) | G21: 260
C22: =IF(B22="","",COUNTIF(Participantes!$F$6:$F$35,B22)) | D22: =IF(B22="","",COUNTIF(Participantes!$G$6:$G$35,B22)) | E22: =IF(B22="","",C22*$C$11+D22*$C$12) | F22: =IF(B22="","",RANK(E22,$E$16:$E$25))
C23: =IF(B23="","",COUNTIF(Participantes!$F$6:$F$35,B23)) | D23: =IF(B23="","",COUNTIF(Participantes!$G$6:$G$35,B23)) | E23: =IF(B23="","",C23*$C$11+D23*$C$12) | F23: =IF(B23="","",RANK(E23,$E$16:$E$25))
C24: =IF(B24="","",COUNTIF(Participantes!$F$6:$F$35,B24)) | D24: =IF(B24="","",COUNTIF(Participantes!$G$6:$G$35,B24)) | E24: =IF(B24="","",C24*$C$11+D24*$C$12) | F24: =IF(B24="","",RANK(E24,$E$16:$E$25))
C25: =IF(B25="","",COUNTIF(Participantes!$F$6:$F$35,B25)) | D25: =IF(B25="","",COUNTIF(Participantes!$G$6:$G$35,B25)) | E25: =IF(B25="","",C25*$C$11+D25*$C$12) | F25: =IF(B25="","",RANK(E25,$E$16:$E$25))
B26: Destino ganador | C26: =IF(MAX(E16:E25)=0,"Sin votos",INDEX(B16:B25,MATCH(MAX(E16:E25),E16:E25,0)))
B27: Participantes que han votado | C27: =SUMPRODUCT(--(Participantes!F6:F35<>"")) | D27: de | E27: =COUNTA(Participantes!C6:C35)
B29: REPARTO DE HABITACIONES (cada persona elige su habitación en «Participantes»)
B30: Habitación | C30: Tipo | D30: Capacidad (personas) | E30: Precio por noche (€) | F30: Ocupantes | G30: Plazas libres | H30: Estado | I30: Coste de la estancia (€) | J30: Ocupante 1 | K30: Ocupante 2 | L30: Ocupante 3 | M30: Ocupante 4
B31: Hab. 1 | C31: Doble | D31: 2 | E31: 95 | F31: =IF(B31="","",SUMIF(Participantes!$H$6:$H$35,B31,Participantes!$D$6:$D$35)) | G31: =IF(B31="","",D31-F31) | H31: =IF(B31="","",IF(F31>D31,"Sobreocupada",IF(F31=D31,"Completa",IF(F31=0,"Vacía","Plazas libres")))) | I31: =IF(OR(B31="",E31=""),"",E31*$C$10) | J31: =IF($B31="","",IFERROR(INDEX(Participantes!$C$6:$C$35,MATCH($B31&"|"&1,Participantes!$Q$6:$Q$35,0)),"")) | K31: =IF($B31="","",IFERROR(INDEX(Participantes!$C$6:$C$35,MATCH($B31&"|"&2,Participantes!$Q$6:$Q$35,0)),"")) | L31: =IF($B31="","",IFERROR(INDEX(Participantes!$C$6:$C$35,MATCH($B31&"|"&3,Participantes!$Q$6:$Q$35,0)),"")) | M31: =IF($B31="","",IFERROR(INDEX(Participantes!$C$6:$C$35,MATCH($B31&"|"&4,Participantes!$Q$6:$Q$35,0)),""))
B32: Hab. 2 | C32: Doble | D32: 2 | E32: 95 | F32: =IF(B32="","",SUMIF(Participantes!$H$6:$H$35,B32,Participantes!$D$6:$D$35)) | G32: =IF(B32="","",D32-F32) | H32: =IF(B32="","",IF(F32>D32,"Sobreocupada",IF(F32=D32,"Completa",IF(F32=0,"Vacía","Plazas libres")))) | I32: =IF(OR(B32="",E32=""),"",E32*$C$10) | J32: =IF($B32="","",IFERROR(INDEX(Participantes!$C$6:$C$35,MATCH($B32&"|"&1,Participantes!$Q$6:$Q$35,0)),"")) | K32: =IF($B32="","",IFERROR(INDEX(Participantes!$C$6:$C$35,MATCH($B32&"|"&2,Participantes!$Q$6:$Q$35,0)),"")) | L32: =IF($B32="","",IFERROR(INDEX(Participantes!$C$6:$C$35,MATCH($B32&"|"&3,Participantes!$Q$6:$Q$35,0)),"")) | M32: =IF($B32="","",IFERROR(INDEX(Participantes!$C$6:$C$35,MATCH($B32&"|"&4,Participantes!$Q$6:$Q$35,0)),""))
B33: Hab. 3 | C33: Doble + cama extra | D33: 3 | E33: 105 | F33: =IF(B33="","",SUMIF(Participantes!$H$6:$H$35,B33,Participantes!$D$6:$D$35)) | G33: =IF(B33="","",D33-F33) | H33: =IF(B33="","",IF(F33>D33,"Sobreocupada",IF(F33=D33,"Completa",IF(F33=0,"Vacía","Plazas libres")))) | I33: =IF(OR(B33="",E33=""),"",E33*$C$10) | J33: =IF($B33="","",IFERROR(INDEX(Participantes!$C$6:$C$35,MATCH($B33&"|"&1,Participantes!$Q$6:$Q$35,0)),"")) | K33: =IF($B33="","",IFERROR(INDEX(Participantes!$C$6:$C$35,MATCH($B33&"|"&2,Participantes!$Q$6:$Q$35,0)),"")) | L33: =IF($B33="","",IFERROR(INDEX(Participantes!$C$6:$C$35,MATCH($B33&"|"&3,Participantes!$Q$6:$Q$35,0)),"")) | M33: =IF($B33="","",IFERROR(INDEX(Participantes!$C$6:$C$35,MATCH($B33&"|"&4,Participantes!$Q$6:$Q$35,0)),""))
B34: Hab. 4 | C34: Triple | D34: 3 | E34: 120 | F34: =IF(B34="","",SUMIF(Participantes!$H$6:$H$35,B34,Participantes!$D$6:$D$35)) | G34: =IF(B34="","",D34-F34) | H34: =IF(B34="","",IF(F34>D34,"Sobreocupada",IF(F34=D34,"Completa",IF(F34=0,"Vacía","Plazas libres")))) | I34: =IF(OR(B34="",E34=""),"",E34*$C$10) | J34: =IF($B34="","",IFERROR(INDEX(Participantes!$C$6:$C$35,MATCH($B34&"|"&1,Participantes!$Q$6:$Q$35,0)),"")) | K34: =IF($B34="","",IFERROR(INDEX(Participantes!$C$6:$C$35,MATCH($B34&"|"&2,Participantes!$Q$6:$Q$35,0)),"")) | L34: =IF($B34="","",IFERROR(INDEX(Participantes!$C$6:$C$35,MATCH($B34&"|"&3,Participantes!$Q$6:$Q$35,0)),"")) | M34: =IF($B34="","",IFERROR(INDEX(Participantes!$C$6:$C$35,MATCH($B34&"|"&4,Participantes!$Q$6:$Q$35,0)),""))
B35: Hab. 5 | C35: Individual | D35: 1 | E35: 70 | F35: =IF(B35="","",SUMIF(Participantes!$H$6:$H$35,B35,Participantes!$D$6:$D$35)) | G35: =IF(B35="","",D35-F35) | H35: =IF(B35="","",IF(F35>D35,"Sobreocupada",IF(F35=D35,"Completa",IF(F35=0,"Vacía","Plazas libres")))) | I35: =IF(OR(B35="",E35=""),"",E35*$C$10) | J35: =IF($B35="","",IFERROR(INDEX(Participantes!$C$6:$C$35,MATCH($B35&"|"&1,Participantes!$Q$6:$Q$35,0)),"")) | K35: =IF($B35="","",IFERROR(INDEX(Participantes!$C$6:$C$35,MATCH($B35&"|"&2,Participantes!$Q$6:$Q$35,0)),"")) | L35: =IF($B35="","",IFERROR(INDEX(Participantes!$C$6:$C$35,MATCH($B35&"|"&3,Participantes!$Q$6:$Q$35,0)),"")) | M35: =IF($B35="","",IFERROR(INDEX(Participantes!$C$6:$C$35,MATCH($B35&"|"&4,Participantes!$Q$6:$Q$35,0)),""))
B36: Hab. 6 | C36: Triple | D36: 3 | E36: 120 | F36: =IF(B36="","",SUMIF(Participantes!$H$6:$H$35,B36,Participantes!$D$6:$D$35)) | G36: =IF(B36="","",D36-F36) | H36: =IF(B36="","",IF(F36>D36,"Sobreocupada",IF(F36=D36,"Completa",IF(F36=0,"Vacía","Plazas libres")))) | I36: =IF(OR(B36="",E36=""),"",E36*$C$10) | J36: =IF($B36="","",IFERROR(INDEX(Participantes!$C$6:$C$35,MATCH($B36&"|"&1,Participantes!$Q$6:$Q$35,0)),"")) | K36: =IF($B36="","",IFERROR(INDEX(Participantes!$C$6:$C$35,MATCH($B36&"|"&2,Participantes!$Q$6:$Q$35,0)),"")) | L36: =IF($B36="","",IFERROR(INDEX(Participantes!$C$6:$C$35,MATCH($B36&"|"&3,Participantes!$Q$6:$Q$35,0)),"")) | M36: =IF($B36="","",IFERROR(INDEX(Participantes!$C$6:$C$35,MATCH($B36&"|"&4,Participantes!$Q$6:$Q$35,0)),""))
F37: =IF(B37="","",SUMIF(Participantes!$H$6:$H$35,B37,Participantes!$D$6:$D$35)) | G37: =IF(B37="","",D37-F37) | H37: =IF(B37="","",IF(F37>D37,"Sobreocupada",IF(F37=D37,"Completa",IF(F37=0,"Vacía","Plazas libres")))) | I37: =IF(OR(B37="",E37=""),"",E37*$C$10) | J37: =IF($B37="","",IFERROR(INDEX(Participantes!$C$6:$C$35,MATCH($B37&"|"&1,Participantes!$Q$6:$Q$35,0)),"")) | K37: =IF($B37="","",IFERROR(INDEX(Participantes!$C$6:$C$35,MATCH($B37&"|"&2,Participantes!$Q$6:$Q$35,0)),"")) | L37: =IF($B37="","",IFERROR(INDEX(Participantes!$C$6:$C$35,MATCH($B37&"|"&3,Participantes!$Q$6:$Q$35,0)),"")) | M37: =IF($B37="","",IFERROR(INDEX(Participantes!$C$6:$C$35,MATCH($B37&"|"&4,Participantes!$Q$6:$Q$35,0)),""))
F38: =IF(B38="","",SUMIF(Participantes!$H$6:$H$35,B38,Participantes!$D$6:$D$35)) | G38: =IF(B38="","",D38-F38) | H38: =IF(B38="","",IF(F38>D38,"Sobreocupada",IF(F38=D38,"Completa",IF(F38=0,"Vacía","Plazas libres")))) | I38: =IF(OR(B38="",E38=""),"",E38*$C$10) | J38: =IF($B38="","",IFERROR(INDEX(Participantes!$C$6:$C$35,MATCH($B38&"|"&1,Participantes!$Q$6:$Q$35,0)),"")) | K38: =IF($B38="","",IFERROR(INDEX(Participantes!$C$6:$C$35,MATCH($B38&"|"&2,Participantes!$Q$6:$Q$35,0)),"")) | L38: =IF($B38="","",IFERROR(INDEX(Participantes!$C$6:$C$35,MATCH($B38&"|"&3,Participantes!$Q$6:$Q$35,0)),"")) | M38: =IF($B38="","",IFERROR(INDEX(Participantes!$C$6:$C$35,MATCH($B38&"|"&4,Participantes!$Q$6:$Q$35,0)),""))
F39: =IF(B39="","",SUMIF(Participantes!$H$6:$H$35,B39,Participantes!$D$6:$D$35)) | G39: =IF(B39="","",D39-F39) | H39: =IF(B39="","",IF(F39>D39,"Sobreocupada",IF(F39=D39,"Completa",IF(F39=0,"Vacía","Plazas libres")))) | I39: =IF(OR(B39="",E39=""),"",E39*$C$10) | J39: =IF($B39="","",IFERROR(INDEX(Participantes!$C$6:$C$35,MATCH($B39&"|"&1,Participantes!$Q$6:$Q$35,0)),"")) | K39: =IF($B39="","",IFERROR(INDEX(Participantes!$C$6:$C$35,MATCH($B39&"|"&2,Participantes!$Q$6:$Q$35,0)),"")) | L39: =IF($B39="","",IFERROR(INDEX(Participantes!$C$6:$C$35,MATCH($B39&"|"&3,Participantes!$Q$6:$Q$35,0)),"")) | M39: =IF($B39="","",IFERROR(INDEX(Participantes!$C$6:$C$35,MATCH($B39&"|"&4,Participantes!$Q$6:$Q$35,0)),""))
F40: =IF(B40="","",SUMIF(Participantes!$H$6:$H$35,B40,Participantes!$D$6:$D$35)) | G40: =IF(B40="","",D40-F40) | H40: =IF(B40="","",IF(F40>D40,"Sobreocupada",IF(F40=D40,"Completa",IF(F40=0,"Vacía","Plazas libres")))) | I40: =IF(OR(B40="",E40=""),"",E40*$C$10) | J40: =IF($B40="","",IFERROR(INDEX(Participantes!$C$6:$C$35,MATCH($B40&"|"&1,Participantes!$Q$6:$Q$35,0)),"")) | K40: =IF($B40="","",IFERROR(INDEX(Participantes!$C$6:$C$35,MATCH($B40&"|"&2,Participantes!$Q$6:$Q$35,0)),"")) | L40: =IF($B40="","",IFERROR(INDEX(Participantes!$C$6:$C$35,MATCH($B40&"|"&3,Participantes!$Q$6:$Q$35,0)),"")) | M40: =IF($B40="","",IFERROR(INDEX(Participantes!$C$6:$C$35,MATCH($B40&"|"&4,Participantes!$Q$6:$Q$35,0)),""))
B41: Totales | D41: =SUM(D31:D40) | F41: =SUM(F31:F40) | G41: =SUM(G31:G40) | I41: =SUM(I31:I40)

Sheet Instrucciones
B2: Organizador de viaje en grupo · Cómo usarlo
B3: Plantilla gratuita de Plantillas de Cálculo · plantillasdecalculo.com
B5: CÓMO USARLA
B6: 1. Empieza por la hoja «Viaje»: escribe el nombre del viaje, las fechas de salida y regreso (C8 y C9) y elige quién será el tesorero o tesorera del bote (C7).
B7: 2. En «Participantes» escribe una fila por persona. Si una fila representa a una pareja o familia, pon 2, 3… en «Personas que representa» (0,5 para un niño que paga media parte).
B8: 3. Anota en «Aportación al bote» lo que cada uno entrega de antemano al tesorero. Si no usáis bote, déjalo vacío: todo se calcula igual a partir de los gastos.
B9: 4. En la hoja «Viaje» lista los destinos candidatos (B16:B25) con su coste estimado. Cada participante elige en su fila una 1ª y una 2ª opción; los puntos y el destino ganador salen solos.
B10: 5. En «Viaje» define las habitaciones (nombre, tipo, capacidad y precio por noche) y asigna a cada persona la suya en la columna «Habitación» de «Participantes». El estado avisa si hay plazas libres o sobreocupación.
B11: 6. Durante el viaje, apunta cada gasto en «Gastos»: concepto, importe, categoría, fecha y «Pagado por» (una persona o «Bote común»). Si alguien no participó, elígelo en «Excluye a».
B12: 7. Mira el «Saldo neto» en «Participantes»: negativo = debe pagar, positivo = le deben. El «Panel» lista las transferencias necesarias para dejar las cuentas a cero.
B13: 8. Al terminar, comprueba que el Panel indica «Cuentas cuadradas», que no hay gastos sin pagador válido y comparte la lista «Quién paga a quién» con el grupo.
B15: CONSEJOS
... B24: Aviso: esta plantilla solo sirve para llevar la cuenta de los gastos compartidos entre amigos o familia. No gestiona pagos ni custodia dinero, y no sustituye ningún asesoramiento financiero. Los importes son los que tú introduces.

Sheet Listas
A1: Categoría | B1: Pagador | C1: Tipo | H1: Acum. | I1: Punto | J1: Tramo | K1: Medio | L1: Válido | M1: Nº
A2: Alojamiento | B2: Bote común | C2: Individual | H2: =ROUND(0+Participantes!N6,2) | I2: =SMALL($H$2:$H$61,1) | J2: =ROUND(I2-0,2) | K2: =I2-J2/2 | L2: =IF(AND(J2>0,K2<MIN($H$31,$H$61)),1,0) | M2: =L2
A3: Transporte | B3: =IF(Participantes!C6="","",Participantes!C6) | C3: Doble | H3: =ROUND(H2+Participantes!N7,2) | I3: =SMALL($H$2:$H$61,2) | J3: =ROUND(I3-I2,2) | K3: =I3-J3/2 | L3: =IF(AND(J3>0,K3<MIN($H$31,$H$61)),1,0) | M3: =M2+L3
A4: Comida y bebida | B4: =IF(Participantes!C7="","",Participantes!C7) | C4: Doble + cama extra | H4: =ROUND(H3+Participantes!N8,2) | I4: =SMALL($H$2:$H$61,3) | J4: =ROUND(I4-I3,2) | K4: =I4-J4/2 | L4: =IF(AND(J4>0,K4<MIN($H$31,$H$61)),1,0) | M4: =M3+L4
A5: Ocio y entradas | B5: =IF(Participantes!C8="","",Participantes!C8) | C5: Triple | H5: =ROUND(H4+Participantes!N9,2) | I5: =SMALL($H$2:$H$61,4) | J5: =ROUND(I5-I4,2) | K5: =I5-J5/2 | L5: =IF(AND(J5>0,K5<MIN($H$31,$H$61)),1,0) | M5: =M4+L5
A6: Compras comunes | B6: =IF(Participantes!C9="","",Participantes!C9) | C6: Cuádruple | H6: =ROUND(H5+Participantes!N10,2) | I6: =SMALL($H$2:$H$61,5) | J6: =ROUND(I6-I5,2) | K6: =I6-J6/2 | L6: =IF(AND(J6>0,K6<MIN($H$31,$H$61)),1,0) | M6: =M5+L6
A7: Otros | B7: =IF(Participantes!C10="","",Participantes!C10) | C7: Apartamento | H7: =ROUND(H6+Participantes!N11,2) | I7: =SMALL($H$2:$H$61,6) | J7: =ROUND(I7-I6,2) | K7: =I7-J7/2 | L7: =IF(AND(J7>0,K7<MIN($H$31,$H$61)),1,0) | M7: =M6+L7
B8: =IF(Participantes!C11="","",Participantes!C11) | H8: =ROUND(H7+Participantes!N12,2) | I8: =SMALL($H$2:$H$61,7) | J8: =ROUND(I8-I7,2) | K8: =I8-J8/2 | L8: =IF(AND(J8>0,K8<MIN($H$31,$H$61)),1,0) | M8: =M7+L8
B9: =IF(Participantes!C12="","",Participantes!C12) | H9: =ROUND(H8+Participantes!N13,2) | I9: =SMALL($H$2:$H$61,8) | J9: =ROUND(I9-I8,2) | K9: =I9-J9/2 | L9: =IF(AND(J9>0,K9<MIN($H$31,$H$61)),1,0) | M9: =M8+L9
B10: =IF(Participantes!C13="","",Participantes!C13) | H10: =ROUND(H9+Participantes!N14,2) | I10: =SMALL($H$2:$H$61,9) | J10: =ROUND(I10-I9,2) | K10: =I10-J10/2 | L10: =IF(AND(J10>0,K10<MIN($H$31,$H$61)),1,0) | M10: =M9+L10
B11: =IF(Participantes!C14="","",Participantes!C14) | H11: =ROUND(H10+Participantes!N15,2) | I11: =SMALL($H$2:$H$61,10) | J11: =ROUND(I11-I10,2) | K11: =I11-J11/2 | L11: =IF(AND(J11>0,K11<MIN($H$31,$H$61)),1,0) | M11: =M10+L11
B12: =IF(Participantes!C15="","",Participantes!C15) | H12: =ROUND(H11+Participantes!N16,2) | I12: =SMALL($H$2:$H$61,11) | J12: =ROUND(I12-I11,2) | K12: =I12-J12/2 | L12: =IF(AND(J12>0,K12<MIN($H$31,$H$61)),1,0) | M12: =M11+L12
B13: =IF(Participantes!C16="","",Participantes!C16) | H13: =ROUND(H12+Participantes!N17,2) | I13: =SMALL($H$2:$H$61,12) | J13: =ROUND(I13-I12,2) | K13: =I13-J13/2 | L13: =IF(AND(J13>0,K13<MIN($H$31,$H$61)),1,0) | M13: =M12+L13
B14: =IF(Participantes!C17="","",Participantes!C17) | H14: =ROUND(H13+Participantes!N18,2) | I14: =SMALL($H$2:$H$61,13) | J14: =ROUND(I14-I13,2) | K14: =I14-J14/2 | L14: =IF(AND(J14>0,K14<MIN($H$31,$H$61)),1,0) | M14: =M13+L14
B15: =IF(Participantes!C18="","",Participantes!C18) | H15: =ROUND(H14+Participantes!N19,2) | I15: =SMALL($H$2:$H$61,14) | J15: =ROUND(I15-I14,2) | K15: =I15-J15/2 | L15: =IF(AND(J15>0,K15<MIN($H$31,$H$61)),1,0) | M15: =M14+L15
B16: =IF(Participantes!C19="","",Participantes!C19) | H16: =ROUND(H15+Participantes!N20,2) | I16: =SMALL($H$2:$H$61,15) | J16: =ROUND(I16-I15,2) | K16: =I16-J16/2 | L16: =IF(AND(J16>0,K16<MIN($H$31,$H$61)),1,0) | M16: =M15+L16
B17: =IF(Participantes!C20="","",Participantes!C20) | H17: =ROUND(H16+Participantes!N21,2) | I17: =SMALL($H$2:$H$61,16) | J17: =ROUND(I17-I16,2) | K17: =I17-J17/2 | L17: =IF(AND(J17>0,K17<MIN($H$31,$H$61)),1,0) | M17: =M16+L17
B18: =IF(Participantes!C21="","",Participantes!C21) | H18: =ROUND(H17+Participantes!N22,2) | I18: =SMALL($H$2:$H$61,17) | J18: =ROUND(I18-I17,2) | K18: =I18-J18/2 | L18: =IF(AND(J18>0,K18<MIN($H$31,$H$61)),1,0) | M18: =M17+L18
B19: =IF(Participantes!C22="","",Participantes!C22) | H19: =ROUND(H18+Participantes!N23,2) | I19: =SMALL($H$2:$H$61,18) | J19: =ROUND(I19-I18,2) | K19: =I19-J19/2 | L19: =IF(AND(J19>0,K19<MIN($H$31,$H$61)),1,0) | M19: =M18+L19
B20: =IF(Participantes!C23="","",Participantes!C23) | H20: =ROUND(H19+Participantes!N24,2) | I20: =SMALL($H$2:$H$61,19) | J20: =ROUND(I20-I19,2) | K20: =I20-J20/2 | L20: =IF(AND(J20>0,K20<MIN($H$31,$H$61)),1,0) | M20: =M19+L20
B21: =IF(Participantes!C24="","",Participantes!C24) | H21: =ROUND(H20+Participantes!N25,2) | I21: =SMALL($H$2:$H$61,20) | J21: =ROUND(I21-I20,2) | K21: =I21-J21/2 | L21: =IF(AND(J21>0,K21<MIN($H$31,$H$61)),1,0) | M21: =M20+L21
B22: =IF(Participantes!C25="","",Participantes!C25) | H22: =ROUND(H21+Participantes!N26,2) | I22: =SMALL($H$2:$H$61,21) | J22: =ROUND(I22-I21,2) | K22: =I22-J22/2 | L22: =IF(AND(J22>0,K22<MIN($H$31,$H$61)),1,0) | M22: =M21+L22
B23: =IF(Participantes!C26="","",Participantes!C26) | H23: =ROUND(H22+Participantes!N27,2) | I23: =SMALL($H$2:$H$61,22) | J23: =ROUND(I23-I22,2) | K23: =I23-J23/2 | L23: =IF(AND(J23>0,K23<MIN($H$31,$H$61)),1,0) | M23: =M22+L23
B24: =IF(Participantes!C27="","",Participantes!C27) | H24: =ROUND(H23+Participantes!N28,2) | I24: =SMALL($H$2:$H$61,23) | J24: =ROUND(I24-I23,2) | K24: =I24-J24/2 | L24: =IF(AND(J24>0,K24<MIN($H$31,$H$61)),1,0) | M24: =M23+L24
B25: =IF(Participantes!C28="","",Participantes!C28) | H25: =ROUND(H24+Participantes!N29,2) | I25: =SMALL($H$2:$H$61,24) | J25: =ROUND(I25-I24,2) | K25: =I25-J25/2 | L25: =IF(AND(J25>0,K25<MIN($H$31,$H$61)),1,0) | M25: =M24+L25
B26: =IF(Participantes!C29="","",Participantes!C29) | H26: =ROUND(H25+Participantes!N30,2) | I26: =SMALL($H$2:$H$61,25) | J26: =ROUND(I26-I25,2) | K26: =I26-J26/2 | L26: =IF(AND(J26>0,K26<MIN($H$31,$H$61)),1,0) | M26: =M25+L26
B27: =IF(Participantes!C30="","",Participantes!C30) | H27: =ROUND(H26+Participantes!N31,2) | I27: =SMALL($H$2:$H$61,26) | J27: =ROUND(I27-I26,2) | K27: =I27-J27/2 | L27: =IF(AND(J27>0,K27<MIN($H$31,$H$61)),1,0) | M27: =M26+L27
B28: =IF(Participantes!C31="","",Participantes!C31) | H28: =ROUND(H27+Participantes!N32,2) | I28: =SMALL($H$2:$H$61,27) | J28: =ROUND(I28-I27,2) | K28: =I28-J28/2 | L28: =IF(AND(J28>0,K28<MIN($H$31,$H$61)),1,0) | M28: =M27+L28
B29: =IF(Participantes!C32="","",Participantes!C32) | H29: =ROUND(H28+Participantes!N33,2) | I29: =SMALL($H$2:$H$61,28) | J29: =ROUND(I29-I28,2) | K29: =I29-J29/2 | L29: =IF(AND(J29>0,K29<MIN($H$31,$H$61)),1,0) | M29: =M28+L29
B30: =IF(Participantes!C33="","",Participantes!C33) | H30: =ROUND(H29+Participantes!N34,2) | I30: =SMALL($H$2:$H$61,29) | J30: =ROUND(I30-I29,2) | K30: =I30-J30/2 | L30: =IF(AND(J30>0,K30<MIN($H$31,$H$61)),1,0) | M30: =M29+L30
B31: =IF(Participantes!C34="","",Participantes!C34) | H31: =ROUND(H30+Participantes!N35,2) | I31: =SMALL($H$2:$H$61,30) | J31: =ROUND(I31-I30,2) | K31: =I31-J31/2 | L31: =IF(AND(J31>0,K31<MIN($H$31,$H$61)),1,0) | M31: =M30+L31
B32: =IF(Participantes!C35="","",Participantes!C35) | H32: =ROUND(0+Participantes!O6,2) | I32: =SMALL($H$2:$H$61,31) | J32: =ROUND(I32-I31,2) | K32: =I32-J32/2 | L32: =IF(AND(J32>0,K32<MIN($H$31,$H$61)),1,0) | M32: =M31+L32
H33: =ROUND(H32+Participantes!O7,2) | I33: =SMALL($H$2:$H$61,32) | J33: =ROUND(I33-I32,2) | K33: =I33-J33/2 | L33: =IF(AND(J33>0,K33<MIN($H$31,$H$61)),1,0) | M33: =M32+L33
H34: =ROUND(H33+Participantes!O8,2) | I34: =SMALL($H$2:$H$61,33) | J34: =ROUND(I34-I33,2) | K34: =I34-J34/2 | L34: =IF(AND(J34>0,K34<MIN($H$31,$H$61)),1,0) | M34: =M33+L34
H35: =ROUND(H34+Participantes!O9,2) | I35: =SMALL($H$2:$H$61,34) | J35: =ROUND(I35-I34,2) | K35: =I35-J35/2 | L35: =IF(AND(J35>0,K35<MIN($H$31,$H$61)),1,0) | M35: =M34+L35
H36: =ROUND(H35+Participantes!O10,2) | I36: =SMALL($H$2:$H$61,35) | J36: =ROUND(I36-I35,2) | K36: =I36-J36/2 | L36: =IF(AND(J36>0,K36<MIN($H$31,$H$61)),1,0) | M36: =M35+L36
H37: =ROUND(H36+Participantes!O11,2) | I37: =SMALL($H$2:$H$61,36) | J37: =ROUND(I37-I36,2) | K37: =I37-J37/2 | L37: =IF(AND(J37>0,K37<MIN($H$31,$H$61)),1,0) | M37: =M36+L37
H38: =ROUND(H37+Participantes!O12,2) | I38: =SMALL($H$2:$H$61,37) | J38: =ROUND(I38-I37,2) | K38: =I38-J38/2 | L38: =IF(AND(J38>0,K38<MIN($H$31,$H$61)),1,0) | M38: =M37+L38
H39: =ROUND(H38+Participantes!O13,2) | I39: =SMALL($H$2:$H$61,38) | J39: =ROUND(I39-I38,2) | K39: =I39-J39/2 | L39: =IF(AND(J39>0,K39<MIN($H$31,$H$61)),1,0) | M39: =M38+L39
H40: =ROUND(H39+Participantes!O14,2) | I40: =SMALL($H$2:$H$61,39) | J40: =ROUND(I40-I39,2) | K40: =I40-J40/2 | L40: =IF(AND(J40>0,K40<MIN($H$31,$H$61)),1,0) | M40: =M39+L40
...
