Workbook

Sheet Panel
B2: Panel de patrimonio neto
B3: Resumen automático de tus hojas Activos, Pasivos y Evolución. Los ejemplos son ficticios.
B5: TOTAL ACTIVOS | D5: TOTAL PASIVOS | F5: PATRIMONIO NETO
B6: =Activos!D5 | D6: =Pasivos!D5 | F6: =B6-D6
B8: RATIO DE ENDEUDAMIENTO | D8: VARIACIÓN DESDE EL PRIMER REGISTRO | F8: COLCHÓN DE LIQUIDEZ (MESES)
B9: =IF(B6>0,D6/B6,0) | D9: =IF(COUNT('Evolución'!$B$8:$B$43)<2,0,INDEX('Evolución'!$E$8:$E$43,COUNT('Evolución'!$B$8:$B$43))-INDEX('Evolución'!$E$8:$E$43,1)) | F9: =IF(D12>0,SUMIF(Activos!H8:H47,"Alta",Activos!D8:D47)/D12,0)
B11: PARÁMETROS EDITABLES
B12: Gastos mensuales del hogar | D12: 1800 | E12: Nivel de endeudamiento | G12: =IF(B9>=D14,"Alto",IF(B9>=D13,"Moderado","Bajo"))
B13: Endeudamiento moderado desde | D13: 0.3 | E13: Último registro mensual | G13: =IF(COUNT('Evolución'!$B$8:$B$43)=0,"",MAX('Evolución'!$B$8:$B$43))
B14: Endeudamiento alto desde | D14: 0.5 | E14: Dif. con el último registro | G14: =IF(COUNT('Evolución'!$B$8:$B$43)=0,0,F6-INDEX('Evolución'!$E$8:$E$43,COUNT('Evolución'!$B$8:$B$43)))
B16: ACTIVOS POR CATEGORÍA
B17: Categoría | C17: Importe | D17: % del activo
B18: Efectivo y cuentas | C18: =SUMIF(Activos!$C$8:$C$47,B18,Activos!$D$8:$D$47) | D18: =IF($C$25>0,C18/$C$25,0)
B19: Inversiones | C19: =SUMIF(Activos!$C$8:$C$47,B19,Activos!$D$8:$D$47) | D19: =IF($C$25>0,C19/$C$25,0)
B20: Pensiones y planes | C20: =SUMIF(Activos!$C$8:$C$47,B20,Activos!$D$8:$D$47) | D20: =IF($C$25>0,C20/$C$25,0)
B21: Inmuebles | C21: =SUMIF(Activos!$C$8:$C$47,B21,Activos!$D$8:$D$47) | D21: =IF($C$25>0,C21/$C$25,0)
B22: Vehículos | C22: =SUMIF(Activos!$C$8:$C$47,B22,Activos!$D$8:$D$47) | D22: =IF($C$25>0,C22/$C$25,0)
B23: Otros bienes | C23: =SUMIF(Activos!$C$8:$C$47,B23,Activos!$D$8:$D$47) | D23: =IF($C$25>0,C23/$C$25,0)
B24: Sin clasificar | C24: =C25-SUM(C18:C23) | D24: =IF($C$25>0,C24/$C$25,0)
B25: TOTAL | C25: =Activos!D5 | D25: =SUM(D18:D24)
B27: PASIVOS POR CATEGORÍA
B28: Categoría | C28: Importe | D28: % del pasivo
B29: Hipoteca | C29: =SUMIF(Pasivos!$C$8:$C$47,B29,Pasivos!$D$8:$D$47) | D29: =IF($C$35>0,C29/$C$35,0)
B30: Préstamo personal | C30: =SUMIF(Pasivos!$C$8:$C$47,B30,Pasivos!$D$8:$D$47) | D30: =IF($C$35>0,C30/$C$35,0)
B31: Préstamo coche | C31: =SUMIF(Pasivos!$C$8:$C$47,B31,Pasivos!$D$8:$D$47) | D31: =IF($C$35>0,C31/$C$35,0)
B32: Tarjetas y aplazados | C32: =SUMIF(Pasivos!$C$8:$C$47,B32,Pasivos!$D$8:$D$47) | D32: =IF($C$35>0,C32/$C$35,0)
B33: Otras deudas | C33: =SUMIF(Pasivos!$C$8:$C$47,B33,Pasivos!$D$8:$D$47) | D33: =IF($C$35>0,C33/$C$35,0)
B34: Sin clasificar | C34: =C35-SUM(C29:C33) | D34: =IF($C$35>0,C34/$C$35,0)
B35: TOTAL | C35: =Pasivos!D5 | D35: =SUM(D29:D34)
B37: EVOLUCIÓN: ÚLTIMOS 12 REGISTROS
B38: Mes | C38: Activos | D38: Pasivos | E38: Patrimonio neto
B39: =IF(MAX(1,COUNT('Evolución'!$B$8:$B$43)-11)+ROWS($B$39:B39)-1>COUNT('Evolución'!$B$8:$B$43),"",INDEX('Evolución'!$B$8:$B$43,MAX(1,COUNT('Evolución'!$B$8:$B$43)-11)+ROWS($B$39:B39)-1)) | C39: =IF(MAX(1,COUNT('Evolución'!$B$8:$B$43)-11)+ROWS($B$39:B39)-1>COUNT('Evolución'!$B$8:$B$43),"",INDEX('Evolución'!$C$8:$C$43,MAX(1,COUNT('Evolución'!$B$8:$B$43)-11)+ROWS($B$39:B39)-1)) | D39: =IF(MAX(1,COUNT('Evolución'!$B$8:$B$43)-11)+ROWS($B$39:B39)-1>COUNT('Evolución'!$B$8:$B$43),"",INDEX('Evolución'!$D$8:$D$43,MAX(1,COUNT('Evolución'!$B$8:$B$43)-11)+ROWS($B$39:B39)-1)) | E39: =IF(MAX(1,COUNT('Evolución'!$B$8:$B$43)-11)+ROWS($B$39:B39)-1>COUNT('Evolución'!$B$8:$B$43),"",INDEX('Evolución'!$E$8:$E$43,MAX(1,COUNT('Evolución'!$B$8:$B$43)-11)+ROWS($B$39:B39)-1))
B40: =IF(MAX(1,COUNT('Evolución'!$B$8:$B$43)-11)+ROWS($B$39:B40)-1>COUNT('Evolución'!$B$8:$B$43),"",INDEX('Evolución'!$B$8:$B$43,MAX(1,COUNT('Evolución'!$B$8:$B$43)-11)+ROWS($B$39:B40)-1)) | C40: =IF(MAX(1,COUNT('Evolución'!$B$8:$B$43)-11)+ROWS($B$39:B40)-1>COUNT('Evolución'!$B$8:$B$43),"",INDEX('Evolución'!$C$8:$C$43,MAX(1,COUNT('Evolución'!$B$8:$B$43)-11)+ROWS($B$39:B40)-1)) | D40: =IF(MAX(1,COUNT('Evolución'!$B$8:$B$43)-11)+ROWS($B$39:B40)-1>COUNT('Evolución'!$B$8:$B$43),"",INDEX('Evolución'!$D$8:$D$43,MAX(1,COUNT('Evolución'!$B$8:$B$43)-11)+ROWS($B$39:B40)-1)) | E40: =IF(MAX(1,COUNT('Evolución'!$B$8:$B$43)-11)+ROWS($B$39:B40)-1>COUNT('Evolución'!$B$8:$B$43),"",INDEX('Evolución'!$E$8:$E$43,MAX(1,COUNT('Evolución'!$B$8:$B$43)-11)+ROWS($B$39:B40)-1))
B41: =IF(MAX(1,COUNT('Evolución'!$B$8:$B$43)-11)+ROWS($B$39:B41)-1>COUNT('Evolución'!$B$8:$B$43),"",INDEX('Evolución'!$B$8:$B$43,MAX(1,COUNT('Evolución'!$B$8:$B$43)-11)+ROWS($B$39:B41)-1)) | C41: =IF(MAX(1,COUNT('Evolución'!$B$8:$B$43)-11)+ROWS($B$39:B41)-1>COUNT('Evolución'!$B$8:$B$43),"",INDEX('Evolución'!$C$8:$C$43,MAX(1,COUNT('Evolución'!$B$8:$B$43)-11)+ROWS($B$39:B41)-1)) | D41: =IF(MAX(1,COUNT('Evolución'!$B$8:$B$43)-11)+ROWS($B$39:B41)-1>COUNT('Evolución'!$B$8:$B$43),"",INDEX('Evolución'!$D$8:$D$43,MAX(1,COUNT('Evolución'!$B$8:$B$43)-11)+ROWS($B$39:B41)-1)) | E41: =IF(MAX(1,COUNT('Evolución'!$B$8:$B$43)-11)+ROWS($B$39:B41)-1>COUNT('Evolución'!$B$8:$B$43),"",INDEX('Evolución'!$E$8:$E$43,MAX(1,COUNT('Evolución'!$B$8:$B$43)-11)+ROWS($B$39:B41)-1))
B42: =IF(MAX(1,COUNT('Evolución'!$B$8:$B$43)-11)+ROWS($B$39:B42)-1>COUNT('Evolución'!$B$8:$B$43),"",INDEX('Evolución'!$B$8:$B$43,MAX(1,COUNT('Evolución'!$B$8:$B$43)-11)+ROWS($B$39:B42)-1)) | C42: =IF(MAX(1,COUNT('Evolución'!$B$8:$B$43)-11)+ROWS($B$39:B42)-1>COUNT('Evolución'!$B$8:$B$43),"",INDEX('Evolución'!$C$8:$C$43,MAX(1,COUNT('Evolución'!$B$8:$B$43)-11)+ROWS($B$39:B42)-1)) | D42: =IF(MAX(1,COUNT('Evolución'!$B$8:$B$43)-11)+ROWS($B$39:B42)-1>COUNT('Evolución'!$B$8:$B$43),"",INDEX('Evolución'!$D$8:$D$43,MAX(1,COUNT('Evolución'!$B$8:$B$43)-11)+ROWS($B$39:B42)-1)) | E42: =IF(MAX(1,COUNT('Evolución'!$B$8:$B$43)-11)+ROWS($B$39:B42)-1>COUNT('Evolución'!$B$8:$B$43),"",INDEX('Evolución'!$E$8:$E$43,MAX(1,COUNT('Evolución'!$B$8:$B$43)-11)+ROWS($B$39:B42)-1))
B43: =IF(MAX(1,COUNT('Evolución'!$B$8:$B$43)-11)+ROWS($B$39:B43)-1>COUNT('Evolución'!$B$8:$B$43),"",INDEX('Evolución'!$B$8:$B$43,MAX(1,COUNT('Evolución'!$B$8:$B$43)-11)+ROWS($B$39:B43)-1)) | C43: =IF(MAX(1,COUNT('Evolución'!$B$8:$B$43)-11)+ROWS($B$39:B43)-1>COUNT('Evolución'!$B$8:$B$43),"",INDEX('Evolución'!$C$8:$C$43,MAX(1,COUNT('Evolución'!$B$8:$B$43)-11)+ROWS($B$39:B43)-1)) | D43: =IF(MAX(1,COUNT('Evolución'!$B$8:$B$43)-11)+ROWS($B$39:B43)-1>COUNT('Evolución'!$B$8:$B$43),"",INDEX('Evolución'!$D$8:$D$43,MAX(1,COUNT('Evolución'!$B$8:$B$43)-11)+ROWS($B$39:B43)-1)) | E43: =IF(MAX(1,COUNT('Evolución'!$B$8:$B$43)-11)+ROWS($B$39:B43)-1>COUNT('Evolución'!$B$8:$B$43),"",INDEX('Evolución'!$E$8:$E$43,MAX(1,COUNT('Evolución'!$B$8:$B$43)-11)+ROWS($B$39:B43)-1))
B44: =IF(MAX(1,COUNT('Evolución'!$B$8:$B$43)-11)+ROWS($B$39:B44)-1>COUNT('Evolución'!$B$8:$B$43),"",INDEX('Evolución'!$B$8:$B$43,MAX(1,COUNT('Evolución'!$B$8:$B$43)-11)+ROWS($B$39:B44)-1)) | C44: =IF(MAX(1,COUNT('Evolución'!$B$8:$B$43)-11)+ROWS($B$39:B44)-1>COUNT('Evolución'!$B$8:$B$43),"",INDEX('Evolución'!$C$8:$C$43,MAX(1,COUNT('Evolución'!$B$8:$B$43)-11)+ROWS($B$39:B44)-1)) | D44: =IF(MAX(1,COUNT('Evolución'!$B$8:$B$43)-11)+ROWS($B$39:B44)-1>COUNT('Evolución'!$B$8:$B$43),"",INDEX('Evolución'!$D$8:$D$43,MAX(1,COUNT('Evolución'!$B$8:$B$43)-11)+ROWS($B$39:B44)-1)) | E44: =IF(MAX(1,COUNT('Evolución'!$B$8:$B$43)-11)+ROWS($B$39:B44)-1>COUNT('Evolución'!$B$8:$B$43),"",INDEX('Evolución'!$E$8:$E$43,MAX(1,COUNT('Evolución'!$B$8:$B$43)-11)+ROWS($B$39:B44)-1))
B45: =IF(MAX(1,COUNT('Evolución'!$B$8:$B$43)-11)+ROWS($B$39:B45)-1>COUNT('Evolución'!$B$8:$B$43),"",INDEX('Evolución'!$B$8:$B$43,MAX(1,COUNT('Evolución'!$B$8:$B$43)-11)+ROWS($B$39:B45)-1)) | C45: =IF(MAX(1,COUNT('Evolución'!$B$8:$B$43)-11)+ROWS($B$39:B45)-1>COUNT('Evolución'!$B$8:$B$43),"",INDEX('Evolución'!$C$8:$C$43,MAX(1,COUNT('Evolución'!$B$8:$B$43)-11)+ROWS($B$39:B45)-1)) | D45: =IF(MAX(1,COUNT('Evolución'!$B$8:$B$43)-11)+ROWS($B$39:B45)-1>COUNT('Evolución'!$B$8:$B$43),"",INDEX('Evolución'!$D$8:$D$43,MAX(1,COUNT('Evolución'!$B$8:$B$43)-11)+ROWS($B$39:B45)-1)) | E45: =IF(MAX(1,COUNT('Evolución'!$B$8:$B$43)-11)+ROWS($B$39:B45)-1>COUNT('Evolución'!$B$8:$B$43),"",INDEX('Evolución'!$E$8:$E$43,MAX(1,COUNT('Evolución'!$B$8:$B$43)-11)+ROWS($B$39:B45)-1))
B46: =IF(MAX(1,COUNT('Evolución'!$B$8:$B$43)-11)+ROWS($B$39:B46)-1>COUNT('Evolución'!$B$8:$B$43),"",INDEX('Evolución'!$B$8:$B$43,MAX(1,COUNT('Evolución'!$B$8:$B$43)-11)+ROWS($B$39:B46)-1)) | C46: =IF(MAX(1,COUNT('Evolución'!$B$8:$B$43)-11)+ROWS($B$39:B46)-1>COUNT('Evolución'!$B$8:$B$43),"",INDEX('Evolución'!$C$8:$C$43,MAX(1,COUNT('Evolución'!$B$8:$B$43)-11)+ROWS($B$39:B46)-1)) | D46: =IF(MAX(1,COUNT('Evolución'!$B$8:$B$43)-11)+ROWS($B$39:B46)-1>COUNT('Evolución'!$B$8:$B$43),"",INDEX('Evolución'!$D$8:$D$43,MAX(1,COUNT('Evolución'!$B$8:$B$43)-11)+ROWS($B$39:B46)-1)) | E46: =IF(MAX(1,COUNT('Evolución'!$B$8:$B$43)-11)+ROWS($B$39:B46)-1>COUNT('Evolución'!$B$8:$B$43),"",INDEX('Evolución'!$E$8:$E$43,MAX(1,COUNT('Evolución'!$B$8:$B$43)-11)+ROWS($B$39:B46)-1))
B47: =IF(MAX(1,COUNT('Evolución'!$B$8:$B$43)-11)+ROWS($B$39:B47)-1>COUNT('Evolución'!$B$8:$B$43),"",INDEX('Evolución'!$B$8:$B$43,MAX(1,COUNT('Evolución'!$B$8:$B$43)-11)+ROWS($B$39:B47)-1)) | C47: =IF(MAX(1,COUNT('Evolución'!$B$8:$B$43)-11)+ROWS($B$39:B47)-1>COUNT('Evolución'!$B$8:$B$43),"",INDEX('Evolución'!$C$8:$C$43,MAX(1,COUNT('Evolución'!$B$8:$B$43)-11)+ROWS($B$39:B47)-1)) | D47: =IF(MAX(1,COUNT('Evolución'!$B$8:$B$43)-11)+ROWS($B$39:B47)-1>COUNT('Evolución'!$B$8:$B$43),"",INDEX('Evolución'!$D$8:$D$43,MAX(1,COUNT('Evolución'!$B$8:$B$43)-11)+ROWS($B$39:B47)-1)) | E47: =IF(MAX(1,COUNT('Evolución'!$B$8:$B$43)-11)+ROWS($B$39:B47)-1>COUNT('Evolución'!$B$8:$B$43),"",INDEX('Evolución'!$E$8:$E$43,MAX(1,COUNT('Evolución'!$B$8:$B$43)-11)+ROWS($B$39:B47)-1))
...

Sheet Activos
B2: Activos: todo lo que tienes
B3: Anota cada bien o cuenta con su valor actual (celdas crema). Borra los ejemplos y escribe los tuyos.
B5: TOTAL ACTIVOS | D5: =SUM(D8:D47) | E5: =SUM(E8:E47) | F5: =D5-E5 | G5: =IF(E5>0,F5/E5,0)
B7: Activo | C7: Categoría | D7: Valor actual | E7: Valor hace 1 año | F7: Variación € | G7: Variación % | H7: Liquidez | I7: % del total
B8: Cuenta corriente | C8: Efectivo y cuentas | D8: 3200 | E8: 2800 | F8: =IF(D8="","",D8-E8) | G8: =IF(D8="","",IF(E8>0,F8/E8,0)) | H8: Alta | I8: =IF(D8="","",IF($D$5>0,D8/$D$5,0))
B9: Cuenta de ahorro | C9: Efectivo y cuentas | D9: 9500 | E9: 8000 | F9: =IF(D9="","",D9-E9) | G9: =IF(D9="","",IF(E9>0,F9/E9,0)) | H9: Alta | I9: =IF(D9="","",IF($D$5>0,D9/$D$5,0))
B10: Depósito a plazo | C10: Efectivo y cuentas | D10: 6000 | E10: 6000 | F10: =IF(D10="","",D10-E10) | G10: =IF(D10="","",IF(E10>0,F10/E10,0)) | H10: Media | I10: =IF(D10="","",IF($D$5>0,D10/$D$5,0))
B11: Fondo indexado | C11: Inversiones | D11: 14800 | E11: 12100 | F11: =IF(D11="","",D11-E11) | G11: =IF(D11="","",IF(E11>0,F11/E11,0)) | H11: Media | I11: =IF(D11="","",IF($D$5>0,D11/$D$5,0))
B12: Cartera de acciones | C12: Inversiones | D12: 4200 | E12: 3600 | F12: =IF(D12="","",D12-E12) | G12: =IF(D12="","",IF(E12>0,F12/E12,0)) | H12: Media | I12: =IF(D12="","",IF($D$5>0,D12/$D$5,0))
B13: Plan de pensiones | C13: Pensiones y planes | D13: 11300 | E13: 9800 | F13: =IF(D13="","",D13-E13) | G13: =IF(D13="","",IF(E13>0,F13/E13,0)) | H13: Baja | I13: =IF(D13="","",IF($D$5>0,D13/$D$5,0))
B14: Vivienda habitual | C14: Inmuebles | D14: 235000 | E14: 228000 | F14: =IF(D14="","",D14-E14) | G14: =IF(D14="","",IF(E14>0,F14/E14,0)) | H14: Baja | I14: =IF(D14="","",IF($D$5>0,D14/$D$5,0))
B15: Plaza de garaje | C15: Inmuebles | D15: 14000 | E15: 13500 | F15: =IF(D15="","",D15-E15) | G15: =IF(D15="","",IF(E15>0,F15/E15,0)) | H15: Baja | I15: =IF(D15="","",IF($D$5>0,D15/$D$5,0))
B16: Coche | C16: Vehículos | D16: 8500 | E16: 10200 | F16: =IF(D16="","",D16-E16) | G16: =IF(D16="","",IF(E16>0,F16/E16,0)) | H16: Baja | I16: =IF(D16="","",IF($D$5>0,D16/$D$5,0))
B17: Moto | C17: Vehículos | D17: 1800 | E17: 2300 | F17: =IF(D17="","",D17-E17) | G17: =IF(D17="","",IF(E17>0,F17/E17,0)) | H17: Baja | I17: =IF(D17="","",IF($D$5>0,D17/$D$5,0))
B18: Ordenador y electrónica | C18: Otros bienes | D18: 900 | E18: 1100 | F18: =IF(D18="","",D18-E18) | G18: =IF(D18="","",IF(E18>0,F18/E18,0)) | H18: Baja | I18: =IF(D18="","",IF($D$5>0,D18/$D$5,0))
F19: =IF(D19="","",D19-E19) | G19: =IF(D19="","",IF(E19>0,F19/E19,0)) | I19: =IF(D19="","",IF($D$5>0,D19/$D$5,0))
F20: =IF(D20="","",D20-E20) | G20: =IF(D20="","",IF(E20>0,F20/E20,0)) | I20: =IF(D20="","",IF($D$5>0,D20/$D$5,0))
F21: =IF(D21="","",D21-E21) | G21: =IF(D21="","",IF(E21>0,F21/E21,0)) | I21: =IF(D21="","",IF($D$5>0,D21/$D$5,0))
F22: =IF(D22="","",D22-E22) | G22: =IF(D22="","",IF(E22>0,F22/E22,0)) | I22: =IF(D22="","",IF($D$5>0,D22/$D$5,0))
F23: =IF(D23="","",D23-E23) | G23: =IF(D23="","",IF(E23>0,F23/E23,0)) | I23: =IF(D23="","",IF($D$5>0,D23/$D$5,0))
F24: =IF(D24="","",D24-E24) | G24: =IF(D24="","",IF(E24>0,F24/E24,0)) | I24: =IF(D24="","",IF($D$5>0,D24/$D$5,0))
F25: =IF(D25="","",D25-E25) | G25: =IF(D25="","",IF(E25>0,F25/E25,0)) | I25: =IF(D25="","",IF($D$5>0,D25/$D$5,0))
F26: =IF(D26="","",D26-E26) | G26: =IF(D26="","",IF(E26>0,F26/E26,0)) | I26: =IF(D26="","",IF($D$5>0,D26/$D$5,0))
F27: =IF(D27="","",D27-E27) | G27: =IF(D27="","",IF(E27>0,F27/E27,0)) | I27: =IF(D27="","",IF($D$5>0,D27/$D$5,0))
F28: =IF(D28="","",D28-E28) | G28: =IF(D28="","",IF(E28>0,F28/E28,0)) | I28: =IF(D28="","",IF($D$5>0,D28/$D$5,0))
F29: =IF(D29="","",D29-E29) | G29: =IF(D29="","",IF(E29>0,F29/E29,0)) | I29: =IF(D29="","",IF($D$5>0,D29/$D$5,0))
F30: =IF(D30="","",D30-E30) | G30: =IF(D30="","",IF(E30>0,F30/E30,0)) | I30: =IF(D30="","",IF($D$5>0,D30/$D$5,0))
... F47: =IF(D47="","",D47-E47) | G47: =IF(D47="","",IF(E47>0,F47/E47,0)) | I47: =IF(D47="","",IF($D$5>0,D47/$D$5,0))
B49: Liquidez: Alta = disponible al instante (cuentas); Media = recuperable en días o semanas; Baja = difícil de vender rápido (casa, coche). Valor hace 1 año es opcional.

Sheet Pasivos
B2: Pasivos: todo lo que debes
B3: Anota cada deuda con su saldo pendiente (celdas crema). El interés anual puede ser TIN o TAE.
B5: TOTAL PASIVOS | D5: =SUM(D8:D47) | F5: =SUM(F8:F47) | G5: =SUM(G8:G47)
B7: Deuda | C7: Categoría | D7: Saldo pendiente | E7: Interés anual | F7: Cuota mensual | G7: Intereses al año (aprox.) | H7: Meses restantes | I7: % del total
B8: Hipoteca vivienda | C8: Hipoteca | D8: 135000 | E8: 0.031 | F8: 780 | G8: =IF(D8="","",ROUND(D8*E8,2)) | H8: =IF(D8="","",IF(D8<=0,0,IF(F8<=0,"Sin cuota",IF(E8=0,ROUNDUP(D8/F8,0),IFERROR(ROUNDUP(NPER(E8/12,-F8,D8),0),"Revisar cuota"))))) | I8: =IF(D8="","",IF($D$5>0,D8/$D$5,0))
B9: Préstamo del coche | C9: Préstamo coche | D9: 4200 | E9: 0.065 | F9: 190 | G9: =IF(D9="","",ROUND(D9*E9,2)) | H9: =IF(D9="","",IF(D9<=0,0,IF(F9<=0,"Sin cuota",IF(E9=0,ROUNDUP(D9/F9,0),IFERROR(ROUNDUP(NPER(E9/12,-F9,D9),0),"Revisar cuota"))))) | I9: =IF(D9="","",IF($D$5>0,D9/$D$5,0))
B10: Préstamo reforma | C10: Préstamo personal | D10: 3500 | E10: 0.079 | F10: 130 | G10: =IF(D10="","",ROUND(D10*E10,2)) | H10: =IF(D10="","",IF(D10<=0,0,IF(F10<=0,"Sin cuota",IF(E10=0,ROUNDUP(D10/F10,0),IFERROR(ROUNDUP(NPER(E10/12,-F10,D10),0),"Revisar cuota"))))) | I10: =IF(D10="","",IF($D$5>0,D10/$D$5,0))
B11: Tarjeta de crédito | C11: Tarjetas y aplazados | D11: 820 | E11: 0.22 | F11: 100 | G11: =IF(D11="","",ROUND(D11*E11,2)) | H11: =IF(D11="","",IF(D11<=0,0,IF(F11<=0,"Sin cuota",IF(E11=0,ROUNDUP(D11/F11,0),IFERROR(ROUNDUP(NPER(E11/12,-F11,D11),0),"Revisar cuota"))))) | I11: =IF(D11="","",IF($D$5>0,D11/$D$5,0))
B12: Móvil a plazos | C12: Tarjetas y aplazados | D12: 360 | E12: 0 | F12: 30 | G12: =IF(D12="","",ROUND(D12*E12,2)) | H12: =IF(D12="","",IF(D12<=0,0,IF(F12<=0,"Sin cuota",IF(E12=0,ROUNDUP(D12/F12,0),IFERROR(ROUNDUP(NPER(E12/12,-F12,D12),0),"Revisar cuota"))))) | I12: =IF(D12="","",IF($D$5>0,D12/$D$5,0))
B13: Préstamo familiar | C13: Otras deudas | D13: 1500 | E13: 0 | F13: 100 | G13: =IF(D13="","",ROUND(D13*E13,2)) | H13: =IF(D13="","",IF(D13<=0,0,IF(F13<=0,"Sin cuota",IF(E13=0,ROUNDUP(D13/F13,0),IFERROR(ROUNDUP(NPER(E13/12,-F13,D13),0),"Revisar cuota"))))) | I13: =IF(D13="","",IF($D$5>0,D13/$D$5,0))
G14: =IF(D14="","",ROUND(D14*E14,2)) | H14: =IF(D14="","",IF(D14<=0,0,IF(F14<=0,"Sin cuota",IF(E14=0,ROUNDUP(D14/F14,0),IFERROR(ROUNDUP(NPER(E14/12,-F14,D14),0),"Revisar cuota"))))) | I14: =IF(D14="","",IF($D$5>0,D14/$D$5,0))
G15: =IF(D15="","",ROUND(D15*E15,2)) | H15: =IF(D15="","",IF(D15<=0,0,IF(F15<=0,"Sin cuota",IF(E15=0,ROUNDUP(D15/F15,0),IFERROR(ROUNDUP(NPER(E15/12,-F15,D15),0),"Revisar cuota"))))) | I15: =IF(D15="","",IF($D$5>0,D15/$D$5,0))
G16: =IF(D16="","",ROUND(D16*E16,2)) | H16: =IF(D16="","",IF(D16<=0,0,IF(F16<=0,"Sin cuota",IF(E16=0,ROUNDUP(D16/F16,0),IFERROR(ROUNDUP(NPER(E16/12,-F16,D16),0),"Revisar cuota"))))) | I16: =IF(D16="","",IF($D$5>0,D16/$D$5,0))
G17: =IF(D17="","",ROUND(D17*E17,2)) | H17: =IF(D17="","",IF(D17<=0,0,IF(F17<=0,"Sin cuota",IF(E17=0,ROUNDUP(D17/F17,0),IFERROR(ROUNDUP(NPER(E17/12,-F17,D17),0),"Revisar cuota"))))) | I17: =IF(D17="","",IF($D$5>0,D17/$D$5,0))
G18: =IF(D18="","",ROUND(D18*E18,2)) | H18: =IF(D18="","",IF(D18<=0,0,IF(F18<=0,"Sin cuota",IF(E18=0,ROUNDUP(D18/F18,0),IFERROR(ROUNDUP(NPER(E18/12,-F18,D18),0),"Revisar cuota"))))) | I18: =IF(D18="","",IF($D$5>0,D18/$D$5,0))
G19: =IF(D19="","",ROUND(D19*E19,2)) | H19: =IF(D19="","",IF(D19<=0,0,IF(F19<=0,"Sin cuota",IF(E19=0,ROUNDUP(D19/F19,0),IFERROR(ROUNDUP(NPER(E19/12,-F19,D19),0),"Revisar cuota"))))) | I19: =IF(D19="","",IF($D$5>0,D19/$D$5,0))
G20: =IF(D20="","",ROUND(D20*E20,2)) | H20: =IF(D20="","",IF(D20<=0,0,IF(F20<=0,"Sin cuota",IF(E20=0,ROUNDUP(D20/F20,0),IFERROR(ROUNDUP(NPER(E20/12,-F20,D20),0),"Revisar cuota"))))) | I20: =IF(D20="","",IF($D$5>0,D20/$D$5,0))
G21: =IF(D21="","",ROUND(D21*E21,2)) | H21: =IF(D21="","",IF(D21<=0,0,IF(F21<=0,"Sin cuota",IF(E21=0,ROUNDUP(D21/F21,0),IFERROR(ROUNDUP(NPER(E21/12,-F21,D21),0),"Revisar cuota"))))) | I21: =IF(D21="","",IF($D$5>0,D21/$D$5,0))
G22: =IF(D22="","",ROUND(D22*E22,2)) | H22: =IF(D22="","",IF(D22<=0,0,IF(F22<=0,"Sin cuota",IF(E22=0,ROUNDUP(D22/F22,0),IFERROR(ROUNDUP(NPER(E22/12,-F22,D22),0),"Revisar cuota"))))) | I22: =IF(D22="","",IF($D$5>0,D22/$D$5,0))
G23: =IF(D23="","",ROUND(D23*E23,2)) | H23: =IF(D23="","",IF(D23<=0,0,IF(F23<=0,"Sin cuota",IF(E23=0,ROUNDUP(D23/F23,0),IFERROR(ROUNDUP(NPER(E23/12,-F23,D23),0),"Revisar cuota"))))) | I23: =IF(D23="","",IF($D$5>0,D23/$D$5,0))
G24: =IF(D24="","",ROUND(D24*E24,2)) | H24: =IF(D24="","",IF(D24<=0,0,IF(F24<=0,"Sin cuota",IF(E24=0,ROUNDUP(D24/F24,0),IFERROR(ROUNDUP(NPER(E24/12,-F24,D24),0),"Revisar cuota"))))) | I24: =IF(D24="","",IF($D$5>0,D24/$D$5,0))
G25: =IF(D25="","",ROUND(D25*E25,2)) | H25: =IF(D25="","",IF(D25<=0,0,IF(F25<=0,"Sin cuota",IF(E25=0,ROUNDUP(D25/F25,0),IFERROR(ROUNDUP(NPER(E25/12,-F25,D25),0),"Revisar cuota"))))) | I25: =IF(D25="","",IF($D$5>0,D25/$D$5,0))
... G47: =IF(D47="","",ROUND(D47*E47,2)) | H47: =IF(D47="","",IF(D47<=0,0,IF(F47<=0,"Sin cuota",IF(E47=0,ROUNDUP(D47/F47,0),IFERROR(ROUNDUP(NPER(E47/12,-F47,D47),0),"Revisar cuota"))))) | I47: =IF(D47="","",IF($D$5>0,D47/$D$5,0))
B49: Meses restantes: estimación con NPER (saldo, interés anual/12 y cuota). "Revisar cuota" indica que la cuota no cubre ni los intereses del mes.

Sheet Evolución
B2: Evolución mensual del patrimonio
B3: Una vez al mes, anota el total de activos y de pasivos (copia los totales de las hojas Activos y Pasivos).
B5: Cada fila es una "foto" a fin de mes. Hasta 36 meses. Rellena las filas en orden, sin dejar huecos.
B7: Mes (fecha) | C7: Total activos | D7: Total pasivos | E7: Patrimonio neto | F7: Variación mensual | G7: Variación % | H7: Endeudamiento
B8: 45991 | C8: 296400 | D8: 152100 | E8: =IF(OR(C8="",D8=""),"",C8-D8) | F8: =IF(E8="","",0) | G8: =IF(E8="","",0) | H8: =IF(OR(C8="",D8=""),"",IF(C8>0,D8/C8,0))
B9: 46022 | C9: 297100 | D9: 151400 | E9: =IF(OR(C9="",D9=""),"",C9-D9) | F9: =IF(OR(E9="",E8=""),"",E9-E8) | G9: =IF(F9="","",IF(E8=0,0,F9/ABS(E8))) | H9: =IF(OR(C9="",D9=""),"",IF(C9>0,D9/C9,0))
B10: 46053 | C10: 298300 | D10: 150700 | E10: =IF(OR(C10="",D10=""),"",C10-D10) | F10: =IF(OR(E10="",E9=""),"",E10-E9) | G10: =IF(F10="","",IF(E9=0,0,F10/ABS(E9))) | H10: =IF(OR(C10="",D10=""),"",IF(C10>0,D10/C10,0))
B11: 46081 | C11: 297800 | D11: 150000 | E11: =IF(OR(C11="",D11=""),"",C11-D11) | F11: =IF(OR(E11="",E10=""),"",E11-E10) | G11: =IF(F11="","",IF(E10=0,0,F11/ABS(E10))) | H11: =IF(OR(C11="",D11=""),"",IF(C11>0,D11/C11,0))
B12: 46112 | C12: 300200 | D12: 149200 | E12: =IF(OR(C12="",D12=""),"",C12-D12) | F12: =IF(OR(E12="",E11=""),"",E12-E11) | G12: =IF(F12="","",IF(E11=0,0,F12/ABS(E11))) | H12: =IF(OR(C12="",D12=""),"",IF(C12>0,D12/C12,0))
B13: 46142 | C13: 301500 | D13: 148500 | E13: =IF(OR(C13="",D13=""),"",C13-D13) | F13: =IF(OR(E13="",E12=""),"",E13-E12) | G13: =IF(F13="","",IF(E12=0,0,F13/ABS(E12))) | H13: =IF(OR(C13="",D13=""),"",IF(C13>0,D13/C13,0))
B14: 46173 | C14: 303900 | D14: 147900 | E14: =IF(OR(C14="",D14=""),"",C14-D14) | F14: =IF(OR(E14="",E13=""),"",E14-E13) | G14: =IF(F14="","",IF(E13=0,0,F14/ABS(E13))) | H14: =IF(OR(C14="",D14=""),"",IF(C14>0,D14/C14,0))
B15: 46203 | C15: 303100 | D15: 147300 | E15: =IF(OR(C15="",D15=""),"",C15-D15) | F15: =IF(OR(E15="",E14=""),"",E15-E14) | G15: =IF(F15="","",IF(E14=0,0,F15/ABS(E14))) | H15: =IF(OR(C15="",D15=""),"",IF(C15>0,D15/C15,0))
B16: 46234 | C16: 306100 | D16: 146700 | E16: =IF(OR(C16="",D16=""),"",C16-D16) | F16: =IF(OR(E16="",E15=""),"",E16-E15) | G16: =IF(F16="","",IF(E15=0,0,F16/ABS(E15))) | H16: =IF(OR(C16="",D16=""),"",IF(C16>0,D16/C16,0))
B17: 46265 | C17: 307300 | D17: 146100 | E17: =IF(OR(C17="",D17=""),"",C17-D17) | F17: =IF(OR(E17="",E16=""),"",E17-E16) | G17: =IF(F17="","",IF(E16=0,0,F17/ABS(E16))) | H17: =IF(OR(C17="",D17=""),"",IF(C17>0,D17/C17,0))
B18: 46295 | C18: 308400 | D18: 145700 | E18: =IF(OR(C18="",D18=""),"",C18-D18) | F18: =IF(OR(E18="",E17=""),"",E18-E17) | G18: =IF(F18="","",IF(E17=0,0,F18/ABS(E17))) | H18: =IF(OR(C18="",D18=""),"",IF(C18>0,D18/C18,0))
B19: 46326 | C19: 309200 | D19: 145380 | E19: =IF(OR(C19="",D19=""),"",C19-D19) | F19: =IF(OR(E19="",E18=""),"",E19-E18) | G19: =IF(F19="","",IF(E18=0,0,F19/ABS(E18))) | H19: =IF(OR(C19="",D19=""),"",IF(C19>0,D19/C19,0))
E20: =IF(OR(C20="",D20=""),"",C20-D20) | F20: =IF(OR(E20="",E19=""),"",E20-E19) | G20: =IF(F20="","",IF(E19=0,0,F20/ABS(E19))) | H20: =IF(OR(C20="",D20=""),"",IF(C20>0,D20/C20,0))
E21: =IF(OR(C21="",D21=""),"",C21-D21) | F21: =IF(OR(E21="",E20=""),"",E21-E20) | G21: =IF(F21="","",IF(E20=0,0,F21/ABS(E20))) | H21: =IF(OR(C21="",D21=""),"",IF(C21>0,D21/C21,0))
E22: =IF(OR(C22="",D22=""),"",C22-D22) | F22: =IF(OR(E22="",E21=""),"",E22-E21) | G22: =IF(F22="","",IF(E21=0,0,F22/ABS(E21))) | H22: =IF(OR(C22="",D22=""),"",IF(C22>0,D22/C22,0))
E23: =IF(OR(C23="",D23=""),"",C23-D23) | F23: =IF(OR(E23="",E22=""),"",E23-E22) | G23: =IF(F23="","",IF(E22=0,0,F23/ABS(E22))) | H23: =IF(OR(C23="",D23=""),"",IF(C23>0,D23/C23,0))
E24: =IF(OR(C24="",D24=""),"",C24-D24) | F24: =IF(OR(E24="",E23=""),"",E24-E23) | G24: =IF(F24="","",IF(E23=0,0,F24/ABS(E23))) | H24: =IF(OR(C24="",D24=""),"",IF(C24>0,D24/C24,0))
E25: =IF(OR(C25="",D25=""),"",C25-D25) | F25: =IF(OR(E25="",E24=""),"",E25-E24) | G25: =IF(F25="","",IF(E24=0,0,F25/ABS(E24))) | H25: =IF(OR(C25="",D25=""),"",IF(C25>0,D25/C25,0))
E26: =IF(OR(C26="",D26=""),"",C26-D26) | F26: =IF(OR(E26="",E25=""),"",E26-E25) | G26: =IF(F26="","",IF(E25=0,0,F26/ABS(E25))) | H26: =IF(OR(C26="",D26=""),"",IF(C26>0,D26/C26,0))
E27: =IF(OR(C27="",D27=""),"",C27-D27) | F27: =IF(OR(E27="",E26=""),"",E27-E26) | G27: =IF(F27="","",IF(E26=0,0,F27/ABS(E26))) | H27: =IF(OR(C27="",D27=""),"",IF(C27>0,D27/C27,0))
E28: =IF(OR(C28="",D28=""),"",C28-D28) | F28: =IF(OR(E28="",E27=""),"",E28-E27) | G28: =IF(F28="","",IF(E27=0,0,F28/ABS(E27))) | H28: =IF(OR(C28="",D28=""),"",IF(C28>0,D28/C28,0))
E29: =IF(OR(C29="",D29=""),"",C29-D29) | F29: =IF(OR(E29="",E28=""),"",E29-E28) | G29: =IF(F29="","",IF(E28=0,0,F29/ABS(E28))) | H29: =IF(OR(C29="",D29=""),"",IF(C29>0,D29/C29,0))
E30: =IF(OR(C30="",D30=""),"",C30-D30) | F30: =IF(OR(E30="",E29=""),"",E30-E29) | G30: =IF(F30="","",IF(E29=0,0,F30/ABS(E29))) | H30: =IF(OR(C30="",D30=""),"",IF(C30>0,D30/C30,0))
E31: =IF(OR(C31="",D31=""),"",C31-D31) | F31: =IF(OR(E31="",E30=""),"",E31-E30) | G31: =IF(F31="","",IF(E30=0,0,F31/ABS(E30))) | H31: =IF(OR(C31="",D31=""),"",IF(C31>0,D31/C31,0))
... E43: =IF(OR(C43="",D43=""),"",C43-D43) | F43: =IF(OR(E43="",E42=""),"",E43-E42) | G43: =IF(F43="","",IF(E42=0,0,F43/ABS(E42))) | H43: =IF(OR(C43="",D43=""),"",IF(C43>0,D43/C43,0))

Sheet Instrucciones
B2: Cómo usar la plantilla de patrimonio neto
B3: Plantilla gratuita de Plantillas de Cálculo · plantillasdecalculo.com
B5: CÓMO USARLA
B6: 1. Hoja «Activos»: escribe en las filas 8 a 47 cada cuenta o bien que posees: nombre, categoría (desplegable), valor actual de hoy y, si quieres, su valor de hace un año.
B7: 2. En la columna «Liquidez» marca Alta, Media o Baja. Solo los activos de liquidez Alta cuentan para el colchón de liquidez del Panel.
B8: 3. Hoja «Pasivos»: anota cada deuda con su saldo pendiente actual, el interés anual y la cuota mensual. Los meses restantes se estiman solos.
B9: 4. Borra los datos de ejemplo (celdas crema con texto azul) y sustitúyelos por los tuyos. Usa el valor de mercado aproximado de tus bienes, no lo que pagaste.
B10: 5. Hoja «Panel»: en D12 pon tus gastos mensuales; en D13 y D14 ajusta los umbrales de endeudamiento moderado y alto según tu criterio.
B11: 6. Cada fin de mes, abre la hoja «Evolución» y añade una fila nueva con la fecha y los totales de activos y de pasivos (los verás en D5 de Activos y D5 de Pasivos).
B12: 7. Revisa el Panel: patrimonio neto, ratio de endeudamiento, colchón de liquidez, reparto por categorías y gráfico de los últimos 12 registros.
B13: 8. Si G14 del Panel no es 0, tus hojas Activos/Pasivos han cambiado desde el último registro mensual: añade una fila nueva en Evolución.
B15: CONSEJOS
... B23: Aviso: plantilla educativa de registro y organización de tu situación patrimonial. No constituye asesoramiento financiero ni de inversión, ni sustituye a un profesional. Los valores de bienes son estimaciones que introduces tú.

Sheet Listas
A1: Categoría activo | B1: Liquidez | C1: Categoría deuda
A2: Efectivo y cuentas | B2: Alta | C2: Hipoteca
A3: Inversiones | B3: Media | C3: Préstamo personal
A4: Pensiones y planes | B4: Baja | C4: Préstamo coche
A5: Inmuebles | C5: Tarjetas y aplazados
A6: Vehículos | C6: Otras deudas
A7: Otros bienes
