Workbook

Sheet Panel
B2: Panel de ciclismo
B3: Resumen del año que elijas: kilómetros, tiempo, desnivel, récords personales y reparto por tipo de salida.
B4: Año a analizar: | C4: 2025 | D4: Objetivo anual (km): | G4: 1000
B5: Cambia el año y el objetivo: todo el panel y la hoja «Mensual» se recalculan.
B7: KM DEL AÑO | D7: SALIDAS DEL AÑO | F7: HORAS EN LA BICI | H7: DESNIVEL ACUMULADO (m)
B8: =Mensual!D19 | D8: =Mensual!C19 | F8: =Mensual!G19 | H8: =Mensual!H19
B10: VELOCIDAD MEDIA (km/h) | D10: KM POR SALIDA | F10: OBJETIVO ANUAL CUMPLIDO | H10: MES CON MÁS KM
B11: =IF(Mensual!G19=0,"—",Mensual!I19) | D11: =IF(Mensual!C19=0,"—",Mensual!J19) | F11: =IF($G$4=0,"—",Mensual!D19/$G$4) | H11: =IF(MAX(Mensual!$D$7:$D$18)=0,"—",INDEX(Mensual!$B$7:$B$18,MATCH(MAX(Mensual!$D$7:$D$18),Mensual!$D$7:$D$18,0)))
B12: Mejores salidas de todo el registro
B13: Récord | C13: Valor | D13: Fecha | E13: Ruta | F13: Tipo
B14: Salida más larga | C14: =IF(COUNT(Salidas!$E$7:$E$46)=0,"",MAX(Salidas!$E$7:$E$46)) | D14: =IF(C14="","",INDEX(Salidas!$B$7:$B$46,MATCH(C14,Salidas!$E$7:$E$46,0))) | E14: =IF(C14="","",INDEX(Salidas!$C$7:$C$46,MATCH(C14,Salidas!$E$7:$E$46,0))) | F14: =IF(C14="","",INDEX(Salidas!$D$7:$D$46,MATCH(C14,Salidas!$E$7:$E$46,0)))
B15: Salida más rápida | C15: =IF(COUNT(Salidas!$H$7:$H$46)=0,"",MAX(Salidas!$H$7:$H$46)) | D15: =IF(C15="","",INDEX(Salidas!$B$7:$B$46,MATCH(C15,Salidas!$H$7:$H$46,0))) | E15: =IF(C15="","",INDEX(Salidas!$C$7:$C$46,MATCH(C15,Salidas!$H$7:$H$46,0))) | F15: =IF(C15="","",INDEX(Salidas!$D$7:$D$46,MATCH(C15,Salidas!$H$7:$H$46,0)))
B16: Más desnivel | C16: =IF(COUNT(Salidas!$G$7:$G$46)=0,"",MAX(Salidas!$G$7:$G$46)) | D16: =IF(C16="","",INDEX(Salidas!$B$7:$B$46,MATCH(C16,Salidas!$G$7:$G$46,0))) | E16: =IF(C16="","",INDEX(Salidas!$C$7:$C$46,MATCH(C16,Salidas!$G$7:$G$46,0))) | F16: =IF(C16="","",INDEX(Salidas!$D$7:$D$46,MATCH(C16,Salidas!$G$7:$G$46,0)))
B18: Evolución por año
B19: Año | C19: Salidas | D19: Km | E19: Horas | F19: Desnivel + (m) | G19: Vel. media (km/h) | H19: Km por salida
B20: =$C$4-2 | C20: =COUNTIF(Salidas!$L$7:$L$46,B20) | D20: =SUMIF(Salidas!$L$7:$L$46,B20,Salidas!$E$7:$E$46) | E20: =SUMIF(Salidas!$L$7:$L$46,B20,Salidas!$F$7:$F$46) | F20: =SUMIF(Salidas!$L$7:$L$46,B20,Salidas!$G$7:$G$46) | G20: =IF(E20=0,"",D20/(E20*24)) | H20: =IF(C20=0,"",D20/C20)
B21: =$C$4-1 | C21: =COUNTIF(Salidas!$L$7:$L$46,B21) | D21: =SUMIF(Salidas!$L$7:$L$46,B21,Salidas!$E$7:$E$46) | E21: =SUMIF(Salidas!$L$7:$L$46,B21,Salidas!$F$7:$F$46) | F21: =SUMIF(Salidas!$L$7:$L$46,B21,Salidas!$G$7:$G$46) | G21: =IF(E21=0,"",D21/(E21*24)) | H21: =IF(C21=0,"",D21/C21)
B22: =$C$4-0 | C22: =COUNTIF(Salidas!$L$7:$L$46,B22) | D22: =SUMIF(Salidas!$L$7:$L$46,B22,Salidas!$E$7:$E$46) | E22: =SUMIF(Salidas!$L$7:$L$46,B22,Salidas!$F$7:$F$46) | F22: =SUMIF(Salidas!$L$7:$L$46,B22,Salidas!$G$7:$G$46) | G22: =IF(E22=0,"",D22/(E22*24)) | H22: =IF(C22=0,"",D22/C22)
B24: Reparto por tipo de salida (año elegido)
B25: Tipo | C25: Salidas | D25: Km | E25: Horas | F25: % de los km
B26: =Listas!$A$2 | C26: =COUNTIFS(Salidas!$D$7:$D$46,B26,Salidas!$L$7:$L$46,$C$4) | D26: =SUMIFS(Salidas!$E$7:$E$46,Salidas!$D$7:$D$46,B26,Salidas!$L$7:$L$46,$C$4) | E26: =SUMIFS(Salidas!$F$7:$F$46,Salidas!$D$7:$D$46,B26,Salidas!$L$7:$L$46,$C$4) | F26: =IF($D$31=0,"",D26/$D$31)
B27: =Listas!$A$3 | C27: =COUNTIFS(Salidas!$D$7:$D$46,B27,Salidas!$L$7:$L$46,$C$4) | D27: =SUMIFS(Salidas!$E$7:$E$46,Salidas!$D$7:$D$46,B27,Salidas!$L$7:$L$46,$C$4) | E27: =SUMIFS(Salidas!$F$7:$F$46,Salidas!$D$7:$D$46,B27,Salidas!$L$7:$L$46,$C$4) | F27: =IF($D$31=0,"",D27/$D$31)
B28: =Listas!$A$4 | C28: =COUNTIFS(Salidas!$D$7:$D$46,B28,Salidas!$L$7:$L$46,$C$4) | D28: =SUMIFS(Salidas!$E$7:$E$46,Salidas!$D$7:$D$46,B28,Salidas!$L$7:$L$46,$C$4) | E28: =SUMIFS(Salidas!$F$7:$F$46,Salidas!$D$7:$D$46,B28,Salidas!$L$7:$L$46,$C$4) | F28: =IF($D$31=0,"",D28/$D$31)
B29: =Listas!$A$5 | C29: =COUNTIFS(Salidas!$D$7:$D$46,B29,Salidas!$L$7:$L$46,$C$4) | D29: =SUMIFS(Salidas!$E$7:$E$46,Salidas!$D$7:$D$46,B29,Salidas!$L$7:$L$46,$C$4) | E29: =SUMIFS(Salidas!$F$7:$F$46,Salidas!$D$7:$D$46,B29,Salidas!$L$7:$L$46,$C$4) | F29: =IF($D$31=0,"",D29/$D$31)
B30: =Listas!$A$6 | C30: =COUNTIFS(Salidas!$D$7:$D$46,B30,Salidas!$L$7:$L$46,$C$4) | D30: =SUMIFS(Salidas!$E$7:$E$46,Salidas!$D$7:$D$46,B30,Salidas!$L$7:$L$46,$C$4) | E30: =SUMIFS(Salidas!$F$7:$F$46,Salidas!$D$7:$D$46,B30,Salidas!$L$7:$L$46,$C$4) | F30: =IF($D$31=0,"",D30/$D$31)
B31: Total | C31: =SUM(C26:C30) | D31: =SUM(D26:D30) | E31: =SUM(E26:E30) | F31: =IF(D31=0,"",SUM(F26:F30))
B32: Los tipos salen de la lista de la hoja «Listas» (oculta). Los datos de ejemplo son ficticios.

Sheet Salidas
B2: Registro de salidas en bici
B3: Una fila por salida: anota fecha, ruta, distancia, tiempo y desnivel. La velocidad media se calcula sola.
B4: Escribe el tiempo como h:mm (por ejemplo 1:55). Las columnas Año y Mes nº son ayudas de cálculo para el panel: no las modifiques.
B6: Fecha | C6: Ruta | D6: Tipo | E6: Distancia (km) | F6: Tiempo (h:mm) | G6: Desnivel + (m) | H6: Vel. media (km/h) | I6: Desnivel por km (m/km) | J6: Notas | K6: Destacada | L6: Año | M6: Mes nº
B7: 45577 | C7: Vuelta al embalse | D7: Carretera | E7: 48.2 | F7: 0.074108241 | G7: 520 | H7: =IF(OR(E7="",F7="",F7=0),"",E7/(F7*24)) | I7: =IF(OR(E7="",G7="",E7=0),"",G7/E7) | J7: Viento de cara a la vuelta | K7: =IF(E7="","",IF(E7=MAX($E$7:$E$46),"Más larga",IF(H7=MAX($H$7:$H$46),"Más rápida",IF(G7=MAX($G$7:$G$46),"Más desnivel","")))) | L7: =IF(B7="","",YEAR(B7)) | M7: =IF(B7="","",MONTH(B7))
B8: 45605 | C8: Camino de la sierra | D8: Gravel | E8: 36.5 | F8: 0.076809764 | G8: 610 | H8: =IF(OR(E8="",F8="",F8=0),"",E8/(F8*24)) | I8: =IF(OR(E8="",G8="",E8=0),"",G8/E8) | J8: Pista con barro | K8: =IF(E8="","",IF(E8=MAX($E$7:$E$46),"Más larga",IF(H8=MAX($H$7:$H$46),"Más rápida",IF(G8=MAX($G$7:$G$46),"Más desnivel","")))) | L8: =IF(B8="","",YEAR(B8)) | M8: =IF(B8="","",MONTH(B8))
B9: 45682 | C9: Vuelta al embalse | D9: Carretera | E9: 41 | F9: 0.068884409 | G9: 430 | H9: =IF(OR(E9="",F9="",F9=0),"",E9/(F9*24)) | I9: =IF(OR(E9="",G9="",E9=0),"",G9/E9) | J9: Primera salida del año | K9: =IF(E9="","",IF(E9=MAX($E$7:$E$46),"Más larga",IF(H9=MAX($H$7:$H$46),"Más rápida",IF(G9=MAX($G$7:$G$46),"Más desnivel","")))) | L9: =IF(B9="","",YEAR(B9)) | M9: =IF(B9="","",MONTH(B9))
B10: 45710 | C10: Camino de la sierra | D10: Gravel | E10: 38.2 | F10: 0.079187396 | G10: 540 | H10: =IF(OR(E10="",F10="",F10=0),"",E10/(F10*24)) | I10: =IF(OR(E10="",G10="",E10=0),"",G10/E10) | J10: Frío por la mañana | K10: =IF(E10="","",IF(E10=MAX($E$7:$E$46),"Más larga",IF(H10=MAX($H$7:$H$46),"Más rápida",IF(G10=MAX($G$7:$G$46),"Más desnivel","")))) | L10: =IF(B10="","",YEAR(B10)) | M10: =IF(B10="","",MONTH(B10))
B11: 45738 | C11: Puerto de la Cruz | D11: Carretera | E11: 61 | F11: 0.11098981 | G11: 1180 | H11: =IF(OR(E11="",F11="",F11=0),"",E11/(F11*24)) | I11: =IF(OR(E11="",G11="",E11=0),"",G11/E11) | J11: Subida de 9 km | K11: =IF(E11="","",IF(E11=MAX($E$7:$E$46),"Más larga",IF(H11=MAX($H$7:$H$46),"Más rápida",IF(G11=MAX($G$7:$G$46),"Más desnivel","")))) | L11: =IF(B11="","",YEAR(B11)) | M11: =IF(B11="","",MONTH(B11))
B12: 45759 | C12: Senda del pinar | D12: MTB | E12: 29.7 | F12: 0.079326923 | G12: 740 | H12: =IF(OR(E12="",F12="",F12=0),"",E12/(F12*24)) | I12: =IF(OR(E12="",G12="",E12=0),"",G12/E12) | K12: =IF(E12="","",IF(E12=MAX($E$7:$E$46),"Más larga",IF(H12=MAX($H$7:$H$46),"Más rápida",IF(G12=MAX($G$7:$G$46),"Más desnivel","")))) | L12: =IF(B12="","",YEAR(B12)) | M12: =IF(B12="","",MONTH(B12))
B13: 45774 | C13: Vuelta al embalse | D13: Carretera | E13: 55.3 | F13: 0.084093674 | G13: 575 | H13: =IF(OR(E13="",F13="",F13=0),"",E13/(F13*24)) | I13: =IF(OR(E13="",G13="",E13=0),"",G13/E13) | J13: Mejor media del embalse | K13: =IF(E13="","",IF(E13=MAX($E$7:$E$46),"Más larga",IF(H13=MAX($H$7:$H$46),"Más rápida",IF(G13=MAX($G$7:$G$46),"Más desnivel","")))) | L13: =IF(B13="","",YEAR(B13)) | M13: =IF(B13="","",MONTH(B13))
B14: 45808 | C14: Puerto de la Cruz | D14: Carretera | E14: 63.5 | F14: 0.11211158 | G14: 1195 | H14: =IF(OR(E14="",F14="",F14=0),"",E14/(F14*24)) | I14: =IF(OR(E14="",G14="",E14=0),"",G14/E14) | J14: Mejoré 4 minutos en la subida | K14: =IF(E14="","",IF(E14=MAX($E$7:$E$46),"Más larga",IF(H14=MAX($H$7:$H$46),"Más rápida",IF(G14=MAX($G$7:$G$46),"Más desnivel","")))) | L14: =IF(B14="","",YEAR(B14)) | M14: =IF(B14="","",MONTH(B14))
B15: 45822 | C15: Circuito del valle | D15: Carretera | E15: 78.2 | F15: 0.12484036 | G15: 910 | H15: =IF(OR(E15="",F15="",F15=0),"",E15/(F15*24)) | I15: =IF(OR(E15="",G15="",E15=0),"",G15/E15) | J15: Con el grupo del sábado | K15: =IF(E15="","",IF(E15=MAX($E$7:$E$46),"Más larga",IF(H15=MAX($H$7:$H$46),"Más rápida",IF(G15=MAX($G$7:$G$46),"Más desnivel","")))) | L15: =IF(B15="","",YEAR(B15)) | M15: =IF(B15="","",MONTH(B15))
B16: 45843 | C16: Rodillo en casa | D16: Rodillo | E16: 35 | F16: 0.049435028 | G16: 0 | H16: =IF(OR(E16="",F16="",F16=0),"",E16/(F16*24)) | I16: =IF(OR(E16="",G16="",E16=0),"",G16/E16) | J16: Día de calor | K16: =IF(E16="","",IF(E16=MAX($E$7:$E$46),"Más larga",IF(H16=MAX($H$7:$H$46),"Más rápida",IF(G16=MAX($G$7:$G$46),"Más desnivel","")))) | L16: =IF(B16="","",YEAR(B16)) | M16: =IF(B16="","",MONTH(B16))
B17: 45857 | C17: Ruta de los pueblos | D17: Carretera | E17: 92.6 | F17: 0.15190289 | G17: 1050 | H17: =IF(OR(E17="",F17="",F17=0),"",E17/(F17*24)) | I17: =IF(OR(E17="",G17="",E17=0),"",G17/E17) | J17: Salida a las 7:30 | K17: =IF(E17="","",IF(E17=MAX($E$7:$E$46),"Más larga",IF(H17=MAX($H$7:$H$46),"Más rápida",IF(G17=MAX($G$7:$G$46),"Más desnivel","")))) | L17: =IF(B17="","",YEAR(B17)) | M17: =IF(B17="","",MONTH(B17))
B18: 45892 | C18: Senda del pinar | D18: MTB | E18: 33.1 | F18: 0.084095528 | G18: 820 | H18: =IF(OR(E18="",F18="",F18=0),"",E18/(F18*24)) | I18: =IF(OR(E18="",G18="",E18=0),"",G18/E18) | K18: =IF(E18="","",IF(E18=MAX($E$7:$E$46),"Más larga",IF(H18=MAX($H$7:$H$46),"Más rápida",IF(G18=MAX($G$7:$G$46),"Más desnivel","")))) | L18: =IF(B18="","",YEAR(B18)) | M18: =IF(B18="","",MONTH(B18))
B19: 45913 | C19: Circuito del valle | D19: Carretera | E19: 81.4 | F19: 0.12608426 | G19: 935 | H19: =IF(OR(E19="",F19="",F19=0),"",E19/(F19*24)) | I19: =IF(OR(E19="",G19="",E19=0),"",G19/E19) | K19: =IF(E19="","",IF(E19=MAX($E$7:$E$46),"Más larga",IF(H19=MAX($H$7:$H$46),"Más rápida",IF(G19=MAX($G$7:$G$46),"Más desnivel","")))) | L19: =IF(B19="","",YEAR(B19)) | M19: =IF(B19="","",MONTH(B19))
B20: 45928 | C20: Ruta de los pueblos | D20: Carretera | E20: 95.3 | F20: 0.15331403 | G20: 1085 | H20: =IF(OR(E20="",F20="",F20=0),"",E20/(F20*24)) | I20: =IF(OR(E20="",G20="",E20=0),"",G20/E20) | J20: Salida más larga del año | K20: =IF(E20="","",IF(E20=MAX($E$7:$E$46),"Más larga",IF(H20=MAX($H$7:$H$46),"Más rápida",IF(G20=MAX($G$7:$G$46),"Más desnivel","")))) | L20: =IF(B20="","",YEAR(B20)) | M20: =IF(B20="","",MONTH(B20))
H21: =IF(OR(E21="",F21="",F21=0),"",E21/(F21*24)) | I21: =IF(OR(E21="",G21="",E21=0),"",G21/E21) | K21: =IF(E21="","",IF(E21=MAX($E$7:$E$46),"Más larga",IF(H21=MAX($H$7:$H$46),"Más rápida",IF(G21=MAX($G$7:$G$46),"Más desnivel","")))) | L21: =IF(B21="","",YEAR(B21)) | M21: =IF(B21="","",MONTH(B21))
H22: =IF(OR(E22="",F22="",F22=0),"",E22/(F22*24)) | I22: =IF(OR(E22="",G22="",E22=0),"",G22/E22) | K22: =IF(E22="","",IF(E22=MAX($E$7:$E$46),"Más larga",IF(H22=MAX($H$7:$H$46),"Más rápida",IF(G22=MAX($G$7:$G$46),"Más desnivel","")))) | L22: =IF(B22="","",YEAR(B22)) | M22: =IF(B22="","",MONTH(B22))
H23: =IF(OR(E23="",F23="",F23=0),"",E23/(F23*24)) | I23: =IF(OR(E23="",G23="",E23=0),"",G23/E23) | K23: =IF(E23="","",IF(E23=MAX($E$7:$E$46),"Más larga",IF(H23=MAX($H$7:$H$46),"Más rápida",IF(G23=MAX($G$7:$G$46),"Más desnivel","")))) | L23: =IF(B23="","",YEAR(B23)) | M23: =IF(B23="","",MONTH(B23))
H24: =IF(OR(E24="",F24="",F24=0),"",E24/(F24*24)) | I24: =IF(OR(E24="",G24="",E24=0),"",G24/E24) | K24: =IF(E24="","",IF(E24=MAX($E$7:$E$46),"Más larga",IF(H24=MAX($H$7:$H$46),"Más rápida",IF(G24=MAX($G$7:$G$46),"Más desnivel","")))) | L24: =IF(B24="","",YEAR(B24)) | M24: =IF(B24="","",MONTH(B24))
H25: =IF(OR(E25="",F25="",F25=0),"",E25/(F25*24)) | I25: =IF(OR(E25="",G25="",E25=0),"",G25/E25) | K25: =IF(E25="","",IF(E25=MAX($E$7:$E$46),"Más larga",IF(H25=MAX($H$7:$H$46),"Más rápida",IF(G25=MAX($G$7:$G$46),"Más desnivel","")))) | L25: =IF(B25="","",YEAR(B25)) | M25: =IF(B25="","",MONTH(B25))
H26: =IF(OR(E26="",F26="",F26=0),"",E26/(F26*24)) | I26: =IF(OR(E26="",G26="",E26=0),"",G26/E26) | K26: =IF(E26="","",IF(E26=MAX($E$7:$E$46),"Más larga",IF(H26=MAX($H$7:$H$46),"Más rápida",IF(G26=MAX($G$7:$G$46),"Más desnivel","")))) | L26: =IF(B26="","",YEAR(B26)) | M26: =IF(B26="","",MONTH(B26))
H27: =IF(OR(E27="",F27="",F27=0),"",E27/(F27*24)) | I27: =IF(OR(E27="",G27="",E27=0),"",G27/E27) | K27: =IF(E27="","",IF(E27=MAX($E$7:$E$46),"Más larga",IF(H27=MAX($H$7:$H$46),"Más rápida",IF(G27=MAX($G$7:$G$46),"Más desnivel","")))) | L27: =IF(B27="","",YEAR(B27)) | M27: =IF(B27="","",MONTH(B27))
H28: =IF(OR(E28="",F28="",F28=0),"",E28/(F28*24)) | I28: =IF(OR(E28="",G28="",E28=0),"",G28/E28) | K28: =IF(E28="","",IF(E28=MAX($E$7:$E$46),"Más larga",IF(H28=MAX($H$7:$H$46),"Más rápida",IF(G28=MAX($G$7:$G$46),"Más desnivel","")))) | L28: =IF(B28="","",YEAR(B28)) | M28: =IF(B28="","",MONTH(B28))
H29: =IF(OR(E29="",F29="",F29=0),"",E29/(F29*24)) | I29: =IF(OR(E29="",G29="",E29=0),"",G29/E29) | K29: =IF(E29="","",IF(E29=MAX($E$7:$E$46),"Más larga",IF(H29=MAX($H$7:$H$46),"Más rápida",IF(G29=MAX($G$7:$G$46),"Más desnivel","")))) | L29: =IF(B29="","",YEAR(B29)) | M29: =IF(B29="","",MONTH(B29))
H30: =IF(OR(E30="",F30="",F30=0),"",E30/(F30*24)) | I30: =IF(OR(E30="",G30="",E30=0),"",G30/E30) | K30: =IF(E30="","",IF(E30=MAX($E$7:$E$46),"Más larga",IF(H30=MAX($H$7:$H$46),"Más rápida",IF(G30=MAX($G$7:$G$46),"Más desnivel","")))) | L30: =IF(B30="","",YEAR(B30)) | M30: =IF(B30="","",MONTH(B30))
H31: =IF(OR(E31="",F31="",F31=0),"",E31/(F31*24)) | I31: =IF(OR(E31="",G31="",E31=0),"",G31/E31) | K31: =IF(E31="","",IF(E31=MAX($E$7:$E$46),"Más larga",IF(H31=MAX($H$7:$H$46),"Más rápida",IF(G31=MAX($G$7:$G$46),"Más desnivel","")))) | L31: =IF(B31="","",YEAR(B31)) | M31: =IF(B31="","",MONTH(B31))
H32: =IF(OR(E32="",F32="",F32=0),"",E32/(F32*24)) | I32: =IF(OR(E32="",G32="",E32=0),"",G32/E32) | K32: =IF(E32="","",IF(E32=MAX($E$7:$E$46),"Más larga",IF(H32=MAX($H$7:$H$46),"Más rápida",IF(G32=MAX($G$7:$G$46),"Más desnivel","")))) | L32: =IF(B32="","",YEAR(B32)) | M32: =IF(B32="","",MONTH(B32))
... H46: =IF(OR(E46="",F46="",F46=0),"",E46/(F46*24)) | I46: =IF(OR(E46="",G46="",E46=0),"",G46/E46) | K46: =IF(E46="","",IF(E46=MAX($E$7:$E$46),"Más larga",IF(H46=MAX($H$7:$H$46),"Más rápida",IF(G46=MAX($G$7:$G$46),"Más desnivel","")))) | L46: =IF(B46="","",YEAR(B46)) | M46: =IF(B46="","",MONTH(B46))
B48: En verde, las salidas con velocidad media por encima de tu media global. Hay 40 filas preparadas; si necesitas más, desprotege la hoja y copia la última fila.

Sheet Mensual
B2: Totales por mes
B3: Km, tiempo y desnivel de cada mes del año elegido en el Panel, con comparación con el año anterior y con tu objetivo.
B4: Año: | C4: =Panel!C4 | D4: Año anterior: | E4: =Panel!C4-1
B6: Mes | C6: Salidas | D6: Km del año | E6: Km año anterior | F6: Var. km | G6: Horas | H6: Desnivel + (m) | I6: Vel. media (km/h) | J6: Km por salida | K6: Km acumulados | L6: Objetivo acumulado
B7: Ene | C7: =COUNTIFS(Salidas!$L$7:$L$46,$C$4,Salidas!$M$7:$M$46,ROWS($B$7:$B7)) | D7: =SUMIFS(Salidas!$E$7:$E$46,Salidas!$L$7:$L$46,$C$4,Salidas!$M$7:$M$46,ROWS($B$7:$B7)) | E7: =SUMIFS(Salidas!$E$7:$E$46,Salidas!$L$7:$L$46,$E$4,Salidas!$M$7:$M$46,ROWS($B$7:$B7)) | F7: =IF(OR(D7=0,E7=0),"",D7/E7-1) | G7: =SUMIFS(Salidas!$F$7:$F$46,Salidas!$L$7:$L$46,$C$4,Salidas!$M$7:$M$46,ROWS($B$7:$B7)) | H7: =SUMIFS(Salidas!$G$7:$G$46,Salidas!$L$7:$L$46,$C$4,Salidas!$M$7:$M$46,ROWS($B$7:$B7)) | I7: =IF(G7=0,"",D7/(G7*24)) | J7: =IF(C7=0,"",D7/C7) | K7: =SUM($D$7:D7) | L7: =Panel!$G$4/12*ROWS($B$7:$B7)
B8: Feb | C8: =COUNTIFS(Salidas!$L$7:$L$46,$C$4,Salidas!$M$7:$M$46,ROWS($B$7:$B8)) | D8: =SUMIFS(Salidas!$E$7:$E$46,Salidas!$L$7:$L$46,$C$4,Salidas!$M$7:$M$46,ROWS($B$7:$B8)) | E8: =SUMIFS(Salidas!$E$7:$E$46,Salidas!$L$7:$L$46,$E$4,Salidas!$M$7:$M$46,ROWS($B$7:$B8)) | F8: =IF(OR(D8=0,E8=0),"",D8/E8-1) | G8: =SUMIFS(Salidas!$F$7:$F$46,Salidas!$L$7:$L$46,$C$4,Salidas!$M$7:$M$46,ROWS($B$7:$B8)) | H8: =SUMIFS(Salidas!$G$7:$G$46,Salidas!$L$7:$L$46,$C$4,Salidas!$M$7:$M$46,ROWS($B$7:$B8)) | I8: =IF(G8=0,"",D8/(G8*24)) | J8: =IF(C8=0,"",D8/C8) | K8: =SUM($D$7:D8) | L8: =Panel!$G$4/12*ROWS($B$7:$B8)
B9: Mar | C9: =COUNTIFS(Salidas!$L$7:$L$46,$C$4,Salidas!$M$7:$M$46,ROWS($B$7:$B9)) | D9: =SUMIFS(Salidas!$E$7:$E$46,Salidas!$L$7:$L$46,$C$4,Salidas!$M$7:$M$46,ROWS($B$7:$B9)) | E9: =SUMIFS(Salidas!$E$7:$E$46,Salidas!$L$7:$L$46,$E$4,Salidas!$M$7:$M$46,ROWS($B$7:$B9)) | F9: =IF(OR(D9=0,E9=0),"",D9/E9-1) | G9: =SUMIFS(Salidas!$F$7:$F$46,Salidas!$L$7:$L$46,$C$4,Salidas!$M$7:$M$46,ROWS($B$7:$B9)) | H9: =SUMIFS(Salidas!$G$7:$G$46,Salidas!$L$7:$L$46,$C$4,Salidas!$M$7:$M$46,ROWS($B$7:$B9)) | I9: =IF(G9=0,"",D9/(G9*24)) | J9: =IF(C9=0,"",D9/C9) | K9: =SUM($D$7:D9) | L9: =Panel!$G$4/12*ROWS($B$7:$B9)
B10: Abr | C10: =COUNTIFS(Salidas!$L$7:$L$46,$C$4,Salidas!$M$7:$M$46,ROWS($B$7:$B10)) | D10: =SUMIFS(Salidas!$E$7:$E$46,Salidas!$L$7:$L$46,$C$4,Salidas!$M$7:$M$46,ROWS($B$7:$B10)) | E10: =SUMIFS(Salidas!$E$7:$E$46,Salidas!$L$7:$L$46,$E$4,Salidas!$M$7:$M$46,ROWS($B$7:$B10)) | F10: =IF(OR(D10=0,E10=0),"",D10/E10-1) | G10: =SUMIFS(Salidas!$F$7:$F$46,Salidas!$L$7:$L$46,$C$4,Salidas!$M$7:$M$46,ROWS($B$7:$B10)) | H10: =SUMIFS(Salidas!$G$7:$G$46,Salidas!$L$7:$L$46,$C$4,Salidas!$M$7:$M$46,ROWS($B$7:$B10)) | I10: =IF(G10=0,"",D10/(G10*24)) | J10: =IF(C10=0,"",D10/C10) | K10: =SUM($D$7:D10) | L10: =Panel!$G$4/12*ROWS($B$7:$B10)
B11: May | C11: =COUNTIFS(Salidas!$L$7:$L$46,$C$4,Salidas!$M$7:$M$46,ROWS($B$7:$B11)) | D11: =SUMIFS(Salidas!$E$7:$E$46,Salidas!$L$7:$L$46,$C$4,Salidas!$M$7:$M$46,ROWS($B$7:$B11)) | E11: =SUMIFS(Salidas!$E$7:$E$46,Salidas!$L$7:$L$46,$E$4,Salidas!$M$7:$M$46,ROWS($B$7:$B11)) | F11: =IF(OR(D11=0,E11=0),"",D11/E11-1) | G11: =SUMIFS(Salidas!$F$7:$F$46,Salidas!$L$7:$L$46,$C$4,Salidas!$M$7:$M$46,ROWS($B$7:$B11)) | H11: =SUMIFS(Salidas!$G$7:$G$46,Salidas!$L$7:$L$46,$C$4,Salidas!$M$7:$M$46,ROWS($B$7:$B11)) | I11: =IF(G11=0,"",D11/(G11*24)) | J11: =IF(C11=0,"",D11/C11) | K11: =SUM($D$7:D11) | L11: =Panel!$G$4/12*ROWS($B$7:$B11)
B12: Jun | C12: =COUNTIFS(Salidas!$L$7:$L$46,$C$4,Salidas!$M$7:$M$46,ROWS($B$7:$B12)) | D12: =SUMIFS(Salidas!$E$7:$E$46,Salidas!$L$7:$L$46,$C$4,Salidas!$M$7:$M$46,ROWS($B$7:$B12)) | E12: =SUMIFS(Salidas!$E$7:$E$46,Salidas!$L$7:$L$46,$E$4,Salidas!$M$7:$M$46,ROWS($B$7:$B12)) | F12: =IF(OR(D12=0,E12=0),"",D12/E12-1) | G12: =SUMIFS(Salidas!$F$7:$F$46,Salidas!$L$7:$L$46,$C$4,Salidas!$M$7:$M$46,ROWS($B$7:$B12)) | H12: =SUMIFS(Salidas!$G$7:$G$46,Salidas!$L$7:$L$46,$C$4,Salidas!$M$7:$M$46,ROWS($B$7:$B12)) | I12: =IF(G12=0,"",D12/(G12*24)) | J12: =IF(C12=0,"",D12/C12) | K12: =SUM($D$7:D12) | L12: =Panel!$G$4/12*ROWS($B$7:$B12)
B13: Jul | C13: =COUNTIFS(Salidas!$L$7:$L$46,$C$4,Salidas!$M$7:$M$46,ROWS($B$7:$B13)) | D13: =SUMIFS(Salidas!$E$7:$E$46,Salidas!$L$7:$L$46,$C$4,Salidas!$M$7:$M$46,ROWS($B$7:$B13)) | E13: =SUMIFS(Salidas!$E$7:$E$46,Salidas!$L$7:$L$46,$E$4,Salidas!$M$7:$M$46,ROWS($B$7:$B13)) | F13: =IF(OR(D13=0,E13=0),"",D13/E13-1) | G13: =SUMIFS(Salidas!$F$7:$F$46,Salidas!$L$7:$L$46,$C$4,Salidas!$M$7:$M$46,ROWS($B$7:$B13)) | H13: =SUMIFS(Salidas!$G$7:$G$46,Salidas!$L$7:$L$46,$C$4,Salidas!$M$7:$M$46,ROWS($B$7:$B13)) | I13: =IF(G13=0,"",D13/(G13*24)) | J13: =IF(C13=0,"",D13/C13) | K13: =SUM($D$7:D13) | L13: =Panel!$G$4/12*ROWS($B$7:$B13)
B14: Ago | C14: =COUNTIFS(Salidas!$L$7:$L$46,$C$4,Salidas!$M$7:$M$46,ROWS($B$7:$B14)) | D14: =SUMIFS(Salidas!$E$7:$E$46,Salidas!$L$7:$L$46,$C$4,Salidas!$M$7:$M$46,ROWS($B$7:$B14)) | E14: =SUMIFS(Salidas!$E$7:$E$46,Salidas!$L$7:$L$46,$E$4,Salidas!$M$7:$M$46,ROWS($B$7:$B14)) | F14: =IF(OR(D14=0,E14=0),"",D14/E14-1) | G14: =SUMIFS(Salidas!$F$7:$F$46,Salidas!$L$7:$L$46,$C$4,Salidas!$M$7:$M$46,ROWS($B$7:$B14)) | H14: =SUMIFS(Salidas!$G$7:$G$46,Salidas!$L$7:$L$46,$C$4,Salidas!$M$7:$M$46,ROWS($B$7:$B14)) | I14: =IF(G14=0,"",D14/(G14*24)) | J14: =IF(C14=0,"",D14/C14) | K14: =SUM($D$7:D14) | L14: =Panel!$G$4/12*ROWS($B$7:$B14)
B15: Sep | C15: =COUNTIFS(Salidas!$L$7:$L$46,$C$4,Salidas!$M$7:$M$46,ROWS($B$7:$B15)) | D15: =SUMIFS(Salidas!$E$7:$E$46,Salidas!$L$7:$L$46,$C$4,Salidas!$M$7:$M$46,ROWS($B$7:$B15)) | E15: =SUMIFS(Salidas!$E$7:$E$46,Salidas!$L$7:$L$46,$E$4,Salidas!$M$7:$M$46,ROWS($B$7:$B15)) | F15: =IF(OR(D15=0,E15=0),"",D15/E15-1) | G15: =SUMIFS(Salidas!$F$7:$F$46,Salidas!$L$7:$L$46,$C$4,Salidas!$M$7:$M$46,ROWS($B$7:$B15)) | H15: =SUMIFS(Salidas!$G$7:$G$46,Salidas!$L$7:$L$46,$C$4,Salidas!$M$7:$M$46,ROWS($B$7:$B15)) | I15: =IF(G15=0,"",D15/(G15*24)) | J15: =IF(C15=0,"",D15/C15) | K15: =SUM($D$7:D15) | L15: =Panel!$G$4/12*ROWS($B$7:$B15)
B16: Oct | C16: =COUNTIFS(Salidas!$L$7:$L$46,$C$4,Salidas!$M$7:$M$46,ROWS($B$7:$B16)) | D16: =SUMIFS(Salidas!$E$7:$E$46,Salidas!$L$7:$L$46,$C$4,Salidas!$M$7:$M$46,ROWS($B$7:$B16)) | E16: =SUMIFS(Salidas!$E$7:$E$46,Salidas!$L$7:$L$46,$E$4,Salidas!$M$7:$M$46,ROWS($B$7:$B16)) | F16: =IF(OR(D16=0,E16=0),"",D16/E16-1) | G16: =SUMIFS(Salidas!$F$7:$F$46,Salidas!$L$7:$L$46,$C$4,Salidas!$M$7:$M$46,ROWS($B$7:$B16)) | H16: =SUMIFS(Salidas!$G$7:$G$46,Salidas!$L$7:$L$46,$C$4,Salidas!$M$7:$M$46,ROWS($B$7:$B16)) | I16: =IF(G16=0,"",D16/(G16*24)) | J16: =IF(C16=0,"",D16/C16) | K16: =SUM($D$7:D16) | L16: =Panel!$G$4/12*ROWS($B$7:$B16)
B17: Nov | C17: =COUNTIFS(Salidas!$L$7:$L$46,$C$4,Salidas!$M$7:$M$46,ROWS($B$7:$B17)) | D17: =SUMIFS(Salidas!$E$7:$E$46,Salidas!$L$7:$L$46,$C$4,Salidas!$M$7:$M$46,ROWS($B$7:$B17)) | E17: =SUMIFS(Salidas!$E$7:$E$46,Salidas!$L$7:$L$46,$E$4,Salidas!$M$7:$M$46,ROWS($B$7:$B17)) | F17: =IF(OR(D17=0,E17=0),"",D17/E17-1) | G17: =SUMIFS(Salidas!$F$7:$F$46,Salidas!$L$7:$L$46,$C$4,Salidas!$M$7:$M$46,ROWS($B$7:$B17)) | H17: =SUMIFS(Salidas!$G$7:$G$46,Salidas!$L$7:$L$46,$C$4,Salidas!$M$7:$M$46,ROWS($B$7:$B17)) | I17: =IF(G17=0,"",D17/(G17*24)) | J17: =IF(C17=0,"",D17/C17) | K17: =SUM($D$7:D17) | L17: =Panel!$G$4/12*ROWS($B$7:$B17)
B18: Dic | C18: =COUNTIFS(Salidas!$L$7:$L$46,$C$4,Salidas!$M$7:$M$46,ROWS($B$7:$B18)) | D18: =SUMIFS(Salidas!$E$7:$E$46,Salidas!$L$7:$L$46,$C$4,Salidas!$M$7:$M$46,ROWS($B$7:$B18)) | E18: =SUMIFS(Salidas!$E$7:$E$46,Salidas!$L$7:$L$46,$E$4,Salidas!$M$7:$M$46,ROWS($B$7:$B18)) | F18: =IF(OR(D18=0,E18=0),"",D18/E18-1) | G18: =SUMIFS(Salidas!$F$7:$F$46,Salidas!$L$7:$L$46,$C$4,Salidas!$M$7:$M$46,ROWS($B$7:$B18)) | H18: =SUMIFS(Salidas!$G$7:$G$46,Salidas!$L$7:$L$46,$C$4,Salidas!$M$7:$M$46,ROWS($B$7:$B18)) | I18: =IF(G18=0,"",D18/(G18*24)) | J18: =IF(C18=0,"",D18/C18) | K18: =SUM($D$7:D18) | L18: =Panel!$G$4/12*ROWS($B$7:$B18)
B19: Total | C19: =SUM(C7:C18) | D19: =SUM(D7:D18) | E19: =SUM(E7:E18) | F19: =IF(OR(D19=0,E19=0),"",D19/E19-1) | G19: =SUM(G7:G18) | H19: =SUM(H7:H18) | I19: =IF(G19=0,"",D19/(G19*24)) | J19: =IF(C19=0,"",D19/C19)
B21: Verde en «Var. km» = has rodado más que el mismo mes del año anterior. Verde en «Km acumulados» = vas por delante del ritmo necesario para tu objetivo anual.

Sheet Listas
A1: Tipo
A2: Carretera
A3: MTB
A4: Gravel
A5: Urbana
A6: Rodillo

Sheet Instrucciones
B2: Cómo usar el registro de salidas en bici
B3: Plantilla gratuita de Plantillas de Cálculo · plantillasdecalculo.com
B5: CÓMO USARLA
B6: 1. Abre la hoja «Salidas»: cada fila es una salida. Sustituye los datos de ejemplo (ficticios) por los tuyos; las filas vacías hasta la 46 ya tienen sus fórmulas.
B7: 2. Rellena las celdas crema: fecha, ruta, tipo (desplegable), distancia en km, tiempo como h:mm (por ejemplo 2:10), desnivel positivo en metros y notas si quieres.
B8: 3. Las columnas verdes calculan solas la velocidad media (km ÷ horas), el desnivel por km y marcan la salida más larga, más rápida o con más desnivel.
B9: 4. Ve a «Panel» y elige el año a analizar y tu objetivo anual de km. Los KPI, las tablas y los gráficos se recalculan al instante.
B10: 5. Consulta en «Mensual» los km, horas, desnivel y velocidad de cada mes, comparados con el año anterior y con el ritmo necesario para cumplir tu objetivo.
B11: 6. En el Panel, revisa «Mejores salidas» para ver tus récords personales (con fecha, ruta y tipo) y «Reparto por tipo» para ver cuánto ruedas en carretera, MTB, gravel, etc.
B12: 7. Para añadir un tipo de salida distinto, muestra la hoja oculta «Listas» (clic derecho en una pestaña > Mostrar) y edita la lista; el Panel usa esos nombres.
B13: 8. Si superas las 40 filas, desprotege «Salidas» (Revisar > Desproteger hoja, sin contraseña), copia la última fila hacia abajo y amplía los rangos de las fórmulas.
B15: CONSEJOS
... B24: Plantilla de registro y organización de tus salidas. No sustituye el consejo de un entrenador ni de un profesional sanitario, y no prescribe planes de entrenamiento. Los datos de ejemplo son ficticios.
