Workbook

Sheet Panel
B2: Panel de hidratación
B3: Resumen automático de tu registro: objetivo, medias, racha y reparto por franja del día.
B5: OBJETIVO DIARIO | D5: MEDIA DIARIA | F5: % MEDIO DEL OBJETIVO | H5: DÍAS CUMPLIDOS
B6: =Registro!D5 | D6: =IFERROR(AVERAGE(Registro!H8:H47),0) | F6: =IFERROR(D6/B6,0) | H6: =COUNTIF(Registro!K8:K47,"Cumplido")
B8: RACHA ACTUAL | D8: MEJOR RACHA | F8: MEDIA ÚLTIMOS 7 DÍAS | H8: TOTAL ACUMULADO
B9: =IF(COUNT(Registro!B8:B47)=0,0,INDEX(Registro!L8:L47,COUNT(Registro!B8:B47))) | D9: =MAX(Registro!L8:L47) | F9: =IF(COUNT(Registro!B8:B47)=0,0,AVERAGE(INDEX(Registro!H8:H47,MAX(1,COUNT(Registro!B8:B47)-6)):INDEX(Registro!H8:H47,COUNT(Registro!B8:B47)))) | H9: =SUM(Registro!H8:H47)/1000
B11: Resumen por semanas naturales (lunes a domingo)
B12: Semana | C12: Desde | D12: Hasta | E12: Días con registro | F12: Total (ml) | G12: Media (ml/día) | H12: % del objetivo | I12: Días cumplidos
B13: Sem. 1 | C13: =IF(Registro!B8="","",Registro!B8-WEEKDAY(Registro!B8,2)+1) | D13: =IF(C13="","",C13+6) | E13: =IF(C13="","",COUNTIFS(Registro!$B$8:$B$47,">="&C13,Registro!$B$8:$B$47,"<="&D13)) | F13: =IF(C13="","",SUMIFS(Registro!$H$8:$H$47,Registro!$B$8:$B$47,">="&C13,Registro!$B$8:$B$47,"<="&D13)) | G13: =IF(C13="","",IF(E13=0,0,F13/E13)) | H13: =IF(C13="","",G13/Registro!$D$5) | I13: =IF(C13="","",COUNTIFS(Registro!$B$8:$B$47,">="&C13,Registro!$B$8:$B$47,"<="&D13,Registro!$K$8:$K$47,"Cumplido"))
B14: Sem. 2 | C14: =IF(C13="","",IF(C13+7>MAX(Registro!$B$8:$B$47),"",C13+7)) | D14: =IF(C14="","",C14+6) | E14: =IF(C14="","",COUNTIFS(Registro!$B$8:$B$47,">="&C14,Registro!$B$8:$B$47,"<="&D14)) | F14: =IF(C14="","",SUMIFS(Registro!$H$8:$H$47,Registro!$B$8:$B$47,">="&C14,Registro!$B$8:$B$47,"<="&D14)) | G14: =IF(C14="","",IF(E14=0,0,F14/E14)) | H14: =IF(C14="","",G14/Registro!$D$5) | I14: =IF(C14="","",COUNTIFS(Registro!$B$8:$B$47,">="&C14,Registro!$B$8:$B$47,"<="&D14,Registro!$K$8:$K$47,"Cumplido"))
B15: Sem. 3 | C15: =IF(C14="","",IF(C14+7>MAX(Registro!$B$8:$B$47),"",C14+7)) | D15: =IF(C15="","",C15+6) | E15: =IF(C15="","",COUNTIFS(Registro!$B$8:$B$47,">="&C15,Registro!$B$8:$B$47,"<="&D15)) | F15: =IF(C15="","",SUMIFS(Registro!$H$8:$H$47,Registro!$B$8:$B$47,">="&C15,Registro!$B$8:$B$47,"<="&D15)) | G15: =IF(C15="","",IF(E15=0,0,F15/E15)) | H15: =IF(C15="","",G15/Registro!$D$5) | I15: =IF(C15="","",COUNTIFS(Registro!$B$8:$B$47,">="&C15,Registro!$B$8:$B$47,"<="&D15,Registro!$K$8:$K$47,"Cumplido"))
B16: Sem. 4 | C16: =IF(C15="","",IF(C15+7>MAX(Registro!$B$8:$B$47),"",C15+7)) | D16: =IF(C16="","",C16+6) | E16: =IF(C16="","",COUNTIFS(Registro!$B$8:$B$47,">="&C16,Registro!$B$8:$B$47,"<="&D16)) | F16: =IF(C16="","",SUMIFS(Registro!$H$8:$H$47,Registro!$B$8:$B$47,">="&C16,Registro!$B$8:$B$47,"<="&D16)) | G16: =IF(C16="","",IF(E16=0,0,F16/E16)) | H16: =IF(C16="","",G16/Registro!$D$5) | I16: =IF(C16="","",COUNTIFS(Registro!$B$8:$B$47,">="&C16,Registro!$B$8:$B$47,"<="&D16,Registro!$K$8:$K$47,"Cumplido"))
B17: Sem. 5 | C17: =IF(C16="","",IF(C16+7>MAX(Registro!$B$8:$B$47),"",C16+7)) | D17: =IF(C17="","",C17+6) | E17: =IF(C17="","",COUNTIFS(Registro!$B$8:$B$47,">="&C17,Registro!$B$8:$B$47,"<="&D17)) | F17: =IF(C17="","",SUMIFS(Registro!$H$8:$H$47,Registro!$B$8:$B$47,">="&C17,Registro!$B$8:$B$47,"<="&D17)) | G17: =IF(C17="","",IF(E17=0,0,F17/E17)) | H17: =IF(C17="","",G17/Registro!$D$5) | I17: =IF(C17="","",COUNTIFS(Registro!$B$8:$B$47,">="&C17,Registro!$B$8:$B$47,"<="&D17,Registro!$K$8:$K$47,"Cumplido"))
B18: Sem. 6 | C18: =IF(C17="","",IF(C17+7>MAX(Registro!$B$8:$B$47),"",C17+7)) | D18: =IF(C18="","",C18+6) | E18: =IF(C18="","",COUNTIFS(Registro!$B$8:$B$47,">="&C18,Registro!$B$8:$B$47,"<="&D18)) | F18: =IF(C18="","",SUMIFS(Registro!$H$8:$H$47,Registro!$B$8:$B$47,">="&C18,Registro!$B$8:$B$47,"<="&D18)) | G18: =IF(C18="","",IF(E18=0,0,F18/E18)) | H18: =IF(C18="","",G18/Registro!$D$5) | I18: =IF(C18="","",COUNTIFS(Registro!$B$8:$B$47,">="&C18,Registro!$B$8:$B$47,"<="&D18,Registro!$K$8:$K$47,"Cumplido"))
B19: Sem. 7 | C19: =IF(C18="","",IF(C18+7>MAX(Registro!$B$8:$B$47),"",C18+7)) | D19: =IF(C19="","",C19+6) | E19: =IF(C19="","",COUNTIFS(Registro!$B$8:$B$47,">="&C19,Registro!$B$8:$B$47,"<="&D19)) | F19: =IF(C19="","",SUMIFS(Registro!$H$8:$H$47,Registro!$B$8:$B$47,">="&C19,Registro!$B$8:$B$47,"<="&D19)) | G19: =IF(C19="","",IF(E19=0,0,F19/E19)) | H19: =IF(C19="","",G19/Registro!$D$5) | I19: =IF(C19="","",COUNTIFS(Registro!$B$8:$B$47,">="&C19,Registro!$B$8:$B$47,"<="&D19,Registro!$K$8:$K$47,"Cumplido"))
B21: Reparto por franja del día
B22: Franja | C22: Total (ml) | D22: % del total | E22: Media (ml/día)
B23: =SUBSTITUTE(Registro!D7," (ml)","") | C23: =SUM(Registro!D8:D47) | D23: =IF(SUM($C$23:$C$26)=0,0,C23/SUM($C$23:$C$26)) | E23: =IF(COUNT(Registro!B8:B47)=0,0,C23/COUNT(Registro!B8:B47))
B24: =SUBSTITUTE(Registro!E7," (ml)","") | C24: =SUM(Registro!E8:E47) | D24: =IF(SUM($C$23:$C$26)=0,0,C24/SUM($C$23:$C$26)) | E24: =IF(COUNT(Registro!B8:B47)=0,0,C24/COUNT(Registro!B8:B47))
B25: =SUBSTITUTE(Registro!F7," (ml)","") | C25: =SUM(Registro!F8:F47) | D25: =IF(SUM($C$23:$C$26)=0,0,C25/SUM($C$23:$C$26)) | E25: =IF(COUNT(Registro!B8:B47)=0,0,C25/COUNT(Registro!B8:B47))
B26: =SUBSTITUTE(Registro!G7," (ml)","") | C26: =SUM(Registro!G8:G47) | D26: =IF(SUM($C$23:$C$26)=0,0,C26/SUM($C$23:$C$26)) | E26: =IF(COUNT(Registro!B8:B47)=0,0,C26/COUNT(Registro!B8:B47))
B27: Total | C27: =SUM(C23:C26) | D27: =SUM(D23:D26) | E27: =SUM(E23:E26)

Sheet Registro
B2: Registro diario de hidratación
B3: Anota los ml (o vasos) de cada franja del día. Todo lo demás se calcula solo. Solo registro personal, sin consejos médicos.
B5: Objetivo diario (ml) | D5: 2000 | E5: ml por vaso | G5: 250 | H5: Umbral «casi» (%) | J5: 0.8 | K5: ← valores editables
B7: Fecha | C7: Día | D7: Mañana (ml) | E7: Mediodía (ml) | F7: Tarde (ml) | G7: Noche (ml) | H7: Total (ml) | I7: Vasos | J7: % objetivo | K7: Estado | L7: Racha (días) | M7: Nota
B8: 46283 | C8: =IF(B8="","",MID("LunMarMiéJueVieSábDom",(WEEKDAY(B8,2)-1)*3+1,3)) | D8: 400 | E8: 350 | F8: 500 | G8: 450 | H8: =IF(B8="","",SUM(D8:G8)) | I8: =IF(H8="","",ROUND(H8/$G$5,1)) | J8: =IF(H8="","",H8/$D$5) | K8: =IF(J8="","",IF(J8>=1,"Cumplido",IF(J8>=$J$5,"Casi","Pendiente"))) | L8: =IF(B8="","",IF(J8>=1,1,0))
B9: 46284 | C9: =IF(B9="","",MID("LunMarMiéJueVieSábDom",(WEEKDAY(B9,2)-1)*3+1,3)) | D9: 500 | E9: 400 | F9: 600 | G9: 500 | H9: =IF(B9="","",SUM(D9:G9)) | I9: =IF(H9="","",ROUND(H9/$G$5,1)) | J9: =IF(H9="","",H9/$D$5) | K9: =IF(J9="","",IF(J9>=1,"Cumplido",IF(J9>=$J$5,"Casi","Pendiente"))) | L9: =IF(B9="","",IF(J9>=1,IF(B9-B8=1,N(L8)+1,1),0)) | M9: Día de oficina
B10: 46285 | C10: =IF(B10="","",MID("LunMarMiéJueVieSábDom",(WEEKDAY(B10,2)-1)*3+1,3)) | D10: 450 | E10: 500 | F10: 550 | G10: 600 | H10: =IF(B10="","",SUM(D10:G10)) | I10: =IF(H10="","",ROUND(H10/$G$5,1)) | J10: =IF(H10="","",H10/$D$5) | K10: =IF(J10="","",IF(J10>=1,"Cumplido",IF(J10>=$J$5,"Casi","Pendiente"))) | L10: =IF(B10="","",IF(J10>=1,IF(B10-B9=1,N(L9)+1,1),0))
B11: 46286 | C11: =IF(B11="","",MID("LunMarMiéJueVieSábDom",(WEEKDAY(B11,2)-1)*3+1,3)) | D11: 300 | E11: 300 | F11: 400 | G11: 350 | H11: =IF(B11="","",SUM(D11:G11)) | I11: =IF(H11="","",ROUND(H11/$G$5,1)) | J11: =IF(H11="","",H11/$D$5) | K11: =IF(J11="","",IF(J11>=1,"Cumplido",IF(J11>=$J$5,"Casi","Pendiente"))) | L11: =IF(B11="","",IF(J11>=1,IF(B11-B10=1,N(L10)+1,1),0)) | M11: Reunión larga, se me olvidó
B12: 46287 | C12: =IF(B12="","",MID("LunMarMiéJueVieSábDom",(WEEKDAY(B12,2)-1)*3+1,3)) | D12: 500 | E12: 450 | F12: 550 | G12: 500 | H12: =IF(B12="","",SUM(D12:G12)) | I12: =IF(H12="","",ROUND(H12/$G$5,1)) | J12: =IF(H12="","",H12/$D$5) | K12: =IF(J12="","",IF(J12>=1,"Cumplido",IF(J12>=$J$5,"Casi","Pendiente"))) | L12: =IF(B12="","",IF(J12>=1,IF(B12-B11=1,N(L11)+1,1),0))
B13: 46288 | C13: =IF(B13="","",MID("LunMarMiéJueVieSábDom",(WEEKDAY(B13,2)-1)*3+1,3)) | D13: 600 | E13: 500 | F13: 500 | G13: 450 | H13: =IF(B13="","",SUM(D13:G13)) | I13: =IF(H13="","",ROUND(H13/$G$5,1)) | J13: =IF(H13="","",H13/$D$5) | K13: =IF(J13="","",IF(J13>=1,"Cumplido",IF(J13>=$J$5,"Casi","Pendiente"))) | L13: =IF(B13="","",IF(J13>=1,IF(B13-B12=1,N(L12)+1,1),0)) | M13: Paseo largo
B14: 46289 | C14: =IF(B14="","",MID("LunMarMiéJueVieSábDom",(WEEKDAY(B14,2)-1)*3+1,3)) | D14: 550 | E14: 400 | F14: 600 | G14: 550 | H14: =IF(B14="","",SUM(D14:G14)) | I14: =IF(H14="","",ROUND(H14/$G$5,1)) | J14: =IF(H14="","",H14/$D$5) | K14: =IF(J14="","",IF(J14>=1,"Cumplido",IF(J14>=$J$5,"Casi","Pendiente"))) | L14: =IF(B14="","",IF(J14>=1,IF(B14-B13=1,N(L13)+1,1),0))
B15: 46290 | C15: =IF(B15="","",MID("LunMarMiéJueVieSábDom",(WEEKDAY(B15,2)-1)*3+1,3)) | D15: 350 | E15: 300 | F15: 450 | G15: 400 | H15: =IF(B15="","",SUM(D15:G15)) | I15: =IF(H15="","",ROUND(H15/$G$5,1)) | J15: =IF(H15="","",H15/$D$5) | K15: =IF(J15="","",IF(J15>=1,"Cumplido",IF(J15>=$J$5,"Casi","Pendiente"))) | L15: =IF(B15="","",IF(J15>=1,IF(B15-B14=1,N(L14)+1,1),0)) | M15: Lunes liado
B16: 46291 | C16: =IF(B16="","",MID("LunMarMiéJueVieSábDom",(WEEKDAY(B16,2)-1)*3+1,3)) | D16: 500 | E16: 500 | F16: 500 | G16: 500 | H16: =IF(B16="","",SUM(D16:G16)) | I16: =IF(H16="","",ROUND(H16/$G$5,1)) | J16: =IF(H16="","",H16/$D$5) | K16: =IF(J16="","",IF(J16>=1,"Cumplido",IF(J16>=$J$5,"Casi","Pendiente"))) | L16: =IF(B16="","",IF(J16>=1,IF(B16-B15=1,N(L15)+1,1),0))
B17: 46292 | C17: =IF(B17="","",MID("LunMarMiéJueVieSábDom",(WEEKDAY(B17,2)-1)*3+1,3)) | D17: 450 | E17: 550 | F17: 500 | G17: 550 | H17: =IF(B17="","",SUM(D17:G17)) | I17: =IF(H17="","",ROUND(H17/$G$5,1)) | J17: =IF(H17="","",H17/$D$5) | K17: =IF(J17="","",IF(J17>=1,"Cumplido",IF(J17>=$J$5,"Casi","Pendiente"))) | L17: =IF(B17="","",IF(J17>=1,IF(B17-B16=1,N(L16)+1,1),0))
B18: 46293 | C18: =IF(B18="","",MID("LunMarMiéJueVieSábDom",(WEEKDAY(B18,2)-1)*3+1,3)) | D18: 500 | E18: 450 | F18: 600 | G18: 500 | H18: =IF(B18="","",SUM(D18:G18)) | I18: =IF(H18="","",ROUND(H18/$G$5,1)) | J18: =IF(H18="","",H18/$D$5) | K18: =IF(J18="","",IF(J18>=1,"Cumplido",IF(J18>=$J$5,"Casi","Pendiente"))) | L18: =IF(B18="","",IF(J18>=1,IF(B18-B17=1,N(L17)+1,1),0))
B19: 46294 | C19: =IF(B19="","",MID("LunMarMiéJueVieSábDom",(WEEKDAY(B19,2)-1)*3+1,3)) | D19: 400 | E19: 500 | F19: 450 | G19: 500 | H19: =IF(B19="","",SUM(D19:G19)) | I19: =IF(H19="","",ROUND(H19/$G$5,1)) | J19: =IF(H19="","",H19/$D$5) | K19: =IF(J19="","",IF(J19>=1,"Cumplido",IF(J19>=$J$5,"Casi","Pendiente"))) | L19: =IF(B19="","",IF(J19>=1,IF(B19-B18=1,N(L18)+1,1),0))
B20: 46295 | C20: =IF(B20="","",MID("LunMarMiéJueVieSábDom",(WEEKDAY(B20,2)-1)*3+1,3)) | D20: 550 | E20: 500 | F20: 500 | G20: 500 | H20: =IF(B20="","",SUM(D20:G20)) | I20: =IF(H20="","",ROUND(H20/$G$5,1)) | J20: =IF(H20="","",H20/$D$5) | K20: =IF(J20="","",IF(J20>=1,"Cumplido",IF(J20>=$J$5,"Casi","Pendiente"))) | L20: =IF(B20="","",IF(J20>=1,IF(B20-B19=1,N(L19)+1,1),0))
B21: 46296 | C21: =IF(B21="","",MID("LunMarMiéJueVieSábDom",(WEEKDAY(B21,2)-1)*3+1,3)) | D21: 500 | E21: 600 | F21: 550 | G21: 450 | H21: =IF(B21="","",SUM(D21:G21)) | I21: =IF(H21="","",ROUND(H21/$G$5,1)) | J21: =IF(H21="","",H21/$D$5) | K21: =IF(J21="","",IF(J21>=1,"Cumplido",IF(J21>=$J$5,"Casi","Pendiente"))) | L21: =IF(B21="","",IF(J21>=1,IF(B21-B20=1,N(L20)+1,1),0)) | M21: Entreno por la tarde
C22: =IF(B22="","",MID("LunMarMiéJueVieSábDom",(WEEKDAY(B22,2)-1)*3+1,3)) | H22: =IF(B22="","",SUM(D22:G22)) | I22: =IF(H22="","",ROUND(H22/$G$5,1)) | J22: =IF(H22="","",H22/$D$5) | K22: =IF(J22="","",IF(J22>=1,"Cumplido",IF(J22>=$J$5,"Casi","Pendiente"))) | L22: =IF(B22="","",IF(J22>=1,IF(B22-B21=1,N(L21)+1,1),0))
C23: =IF(B23="","",MID("LunMarMiéJueVieSábDom",(WEEKDAY(B23,2)-1)*3+1,3)) | H23: =IF(B23="","",SUM(D23:G23)) | I23: =IF(H23="","",ROUND(H23/$G$5,1)) | J23: =IF(H23="","",H23/$D$5) | K23: =IF(J23="","",IF(J23>=1,"Cumplido",IF(J23>=$J$5,"Casi","Pendiente"))) | L23: =IF(B23="","",IF(J23>=1,IF(B23-B22=1,N(L22)+1,1),0))
C24: =IF(B24="","",MID("LunMarMiéJueVieSábDom",(WEEKDAY(B24,2)-1)*3+1,3)) | H24: =IF(B24="","",SUM(D24:G24)) | I24: =IF(H24="","",ROUND(H24/$G$5,1)) | J24: =IF(H24="","",H24/$D$5) | K24: =IF(J24="","",IF(J24>=1,"Cumplido",IF(J24>=$J$5,"Casi","Pendiente"))) | L24: =IF(B24="","",IF(J24>=1,IF(B24-B23=1,N(L23)+1,1),0))
C25: =IF(B25="","",MID("LunMarMiéJueVieSábDom",(WEEKDAY(B25,2)-1)*3+1,3)) | H25: =IF(B25="","",SUM(D25:G25)) | I25: =IF(H25="","",ROUND(H25/$G$5,1)) | J25: =IF(H25="","",H25/$D$5) | K25: =IF(J25="","",IF(J25>=1,"Cumplido",IF(J25>=$J$5,"Casi","Pendiente"))) | L25: =IF(B25="","",IF(J25>=1,IF(B25-B24=1,N(L24)+1,1),0))
C26: =IF(B26="","",MID("LunMarMiéJueVieSábDom",(WEEKDAY(B26,2)-1)*3+1,3)) | H26: =IF(B26="","",SUM(D26:G26)) | I26: =IF(H26="","",ROUND(H26/$G$5,1)) | J26: =IF(H26="","",H26/$D$5) | K26: =IF(J26="","",IF(J26>=1,"Cumplido",IF(J26>=$J$5,"Casi","Pendiente"))) | L26: =IF(B26="","",IF(J26>=1,IF(B26-B25=1,N(L25)+1,1),0))
C27: =IF(B27="","",MID("LunMarMiéJueVieSábDom",(WEEKDAY(B27,2)-1)*3+1,3)) | H27: =IF(B27="","",SUM(D27:G27)) | I27: =IF(H27="","",ROUND(H27/$G$5,1)) | J27: =IF(H27="","",H27/$D$5) | K27: =IF(J27="","",IF(J27>=1,"Cumplido",IF(J27>=$J$5,"Casi","Pendiente"))) | L27: =IF(B27="","",IF(J27>=1,IF(B27-B26=1,N(L26)+1,1),0))
C28: =IF(B28="","",MID("LunMarMiéJueVieSábDom",(WEEKDAY(B28,2)-1)*3+1,3)) | H28: =IF(B28="","",SUM(D28:G28)) | I28: =IF(H28="","",ROUND(H28/$G$5,1)) | J28: =IF(H28="","",H28/$D$5) | K28: =IF(J28="","",IF(J28>=1,"Cumplido",IF(J28>=$J$5,"Casi","Pendiente"))) | L28: =IF(B28="","",IF(J28>=1,IF(B28-B27=1,N(L27)+1,1),0))
C29: =IF(B29="","",MID("LunMarMiéJueVieSábDom",(WEEKDAY(B29,2)-1)*3+1,3)) | H29: =IF(B29="","",SUM(D29:G29)) | I29: =IF(H29="","",ROUND(H29/$G$5,1)) | J29: =IF(H29="","",H29/$D$5) | K29: =IF(J29="","",IF(J29>=1,"Cumplido",IF(J29>=$J$5,"Casi","Pendiente"))) | L29: =IF(B29="","",IF(J29>=1,IF(B29-B28=1,N(L28)+1,1),0))
C30: =IF(B30="","",MID("LunMarMiéJueVieSábDom",(WEEKDAY(B30,2)-1)*3+1,3)) | H30: =IF(B30="","",SUM(D30:G30)) | I30: =IF(H30="","",ROUND(H30/$G$5,1)) | J30: =IF(H30="","",H30/$D$5) | K30: =IF(J30="","",IF(J30>=1,"Cumplido",IF(J30>=$J$5,"Casi","Pendiente"))) | L30: =IF(B30="","",IF(J30>=1,IF(B30-B29=1,N(L29)+1,1),0))
C31: =IF(B31="","",MID("LunMarMiéJueVieSábDom",(WEEKDAY(B31,2)-1)*3+1,3)) | H31: =IF(B31="","",SUM(D31:G31)) | I31: =IF(H31="","",ROUND(H31/$G$5,1)) | J31: =IF(H31="","",H31/$D$5) | K31: =IF(J31="","",IF(J31>=1,"Cumplido",IF(J31>=$J$5,"Casi","Pendiente"))) | L31: =IF(B31="","",IF(J31>=1,IF(B31-B30=1,N(L30)+1,1),0))
C32: =IF(B32="","",MID("LunMarMiéJueVieSábDom",(WEEKDAY(B32,2)-1)*3+1,3)) | H32: =IF(B32="","",SUM(D32:G32)) | I32: =IF(H32="","",ROUND(H32/$G$5,1)) | J32: =IF(H32="","",H32/$D$5) | K32: =IF(J32="","",IF(J32>=1,"Cumplido",IF(J32>=$J$5,"Casi","Pendiente"))) | L32: =IF(B32="","",IF(J32>=1,IF(B32-B31=1,N(L31)+1,1),0))
C33: =IF(B33="","",MID("LunMarMiéJueVieSábDom",(WEEKDAY(B33,2)-1)*3+1,3)) | H33: =IF(B33="","",SUM(D33:G33)) | I33: =IF(H33="","",ROUND(H33/$G$5,1)) | J33: =IF(H33="","",H33/$D$5) | K33: =IF(J33="","",IF(J33>=1,"Cumplido",IF(J33>=$J$5,"Casi","Pendiente"))) | L33: =IF(B33="","",IF(J33>=1,IF(B33-B32=1,N(L32)+1,1),0))
... C47: =IF(B47="","",MID("LunMarMiéJueVieSábDom",(WEEKDAY(B47,2)-1)*3+1,3)) | H47: =IF(B47="","",SUM(D47:G47)) | I47: =IF(H47="","",ROUND(H47/$G$5,1)) | J47: =IF(H47="","",H47/$D$5) | K47: =IF(J47="","",IF(J47>=1,"Cumplido",IF(J47>=$J$5,"Casi","Pendiente"))) | L47: =IF(B47="","",IF(J47>=1,IF(B47-B46=1,N(L46)+1,1),0))

Sheet Instrucciones
B2: Cómo usar el registro de hidratación
B3: Plantilla gratuita de Plantillas de Cálculo · plantillasdecalculo.com
B5: CÓMO USARLA
B6: 1. Ve a la hoja «Registro» y revisa las tres celdas de ajustes de arriba: objetivo diario en ml (D5), ml que cabe en tu vaso o botella habitual (G5) y umbral «casi» (J5).
B7: 2. El objetivo es un valor tuyo: pon el que tú te hayas marcado. La plantilla no lo calcula ni lo recomienda.
B8: 3. Cada día escribe la fecha en la columna B (formato dd/mm/aaaa) en una fila nueva, en orden cronológico y sin dejar filas vacías en medio.
B9: 4. Anota los ml tomados en Mañana, Mediodía, Tarde y Noche (columnas D a G). Si cuentas por vasos, multiplica por los ml de tu vaso.
B10: 5. Las columnas Día, Total, Vasos, % objetivo, Estado y Racha se rellenan solas. Estado: «Cumplido» si llegas al 100%, «Casi» si superas el umbral y «Pendiente» en el resto.
B11: 6. Usa la columna Nota para apuntar contexto (entreno, calor, viaje...). Es solo para ti y no entra en ningún cálculo.
B12: 7. Abre la hoja «Panel» para ver la media diaria, los días cumplidos, tu racha actual y mejor racha, el resumen por semanas y el reparto por franjas.
B13: 8. Hay 40 filas preparadas. Para registrar más días, guarda una copia del archivo y empieza un nuevo mes con el registro vacío (borra solo las celdas crema).
B15: CONSEJOS
... B23: Aviso: esta plantilla sirve solo para registrar y organizar tus datos de consumo de líquidos. No ofrece consejos médicos ni sustituye a un profesional sanitario. Las necesidades de cada persona son distintas: consulta a tu médico o dietista si tienes dudas.
