Workbook

Sheet Panel
B2: Panel de natación
B3: Resumen automático: volumen, ritmo por 100 m, semanas, meses y reparto por estilo.
B5: SESIONES | D5: DISTANCIA TOTAL | F5: TIEMPO EN EL AGUA | H5: RITMO MEDIO /100 m
B6: =COUNT(Sesiones!B8:B47) | D6: =SUM(Sesiones!H8:H47)/1000 | F6: =SUM(Sesiones!I8:I47)/60 | H6: =IFERROR(SUM(Sesiones!I8:I47)/SUM(Sesiones!H8:H47)*100/1440,0)
B8: MEDIA POR SESIÓN | D8: SESIÓN MÁS LARGA | F8: MEJOR RITMO /100 m | H8: ÚLTIMOS 7 DÍAS
B9: =IFERROR(SUM(Sesiones!H8:H47)/COUNT(Sesiones!B8:B47),0) | D9: =MAX(Sesiones!H8:H47) | F9: =IFERROR(MIN(Sesiones!J8:J47),0) | H9: =IF(COUNT(Sesiones!B8:B47)=0,0,SUMIFS(Sesiones!H8:H47,Sesiones!B8:B47,">"&(MAX(Sesiones!B8:B47)-7)))
B11: Volumen por semanas naturales (lunes a domingo)
B12: Semana | C12: Desde | D12: Hasta | E12: Sesiones | F12: Metros | G12: Tiempo (min) | H12: Ritmo /100 m | I12: % objetivo semanal
B13: Sem. 1 | C13: =IF(COUNT(Sesiones!B8:B47)=0,"",MIN(Sesiones!B8:B47)-WEEKDAY(MIN(Sesiones!B8:B47),2)+1) | D13: =IF(C13="","",C13+6) | E13: =IF(C13="","",COUNTIFS(Sesiones!B8:B47,">="&C13,Sesiones!B8:B47,"<="&D13)) | F13: =IF(C13="","",SUMIFS(Sesiones!H8:H47,Sesiones!B8:B47,">="&C13,Sesiones!B8:B47,"<="&D13)) | G13: =IF(C13="","",SUMIFS(Sesiones!I8:I47,Sesiones!B8:B47,">="&C13,Sesiones!B8:B47,"<="&D13)) | H13: =IF(OR(C13="",N(F13)=0),"",G13/F13*100/1440) | I13: =IF(C13="","",F13/Sesiones!$D$5)
B14: Sem. 2 | C14: =IF(C13="","",IF(C13+7>MAX(Sesiones!B8:B47),"",C13+7)) | D14: =IF(C14="","",C14+6) | E14: =IF(C14="","",COUNTIFS(Sesiones!B8:B47,">="&C14,Sesiones!B8:B47,"<="&D14)) | F14: =IF(C14="","",SUMIFS(Sesiones!H8:H47,Sesiones!B8:B47,">="&C14,Sesiones!B8:B47,"<="&D14)) | G14: =IF(C14="","",SUMIFS(Sesiones!I8:I47,Sesiones!B8:B47,">="&C14,Sesiones!B8:B47,"<="&D14)) | H14: =IF(OR(C14="",N(F14)=0),"",G14/F14*100/1440) | I14: =IF(C14="","",F14/Sesiones!$D$5)
B15: Sem. 3 | C15: =IF(C14="","",IF(C14+7>MAX(Sesiones!B8:B47),"",C14+7)) | D15: =IF(C15="","",C15+6) | E15: =IF(C15="","",COUNTIFS(Sesiones!B8:B47,">="&C15,Sesiones!B8:B47,"<="&D15)) | F15: =IF(C15="","",SUMIFS(Sesiones!H8:H47,Sesiones!B8:B47,">="&C15,Sesiones!B8:B47,"<="&D15)) | G15: =IF(C15="","",SUMIFS(Sesiones!I8:I47,Sesiones!B8:B47,">="&C15,Sesiones!B8:B47,"<="&D15)) | H15: =IF(OR(C15="",N(F15)=0),"",G15/F15*100/1440) | I15: =IF(C15="","",F15/Sesiones!$D$5)
B16: Sem. 4 | C16: =IF(C15="","",IF(C15+7>MAX(Sesiones!B8:B47),"",C15+7)) | D16: =IF(C16="","",C16+6) | E16: =IF(C16="","",COUNTIFS(Sesiones!B8:B47,">="&C16,Sesiones!B8:B47,"<="&D16)) | F16: =IF(C16="","",SUMIFS(Sesiones!H8:H47,Sesiones!B8:B47,">="&C16,Sesiones!B8:B47,"<="&D16)) | G16: =IF(C16="","",SUMIFS(Sesiones!I8:I47,Sesiones!B8:B47,">="&C16,Sesiones!B8:B47,"<="&D16)) | H16: =IF(OR(C16="",N(F16)=0),"",G16/F16*100/1440) | I16: =IF(C16="","",F16/Sesiones!$D$5)
B17: Sem. 5 | C17: =IF(C16="","",IF(C16+7>MAX(Sesiones!B8:B47),"",C16+7)) | D17: =IF(C17="","",C17+6) | E17: =IF(C17="","",COUNTIFS(Sesiones!B8:B47,">="&C17,Sesiones!B8:B47,"<="&D17)) | F17: =IF(C17="","",SUMIFS(Sesiones!H8:H47,Sesiones!B8:B47,">="&C17,Sesiones!B8:B47,"<="&D17)) | G17: =IF(C17="","",SUMIFS(Sesiones!I8:I47,Sesiones!B8:B47,">="&C17,Sesiones!B8:B47,"<="&D17)) | H17: =IF(OR(C17="",N(F17)=0),"",G17/F17*100/1440) | I17: =IF(C17="","",F17/Sesiones!$D$5)
B18: Sem. 6 | C18: =IF(C17="","",IF(C17+7>MAX(Sesiones!B8:B47),"",C17+7)) | D18: =IF(C18="","",C18+6) | E18: =IF(C18="","",COUNTIFS(Sesiones!B8:B47,">="&C18,Sesiones!B8:B47,"<="&D18)) | F18: =IF(C18="","",SUMIFS(Sesiones!H8:H47,Sesiones!B8:B47,">="&C18,Sesiones!B8:B47,"<="&D18)) | G18: =IF(C18="","",SUMIFS(Sesiones!I8:I47,Sesiones!B8:B47,">="&C18,Sesiones!B8:B47,"<="&D18)) | H18: =IF(OR(C18="",N(F18)=0),"",G18/F18*100/1440) | I18: =IF(C18="","",F18/Sesiones!$D$5)
B19: Sem. 7 | C19: =IF(C18="","",IF(C18+7>MAX(Sesiones!B8:B47),"",C18+7)) | D19: =IF(C19="","",C19+6) | E19: =IF(C19="","",COUNTIFS(Sesiones!B8:B47,">="&C19,Sesiones!B8:B47,"<="&D19)) | F19: =IF(C19="","",SUMIFS(Sesiones!H8:H47,Sesiones!B8:B47,">="&C19,Sesiones!B8:B47,"<="&D19)) | G19: =IF(C19="","",SUMIFS(Sesiones!I8:I47,Sesiones!B8:B47,">="&C19,Sesiones!B8:B47,"<="&D19)) | H19: =IF(OR(C19="",N(F19)=0),"",G19/F19*100/1440) | I19: =IF(C19="","",F19/Sesiones!$D$5)
B20: Sem. 8 | C20: =IF(C19="","",IF(C19+7>MAX(Sesiones!B8:B47),"",C19+7)) | D20: =IF(C20="","",C20+6) | E20: =IF(C20="","",COUNTIFS(Sesiones!B8:B47,">="&C20,Sesiones!B8:B47,"<="&D20)) | F20: =IF(C20="","",SUMIFS(Sesiones!H8:H47,Sesiones!B8:B47,">="&C20,Sesiones!B8:B47,"<="&D20)) | G20: =IF(C20="","",SUMIFS(Sesiones!I8:I47,Sesiones!B8:B47,">="&C20,Sesiones!B8:B47,"<="&D20)) | H20: =IF(OR(C20="",N(F20)=0),"",G20/F20*100/1440) | I20: =IF(C20="","",F20/Sesiones!$D$5)
B21: Sem. 9 | C21: =IF(C20="","",IF(C20+7>MAX(Sesiones!B8:B47),"",C20+7)) | D21: =IF(C21="","",C21+6) | E21: =IF(C21="","",COUNTIFS(Sesiones!B8:B47,">="&C21,Sesiones!B8:B47,"<="&D21)) | F21: =IF(C21="","",SUMIFS(Sesiones!H8:H47,Sesiones!B8:B47,">="&C21,Sesiones!B8:B47,"<="&D21)) | G21: =IF(C21="","",SUMIFS(Sesiones!I8:I47,Sesiones!B8:B47,">="&C21,Sesiones!B8:B47,"<="&D21)) | H21: =IF(OR(C21="",N(F21)=0),"",G21/F21*100/1440) | I21: =IF(C21="","",F21/Sesiones!$D$5)
B22: Sem. 10 | C22: =IF(C21="","",IF(C21+7>MAX(Sesiones!B8:B47),"",C21+7)) | D22: =IF(C22="","",C22+6) | E22: =IF(C22="","",COUNTIFS(Sesiones!B8:B47,">="&C22,Sesiones!B8:B47,"<="&D22)) | F22: =IF(C22="","",SUMIFS(Sesiones!H8:H47,Sesiones!B8:B47,">="&C22,Sesiones!B8:B47,"<="&D22)) | G22: =IF(C22="","",SUMIFS(Sesiones!I8:I47,Sesiones!B8:B47,">="&C22,Sesiones!B8:B47,"<="&D22)) | H22: =IF(OR(C22="",N(F22)=0),"",G22/F22*100/1440) | I22: =IF(C22="","",F22/Sesiones!$D$5)
B23: Total | E23: =SUM(E13:E22) | F23: =SUM(F13:F22) | G23: =SUM(G13:G22) | H23: =IFERROR(G23/F23*100/1440,"") | I23: =COUNTIF(I13:I22,">=1")&" sem. ok"
B25: Volumen por meses
B26: Mes | C26: Sesiones | D26: Metros | E26: Km | F26: Tiempo (h) | G26: Ritmo /100 m | H26: % objetivo mensual
B27: =IF(COUNT(Sesiones!B8:B47)=0,"",DATE(YEAR(MIN(Sesiones!B8:B47)),MONTH(MIN(Sesiones!B8:B47)),1)) | C27: =IF(B27="","",COUNTIF(Sesiones!Q8:Q47,B27)) | D27: =IF(B27="","",SUMIF(Sesiones!Q8:Q47,B27,Sesiones!H8:H47)) | E27: =IF(B27="","",D27/1000) | F27: =IF(B27="","",SUMIF(Sesiones!Q8:Q47,B27,Sesiones!I8:I47)/60) | G27: =IF(OR(B27="",N(D27)=0),"",F27*60/D27*100/1440) | H27: =IF(B27="","",D27/Sesiones!$G$5)
B28: =IF(B27="","",IF(EDATE(B27,1)>MAX(Sesiones!B8:B47),"",EDATE(B27,1))) | C28: =IF(B28="","",COUNTIF(Sesiones!Q8:Q47,B28)) | D28: =IF(B28="","",SUMIF(Sesiones!Q8:Q47,B28,Sesiones!H8:H47)) | E28: =IF(B28="","",D28/1000) | F28: =IF(B28="","",SUMIF(Sesiones!Q8:Q47,B28,Sesiones!I8:I47)/60) | G28: =IF(OR(B28="",N(D28)=0),"",F28*60/D28*100/1440) | H28: =IF(B28="","",D28/Sesiones!$G$5)
B29: =IF(B28="","",IF(EDATE(B28,1)>MAX(Sesiones!B8:B47),"",EDATE(B28,1))) | C29: =IF(B29="","",COUNTIF(Sesiones!Q8:Q47,B29)) | D29: =IF(B29="","",SUMIF(Sesiones!Q8:Q47,B29,Sesiones!H8:H47)) | E29: =IF(B29="","",D29/1000) | F29: =IF(B29="","",SUMIF(Sesiones!Q8:Q47,B29,Sesiones!I8:I47)/60) | G29: =IF(OR(B29="",N(D29)=0),"",F29*60/D29*100/1440) | H29: =IF(B29="","",D29/Sesiones!$G$5)
B30: =IF(B29="","",IF(EDATE(B29,1)>MAX(Sesiones!B8:B47),"",EDATE(B29,1))) | C30: =IF(B30="","",COUNTIF(Sesiones!Q8:Q47,B30)) | D30: =IF(B30="","",SUMIF(Sesiones!Q8:Q47,B30,Sesiones!H8:H47)) | E30: =IF(B30="","",D30/1000) | F30: =IF(B30="","",SUMIF(Sesiones!Q8:Q47,B30,Sesiones!I8:I47)/60) | G30: =IF(OR(B30="",N(D30)=0),"",F30*60/D30*100/1440) | H30: =IF(B30="","",D30/Sesiones!$G$5)
B31: =IF(B30="","",IF(EDATE(B30,1)>MAX(Sesiones!B8:B47),"",EDATE(B30,1))) | C31: =IF(B31="","",COUNTIF(Sesiones!Q8:Q47,B31)) | D31: =IF(B31="","",SUMIF(Sesiones!Q8:Q47,B31,Sesiones!H8:H47)) | E31: =IF(B31="","",D31/1000) | F31: =IF(B31="","",SUMIF(Sesiones!Q8:Q47,B31,Sesiones!I8:I47)/60) | G31: =IF(OR(B31="",N(D31)=0),"",F31*60/D31*100/1440) | H31: =IF(B31="","",D31/Sesiones!$G$5)
B32: =IF(B31="","",IF(EDATE(B31,1)>MAX(Sesiones!B8:B47),"",EDATE(B31,1))) | C32: =IF(B32="","",COUNTIF(Sesiones!Q8:Q47,B32)) | D32: =IF(B32="","",SUMIF(Sesiones!Q8:Q47,B32,Sesiones!H8:H47)) | E32: =IF(B32="","",D32/1000) | F32: =IF(B32="","",SUMIF(Sesiones!Q8:Q47,B32,Sesiones!I8:I47)/60) | G32: =IF(OR(B32="",N(D32)=0),"",F32*60/D32*100/1440) | H32: =IF(B32="","",D32/Sesiones!$G$5)
B34: Reparto por estilo
B35: Estilo | C35: Sesiones | D35: Metros | E35: % del volumen | F35: Tiempo (min) | G35: Ritmo /100 m
B36: =Listas!A2 | C36: =COUNTIF(Sesiones!C8:C47,B36) | D36: =SUMIF(Sesiones!C8:C47,B36,Sesiones!H8:H47) | E36: =IF(SUM($D$36:$D$41)=0,0,D36/SUM($D$36:$D$41)) | F36: =SUMIF(Sesiones!C8:C47,B36,Sesiones!I8:I47) | G36: =IF(D36=0,"",F36/D36*100/1440)
B37: =Listas!A3 | C37: =COUNTIF(Sesiones!C8:C47,B37) | D37: =SUMIF(Sesiones!C8:C47,B37,Sesiones!H8:H47) | E37: =IF(SUM($D$36:$D$41)=0,0,D37/SUM($D$36:$D$41)) | F37: =SUMIF(Sesiones!C8:C47,B37,Sesiones!I8:I47) | G37: =IF(D37=0,"",F37/D37*100/1440)
B38: =Listas!A4 | C38: =COUNTIF(Sesiones!C8:C47,B38) | D38: =SUMIF(Sesiones!C8:C47,B38,Sesiones!H8:H47) | E38: =IF(SUM($D$36:$D$41)=0,0,D38/SUM($D$36:$D$41)) | F38: =SUMIF(Sesiones!C8:C47,B38,Sesiones!I8:I47) | G38: =IF(D38=0,"",F38/D38*100/1440)
B39: =Listas!A5 | C39: =COUNTIF(Sesiones!C8:C47,B39) | D39: =SUMIF(Sesiones!C8:C47,B39,Sesiones!H8:H47) | E39: =IF(SUM($D$36:$D$41)=0,0,D39/SUM($D$36:$D$41)) | F39: =SUMIF(Sesiones!C8:C47,B39,Sesiones!I8:I47) | G39: =IF(D39=0,"",F39/D39*100/1440)
B40: =Listas!A6 | C40: =COUNTIF(Sesiones!C8:C47,B40) | D40: =SUMIF(Sesiones!C8:C47,B40,Sesiones!H8:H47) | E40: =IF(SUM($D$36:$D$41)=0,0,D40/SUM($D$36:$D$41)) | F40: =SUMIF(Sesiones!C8:C47,B40,Sesiones!I8:I47) | G40: =IF(D40=0,"",F40/D40*100/1440)
B41: =Listas!A7 | C41: =COUNTIF(Sesiones!C8:C47,B41) | D41: =SUMIF(Sesiones!C8:C47,B41,Sesiones!H8:H47) | E41: =IF(SUM($D$36:$D$41)=0,0,D41/SUM($D$36:$D$41)) | F41: =SUMIF(Sesiones!C8:C47,B41,Sesiones!I8:I47) | G41: =IF(D41=0,"",F41/D41*100/1440)
B42: Total | C42: =SUM(C36:C41) | D42: =SUM(D36:D41) | E42: =SUM(E36:E41) | F42: =SUM(F36:F41) | G42: =IFERROR(F42/D42*100/1440,"")

Sheet Sesiones
B2: Registro de natación
B3: Una fila por sesión: estilo, series, metros, piscina y tiempo. Distancia, ritmo por 100 m, velocidad y largos se calculan solos.
B5: Objetivo semanal (m) | D5: 3500 | E5: Objetivo mensual (m) | G5: 14000 | H5: Ritmo objetivo (s/100 m) | J5: 160 | K5: ← valores editables
B7: Fecha | C7: Estilo | D7: Series | E7: Metros por serie | F7: Metros extra (calent. y suave) | G7: Piscina (m) | H7: Distancia total (m) | I7: Tiempo total (min) | J7: Ritmo /100 m | K7: Velocidad (km/h) | L7: Largos | M7: Esfuerzo (1-10) | N7: Carga (esf. × min) | O7: Día | P7: Semana (lunes) | Q7: Mes | R7: Nota
B8: 46245 | C8: Crol | D8: 6 | E8: 200 | F8: 300 | G8: 25 | H8: =IF(B8="","",N(D8)*N(E8)+N(F8)) | I8: 42 | J8: =IF(OR(B8="",I8="",N(H8)=0),"",I8/H8*100/1440) | K8: =IF(OR(B8="",I8="",N(I8)=0),"",ROUND(H8/1000/(I8/60),2)) | L8: =IF(OR(B8="",G8="",N(G8)=0),"",ROUND(H8/G8,0)) | M8: 5 | N8: =IF(OR(B8="",M8="",I8=""),"",M8*I8) | O8: =IF(B8="","",MID("LunMarMiéJueVieSábDom",(WEEKDAY(B8,2)-1)*3+1,3)) | P8: =IF(B8="","",B8-WEEKDAY(B8,2)+1) | Q8: =IF(B8="","",DATE(YEAR(B8),MONTH(B8),1)) | R8: Primer día tras las vacaciones
B9: 46248 | C9: Técnica | D9: 10 | E9: 100 | F9: 400 | G9: 25 | H9: =IF(B9="","",N(D9)*N(E9)+N(F9)) | I9: 45 | J9: =IF(OR(B9="",I9="",N(H9)=0),"",I9/H9*100/1440) | K9: =IF(OR(B9="",I9="",N(I9)=0),"",ROUND(H9/1000/(I9/60),2)) | L9: =IF(OR(B9="",G9="",N(G9)=0),"",ROUND(H9/G9,0)) | M9: 4 | N9: =IF(OR(B9="",M9="",I9=""),"",M9*I9) | O9: =IF(B9="","",MID("LunMarMiéJueVieSábDom",(WEEKDAY(B9,2)-1)*3+1,3)) | P9: =IF(B9="","",B9-WEEKDAY(B9,2)+1) | Q9: =IF(B9="","",DATE(YEAR(B9),MONTH(B9),1)) | R9: Ejercicios de brazada y patada
B10: 46252 | C10: Crol | D10: 8 | E10: 200 | F10: 400 | G10: 25 | H10: =IF(B10="","",N(D10)*N(E10)+N(F10)) | I10: 55 | J10: =IF(OR(B10="",I10="",N(H10)=0),"",I10/H10*100/1440) | K10: =IF(OR(B10="",I10="",N(I10)=0),"",ROUND(H10/1000/(I10/60),2)) | L10: =IF(OR(B10="",G10="",N(G10)=0),"",ROUND(H10/G10,0)) | M10: 6 | N10: =IF(OR(B10="",M10="",I10=""),"",M10*I10) | O10: =IF(B10="","",MID("LunMarMiéJueVieSábDom",(WEEKDAY(B10,2)-1)*3+1,3)) | P10: =IF(B10="","",B10-WEEKDAY(B10,2)+1) | Q10: =IF(B10="","",DATE(YEAR(B10),MONTH(B10),1))
B11: 46255 | C11: Espalda | D11: 8 | E11: 100 | F11: 500 | G11: 25 | H11: =IF(B11="","",N(D11)*N(E11)+N(F11)) | I11: 40 | J11: =IF(OR(B11="",I11="",N(H11)=0),"",I11/H11*100/1440) | K11: =IF(OR(B11="",I11="",N(I11)=0),"",ROUND(H11/1000/(I11/60),2)) | L11: =IF(OR(B11="",G11="",N(G11)=0),"",ROUND(H11/G11,0)) | M11: 5 | N11: =IF(OR(B11="",M11="",I11=""),"",M11*I11) | O11: =IF(B11="","",MID("LunMarMiéJueVieSábDom",(WEEKDAY(B11,2)-1)*3+1,3)) | P11: =IF(B11="","",B11-WEEKDAY(B11,2)+1) | Q11: =IF(B11="","",DATE(YEAR(B11),MONTH(B11),1)) | R11: Cambio de estilo para variar
B12: 46259 | C12: Crol | D12: 5 | E12: 400 | F12: 300 | G12: 25 | H12: =IF(B12="","",N(D12)*N(E12)+N(F12)) | I12: 62 | J12: =IF(OR(B12="",I12="",N(H12)=0),"",I12/H12*100/1440) | K12: =IF(OR(B12="",I12="",N(I12)=0),"",ROUND(H12/1000/(I12/60),2)) | L12: =IF(OR(B12="",G12="",N(G12)=0),"",ROUND(H12/G12,0)) | M12: 7 | N12: =IF(OR(B12="",M12="",I12=""),"",M12*I12) | O12: =IF(B12="","",MID("LunMarMiéJueVieSábDom",(WEEKDAY(B12,2)-1)*3+1,3)) | P12: =IF(B12="","",B12-WEEKDAY(B12,2)+1) | Q12: =IF(B12="","",DATE(YEAR(B12),MONTH(B12),1))
B13: 46263 | C13: Estilos | D13: 6 | E13: 200 | F13: 400 | G13: 50 | H13: =IF(B13="","",N(D13)*N(E13)+N(F13)) | I13: 50 | J13: =IF(OR(B13="",I13="",N(H13)=0),"",I13/H13*100/1440) | K13: =IF(OR(B13="",I13="",N(I13)=0),"",ROUND(H13/1000/(I13/60),2)) | L13: =IF(OR(B13="",G13="",N(G13)=0),"",ROUND(H13/G13,0)) | M13: 6 | N13: =IF(OR(B13="",M13="",I13=""),"",M13*I13) | O13: =IF(B13="","",MID("LunMarMiéJueVieSábDom",(WEEKDAY(B13,2)-1)*3+1,3)) | P13: =IF(B13="","",B13-WEEKDAY(B13,2)+1) | Q13: =IF(B13="","",DATE(YEAR(B13),MONTH(B13),1)) | R13: Piscina de 50 m del club
B14: 46266 | C14: Crol | D14: 10 | E14: 200 | F14: 400 | G14: 25 | H14: =IF(B14="","",N(D14)*N(E14)+N(F14)) | I14: 63 | J14: =IF(OR(B14="",I14="",N(H14)=0),"",I14/H14*100/1440) | K14: =IF(OR(B14="",I14="",N(I14)=0),"",ROUND(H14/1000/(I14/60),2)) | L14: =IF(OR(B14="",G14="",N(G14)=0),"",ROUND(H14/G14,0)) | M14: 7 | N14: =IF(OR(B14="",M14="",I14=""),"",M14*I14) | O14: =IF(B14="","",MID("LunMarMiéJueVieSábDom",(WEEKDAY(B14,2)-1)*3+1,3)) | P14: =IF(B14="","",B14-WEEKDAY(B14,2)+1) | Q14: =IF(B14="","",DATE(YEAR(B14),MONTH(B14),1))
B15: 46269 | C15: Braza | D15: 8 | E15: 100 | F15: 600 | G15: 25 | H15: =IF(B15="","",N(D15)*N(E15)+N(F15)) | I15: 50 | J15: =IF(OR(B15="",I15="",N(H15)=0),"",I15/H15*100/1440) | K15: =IF(OR(B15="",I15="",N(I15)=0),"",ROUND(H15/1000/(I15/60),2)) | L15: =IF(OR(B15="",G15="",N(G15)=0),"",ROUND(H15/G15,0)) | M15: 5 | N15: =IF(OR(B15="",M15="",I15=""),"",M15*I15) | O15: =IF(B15="","",MID("LunMarMiéJueVieSábDom",(WEEKDAY(B15,2)-1)*3+1,3)) | P15: =IF(B15="","",B15-WEEKDAY(B15,2)+1) | Q15: =IF(B15="","",DATE(YEAR(B15),MONTH(B15),1))
B16: 46273 | C16: Crol | D16: 4 | E16: 500 | F16: 400 | G16: 25 | H16: =IF(B16="","",N(D16)*N(E16)+N(F16)) | I16: 62 | J16: =IF(OR(B16="",I16="",N(H16)=0),"",I16/H16*100/1440) | K16: =IF(OR(B16="",I16="",N(I16)=0),"",ROUND(H16/1000/(I16/60),2)) | L16: =IF(OR(B16="",G16="",N(G16)=0),"",ROUND(H16/G16,0)) | M16: 7 | N16: =IF(OR(B16="",M16="",I16=""),"",M16*I16) | O16: =IF(B16="","",MID("LunMarMiéJueVieSábDom",(WEEKDAY(B16,2)-1)*3+1,3)) | P16: =IF(B16="","",B16-WEEKDAY(B16,2)+1) | Q16: =IF(B16="","",DATE(YEAR(B16),MONTH(B16),1)) | R16: Series largas a ritmo constante
B17: 46276 | C17: Técnica | D17: 12 | E17: 100 | F17: 500 | G17: 25 | H17: =IF(B17="","",N(D17)*N(E17)+N(F17)) | I17: 55 | J17: =IF(OR(B17="",I17="",N(H17)=0),"",I17/H17*100/1440) | K17: =IF(OR(B17="",I17="",N(I17)=0),"",ROUND(H17/1000/(I17/60),2)) | L17: =IF(OR(B17="",G17="",N(G17)=0),"",ROUND(H17/G17,0)) | M17: 4 | N17: =IF(OR(B17="",M17="",I17=""),"",M17*I17) | O17: =IF(B17="","",MID("LunMarMiéJueVieSábDom",(WEEKDAY(B17,2)-1)*3+1,3)) | P17: =IF(B17="","",B17-WEEKDAY(B17,2)+1) | Q17: =IF(B17="","",DATE(YEAR(B17),MONTH(B17),1))
B18: 46280 | C18: Crol | D18: 6 | E18: 400 | F18: 500 | G18: 25 | H18: =IF(B18="","",N(D18)*N(E18)+N(F18)) | I18: 76 | J18: =IF(OR(B18="",I18="",N(H18)=0),"",I18/H18*100/1440) | K18: =IF(OR(B18="",I18="",N(I18)=0),"",ROUND(H18/1000/(I18/60),2)) | L18: =IF(OR(B18="",G18="",N(G18)=0),"",ROUND(H18/G18,0)) | M18: 7 | N18: =IF(OR(B18="",M18="",I18=""),"",M18*I18) | O18: =IF(B18="","",MID("LunMarMiéJueVieSábDom",(WEEKDAY(B18,2)-1)*3+1,3)) | P18: =IF(B18="","",B18-WEEKDAY(B18,2)+1) | Q18: =IF(B18="","",DATE(YEAR(B18),MONTH(B18),1))
B19: 46284 | C19: Estilos | D19: 8 | E19: 200 | F19: 400 | G19: 50 | H19: =IF(B19="","",N(D19)*N(E19)+N(F19)) | I19: 58 | J19: =IF(OR(B19="",I19="",N(H19)=0),"",I19/H19*100/1440) | K19: =IF(OR(B19="",I19="",N(I19)=0),"",ROUND(H19/1000/(I19/60),2)) | L19: =IF(OR(B19="",G19="",N(G19)=0),"",ROUND(H19/G19,0)) | M19: 6 | N19: =IF(OR(B19="",M19="",I19=""),"",M19*I19) | O19: =IF(B19="","",MID("LunMarMiéJueVieSábDom",(WEEKDAY(B19,2)-1)*3+1,3)) | P19: =IF(B19="","",B19-WEEKDAY(B19,2)+1) | Q19: =IF(B19="","",DATE(YEAR(B19),MONTH(B19),1)) | R19: Sábado en piscina de 50 m
B20: 46287 | C20: Crol | D20: 20 | E20: 100 | F20: 400 | G20: 25 | H20: =IF(B20="","",N(D20)*N(E20)+N(F20)) | I20: 62 | J20: =IF(OR(B20="",I20="",N(H20)=0),"",I20/H20*100/1440) | K20: =IF(OR(B20="",I20="",N(I20)=0),"",ROUND(H20/1000/(I20/60),2)) | L20: =IF(OR(B20="",G20="",N(G20)=0),"",ROUND(H20/G20,0)) | M20: 8 | N20: =IF(OR(B20="",M20="",I20=""),"",M20*I20) | O20: =IF(B20="","",MID("LunMarMiéJueVieSábDom",(WEEKDAY(B20,2)-1)*3+1,3)) | P20: =IF(B20="","",B20-WEEKDAY(B20,2)+1) | Q20: =IF(B20="","",DATE(YEAR(B20),MONTH(B20),1)) | R20: Series de 100 con salida cada 2:00
B21: 46290 | C21: Mariposa | D21: 8 | E21: 50 | F21: 600 | G21: 25 | H21: =IF(B21="","",N(D21)*N(E21)+N(F21)) | I21: 40 | J21: =IF(OR(B21="",I21="",N(H21)=0),"",I21/H21*100/1440) | K21: =IF(OR(B21="",I21="",N(I21)=0),"",ROUND(H21/1000/(I21/60),2)) | L21: =IF(OR(B21="",G21="",N(G21)=0),"",ROUND(H21/G21,0)) | M21: 6 | N21: =IF(OR(B21="",M21="",I21=""),"",M21*I21) | O21: =IF(B21="","",MID("LunMarMiéJueVieSábDom",(WEEKDAY(B21,2)-1)*3+1,3)) | P21: =IF(B21="","",B21-WEEKDAY(B21,2)+1) | Q21: =IF(B21="","",DATE(YEAR(B21),MONTH(B21),1)) | R21: Poco volumen, mucha técnica
B22: 46294 | C22: Crol | D22: 5 | E22: 500 | F22: 500 | G22: 25 | H22: =IF(B22="","",N(D22)*N(E22)+N(F22)) | I22: 78 | J22: =IF(OR(B22="",I22="",N(H22)=0),"",I22/H22*100/1440) | K22: =IF(OR(B22="",I22="",N(I22)=0),"",ROUND(H22/1000/(I22/60),2)) | L22: =IF(OR(B22="",G22="",N(G22)=0),"",ROUND(H22/G22,0)) | M22: 7 | N22: =IF(OR(B22="",M22="",I22=""),"",M22*I22) | O22: =IF(B22="","",MID("LunMarMiéJueVieSábDom",(WEEKDAY(B22,2)-1)*3+1,3)) | P22: =IF(B22="","",B22-WEEKDAY(B22,2)+1) | Q22: =IF(B22="","",DATE(YEAR(B22),MONTH(B22),1)) | R22: Mayor distancia del registro
H23: =IF(B23="","",N(D23)*N(E23)+N(F23)) | J23: =IF(OR(B23="",I23="",N(H23)=0),"",I23/H23*100/1440) | K23: =IF(OR(B23="",I23="",N(I23)=0),"",ROUND(H23/1000/(I23/60),2)) | L23: =IF(OR(B23="",G23="",N(G23)=0),"",ROUND(H23/G23,0)) | N23: =IF(OR(B23="",M23="",I23=""),"",M23*I23) | O23: =IF(B23="","",MID("LunMarMiéJueVieSábDom",(WEEKDAY(B23,2)-1)*3+1,3)) | P23: =IF(B23="","",B23-WEEKDAY(B23,2)+1) | Q23: =IF(B23="","",DATE(YEAR(B23),MONTH(B23),1))
H24: =IF(B24="","",N(D24)*N(E24)+N(F24)) | J24: =IF(OR(B24="",I24="",N(H24)=0),"",I24/H24*100/1440) | K24: =IF(OR(B24="",I24="",N(I24)=0),"",ROUND(H24/1000/(I24/60),2)) | L24: =IF(OR(B24="",G24="",N(G24)=0),"",ROUND(H24/G24,0)) | N24: =IF(OR(B24="",M24="",I24=""),"",M24*I24) | O24: =IF(B24="","",MID("LunMarMiéJueVieSábDom",(WEEKDAY(B24,2)-1)*3+1,3)) | P24: =IF(B24="","",B24-WEEKDAY(B24,2)+1) | Q24: =IF(B24="","",DATE(YEAR(B24),MONTH(B24),1))
H25: =IF(B25="","",N(D25)*N(E25)+N(F25)) | J25: =IF(OR(B25="",I25="",N(H25)=0),"",I25/H25*100/1440) | K25: =IF(OR(B25="",I25="",N(I25)=0),"",ROUND(H25/1000/(I25/60),2)) | L25: =IF(OR(B25="",G25="",N(G25)=0),"",ROUND(H25/G25,0)) | N25: =IF(OR(B25="",M25="",I25=""),"",M25*I25) | O25: =IF(B25="","",MID("LunMarMiéJueVieSábDom",(WEEKDAY(B25,2)-1)*3+1,3)) | P25: =IF(B25="","",B25-WEEKDAY(B25,2)+1) | Q25: =IF(B25="","",DATE(YEAR(B25),MONTH(B25),1))
H26: =IF(B26="","",N(D26)*N(E26)+N(F26)) | J26: =IF(OR(B26="",I26="",N(H26)=0),"",I26/H26*100/1440) | K26: =IF(OR(B26="",I26="",N(I26)=0),"",ROUND(H26/1000/(I26/60),2)) | L26: =IF(OR(B26="",G26="",N(G26)=0),"",ROUND(H26/G26,0)) | N26: =IF(OR(B26="",M26="",I26=""),"",M26*I26) | O26: =IF(B26="","",MID("LunMarMiéJueVieSábDom",(WEEKDAY(B26,2)-1)*3+1,3)) | P26: =IF(B26="","",B26-WEEKDAY(B26,2)+1) | Q26: =IF(B26="","",DATE(YEAR(B26),MONTH(B26),1))
H27: =IF(B27="","",N(D27)*N(E27)+N(F27)) | J27: =IF(OR(B27="",I27="",N(H27)=0),"",I27/H27*100/1440) | K27: =IF(OR(B27="",I27="",N(I27)=0),"",ROUND(H27/1000/(I27/60),2)) | L27: =IF(OR(B27="",G27="",N(G27)=0),"",ROUND(H27/G27,0)) | N27: =IF(OR(B27="",M27="",I27=""),"",M27*I27) | O27: =IF(B27="","",MID("LunMarMiéJueVieSábDom",(WEEKDAY(B27,2)-1)*3+1,3)) | P27: =IF(B27="","",B27-WEEKDAY(B27,2)+1) | Q27: =IF(B27="","",DATE(YEAR(B27),MONTH(B27),1))
H28: =IF(B28="","",N(D28)*N(E28)+N(F28)) | J28: =IF(OR(B28="",I28="",N(H28)=0),"",I28/H28*100/1440) | K28: =IF(OR(B28="",I28="",N(I28)=0),"",ROUND(H28/1000/(I28/60),2)) | L28: =IF(OR(B28="",G28="",N(G28)=0),"",ROUND(H28/G28,0)) | N28: =IF(OR(B28="",M28="",I28=""),"",M28*I28) | O28: =IF(B28="","",MID("LunMarMiéJueVieSábDom",(WEEKDAY(B28,2)-1)*3+1,3)) | P28: =IF(B28="","",B28-WEEKDAY(B28,2)+1) | Q28: =IF(B28="","",DATE(YEAR(B28),MONTH(B28),1))
H29: =IF(B29="","",N(D29)*N(E29)+N(F29)) | J29: =IF(OR(B29="",I29="",N(H29)=0),"",I29/H29*100/1440) | K29: =IF(OR(B29="",I29="",N(I29)=0),"",ROUND(H29/1000/(I29/60),2)) | L29: =IF(OR(B29="",G29="",N(G29)=0),"",ROUND(H29/G29,0)) | N29: =IF(OR(B29="",M29="",I29=""),"",M29*I29) | O29: =IF(B29="","",MID("LunMarMiéJueVieSábDom",(WEEKDAY(B29,2)-1)*3+1,3)) | P29: =IF(B29="","",B29-WEEKDAY(B29,2)+1) | Q29: =IF(B29="","",DATE(YEAR(B29),MONTH(B29),1))
H30: =IF(B30="","",N(D30)*N(E30)+N(F30)) | J30: =IF(OR(B30="",I30="",N(H30)=0),"",I30/H30*100/1440) | K30: =IF(OR(B30="",I30="",N(I30)=0),"",ROUND(H30/1000/(I30/60),2)) | L30: =IF(OR(B30="",G30="",N(G30)=0),"",ROUND(H30/G30,0)) | N30: =IF(OR(B30="",M30="",I30=""),"",M30*I30) | O30: =IF(B30="","",MID("LunMarMiéJueVieSábDom",(WEEKDAY(B30,2)-1)*3+1,3)) | P30: =IF(B30="","",B30-WEEKDAY(B30,2)+1) | Q30: =IF(B30="","",DATE(YEAR(B30),MONTH(B30),1))
H31: =IF(B31="","",N(D31)*N(E31)+N(F31)) | J31: =IF(OR(B31="",I31="",N(H31)=0),"",I31/H31*100/1440) | K31: =IF(OR(B31="",I31="",N(I31)=0),"",ROUND(H31/1000/(I31/60),2)) | L31: =IF(OR(B31="",G31="",N(G31)=0),"",ROUND(H31/G31,0)) | N31: =IF(OR(B31="",M31="",I31=""),"",M31*I31) | O31: =IF(B31="","",MID("LunMarMiéJueVieSábDom",(WEEKDAY(B31,2)-1)*3+1,3)) | P31: =IF(B31="","",B31-WEEKDAY(B31,2)+1) | Q31: =IF(B31="","",DATE(YEAR(B31),MONTH(B31),1))
H32: =IF(B32="","",N(D32)*N(E32)+N(F32)) | J32: =IF(OR(B32="",I32="",N(H32)=0),"",I32/H32*100/1440) | K32: =IF(OR(B32="",I32="",N(I32)=0),"",ROUND(H32/1000/(I32/60),2)) | L32: =IF(OR(B32="",G32="",N(G32)=0),"",ROUND(H32/G32,0)) | N32: =IF(OR(B32="",M32="",I32=""),"",M32*I32) | O32: =IF(B32="","",MID("LunMarMiéJueVieSábDom",(WEEKDAY(B32,2)-1)*3+1,3)) | P32: =IF(B32="","",B32-WEEKDAY(B32,2)+1) | Q32: =IF(B32="","",DATE(YEAR(B32),MONTH(B32),1))
H33: =IF(B33="","",N(D33)*N(E33)+N(F33)) | J33: =IF(OR(B33="",I33="",N(H33)=0),"",I33/H33*100/1440) | K33: =IF(OR(B33="",I33="",N(I33)=0),"",ROUND(H33/1000/(I33/60),2)) | L33: =IF(OR(B33="",G33="",N(G33)=0),"",ROUND(H33/G33,0)) | N33: =IF(OR(B33="",M33="",I33=""),"",M33*I33) | O33: =IF(B33="","",MID("LunMarMiéJueVieSábDom",(WEEKDAY(B33,2)-1)*3+1,3)) | P33: =IF(B33="","",B33-WEEKDAY(B33,2)+1) | Q33: =IF(B33="","",DATE(YEAR(B33),MONTH(B33),1))
H34: =IF(B34="","",N(D34)*N(E34)+N(F34)) | J34: =IF(OR(B34="",I34="",N(H34)=0),"",I34/H34*100/1440) | K34: =IF(OR(B34="",I34="",N(I34)=0),"",ROUND(H34/1000/(I34/60),2)) | L34: =IF(OR(B34="",G34="",N(G34)=0),"",ROUND(H34/G34,0)) | N34: =IF(OR(B34="",M34="",I34=""),"",M34*I34) | O34: =IF(B34="","",MID("LunMarMiéJueVieSábDom",(WEEKDAY(B34,2)-1)*3+1,3)) | P34: =IF(B34="","",B34-WEEKDAY(B34,2)+1) | Q34: =IF(B34="","",DATE(YEAR(B34),MONTH(B34),1))
... H47: =IF(B47="","",N(D47)*N(E47)+N(F47)) | J47: =IF(OR(B47="",I47="",N(H47)=0),"",I47/H47*100/1440) | K47: =IF(OR(B47="",I47="",N(I47)=0),"",ROUND(H47/1000/(I47/60),2)) | L47: =IF(OR(B47="",G47="",N(G47)=0),"",ROUND(H47/G47,0)) | N47: =IF(OR(B47="",M47="",I47=""),"",M47*I47) | O47: =IF(B47="","",MID("LunMarMiéJueVieSábDom",(WEEKDAY(B47,2)-1)*3+1,3)) | P47: =IF(B47="","",B47-WEEKDAY(B47,2)+1) | Q47: =IF(B47="","",DATE(YEAR(B47),MONTH(B47),1))

Sheet Listas
A1: Estilo
A2: Crol
A3: Espalda
A4: Braza
A5: Mariposa
A6: Estilos
A7: Técnica

Sheet Instrucciones
B2: Cómo usar el registro de natación
B3: Plantilla gratuita de Plantillas de Cálculo · plantillasdecalculo.com
B5: CÓMO USARLA
B6: 1. Ve a la hoja «Sesiones» y revisa los tres ajustes de arriba: objetivo semanal en metros (D5), objetivo mensual (G5) y ritmo objetivo en segundos por 100 m (J5). Son cifras tuyas: la plantilla no las recomienda.
B7: 2. Borra solo las celdas crema de los datos de ejemplo (son ficticios) y empieza tu registro en la fila 8, una fila por sesión y en orden cronológico.
B8: 3. Escribe la Fecha (dd/mm/aaaa) y elige el Estilo principal en el desplegable (Crol, Espalda, Braza, Mariposa, Estilos o Técnica).
B9: 4. Anota las Series, los Metros por serie y los Metros extra (calentamiento, suave y vuelta a la calma). La Distancia total es series × metros + extra.
B10: 5. Escribe el largo de la Piscina en metros (25, 33, 50...), el Tiempo total de la sesión en minutos y tu Esfuerzo percibido de 1 a 10.
B11: 6. Las columnas Distancia, Ritmo /100 m, Velocidad, Largos, Carga, Día, Semana y Mes se rellenan solas. El ritmo se pinta en verde si llega a tu objetivo y en ámbar si lo supera en más de un 15 %.
B12: 7. Abre la hoja «Panel» para ver los 8 indicadores, el volumen por semanas y meses (con su % de objetivo), el reparto por estilo y los dos gráficos.
B13: 8. Hay 40 filas preparadas. Cuando se llenen, guarda una copia del archivo y empieza otro registro vacío para la siguiente temporada.
B15: CONSEJOS
... B23: Aviso: esta plantilla sirve solo para registrar y organizar tus sesiones de natación. No ofrece planes de entrenamiento ni consejos médicos, ni sustituye a un entrenador o a un profesional sanitario. Si tienes dudas sobre tu estado de salud o tu carga de entrenamiento, consulta con un profesional.
