Workbook

Sheet Panel
B2: Panel del reto de 30 días de ejercicio
B3: Tu constancia de un vistazo: casillas completadas, % del reto, racha y progresión día a día.
B5: Fecha de inicio del reto: | C5: 46279 | E5: Último día del reto: | G5: =C5+29
B6: Ajuste de nivel (% del objetivo): | C6: 1 | E6: Hoy es el día nº: | G6: =IF(TODAY()<C5,0,MIN(30,TODAY()-C5+1))
B7: Parcial desde (% del objetivo): | C7: 0.6 | E7: Último día registrado: | G7: =SUMPRODUCT(MAX((Reto!$F$8:$F$37<>"")*Reto!$K$8:$K$37))
B9: DÍAS COMPLETADOS | C9: % DEL RETO COMPLETADO | E9: RACHA ACTUAL (días) | G9: MEJOR RACHA (días)
B10: =COUNTIF(Reto!$H$8:$H$37,"Completado") | C10: =IFERROR(B10/SUMPRODUCT((Reto!$C$8:$C$37<>"")*(Reto!$C$8:$C$37<>"Descanso")),0) | E10: =IF(G7=0,0,N(INDEX(Reto!$I$8:$I$37,MATCH(G7,Reto!$K$8:$K$37,0)))) | G10: =MAX(0,MAX(Reto!$I$8:$I$37))
B12: REPETICIONES TOTALES | C12: MINUTOS EN EJERCICIOS DE TIEMPO | E12: CUMPLIMIENTO MEDIO | G12: ENTRENOS PENDIENTES
B13: =SUMIF(Reto!$E$8:$E$37,"reps",Reto!$F$8:$F$37) | C13: =SUMIF(Reto!$E$8:$E$37,"seg",Reto!$F$8:$F$37)/60 | E13: =IFERROR(SUM(Reto!$G$8:$G$37)/COUNT(Reto!$G$8:$G$37),0) | G13: =COUNTIF(Reto!$H$8:$H$37,"Pendiente")
B15: TABLERO DE 30 DÍAS
B16: Días 1 a 5 | C16: =1&" "&IF(INDEX(Reto!$H$8:$H$37,1)="Completado","✔",IF(INDEX(Reto!$H$8:$H$37,1)="Parcial","½",IF(INDEX(Reto!$H$8:$H$37,1)="Fallado","✖",IF(INDEX(Reto!$H$8:$H$37,1)="Descanso","zz","")))) | D16: =2&" "&IF(INDEX(Reto!$H$8:$H$37,2)="Completado","✔",IF(INDEX(Reto!$H$8:$H$37,2)="Parcial","½",IF(INDEX(Reto!$H$8:$H$37,2)="Fallado","✖",IF(INDEX(Reto!$H$8:$H$37,2)="Descanso","zz","")))) | E16: =3&" "&IF(INDEX(Reto!$H$8:$H$37,3)="Completado","✔",IF(INDEX(Reto!$H$8:$H$37,3)="Parcial","½",IF(INDEX(Reto!$H$8:$H$37,3)="Fallado","✖",IF(INDEX(Reto!$H$8:$H$37,3)="Descanso","zz","")))) | F16: =4&" "&IF(INDEX(Reto!$H$8:$H$37,4)="Completado","✔",IF(INDEX(Reto!$H$8:$H$37,4)="Parcial","½",IF(INDEX(Reto!$H$8:$H$37,4)="Fallado","✖",IF(INDEX(Reto!$H$8:$H$37,4)="Descanso","zz","")))) | G16: =5&" "&IF(INDEX(Reto!$H$8:$H$37,5)="Completado","✔",IF(INDEX(Reto!$H$8:$H$37,5)="Parcial","½",IF(INDEX(Reto!$H$8:$H$37,5)="Fallado","✖",IF(INDEX(Reto!$H$8:$H$37,5)="Descanso","zz","")))) | H16: ✔ completado
B17: Días 6 a 10 | C17: =6&" "&IF(INDEX(Reto!$H$8:$H$37,6)="Completado","✔",IF(INDEX(Reto!$H$8:$H$37,6)="Parcial","½",IF(INDEX(Reto!$H$8:$H$37,6)="Fallado","✖",IF(INDEX(Reto!$H$8:$H$37,6)="Descanso","zz","")))) | D17: =7&" "&IF(INDEX(Reto!$H$8:$H$37,7)="Completado","✔",IF(INDEX(Reto!$H$8:$H$37,7)="Parcial","½",IF(INDEX(Reto!$H$8:$H$37,7)="Fallado","✖",IF(INDEX(Reto!$H$8:$H$37,7)="Descanso","zz","")))) | E17: =8&" "&IF(INDEX(Reto!$H$8:$H$37,8)="Completado","✔",IF(INDEX(Reto!$H$8:$H$37,8)="Parcial","½",IF(INDEX(Reto!$H$8:$H$37,8)="Fallado","✖",IF(INDEX(Reto!$H$8:$H$37,8)="Descanso","zz","")))) | F17: =9&" "&IF(INDEX(Reto!$H$8:$H$37,9)="Completado","✔",IF(INDEX(Reto!$H$8:$H$37,9)="Parcial","½",IF(INDEX(Reto!$H$8:$H$37,9)="Fallado","✖",IF(INDEX(Reto!$H$8:$H$37,9)="Descanso","zz","")))) | G17: =10&" "&IF(INDEX(Reto!$H$8:$H$37,10)="Completado","✔",IF(INDEX(Reto!$H$8:$H$37,10)="Parcial","½",IF(INDEX(Reto!$H$8:$H$37,10)="Fallado","✖",IF(INDEX(Reto!$H$8:$H$37,10)="Descanso","zz","")))) | H17: ½ parcial
B18: Días 11 a 15 | C18: =11&" "&IF(INDEX(Reto!$H$8:$H$37,11)="Completado","✔",IF(INDEX(Reto!$H$8:$H$37,11)="Parcial","½",IF(INDEX(Reto!$H$8:$H$37,11)="Fallado","✖",IF(INDEX(Reto!$H$8:$H$37,11)="Descanso","zz","")))) | D18: =12&" "&IF(INDEX(Reto!$H$8:$H$37,12)="Completado","✔",IF(INDEX(Reto!$H$8:$H$37,12)="Parcial","½",IF(INDEX(Reto!$H$8:$H$37,12)="Fallado","✖",IF(INDEX(Reto!$H$8:$H$37,12)="Descanso","zz","")))) | E18: =13&" "&IF(INDEX(Reto!$H$8:$H$37,13)="Completado","✔",IF(INDEX(Reto!$H$8:$H$37,13)="Parcial","½",IF(INDEX(Reto!$H$8:$H$37,13)="Fallado","✖",IF(INDEX(Reto!$H$8:$H$37,13)="Descanso","zz","")))) | F18: =14&" "&IF(INDEX(Reto!$H$8:$H$37,14)="Completado","✔",IF(INDEX(Reto!$H$8:$H$37,14)="Parcial","½",IF(INDEX(Reto!$H$8:$H$37,14)="Fallado","✖",IF(INDEX(Reto!$H$8:$H$37,14)="Descanso","zz","")))) | G18: =15&" "&IF(INDEX(Reto!$H$8:$H$37,15)="Completado","✔",IF(INDEX(Reto!$H$8:$H$37,15)="Parcial","½",IF(INDEX(Reto!$H$8:$H$37,15)="Fallado","✖",IF(INDEX(Reto!$H$8:$H$37,15)="Descanso","zz","")))) | H18: ✖ fallado
B19: Días 16 a 20 | C19: =16&" "&IF(INDEX(Reto!$H$8:$H$37,16)="Completado","✔",IF(INDEX(Reto!$H$8:$H$37,16)="Parcial","½",IF(INDEX(Reto!$H$8:$H$37,16)="Fallado","✖",IF(INDEX(Reto!$H$8:$H$37,16)="Descanso","zz","")))) | D19: =17&" "&IF(INDEX(Reto!$H$8:$H$37,17)="Completado","✔",IF(INDEX(Reto!$H$8:$H$37,17)="Parcial","½",IF(INDEX(Reto!$H$8:$H$37,17)="Fallado","✖",IF(INDEX(Reto!$H$8:$H$37,17)="Descanso","zz","")))) | E19: =18&" "&IF(INDEX(Reto!$H$8:$H$37,18)="Completado","✔",IF(INDEX(Reto!$H$8:$H$37,18)="Parcial","½",IF(INDEX(Reto!$H$8:$H$37,18)="Fallado","✖",IF(INDEX(Reto!$H$8:$H$37,18)="Descanso","zz","")))) | F19: =19&" "&IF(INDEX(Reto!$H$8:$H$37,19)="Completado","✔",IF(INDEX(Reto!$H$8:$H$37,19)="Parcial","½",IF(INDEX(Reto!$H$8:$H$37,19)="Fallado","✖",IF(INDEX(Reto!$H$8:$H$37,19)="Descanso","zz","")))) | G19: =20&" "&IF(INDEX(Reto!$H$8:$H$37,20)="Completado","✔",IF(INDEX(Reto!$H$8:$H$37,20)="Parcial","½",IF(INDEX(Reto!$H$8:$H$37,20)="Fallado","✖",IF(INDEX(Reto!$H$8:$H$37,20)="Descanso","zz","")))) | H19: zz descanso
B20: Días 21 a 25 | C20: =21&" "&IF(INDEX(Reto!$H$8:$H$37,21)="Completado","✔",IF(INDEX(Reto!$H$8:$H$37,21)="Parcial","½",IF(INDEX(Reto!$H$8:$H$37,21)="Fallado","✖",IF(INDEX(Reto!$H$8:$H$37,21)="Descanso","zz","")))) | D20: =22&" "&IF(INDEX(Reto!$H$8:$H$37,22)="Completado","✔",IF(INDEX(Reto!$H$8:$H$37,22)="Parcial","½",IF(INDEX(Reto!$H$8:$H$37,22)="Fallado","✖",IF(INDEX(Reto!$H$8:$H$37,22)="Descanso","zz","")))) | E20: =23&" "&IF(INDEX(Reto!$H$8:$H$37,23)="Completado","✔",IF(INDEX(Reto!$H$8:$H$37,23)="Parcial","½",IF(INDEX(Reto!$H$8:$H$37,23)="Fallado","✖",IF(INDEX(Reto!$H$8:$H$37,23)="Descanso","zz","")))) | F20: =24&" "&IF(INDEX(Reto!$H$8:$H$37,24)="Completado","✔",IF(INDEX(Reto!$H$8:$H$37,24)="Parcial","½",IF(INDEX(Reto!$H$8:$H$37,24)="Fallado","✖",IF(INDEX(Reto!$H$8:$H$37,24)="Descanso","zz","")))) | G20: =25&" "&IF(INDEX(Reto!$H$8:$H$37,25)="Completado","✔",IF(INDEX(Reto!$H$8:$H$37,25)="Parcial","½",IF(INDEX(Reto!$H$8:$H$37,25)="Fallado","✖",IF(INDEX(Reto!$H$8:$H$37,25)="Descanso","zz","")))) | H20: sin símbolo: pendiente
B21: Días 26 a 30 | C21: =26&" "&IF(INDEX(Reto!$H$8:$H$37,26)="Completado","✔",IF(INDEX(Reto!$H$8:$H$37,26)="Parcial","½",IF(INDEX(Reto!$H$8:$H$37,26)="Fallado","✖",IF(INDEX(Reto!$H$8:$H$37,26)="Descanso","zz","")))) | D21: =27&" "&IF(INDEX(Reto!$H$8:$H$37,27)="Completado","✔",IF(INDEX(Reto!$H$8:$H$37,27)="Parcial","½",IF(INDEX(Reto!$H$8:$H$37,27)="Fallado","✖",IF(INDEX(Reto!$H$8:$H$37,27)="Descanso","zz","")))) | E21: =28&" "&IF(INDEX(Reto!$H$8:$H$37,28)="Completado","✔",IF(INDEX(Reto!$H$8:$H$37,28)="Parcial","½",IF(INDEX(Reto!$H$8:$H$37,28)="Fallado","✖",IF(INDEX(Reto!$H$8:$H$37,28)="Descanso","zz","")))) | F21: =29&" "&IF(INDEX(Reto!$H$8:$H$37,29)="Completado","✔",IF(INDEX(Reto!$H$8:$H$37,29)="Parcial","½",IF(INDEX(Reto!$H$8:$H$37,29)="Fallado","✖",IF(INDEX(Reto!$H$8:$H$37,29)="Descanso","zz","")))) | G21: =30&" "&IF(INDEX(Reto!$H$8:$H$37,30)="Completado","✔",IF(INDEX(Reto!$H$8:$H$37,30)="Parcial","½",IF(INDEX(Reto!$H$8:$H$37,30)="Fallado","✖",IF(INDEX(Reto!$H$8:$H$37,30)="Descanso","zz",""))))
B23: ="Llevas "&B10&" de "&SUMPRODUCT((Reto!$C$8:$C$37<>"")*(Reto!$C$8:$C$37<>"Descanso"))&" entrenos completados ("&TEXT(C10,"0%")&" del reto) y tu racha actual es de "&E10&" días."

Sheet Reto
B2: Tablero del reto de 30 días
B3: Elige el ejercicio de cada día y anota solo lo que has hecho; objetivo, estado y racha se calculan solos.
B7: Día | C7: Ejercicio del día | D7: Objetivo | E7: Unidad | F7: Realizadas | G7: % cumplido | H7: Estado | I7: Racha (días) | J7: Fecha | K7: Nº día | L7: Semana | M7: Día | N7: Completados acumulados | O7: Nota
B8: Día 1 | C8: Sentadillas | D8: =IF(OR(C8="",C8="Descanso"),"",IFERROR(ROUND((VLOOKUP(C8,Ejercicios!$B$8:$E$17,3,0)+VLOOKUP(C8,Ejercicios!$B$8:$E$17,4,0)*(L8-1))*Panel!$C$6,0),"")) | E8: =IF(OR(C8="",C8="Descanso"),"",IFERROR(VLOOKUP(C8,Ejercicios!$B$8:$E$17,2,0),"")) | F8: 15 | G8: =IF(OR(D8="",F8=""),"",IFERROR(F8/D8,0)) | H8: =IF(C8="","",IF(C8="Descanso","Descanso",IF(OR(F8="",D8=""),"Pendiente",IF(G8>=1,"Completado",IF(G8>=Panel!$C$7,"Parcial","Fallado"))))) | I8: =IF(OR(H8="",H8="Pendiente"),"",IF(H8="Descanso",N(I7),IF(H8="Completado",N(I7)+1,0))) | J8: =Panel!$C$5+K8-1 | K8: 1 | L8: =INT((K8-1)/7)+1 | M8: =MID("LunMarMiéJueVieSábDom",(WEEKDAY(J8,2)-1)*3+1,3) | N8: =IF(OR(H8="",H8="Pendiente"),"",COUNTIF(H$8:H8,"Completado")) | O8: Primer día, con ganas
B9: Día 2 | C9: Flexiones | D9: =IF(OR(C9="",C9="Descanso"),"",IFERROR(ROUND((VLOOKUP(C9,Ejercicios!$B$8:$E$17,3,0)+VLOOKUP(C9,Ejercicios!$B$8:$E$17,4,0)*(L9-1))*Panel!$C$6,0),"")) | E9: =IF(OR(C9="",C9="Descanso"),"",IFERROR(VLOOKUP(C9,Ejercicios!$B$8:$E$17,2,0),"")) | F9: 8 | G9: =IF(OR(D9="",F9=""),"",IFERROR(F9/D9,0)) | H9: =IF(C9="","",IF(C9="Descanso","Descanso",IF(OR(F9="",D9=""),"Pendiente",IF(G9>=1,"Completado",IF(G9>=Panel!$C$7,"Parcial","Fallado"))))) | I9: =IF(OR(H9="",H9="Pendiente"),"",IF(H9="Descanso",N(I8),IF(H9="Completado",N(I8)+1,0))) | J9: =Panel!$C$5+K9-1 | K9: 2 | L9: =INT((K9-1)/7)+1 | M9: =MID("LunMarMiéJueVieSábDom",(WEEKDAY(J9,2)-1)*3+1,3) | N9: =IF(OR(H9="",H9="Pendiente"),"",COUNTIF(H$8:H9,"Completado"))
B10: Día 3 | C10: Abdominales | D10: =IF(OR(C10="",C10="Descanso"),"",IFERROR(ROUND((VLOOKUP(C10,Ejercicios!$B$8:$E$17,3,0)+VLOOKUP(C10,Ejercicios!$B$8:$E$17,4,0)*(L10-1))*Panel!$C$6,0),"")) | E10: =IF(OR(C10="",C10="Descanso"),"",IFERROR(VLOOKUP(C10,Ejercicios!$B$8:$E$17,2,0),"")) | F10: 16 | G10: =IF(OR(D10="",F10=""),"",IFERROR(F10/D10,0)) | H10: =IF(C10="","",IF(C10="Descanso","Descanso",IF(OR(F10="",D10=""),"Pendiente",IF(G10>=1,"Completado",IF(G10>=Panel!$C$7,"Parcial","Fallado"))))) | I10: =IF(OR(H10="",H10="Pendiente"),"",IF(H10="Descanso",N(I9),IF(H10="Completado",N(I9)+1,0))) | J10: =Panel!$C$5+K10-1 | K10: 3 | L10: =INT((K10-1)/7)+1 | M10: =MID("LunMarMiéJueVieSábDom",(WEEKDAY(J10,2)-1)*3+1,3) | N10: =IF(OR(H10="",H10="Pendiente"),"",COUNTIF(H$8:H10,"Completado")) | O10: Fácil, subí una más
B11: Día 4 | C11: Plancha | D11: =IF(OR(C11="",C11="Descanso"),"",IFERROR(ROUND((VLOOKUP(C11,Ejercicios!$B$8:$E$17,3,0)+VLOOKUP(C11,Ejercicios!$B$8:$E$17,4,0)*(L11-1))*Panel!$C$6,0),"")) | E11: =IF(OR(C11="",C11="Descanso"),"",IFERROR(VLOOKUP(C11,Ejercicios!$B$8:$E$17,2,0),"")) | F11: 20 | G11: =IF(OR(D11="",F11=""),"",IFERROR(F11/D11,0)) | H11: =IF(C11="","",IF(C11="Descanso","Descanso",IF(OR(F11="",D11=""),"Pendiente",IF(G11>=1,"Completado",IF(G11>=Panel!$C$7,"Parcial","Fallado"))))) | I11: =IF(OR(H11="",H11="Pendiente"),"",IF(H11="Descanso",N(I10),IF(H11="Completado",N(I10)+1,0))) | J11: =Panel!$C$5+K11-1 | K11: 4 | L11: =INT((K11-1)/7)+1 | M11: =MID("LunMarMiéJueVieSábDom",(WEEKDAY(J11,2)-1)*3+1,3) | N11: =IF(OR(H11="",H11="Pendiente"),"",COUNTIF(H$8:H11,"Completado"))
B12: Día 5 | C12: Zancadas | D12: =IF(OR(C12="",C12="Descanso"),"",IFERROR(ROUND((VLOOKUP(C12,Ejercicios!$B$8:$E$17,3,0)+VLOOKUP(C12,Ejercicios!$B$8:$E$17,4,0)*(L12-1))*Panel!$C$6,0),"")) | E12: =IF(OR(C12="",C12="Descanso"),"",IFERROR(VLOOKUP(C12,Ejercicios!$B$8:$E$17,2,0),"")) | F12: 10 | G12: =IF(OR(D12="",F12=""),"",IFERROR(F12/D12,0)) | H12: =IF(C12="","",IF(C12="Descanso","Descanso",IF(OR(F12="",D12=""),"Pendiente",IF(G12>=1,"Completado",IF(G12>=Panel!$C$7,"Parcial","Fallado"))))) | I12: =IF(OR(H12="",H12="Pendiente"),"",IF(H12="Descanso",N(I11),IF(H12="Completado",N(I11)+1,0))) | J12: =Panel!$C$5+K12-1 | K12: 5 | L12: =INT((K12-1)/7)+1 | M12: =MID("LunMarMiéJueVieSábDom",(WEEKDAY(J12,2)-1)*3+1,3) | N12: =IF(OR(H12="",H12="Pendiente"),"",COUNTIF(H$8:H12,"Completado"))
B13: Día 6 | C13: Burpees | D13: =IF(OR(C13="",C13="Descanso"),"",IFERROR(ROUND((VLOOKUP(C13,Ejercicios!$B$8:$E$17,3,0)+VLOOKUP(C13,Ejercicios!$B$8:$E$17,4,0)*(L13-1))*Panel!$C$6,0),"")) | E13: =IF(OR(C13="",C13="Descanso"),"",IFERROR(VLOOKUP(C13,Ejercicios!$B$8:$E$17,2,0),"")) | F13: 5 | G13: =IF(OR(D13="",F13=""),"",IFERROR(F13/D13,0)) | H13: =IF(C13="","",IF(C13="Descanso","Descanso",IF(OR(F13="",D13=""),"Pendiente",IF(G13>=1,"Completado",IF(G13>=Panel!$C$7,"Parcial","Fallado"))))) | I13: =IF(OR(H13="",H13="Pendiente"),"",IF(H13="Descanso",N(I12),IF(H13="Completado",N(I12)+1,0))) | J13: =Panel!$C$5+K13-1 | K13: 6 | L13: =INT((K13-1)/7)+1 | M13: =MID("LunMarMiéJueVieSábDom",(WEEKDAY(J13,2)-1)*3+1,3) | N13: =IF(OR(H13="",H13="Pendiente"),"",COUNTIF(H$8:H13,"Completado"))
B14: Día 7 | C14: Descanso | D14: =IF(OR(C14="",C14="Descanso"),"",IFERROR(ROUND((VLOOKUP(C14,Ejercicios!$B$8:$E$17,3,0)+VLOOKUP(C14,Ejercicios!$B$8:$E$17,4,0)*(L14-1))*Panel!$C$6,0),"")) | E14: =IF(OR(C14="",C14="Descanso"),"",IFERROR(VLOOKUP(C14,Ejercicios!$B$8:$E$17,2,0),"")) | G14: =IF(OR(D14="",F14=""),"",IFERROR(F14/D14,0)) | H14: =IF(C14="","",IF(C14="Descanso","Descanso",IF(OR(F14="",D14=""),"Pendiente",IF(G14>=1,"Completado",IF(G14>=Panel!$C$7,"Parcial","Fallado"))))) | I14: =IF(OR(H14="",H14="Pendiente"),"",IF(H14="Descanso",N(I13),IF(H14="Completado",N(I13)+1,0))) | J14: =Panel!$C$5+K14-1 | K14: 7 | L14: =INT((K14-1)/7)+1 | M14: =MID("LunMarMiéJueVieSábDom",(WEEKDAY(J14,2)-1)*3+1,3) | N14: =IF(OR(H14="",H14="Pendiente"),"",COUNTIF(H$8:H14,"Completado"))
B15: Día 8 | C15: Sentadillas | D15: =IF(OR(C15="",C15="Descanso"),"",IFERROR(ROUND((VLOOKUP(C15,Ejercicios!$B$8:$E$17,3,0)+VLOOKUP(C15,Ejercicios!$B$8:$E$17,4,0)*(L15-1))*Panel!$C$6,0),"")) | E15: =IF(OR(C15="",C15="Descanso"),"",IFERROR(VLOOKUP(C15,Ejercicios!$B$8:$E$17,2,0),"")) | F15: 18 | G15: =IF(OR(D15="",F15=""),"",IFERROR(F15/D15,0)) | H15: =IF(C15="","",IF(C15="Descanso","Descanso",IF(OR(F15="",D15=""),"Pendiente",IF(G15>=1,"Completado",IF(G15>=Panel!$C$7,"Parcial","Fallado"))))) | I15: =IF(OR(H15="",H15="Pendiente"),"",IF(H15="Descanso",N(I14),IF(H15="Completado",N(I14)+1,0))) | J15: =Panel!$C$5+K15-1 | K15: 8 | L15: =INT((K15-1)/7)+1 | M15: =MID("LunMarMiéJueVieSábDom",(WEEKDAY(J15,2)-1)*3+1,3) | N15: =IF(OR(H15="",H15="Pendiente"),"",COUNTIF(H$8:H15,"Completado"))
B16: Día 9 | C16: Flexiones | D16: =IF(OR(C16="",C16="Descanso"),"",IFERROR(ROUND((VLOOKUP(C16,Ejercicios!$B$8:$E$17,3,0)+VLOOKUP(C16,Ejercicios!$B$8:$E$17,4,0)*(L16-1))*Panel!$C$6,0),"")) | E16: =IF(OR(C16="",C16="Descanso"),"",IFERROR(VLOOKUP(C16,Ejercicios!$B$8:$E$17,2,0),"")) | F16: 6 | G16: =IF(OR(D16="",F16=""),"",IFERROR(F16/D16,0)) | H16: =IF(C16="","",IF(C16="Descanso","Descanso",IF(OR(F16="",D16=""),"Pendiente",IF(G16>=1,"Completado",IF(G16>=Panel!$C$7,"Parcial","Fallado"))))) | I16: =IF(OR(H16="",H16="Pendiente"),"",IF(H16="Descanso",N(I15),IF(H16="Completado",N(I15)+1,0))) | J16: =Panel!$C$5+K16-1 | K16: 9 | L16: =INT((K16-1)/7)+1 | M16: =MID("LunMarMiéJueVieSábDom",(WEEKDAY(J16,2)-1)*3+1,3) | N16: =IF(OR(H16="",H16="Pendiente"),"",COUNTIF(H$8:H16,"Completado")) | O16: Cansancio, paré antes
B17: Día 10 | C17: Abdominales | D17: =IF(OR(C17="",C17="Descanso"),"",IFERROR(ROUND((VLOOKUP(C17,Ejercicios!$B$8:$E$17,3,0)+VLOOKUP(C17,Ejercicios!$B$8:$E$17,4,0)*(L17-1))*Panel!$C$6,0),"")) | E17: =IF(OR(C17="",C17="Descanso"),"",IFERROR(VLOOKUP(C17,Ejercicios!$B$8:$E$17,2,0),"")) | F17: 18 | G17: =IF(OR(D17="",F17=""),"",IFERROR(F17/D17,0)) | H17: =IF(C17="","",IF(C17="Descanso","Descanso",IF(OR(F17="",D17=""),"Pendiente",IF(G17>=1,"Completado",IF(G17>=Panel!$C$7,"Parcial","Fallado"))))) | I17: =IF(OR(H17="",H17="Pendiente"),"",IF(H17="Descanso",N(I16),IF(H17="Completado",N(I16)+1,0))) | J17: =Panel!$C$5+K17-1 | K17: 10 | L17: =INT((K17-1)/7)+1 | M17: =MID("LunMarMiéJueVieSábDom",(WEEKDAY(J17,2)-1)*3+1,3) | N17: =IF(OR(H17="",H17="Pendiente"),"",COUNTIF(H$8:H17,"Completado"))
B18: Día 11 | C18: Plancha | D18: =IF(OR(C18="",C18="Descanso"),"",IFERROR(ROUND((VLOOKUP(C18,Ejercicios!$B$8:$E$17,3,0)+VLOOKUP(C18,Ejercicios!$B$8:$E$17,4,0)*(L18-1))*Panel!$C$6,0),"")) | E18: =IF(OR(C18="",C18="Descanso"),"",IFERROR(VLOOKUP(C18,Ejercicios!$B$8:$E$17,2,0),"")) | F18: 25 | G18: =IF(OR(D18="",F18=""),"",IFERROR(F18/D18,0)) | H18: =IF(C18="","",IF(C18="Descanso","Descanso",IF(OR(F18="",D18=""),"Pendiente",IF(G18>=1,"Completado",IF(G18>=Panel!$C$7,"Parcial","Fallado"))))) | I18: =IF(OR(H18="",H18="Pendiente"),"",IF(H18="Descanso",N(I17),IF(H18="Completado",N(I17)+1,0))) | J18: =Panel!$C$5+K18-1 | K18: 11 | L18: =INT((K18-1)/7)+1 | M18: =MID("LunMarMiéJueVieSábDom",(WEEKDAY(J18,2)-1)*3+1,3) | N18: =IF(OR(H18="",H18="Pendiente"),"",COUNTIF(H$8:H18,"Completado"))
B19: Día 12 | C19: Zancadas | D19: =IF(OR(C19="",C19="Descanso"),"",IFERROR(ROUND((VLOOKUP(C19,Ejercicios!$B$8:$E$17,3,0)+VLOOKUP(C19,Ejercicios!$B$8:$E$17,4,0)*(L19-1))*Panel!$C$6,0),"")) | E19: =IF(OR(C19="",C19="Descanso"),"",IFERROR(VLOOKUP(C19,Ejercicios!$B$8:$E$17,2,0),"")) | F19: 12 | G19: =IF(OR(D19="",F19=""),"",IFERROR(F19/D19,0)) | H19: =IF(C19="","",IF(C19="Descanso","Descanso",IF(OR(F19="",D19=""),"Pendiente",IF(G19>=1,"Completado",IF(G19>=Panel!$C$7,"Parcial","Fallado"))))) | I19: =IF(OR(H19="",H19="Pendiente"),"",IF(H19="Descanso",N(I18),IF(H19="Completado",N(I18)+1,0))) | J19: =Panel!$C$5+K19-1 | K19: 12 | L19: =INT((K19-1)/7)+1 | M19: =MID("LunMarMiéJueVieSábDom",(WEEKDAY(J19,2)-1)*3+1,3) | N19: =IF(OR(H19="",H19="Pendiente"),"",COUNTIF(H$8:H19,"Completado"))
B20: Día 13 | C20: Burpees | D20: =IF(OR(C20="",C20="Descanso"),"",IFERROR(ROUND((VLOOKUP(C20,Ejercicios!$B$8:$E$17,3,0)+VLOOKUP(C20,Ejercicios!$B$8:$E$17,4,0)*(L20-1))*Panel!$C$6,0),"")) | E20: =IF(OR(C20="",C20="Descanso"),"",IFERROR(VLOOKUP(C20,Ejercicios!$B$8:$E$17,2,0),"")) | F20: 6 | G20: =IF(OR(D20="",F20=""),"",IFERROR(F20/D20,0)) | H20: =IF(C20="","",IF(C20="Descanso","Descanso",IF(OR(F20="",D20=""),"Pendiente",IF(G20>=1,"Completado",IF(G20>=Panel!$C$7,"Parcial","Fallado"))))) | I20: =IF(OR(H20="",H20="Pendiente"),"",IF(H20="Descanso",N(I19),IF(H20="Completado",N(I19)+1,0))) | J20: =Panel!$C$5+K20-1 | K20: 13 | L20: =INT((K20-1)/7)+1 | M20: =MID("LunMarMiéJueVieSábDom",(WEEKDAY(J20,2)-1)*3+1,3) | N20: =IF(OR(H20="",H20="Pendiente"),"",COUNTIF(H$8:H20,"Completado")) | O20: Burpees duros
B21: Día 14 | C21: Descanso | D21: =IF(OR(C21="",C21="Descanso"),"",IFERROR(ROUND((VLOOKUP(C21,Ejercicios!$B$8:$E$17,3,0)+VLOOKUP(C21,Ejercicios!$B$8:$E$17,4,0)*(L21-1))*Panel!$C$6,0),"")) | E21: =IF(OR(C21="",C21="Descanso"),"",IFERROR(VLOOKUP(C21,Ejercicios!$B$8:$E$17,2,0),"")) | G21: =IF(OR(D21="",F21=""),"",IFERROR(F21/D21,0)) | H21: =IF(C21="","",IF(C21="Descanso","Descanso",IF(OR(F21="",D21=""),"Pendiente",IF(G21>=1,"Completado",IF(G21>=Panel!$C$7,"Parcial","Fallado"))))) | I21: =IF(OR(H21="",H21="Pendiente"),"",IF(H21="Descanso",N(I20),IF(H21="Completado",N(I20)+1,0))) | J21: =Panel!$C$5+K21-1 | K21: 14 | L21: =INT((K21-1)/7)+1 | M21: =MID("LunMarMiéJueVieSábDom",(WEEKDAY(J21,2)-1)*3+1,3) | N21: =IF(OR(H21="",H21="Pendiente"),"",COUNTIF(H$8:H21,"Completado"))
B22: Día 15 | C22: Sentadillas | D22: =IF(OR(C22="",C22="Descanso"),"",IFERROR(ROUND((VLOOKUP(C22,Ejercicios!$B$8:$E$17,3,0)+VLOOKUP(C22,Ejercicios!$B$8:$E$17,4,0)*(L22-1))*Panel!$C$6,0),"")) | E22: =IF(OR(C22="",C22="Descanso"),"",IFERROR(VLOOKUP(C22,Ejercicios!$B$8:$E$17,2,0),"")) | F22: 21 | G22: =IF(OR(D22="",F22=""),"",IFERROR(F22/D22,0)) | H22: =IF(C22="","",IF(C22="Descanso","Descanso",IF(OR(F22="",D22=""),"Pendiente",IF(G22>=1,"Completado",IF(G22>=Panel!$C$7,"Parcial","Fallado"))))) | I22: =IF(OR(H22="",H22="Pendiente"),"",IF(H22="Descanso",N(I21),IF(H22="Completado",N(I21)+1,0))) | J22: =Panel!$C$5+K22-1 | K22: 15 | L22: =INT((K22-1)/7)+1 | M22: =MID("LunMarMiéJueVieSábDom",(WEEKDAY(J22,2)-1)*3+1,3) | N22: =IF(OR(H22="",H22="Pendiente"),"",COUNTIF(H$8:H22,"Completado"))
B23: Día 16 | C23: Flexiones | D23: =IF(OR(C23="",C23="Descanso"),"",IFERROR(ROUND((VLOOKUP(C23,Ejercicios!$B$8:$E$17,3,0)+VLOOKUP(C23,Ejercicios!$B$8:$E$17,4,0)*(L23-1))*Panel!$C$6,0),"")) | E23: =IF(OR(C23="",C23="Descanso"),"",IFERROR(VLOOKUP(C23,Ejercicios!$B$8:$E$17,2,0),"")) | F23: 4 | G23: =IF(OR(D23="",F23=""),"",IFERROR(F23/D23,0)) | H23: =IF(C23="","",IF(C23="Descanso","Descanso",IF(OR(F23="",D23=""),"Pendiente",IF(G23>=1,"Completado",IF(G23>=Panel!$C$7,"Parcial","Fallado"))))) | I23: =IF(OR(H23="",H23="Pendiente"),"",IF(H23="Descanso",N(I22),IF(H23="Completado",N(I22)+1,0))) | J23: =Panel!$C$5+K23-1 | K23: 16 | L23: =INT((K23-1)/7)+1 | M23: =MID("LunMarMiéJueVieSábDom",(WEEKDAY(J23,2)-1)*3+1,3) | N23: =IF(OR(H23="",H23="Pendiente"),"",COUNTIF(H$8:H23,"Completado")) | O23: Mala noche, solo 4 flexiones
B24: Día 17 | C24: Abdominales | D24: =IF(OR(C24="",C24="Descanso"),"",IFERROR(ROUND((VLOOKUP(C24,Ejercicios!$B$8:$E$17,3,0)+VLOOKUP(C24,Ejercicios!$B$8:$E$17,4,0)*(L24-1))*Panel!$C$6,0),"")) | E24: =IF(OR(C24="",C24="Descanso"),"",IFERROR(VLOOKUP(C24,Ejercicios!$B$8:$E$17,2,0),"")) | F24: 21 | G24: =IF(OR(D24="",F24=""),"",IFERROR(F24/D24,0)) | H24: =IF(C24="","",IF(C24="Descanso","Descanso",IF(OR(F24="",D24=""),"Pendiente",IF(G24>=1,"Completado",IF(G24>=Panel!$C$7,"Parcial","Fallado"))))) | I24: =IF(OR(H24="",H24="Pendiente"),"",IF(H24="Descanso",N(I23),IF(H24="Completado",N(I23)+1,0))) | J24: =Panel!$C$5+K24-1 | K24: 17 | L24: =INT((K24-1)/7)+1 | M24: =MID("LunMarMiéJueVieSábDom",(WEEKDAY(J24,2)-1)*3+1,3) | N24: =IF(OR(H24="",H24="Pendiente"),"",COUNTIF(H$8:H24,"Completado"))
B25: Día 18 | C25: Plancha | D25: =IF(OR(C25="",C25="Descanso"),"",IFERROR(ROUND((VLOOKUP(C25,Ejercicios!$B$8:$E$17,3,0)+VLOOKUP(C25,Ejercicios!$B$8:$E$17,4,0)*(L25-1))*Panel!$C$6,0),"")) | E25: =IF(OR(C25="",C25="Descanso"),"",IFERROR(VLOOKUP(C25,Ejercicios!$B$8:$E$17,2,0),"")) | F25: 30 | G25: =IF(OR(D25="",F25=""),"",IFERROR(F25/D25,0)) | H25: =IF(C25="","",IF(C25="Descanso","Descanso",IF(OR(F25="",D25=""),"Pendiente",IF(G25>=1,"Completado",IF(G25>=Panel!$C$7,"Parcial","Fallado"))))) | I25: =IF(OR(H25="",H25="Pendiente"),"",IF(H25="Descanso",N(I24),IF(H25="Completado",N(I24)+1,0))) | J25: =Panel!$C$5+K25-1 | K25: 18 | L25: =INT((K25-1)/7)+1 | M25: =MID("LunMarMiéJueVieSábDom",(WEEKDAY(J25,2)-1)*3+1,3) | N25: =IF(OR(H25="",H25="Pendiente"),"",COUNTIF(H$8:H25,"Completado")) | O25: Plancha a ratos de 10 s
B26: Día 19 | C26: Zancadas | D26: =IF(OR(C26="",C26="Descanso"),"",IFERROR(ROUND((VLOOKUP(C26,Ejercicios!$B$8:$E$17,3,0)+VLOOKUP(C26,Ejercicios!$B$8:$E$17,4,0)*(L26-1))*Panel!$C$6,0),"")) | E26: =IF(OR(C26="",C26="Descanso"),"",IFERROR(VLOOKUP(C26,Ejercicios!$B$8:$E$17,2,0),"")) | F26: 14 | G26: =IF(OR(D26="",F26=""),"",IFERROR(F26/D26,0)) | H26: =IF(C26="","",IF(C26="Descanso","Descanso",IF(OR(F26="",D26=""),"Pendiente",IF(G26>=1,"Completado",IF(G26>=Panel!$C$7,"Parcial","Fallado"))))) | I26: =IF(OR(H26="",H26="Pendiente"),"",IF(H26="Descanso",N(I25),IF(H26="Completado",N(I25)+1,0))) | J26: =Panel!$C$5+K26-1 | K26: 19 | L26: =INT((K26-1)/7)+1 | M26: =MID("LunMarMiéJueVieSábDom",(WEEKDAY(J26,2)-1)*3+1,3) | N26: =IF(OR(H26="",H26="Pendiente"),"",COUNTIF(H$8:H26,"Completado"))
B27: Día 20 | C27: Burpees | D27: =IF(OR(C27="",C27="Descanso"),"",IFERROR(ROUND((VLOOKUP(C27,Ejercicios!$B$8:$E$17,3,0)+VLOOKUP(C27,Ejercicios!$B$8:$E$17,4,0)*(L27-1))*Panel!$C$6,0),"")) | E27: =IF(OR(C27="",C27="Descanso"),"",IFERROR(VLOOKUP(C27,Ejercicios!$B$8:$E$17,2,0),"")) | F27: 8 | G27: =IF(OR(D27="",F27=""),"",IFERROR(F27/D27,0)) | H27: =IF(C27="","",IF(C27="Descanso","Descanso",IF(OR(F27="",D27=""),"Pendiente",IF(G27>=1,"Completado",IF(G27>=Panel!$C$7,"Parcial","Fallado"))))) | I27: =IF(OR(H27="",H27="Pendiente"),"",IF(H27="Descanso",N(I26),IF(H27="Completado",N(I26)+1,0))) | J27: =Panel!$C$5+K27-1 | K27: 20 | L27: =INT((K27-1)/7)+1 | M27: =MID("LunMarMiéJueVieSábDom",(WEEKDAY(J27,2)-1)*3+1,3) | N27: =IF(OR(H27="",H27="Pendiente"),"",COUNTIF(H$8:H27,"Completado")) | O27: Racha en marcha
B28: Día 21 | C28: Descanso | D28: =IF(OR(C28="",C28="Descanso"),"",IFERROR(ROUND((VLOOKUP(C28,Ejercicios!$B$8:$E$17,3,0)+VLOOKUP(C28,Ejercicios!$B$8:$E$17,4,0)*(L28-1))*Panel!$C$6,0),"")) | E28: =IF(OR(C28="",C28="Descanso"),"",IFERROR(VLOOKUP(C28,Ejercicios!$B$8:$E$17,2,0),"")) | G28: =IF(OR(D28="",F28=""),"",IFERROR(F28/D28,0)) | H28: =IF(C28="","",IF(C28="Descanso","Descanso",IF(OR(F28="",D28=""),"Pendiente",IF(G28>=1,"Completado",IF(G28>=Panel!$C$7,"Parcial","Fallado"))))) | I28: =IF(OR(H28="",H28="Pendiente"),"",IF(H28="Descanso",N(I27),IF(H28="Completado",N(I27)+1,0))) | J28: =Panel!$C$5+K28-1 | K28: 21 | L28: =INT((K28-1)/7)+1 | M28: =MID("LunMarMiéJueVieSábDom",(WEEKDAY(J28,2)-1)*3+1,3) | N28: =IF(OR(H28="",H28="Pendiente"),"",COUNTIF(H$8:H28,"Completado"))
B29: Día 22 | C29: Sentadillas | D29: =IF(OR(C29="",C29="Descanso"),"",IFERROR(ROUND((VLOOKUP(C29,Ejercicios!$B$8:$E$17,3,0)+VLOOKUP(C29,Ejercicios!$B$8:$E$17,4,0)*(L29-1))*Panel!$C$6,0),"")) | E29: =IF(OR(C29="",C29="Descanso"),"",IFERROR(VLOOKUP(C29,Ejercicios!$B$8:$E$17,2,0),"")) | G29: =IF(OR(D29="",F29=""),"",IFERROR(F29/D29,0)) | H29: =IF(C29="","",IF(C29="Descanso","Descanso",IF(OR(F29="",D29=""),"Pendiente",IF(G29>=1,"Completado",IF(G29>=Panel!$C$7,"Parcial","Fallado"))))) | I29: =IF(OR(H29="",H29="Pendiente"),"",IF(H29="Descanso",N(I28),IF(H29="Completado",N(I28)+1,0))) | J29: =Panel!$C$5+K29-1 | K29: 22 | L29: =INT((K29-1)/7)+1 | M29: =MID("LunMarMiéJueVieSábDom",(WEEKDAY(J29,2)-1)*3+1,3) | N29: =IF(OR(H29="",H29="Pendiente"),"",COUNTIF(H$8:H29,"Completado"))
B30: Día 23 | C30: Flexiones | D30: =IF(OR(C30="",C30="Descanso"),"",IFERROR(ROUND((VLOOKUP(C30,Ejercicios!$B$8:$E$17,3,0)+VLOOKUP(C30,Ejercicios!$B$8:$E$17,4,0)*(L30-1))*Panel!$C$6,0),"")) | E30: =IF(OR(C30="",C30="Descanso"),"",IFERROR(VLOOKUP(C30,Ejercicios!$B$8:$E$17,2,0),"")) | G30: =IF(OR(D30="",F30=""),"",IFERROR(F30/D30,0)) | H30: =IF(C30="","",IF(C30="Descanso","Descanso",IF(OR(F30="",D30=""),"Pendiente",IF(G30>=1,"Completado",IF(G30>=Panel!$C$7,"Parcial","Fallado"))))) | I30: =IF(OR(H30="",H30="Pendiente"),"",IF(H30="Descanso",N(I29),IF(H30="Completado",N(I29)+1,0))) | J30: =Panel!$C$5+K30-1 | K30: 23 | L30: =INT((K30-1)/7)+1 | M30: =MID("LunMarMiéJueVieSábDom",(WEEKDAY(J30,2)-1)*3+1,3) | N30: =IF(OR(H30="",H30="Pendiente"),"",COUNTIF(H$8:H30,"Completado"))
B31: Día 24 | C31: Abdominales | D31: =IF(OR(C31="",C31="Descanso"),"",IFERROR(ROUND((VLOOKUP(C31,Ejercicios!$B$8:$E$17,3,0)+VLOOKUP(C31,Ejercicios!$B$8:$E$17,4,0)*(L31-1))*Panel!$C$6,0),"")) | E31: =IF(OR(C31="",C31="Descanso"),"",IFERROR(VLOOKUP(C31,Ejercicios!$B$8:$E$17,2,0),"")) | G31: =IF(OR(D31="",F31=""),"",IFERROR(F31/D31,0)) | H31: =IF(C31="","",IF(C31="Descanso","Descanso",IF(OR(F31="",D31=""),"Pendiente",IF(G31>=1,"Completado",IF(G31>=Panel!$C$7,"Parcial","Fallado"))))) | I31: =IF(OR(H31="",H31="Pendiente"),"",IF(H31="Descanso",N(I30),IF(H31="Completado",N(I30)+1,0))) | J31: =Panel!$C$5+K31-1 | K31: 24 | L31: =INT((K31-1)/7)+1 | M31: =MID("LunMarMiéJueVieSábDom",(WEEKDAY(J31,2)-1)*3+1,3) | N31: =IF(OR(H31="",H31="Pendiente"),"",COUNTIF(H$8:H31,"Completado"))
B32: Día 25 | C32: Plancha | D32: =IF(OR(C32="",C32="Descanso"),"",IFERROR(ROUND((VLOOKUP(C32,Ejercicios!$B$8:$E$17,3,0)+VLOOKUP(C32,Ejercicios!$B$8:$E$17,4,0)*(L32-1))*Panel!$C$6,0),"")) | E32: =IF(OR(C32="",C32="Descanso"),"",IFERROR(VLOOKUP(C32,Ejercicios!$B$8:$E$17,2,0),"")) | G32: =IF(OR(D32="",F32=""),"",IFERROR(F32/D32,0)) | H32: =IF(C32="","",IF(C32="Descanso","Descanso",IF(OR(F32="",D32=""),"Pendiente",IF(G32>=1,"Completado",IF(G32>=Panel!$C$7,"Parcial","Fallado"))))) | I32: =IF(OR(H32="",H32="Pendiente"),"",IF(H32="Descanso",N(I31),IF(H32="Completado",N(I31)+1,0))) | J32: =Panel!$C$5+K32-1 | K32: 25 | L32: =INT((K32-1)/7)+1 | M32: =MID("LunMarMiéJueVieSábDom",(WEEKDAY(J32,2)-1)*3+1,3) | N32: =IF(OR(H32="",H32="Pendiente"),"",COUNTIF(H$8:H32,"Completado"))
B33: Día 26 | C33: Zancadas | D33: =IF(OR(C33="",C33="Descanso"),"",IFERROR(ROUND((VLOOKUP(C33,Ejercicios!$B$8:$E$17,3,0)+VLOOKUP(C33,Ejercicios!$B$8:$E$17,4,0)*(L33-1))*Panel!$C$6,0),"")) | E33: =IF(OR(C33="",C33="Descanso"),"",IFERROR(VLOOKUP(C33,Ejercicios!$B$8:$E$17,2,0),"")) | G33: =IF(OR(D33="",F33=""),"",IFERROR(F33/D33,0)) | H33: =IF(C33="","",IF(C33="Descanso","Descanso",IF(OR(F33="",D33=""),"Pendiente",IF(G33>=1,"Completado",IF(G33>=Panel!$C$7,"Parcial","Fallado"))))) | I33: =IF(OR(H33="",H33="Pendiente"),"",IF(H33="Descanso",N(I32),IF(H33="Completado",N(I32)+1,0))) | J33: =Panel!$C$5+K33-1 | K33: 26 | L33: =INT((K33-1)/7)+1 | M33: =MID("LunMarMiéJueVieSábDom",(WEEKDAY(J33,2)-1)*3+1,3) | N33: =IF(OR(H33="",H33="Pendiente"),"",COUNTIF(H$8:H33,"Completado"))
B34: Día 27 | C34: Burpees | D34: =IF(OR(C34="",C34="Descanso"),"",IFERROR(ROUND((VLOOKUP(C34,Ejercicios!$B$8:$E$17,3,0)+VLOOKUP(C34,Ejercicios!$B$8:$E$17,4,0)*(L34-1))*Panel!$C$6,0),"")) | E34: =IF(OR(C34="",C34="Descanso"),"",IFERROR(VLOOKUP(C34,Ejercicios!$B$8:$E$17,2,0),"")) | G34: =IF(OR(D34="",F34=""),"",IFERROR(F34/D34,0)) | H34: =IF(C34="","",IF(C34="Descanso","Descanso",IF(OR(F34="",D34=""),"Pendiente",IF(G34>=1,"Completado",IF(G34>=Panel!$C$7,"Parcial","Fallado"))))) | I34: =IF(OR(H34="",H34="Pendiente"),"",IF(H34="Descanso",N(I33),IF(H34="Completado",N(I33)+1,0))) | J34: =Panel!$C$5+K34-1 | K34: 27 | L34: =INT((K34-1)/7)+1 | M34: =MID("LunMarMiéJueVieSábDom",(WEEKDAY(J34,2)-1)*3+1,3) | N34: =IF(OR(H34="",H34="Pendiente"),"",COUNTIF(H$8:H34,"Completado"))
B35: Día 28 | C35: Descanso | D35: =IF(OR(C35="",C35="Descanso"),"",IFERROR(ROUND((VLOOKUP(C35,Ejercicios!$B$8:$E$17,3,0)+VLOOKUP(C35,Ejercicios!$B$8:$E$17,4,0)*(L35-1))*Panel!$C$6,0),"")) | E35: =IF(OR(C35="",C35="Descanso"),"",IFERROR(VLOOKUP(C35,Ejercicios!$B$8:$E$17,2,0),"")) | G35: =IF(OR(D35="",F35=""),"",IFERROR(F35/D35,0)) | H35: =IF(C35="","",IF(C35="Descanso","Descanso",IF(OR(F35="",D35=""),"Pendiente",IF(G35>=1,"Completado",IF(G35>=Panel!$C$7,"Parcial","Fallado"))))) | I35: =IF(OR(H35="",H35="Pendiente"),"",IF(H35="Descanso",N(I34),IF(H35="Completado",N(I34)+1,0))) | J35: =Panel!$C$5+K35-1 | K35: 28 | L35: =INT((K35-1)/7)+1 | M35: =MID("LunMarMiéJueVieSábDom",(WEEKDAY(J35,2)-1)*3+1,3) | N35: =IF(OR(H35="",H35="Pendiente"),"",COUNTIF(H$8:H35,"Completado"))
B36: Día 29 | C36: Sentadillas | D36: =IF(OR(C36="",C36="Descanso"),"",IFERROR(ROUND((VLOOKUP(C36,Ejercicios!$B$8:$E$17,3,0)+VLOOKUP(C36,Ejercicios!$B$8:$E$17,4,0)*(L36-1))*Panel!$C$6,0),"")) | E36: =IF(OR(C36="",C36="Descanso"),"",IFERROR(VLOOKUP(C36,Ejercicios!$B$8:$E$17,2,0),"")) | G36: =IF(OR(D36="",F36=""),"",IFERROR(F36/D36,0)) | H36: =IF(C36="","",IF(C36="Descanso","Descanso",IF(OR(F36="",D36=""),"Pendiente",IF(G36>=1,"Completado",IF(G36>=Panel!$C$7,"Parcial","Fallado"))))) | I36: =IF(OR(H36="",H36="Pendiente"),"",IF(H36="Descanso",N(I35),IF(H36="Completado",N(I35)+1,0))) | J36: =Panel!$C$5+K36-1 | K36: 29 | L36: =INT((K36-1)/7)+1 | M36: =MID("LunMarMiéJueVieSábDom",(WEEKDAY(J36,2)-1)*3+1,3) | N36: =IF(OR(H36="",H36="Pendiente"),"",COUNTIF(H$8:H36,"Completado"))
B37: Día 30 | C37: Flexiones | D37: =IF(OR(C37="",C37="Descanso"),"",IFERROR(ROUND((VLOOKUP(C37,Ejercicios!$B$8:$E$17,3,0)+VLOOKUP(C37,Ejercicios!$B$8:$E$17,4,0)*(L37-1))*Panel!$C$6,0),"")) | E37: =IF(OR(C37="",C37="Descanso"),"",IFERROR(VLOOKUP(C37,Ejercicios!$B$8:$E$17,2,0),"")) | G37: =IF(OR(D37="",F37=""),"",IFERROR(F37/D37,0)) | H37: =IF(C37="","",IF(C37="Descanso","Descanso",IF(OR(F37="",D37=""),"Pendiente",IF(G37>=1,"Completado",IF(G37>=Panel!$C$7,"Parcial","Fallado"))))) | I37: =IF(OR(H37="",H37="Pendiente"),"",IF(H37="Descanso",N(I36),IF(H37="Completado",N(I36)+1,0))) | J37: =Panel!$C$5+K37-1 | K37: 30 | L37: =INT((K37-1)/7)+1 | M37: =MID("LunMarMiéJueVieSábDom",(WEEKDAY(J37,2)-1)*3+1,3) | N37: =IF(OR(H37="",H37="Pendiente"),"",COUNTIF(H$8:H37,"Completado"))
B38: Total | C38: =COUNTIF(H8:H37,"Completado")&" completados" | F38: =SUM(F8:F37) | G38: =IFERROR(SUM(G8:G37)/COUNT(G8:G37),0)
B40: La suma de «Realizadas» mezcla repeticiones y segundos; en la hoja «Panel» se separan por unidad. «Parcial» = entre el umbral del Panel y el 100 % del objetivo.

Sheet Ejercicios
B2: Tus ejercicios y su progresión
B3: Define cada ejercicio, su objetivo del día 1 y cuánto sube cada semana. El reto toma estos valores solo.
B7: Ejercicio | C7: Unidad | D7: Objetivo día 1 | E7: Subida por semana | F7: Semana 1 | G7: Semana 2 | H7: Semana 3 | I7: Semana 4 | J7: Semana 5 | K7: Veces en el reto | L7: Total realizado
B8: Descanso | C8: - | D8: 0 | E8: 0 | F8: =IF(OR($B8="",$B8="Descanso"),"",ROUND(($D8+$E8*0)*Panel!$C$6,0)) | G8: =IF(OR($B8="",$B8="Descanso"),"",ROUND(($D8+$E8*1)*Panel!$C$6,0)) | H8: =IF(OR($B8="",$B8="Descanso"),"",ROUND(($D8+$E8*2)*Panel!$C$6,0)) | I8: =IF(OR($B8="",$B8="Descanso"),"",ROUND(($D8+$E8*3)*Panel!$C$6,0)) | J8: =IF(OR($B8="",$B8="Descanso"),"",ROUND(($D8+$E8*4)*Panel!$C$6,0)) | K8: =IF($B8="","",COUNTIF(Reto!$C$8:$C$37,$B8)) | L8: =IF(OR($B8="",$B8="Descanso"),"",SUMIF(Reto!$C$8:$C$37,$B8,Reto!$F$8:$F$37))
B9: Sentadillas | C9: reps | D9: 15 | E9: 3 | F9: =IF(OR($B9="",$B9="Descanso"),"",ROUND(($D9+$E9*0)*Panel!$C$6,0)) | G9: =IF(OR($B9="",$B9="Descanso"),"",ROUND(($D9+$E9*1)*Panel!$C$6,0)) | H9: =IF(OR($B9="",$B9="Descanso"),"",ROUND(($D9+$E9*2)*Panel!$C$6,0)) | I9: =IF(OR($B9="",$B9="Descanso"),"",ROUND(($D9+$E9*3)*Panel!$C$6,0)) | J9: =IF(OR($B9="",$B9="Descanso"),"",ROUND(($D9+$E9*4)*Panel!$C$6,0)) | K9: =IF($B9="","",COUNTIF(Reto!$C$8:$C$37,$B9)) | L9: =IF(OR($B9="",$B9="Descanso"),"",SUMIF(Reto!$C$8:$C$37,$B9,Reto!$F$8:$F$37))
B10: Flexiones | C10: reps | D10: 8 | E10: 2 | F10: =IF(OR($B10="",$B10="Descanso"),"",ROUND(($D10+$E10*0)*Panel!$C$6,0)) | G10: =IF(OR($B10="",$B10="Descanso"),"",ROUND(($D10+$E10*1)*Panel!$C$6,0)) | H10: =IF(OR($B10="",$B10="Descanso"),"",ROUND(($D10+$E10*2)*Panel!$C$6,0)) | I10: =IF(OR($B10="",$B10="Descanso"),"",ROUND(($D10+$E10*3)*Panel!$C$6,0)) | J10: =IF(OR($B10="",$B10="Descanso"),"",ROUND(($D10+$E10*4)*Panel!$C$6,0)) | K10: =IF($B10="","",COUNTIF(Reto!$C$8:$C$37,$B10)) | L10: =IF(OR($B10="",$B10="Descanso"),"",SUMIF(Reto!$C$8:$C$37,$B10,Reto!$F$8:$F$37))
B11: Abdominales | C11: reps | D11: 15 | E11: 3 | F11: =IF(OR($B11="",$B11="Descanso"),"",ROUND(($D11+$E11*0)*Panel!$C$6,0)) | G11: =IF(OR($B11="",$B11="Descanso"),"",ROUND(($D11+$E11*1)*Panel!$C$6,0)) | H11: =IF(OR($B11="",$B11="Descanso"),"",ROUND(($D11+$E11*2)*Panel!$C$6,0)) | I11: =IF(OR($B11="",$B11="Descanso"),"",ROUND(($D11+$E11*3)*Panel!$C$6,0)) | J11: =IF(OR($B11="",$B11="Descanso"),"",ROUND(($D11+$E11*4)*Panel!$C$6,0)) | K11: =IF($B11="","",COUNTIF(Reto!$C$8:$C$37,$B11)) | L11: =IF(OR($B11="",$B11="Descanso"),"",SUMIF(Reto!$C$8:$C$37,$B11,Reto!$F$8:$F$37))
B12: Plancha | C12: seg | D12: 20 | E12: 5 | F12: =IF(OR($B12="",$B12="Descanso"),"",ROUND(($D12+$E12*0)*Panel!$C$6,0)) | G12: =IF(OR($B12="",$B12="Descanso"),"",ROUND(($D12+$E12*1)*Panel!$C$6,0)) | H12: =IF(OR($B12="",$B12="Descanso"),"",ROUND(($D12+$E12*2)*Panel!$C$6,0)) | I12: =IF(OR($B12="",$B12="Descanso"),"",ROUND(($D12+$E12*3)*Panel!$C$6,0)) | J12: =IF(OR($B12="",$B12="Descanso"),"",ROUND(($D12+$E12*4)*Panel!$C$6,0)) | K12: =IF($B12="","",COUNTIF(Reto!$C$8:$C$37,$B12)) | L12: =IF(OR($B12="",$B12="Descanso"),"",SUMIF(Reto!$C$8:$C$37,$B12,Reto!$F$8:$F$37))
B13: Zancadas | C13: reps | D13: 10 | E13: 2 | F13: =IF(OR($B13="",$B13="Descanso"),"",ROUND(($D13+$E13*0)*Panel!$C$6,0)) | G13: =IF(OR($B13="",$B13="Descanso"),"",ROUND(($D13+$E13*1)*Panel!$C$6,0)) | H13: =IF(OR($B13="",$B13="Descanso"),"",ROUND(($D13+$E13*2)*Panel!$C$6,0)) | I13: =IF(OR($B13="",$B13="Descanso"),"",ROUND(($D13+$E13*3)*Panel!$C$6,0)) | J13: =IF(OR($B13="",$B13="Descanso"),"",ROUND(($D13+$E13*4)*Panel!$C$6,0)) | K13: =IF($B13="","",COUNTIF(Reto!$C$8:$C$37,$B13)) | L13: =IF(OR($B13="",$B13="Descanso"),"",SUMIF(Reto!$C$8:$C$37,$B13,Reto!$F$8:$F$37))
B14: Burpees | C14: reps | D14: 5 | E14: 1 | F14: =IF(OR($B14="",$B14="Descanso"),"",ROUND(($D14+$E14*0)*Panel!$C$6,0)) | G14: =IF(OR($B14="",$B14="Descanso"),"",ROUND(($D14+$E14*1)*Panel!$C$6,0)) | H14: =IF(OR($B14="",$B14="Descanso"),"",ROUND(($D14+$E14*2)*Panel!$C$6,0)) | I14: =IF(OR($B14="",$B14="Descanso"),"",ROUND(($D14+$E14*3)*Panel!$C$6,0)) | J14: =IF(OR($B14="",$B14="Descanso"),"",ROUND(($D14+$E14*4)*Panel!$C$6,0)) | K14: =IF($B14="","",COUNTIF(Reto!$C$8:$C$37,$B14)) | L14: =IF(OR($B14="",$B14="Descanso"),"",SUMIF(Reto!$C$8:$C$37,$B14,Reto!$F$8:$F$37))
F15: =IF(OR($B15="",$B15="Descanso"),"",ROUND(($D15+$E15*0)*Panel!$C$6,0)) | G15: =IF(OR($B15="",$B15="Descanso"),"",ROUND(($D15+$E15*1)*Panel!$C$6,0)) | H15: =IF(OR($B15="",$B15="Descanso"),"",ROUND(($D15+$E15*2)*Panel!$C$6,0)) | I15: =IF(OR($B15="",$B15="Descanso"),"",ROUND(($D15+$E15*3)*Panel!$C$6,0)) | J15: =IF(OR($B15="",$B15="Descanso"),"",ROUND(($D15+$E15*4)*Panel!$C$6,0)) | K15: =IF($B15="","",COUNTIF(Reto!$C$8:$C$37,$B15)) | L15: =IF(OR($B15="",$B15="Descanso"),"",SUMIF(Reto!$C$8:$C$37,$B15,Reto!$F$8:$F$37))
F16: =IF(OR($B16="",$B16="Descanso"),"",ROUND(($D16+$E16*0)*Panel!$C$6,0)) | G16: =IF(OR($B16="",$B16="Descanso"),"",ROUND(($D16+$E16*1)*Panel!$C$6,0)) | H16: =IF(OR($B16="",$B16="Descanso"),"",ROUND(($D16+$E16*2)*Panel!$C$6,0)) | I16: =IF(OR($B16="",$B16="Descanso"),"",ROUND(($D16+$E16*3)*Panel!$C$6,0)) | J16: =IF(OR($B16="",$B16="Descanso"),"",ROUND(($D16+$E16*4)*Panel!$C$6,0)) | K16: =IF($B16="","",COUNTIF(Reto!$C$8:$C$37,$B16)) | L16: =IF(OR($B16="",$B16="Descanso"),"",SUMIF(Reto!$C$8:$C$37,$B16,Reto!$F$8:$F$37))
F17: =IF(OR($B17="",$B17="Descanso"),"",ROUND(($D17+$E17*0)*Panel!$C$6,0)) | G17: =IF(OR($B17="",$B17="Descanso"),"",ROUND(($D17+$E17*1)*Panel!$C$6,0)) | H17: =IF(OR($B17="",$B17="Descanso"),"",ROUND(($D17+$E17*2)*Panel!$C$6,0)) | I17: =IF(OR($B17="",$B17="Descanso"),"",ROUND(($D17+$E17*3)*Panel!$C$6,0)) | J17: =IF(OR($B17="",$B17="Descanso"),"",ROUND(($D17+$E17*4)*Panel!$C$6,0)) | K17: =IF($B17="","",COUNTIF(Reto!$C$8:$C$37,$B17)) | L17: =IF(OR($B17="",$B17="Descanso"),"",SUMIF(Reto!$C$8:$C$37,$B17,Reto!$F$8:$F$37))
B19: El objetivo de cada semana = (objetivo día 1 + subida × semanas transcurridas) × ajuste de nivel de la hoja «Panel». Las filas vacías están listas para tus propios ejercicios.
B20: Usa «reps» para repeticiones y «seg» para ejercicios de tiempo (plancha, sentadilla isométrica…). Los valores del ejemplo son orientativos y editables.

Sheet Semanas
B2: Resumen por semanas
B3: Cómo va cada bloque de 7 días: entrenos planificados, completados y cumplimiento medio.
B7: Semana | C7: Desde | D7: Hasta | E7: Entrenos planificados | F7: Completados | G7: Parciales | H7: Fallados | I7: Pendientes | J7: % completado | K7: Repeticiones realizadas | L7: Cumplimiento medio
B8: 1 | C8: =Panel!$C$5+(B8-1)*7 | D8: =MIN(C8+6,Panel!$C$5+29) | E8: =SUMPRODUCT((Reto!$L$8:$L$37=B8)*(Reto!$C$8:$C$37<>"")*(Reto!$C$8:$C$37<>"Descanso")) | F8: =COUNTIFS(Reto!$L$8:$L$37,B8,Reto!$H$8:$H$37,"Completado") | G8: =COUNTIFS(Reto!$L$8:$L$37,B8,Reto!$H$8:$H$37,"Parcial") | H8: =COUNTIFS(Reto!$L$8:$L$37,B8,Reto!$H$8:$H$37,"Fallado") | I8: =COUNTIFS(Reto!$L$8:$L$37,B8,Reto!$H$8:$H$37,"Pendiente") | J8: =IF(E8=0,0,F8/E8) | K8: =SUMIFS(Reto!$F$8:$F$37,Reto!$L$8:$L$37,B8,Reto!$E$8:$E$37,"reps") | L8: =IFERROR(SUMIFS(Reto!$G$8:$G$37,Reto!$L$8:$L$37,B8)/COUNTIFS(Reto!$L$8:$L$37,B8,Reto!$G$8:$G$37,">=0"),"")
B9: 2 | C9: =Panel!$C$5+(B9-1)*7 | D9: =MIN(C9+6,Panel!$C$5+29) | E9: =SUMPRODUCT((Reto!$L$8:$L$37=B9)*(Reto!$C$8:$C$37<>"")*(Reto!$C$8:$C$37<>"Descanso")) | F9: =COUNTIFS(Reto!$L$8:$L$37,B9,Reto!$H$8:$H$37,"Completado") | G9: =COUNTIFS(Reto!$L$8:$L$37,B9,Reto!$H$8:$H$37,"Parcial") | H9: =COUNTIFS(Reto!$L$8:$L$37,B9,Reto!$H$8:$H$37,"Fallado") | I9: =COUNTIFS(Reto!$L$8:$L$37,B9,Reto!$H$8:$H$37,"Pendiente") | J9: =IF(E9=0,0,F9/E9) | K9: =SUMIFS(Reto!$F$8:$F$37,Reto!$L$8:$L$37,B9,Reto!$E$8:$E$37,"reps") | L9: =IFERROR(SUMIFS(Reto!$G$8:$G$37,Reto!$L$8:$L$37,B9)/COUNTIFS(Reto!$L$8:$L$37,B9,Reto!$G$8:$G$37,">=0"),"")
B10: 3 | C10: =Panel!$C$5+(B10-1)*7 | D10: =MIN(C10+6,Panel!$C$5+29) | E10: =SUMPRODUCT((Reto!$L$8:$L$37=B10)*(Reto!$C$8:$C$37<>"")*(Reto!$C$8:$C$37<>"Descanso")) | F10: =COUNTIFS(Reto!$L$8:$L$37,B10,Reto!$H$8:$H$37,"Completado") | G10: =COUNTIFS(Reto!$L$8:$L$37,B10,Reto!$H$8:$H$37,"Parcial") | H10: =COUNTIFS(Reto!$L$8:$L$37,B10,Reto!$H$8:$H$37,"Fallado") | I10: =COUNTIFS(Reto!$L$8:$L$37,B10,Reto!$H$8:$H$37,"Pendiente") | J10: =IF(E10=0,0,F10/E10) | K10: =SUMIFS(Reto!$F$8:$F$37,Reto!$L$8:$L$37,B10,Reto!$E$8:$E$37,"reps") | L10: =IFERROR(SUMIFS(Reto!$G$8:$G$37,Reto!$L$8:$L$37,B10)/COUNTIFS(Reto!$L$8:$L$37,B10,Reto!$G$8:$G$37,">=0"),"")
B11: 4 | C11: =Panel!$C$5+(B11-1)*7 | D11: =MIN(C11+6,Panel!$C$5+29) | E11: =SUMPRODUCT((Reto!$L$8:$L$37=B11)*(Reto!$C$8:$C$37<>"")*(Reto!$C$8:$C$37<>"Descanso")) | F11: =COUNTIFS(Reto!$L$8:$L$37,B11,Reto!$H$8:$H$37,"Completado") | G11: =COUNTIFS(Reto!$L$8:$L$37,B11,Reto!$H$8:$H$37,"Parcial") | H11: =COUNTIFS(Reto!$L$8:$L$37,B11,Reto!$H$8:$H$37,"Fallado") | I11: =COUNTIFS(Reto!$L$8:$L$37,B11,Reto!$H$8:$H$37,"Pendiente") | J11: =IF(E11=0,0,F11/E11) | K11: =SUMIFS(Reto!$F$8:$F$37,Reto!$L$8:$L$37,B11,Reto!$E$8:$E$37,"reps") | L11: =IFERROR(SUMIFS(Reto!$G$8:$G$37,Reto!$L$8:$L$37,B11)/COUNTIFS(Reto!$L$8:$L$37,B11,Reto!$G$8:$G$37,">=0"),"")
B12: 5 | C12: =Panel!$C$5+(B12-1)*7 | D12: =MIN(C12+6,Panel!$C$5+29) | E12: =SUMPRODUCT((Reto!$L$8:$L$37=B12)*(Reto!$C$8:$C$37<>"")*(Reto!$C$8:$C$37<>"Descanso")) | F12: =COUNTIFS(Reto!$L$8:$L$37,B12,Reto!$H$8:$H$37,"Completado") | G12: =COUNTIFS(Reto!$L$8:$L$37,B12,Reto!$H$8:$H$37,"Parcial") | H12: =COUNTIFS(Reto!$L$8:$L$37,B12,Reto!$H$8:$H$37,"Fallado") | I12: =COUNTIFS(Reto!$L$8:$L$37,B12,Reto!$H$8:$H$37,"Pendiente") | J12: =IF(E12=0,0,F12/E12) | K12: =SUMIFS(Reto!$F$8:$F$37,Reto!$L$8:$L$37,B12,Reto!$E$8:$E$37,"reps") | L12: =IFERROR(SUMIFS(Reto!$G$8:$G$37,Reto!$L$8:$L$37,B12)/COUNTIFS(Reto!$L$8:$L$37,B12,Reto!$G$8:$G$37,">=0"),"")
B13: Total | E13: =SUM(E8:E12) | F13: =SUM(F8:F12) | G13: =SUM(G8:G12) | H13: =SUM(H8:H12) | I13: =SUM(I8:I12) | J13: =IF(E13=0,0,F13/E13) | K13: =SUM(K8:K12) | L13: =IFERROR(SUM(Reto!$G$8:$G$37)/COUNT(Reto!$G$8:$G$37),0)
B15: La semana 5 solo tiene 2 días (29 y 30). Las repeticiones realizadas no incluyen los ejercicios medidos en segundos.

Sheet Instrucciones
B2: Reto de 30 días de ejercicio · Cómo usarlo
B3: Plantilla gratuita de Plantillas de Cálculo · plantillasdecalculo.com
B5: CÓMO USARLA
B6: 1. Abre la hoja «Panel» y escribe la fecha de inicio de tu reto (celda C5). Deja el ajuste de nivel en 100 % o cámbialo si quieres objetivos más suaves o más exigentes.
B7: 2. Fija el umbral «Parcial desde» (C7): un día cuenta como «Parcial» si llegas a ese % del objetivo sin completarlo.
B8: 3. En la hoja «Ejercicios» revisa o cambia los ejercicios, su unidad (reps o seg), el objetivo del día 1 y cuánto sube cada semana. Hay filas libres para añadir los tuyos.
B9: 4. En la hoja «Reto» elige para cada uno de los 30 días el ejercicio en la columna «Ejercicio del día» (desplegable). Usa «Descanso» para los días libres.
B10: 5. Cada día, al terminar, escribe en «Realizadas» las repeticiones (o segundos) que has hecho. El objetivo, el % cumplido, el estado y la racha se calculan solos.
B11: 6. Si quieres, anota en la columna «Nota» cómo ha ido el día (cansancio, sensaciones, material usado).
B12: 7. Mira el «Panel»: casillas completadas del tablero de 30 días, % del reto, racha actual, mejor racha, repeticiones totales y los dos gráficos.
B13: 8. Consulta «Semanas» para ver el balance de cada bloque de 7 días y detectar en qué semana se te complica más.
B15: CONSEJOS
... B23: Aviso: esta plantilla sirve únicamente para registrar y organizar tu reto de ejercicio. No es una pauta de entrenamiento ni sustituye el consejo de un médico o profesional sanitario; si tienes dudas o alguna condición de salud, consúltalo antes de empezar.
