Workbook

Sheet Panel
B2: Panel de vocabulario
B3: Resumen automático: cuántas palabras llevas, cuáles toca repasar y cómo evolucionan tus tests.
B5: PALABRAS EN EL CUADERNO | C5: PARA REPASAR HOY | E5: NIVEL MEDIO (1-5) | G5: % ACIERTO EN TESTS
B6: =SUMPRODUCT(--(Vocabulario!$B$8:$B$47<>"")) | C6: =COUNTIF(Vocabulario!$M$8:$M$47,"Repasar") | E6: =IFERROR(AVERAGE(Vocabulario!$F$8:$F$47),0) | G6: =IF(SUM(Autoevaluación!$D$8:$D$37)=0,0,SUM(Autoevaluación!$E$8:$E$37)/SUM(Autoevaluación!$D$8:$D$37))
B8: Dominadas (nivel 5): | C8: =COUNTIF(Vocabulario!$F$8:$F$47,5) | D8: Nuevas sin revisar: | E8: =COUNTIF(Vocabulario!$M$8:$M$47,"Nueva") | F8: Mejor test: | G8: =IF(COUNT(Autoevaluación!$G$8:$G$37)=0,0,MAX(Autoevaluación!$G$8:$G$37))
B10: PALABRAS POR CATEGORÍA (edita los nombres en las celdas crema) | J10: INTERVALOS DE REPASO
B11: Categoría | C11: Palabras | D11: Nivel medio | E11: Para repasar | F11: Dominadas | G11: % dominadas | J11: Nivel | K11: Repasar cada (días)
B12: Viajes | C12: =IF(B12="","",COUNTIF(Vocabulario!$D$8:$D$47,B12)) | D12: =IF(B12="","",IFERROR(SUMIF(Vocabulario!$D$8:$D$47,B12,Vocabulario!$F$8:$F$47)/COUNTIFS(Vocabulario!$D$8:$D$47,B12,Vocabulario!$F$8:$F$47,">0"),0)) | E12: =IF(B12="","",COUNTIFS(Vocabulario!$D$8:$D$47,B12,Vocabulario!$M$8:$M$47,"Repasar")) | F12: =IF(B12="","",COUNTIFS(Vocabulario!$D$8:$D$47,B12,Vocabulario!$F$8:$F$47,5)) | G12: =IF(OR(B12="",C12=0),"",F12/C12) | J12: 1 | K12: 1
B13: Trabajo | C13: =IF(B13="","",COUNTIF(Vocabulario!$D$8:$D$47,B13)) | D13: =IF(B13="","",IFERROR(SUMIF(Vocabulario!$D$8:$D$47,B13,Vocabulario!$F$8:$F$47)/COUNTIFS(Vocabulario!$D$8:$D$47,B13,Vocabulario!$F$8:$F$47,">0"),0)) | E13: =IF(B13="","",COUNTIFS(Vocabulario!$D$8:$D$47,B13,Vocabulario!$M$8:$M$47,"Repasar")) | F13: =IF(B13="","",COUNTIFS(Vocabulario!$D$8:$D$47,B13,Vocabulario!$F$8:$F$47,5)) | G13: =IF(OR(B13="",C13=0),"",F13/C13) | J13: 2 | K13: 3
B14: Casa | C14: =IF(B14="","",COUNTIF(Vocabulario!$D$8:$D$47,B14)) | D14: =IF(B14="","",IFERROR(SUMIF(Vocabulario!$D$8:$D$47,B14,Vocabulario!$F$8:$F$47)/COUNTIFS(Vocabulario!$D$8:$D$47,B14,Vocabulario!$F$8:$F$47,">0"),0)) | E14: =IF(B14="","",COUNTIFS(Vocabulario!$D$8:$D$47,B14,Vocabulario!$M$8:$M$47,"Repasar")) | F14: =IF(B14="","",COUNTIFS(Vocabulario!$D$8:$D$47,B14,Vocabulario!$F$8:$F$47,5)) | G14: =IF(OR(B14="",C14=0),"",F14/C14) | J14: 3 | K14: 7
B15: Comida | C15: =IF(B15="","",COUNTIF(Vocabulario!$D$8:$D$47,B15)) | D15: =IF(B15="","",IFERROR(SUMIF(Vocabulario!$D$8:$D$47,B15,Vocabulario!$F$8:$F$47)/COUNTIFS(Vocabulario!$D$8:$D$47,B15,Vocabulario!$F$8:$F$47,">0"),0)) | E15: =IF(B15="","",COUNTIFS(Vocabulario!$D$8:$D$47,B15,Vocabulario!$M$8:$M$47,"Repasar")) | F15: =IF(B15="","",COUNTIFS(Vocabulario!$D$8:$D$47,B15,Vocabulario!$F$8:$F$47,5)) | G15: =IF(OR(B15="",C15=0),"",F15/C15) | J15: 4 | K15: 15
B16: Verbos frecuentes | C16: =IF(B16="","",COUNTIF(Vocabulario!$D$8:$D$47,B16)) | D16: =IF(B16="","",IFERROR(SUMIF(Vocabulario!$D$8:$D$47,B16,Vocabulario!$F$8:$F$47)/COUNTIFS(Vocabulario!$D$8:$D$47,B16,Vocabulario!$F$8:$F$47,">0"),0)) | E16: =IF(B16="","",COUNTIFS(Vocabulario!$D$8:$D$47,B16,Vocabulario!$M$8:$M$47,"Repasar")) | F16: =IF(B16="","",COUNTIFS(Vocabulario!$D$8:$D$47,B16,Vocabulario!$F$8:$F$47,5)) | G16: =IF(OR(B16="",C16=0),"",F16/C16) | J16: 5 | K16: 30
B17: Expresiones | C17: =IF(B17="","",COUNTIF(Vocabulario!$D$8:$D$47,B17)) | D17: =IF(B17="","",IFERROR(SUMIF(Vocabulario!$D$8:$D$47,B17,Vocabulario!$F$8:$F$47)/COUNTIFS(Vocabulario!$D$8:$D$47,B17,Vocabulario!$F$8:$F$47,">0"),0)) | E17: =IF(B17="","",COUNTIFS(Vocabulario!$D$8:$D$47,B17,Vocabulario!$M$8:$M$47,"Repasar")) | F17: =IF(B17="","",COUNTIFS(Vocabulario!$D$8:$D$47,B17,Vocabulario!$F$8:$F$47,5)) | G17: =IF(OR(B17="",C17=0),"",F17/C17) | J17: Orientativos: cámbialos a tu ritmo.
B18: Salud | C18: =IF(B18="","",COUNTIF(Vocabulario!$D$8:$D$47,B18)) | D18: =IF(B18="","",IFERROR(SUMIF(Vocabulario!$D$8:$D$47,B18,Vocabulario!$F$8:$F$47)/COUNTIFS(Vocabulario!$D$8:$D$47,B18,Vocabulario!$F$8:$F$47,">0"),0)) | E18: =IF(B18="","",COUNTIFS(Vocabulario!$D$8:$D$47,B18,Vocabulario!$M$8:$M$47,"Repasar")) | F18: =IF(B18="","",COUNTIFS(Vocabulario!$D$8:$D$47,B18,Vocabulario!$F$8:$F$47,5)) | G18: =IF(OR(B18="",C18=0),"",F18/C18)
B19: Tecnología | C19: =IF(B19="","",COUNTIF(Vocabulario!$D$8:$D$47,B19)) | D19: =IF(B19="","",IFERROR(SUMIF(Vocabulario!$D$8:$D$47,B19,Vocabulario!$F$8:$F$47)/COUNTIFS(Vocabulario!$D$8:$D$47,B19,Vocabulario!$F$8:$F$47,">0"),0)) | E19: =IF(B19="","",COUNTIFS(Vocabulario!$D$8:$D$47,B19,Vocabulario!$M$8:$M$47,"Repasar")) | F19: =IF(B19="","",COUNTIFS(Vocabulario!$D$8:$D$47,B19,Vocabulario!$F$8:$F$47,5)) | G19: =IF(OR(B19="",C19=0),"",F19/C19) | J19: ÚLTIMOS 10 TESTS
B20: Total | C20: =SUM(C12:C19) | D20: =IFERROR(AVERAGE(Vocabulario!$F$8:$F$47),0) | E20: =SUM(E12:E19) | F20: =SUM(F12:F19) | G20: =IF(C20=0,0,F20/C20) | J20: Test nº | K20: Fecha | L20: % acierto
J21: =IF(MAX(0,COUNT(Autoevaluación!$B$8:$B$37)-10)+1>COUNT(Autoevaluación!$B$8:$B$37),"",MAX(0,COUNT(Autoevaluación!$B$8:$B$37)-10)+1) | K21: =IF(J21="","",INDEX(Autoevaluación!$B$8:$B$37,J21)) | L21: =IF(J21="","",INDEX(Autoevaluación!$G$8:$G$37,J21))
B22: GRÁFICOS | J22: =IF(MAX(0,COUNT(Autoevaluación!$B$8:$B$37)-10)+2>COUNT(Autoevaluación!$B$8:$B$37),"",MAX(0,COUNT(Autoevaluación!$B$8:$B$37)-10)+2) | K22: =IF(J22="","",INDEX(Autoevaluación!$B$8:$B$37,J22)) | L22: =IF(J22="","",INDEX(Autoevaluación!$G$8:$G$37,J22))
J23: =IF(MAX(0,COUNT(Autoevaluación!$B$8:$B$37)-10)+3>COUNT(Autoevaluación!$B$8:$B$37),"",MAX(0,COUNT(Autoevaluación!$B$8:$B$37)-10)+3) | K23: =IF(J23="","",INDEX(Autoevaluación!$B$8:$B$37,J23)) | L23: =IF(J23="","",INDEX(Autoevaluación!$G$8:$G$37,J23))
J24: =IF(MAX(0,COUNT(Autoevaluación!$B$8:$B$37)-10)+4>COUNT(Autoevaluación!$B$8:$B$37),"",MAX(0,COUNT(Autoevaluación!$B$8:$B$37)-10)+4) | K24: =IF(J24="","",INDEX(Autoevaluación!$B$8:$B$37,J24)) | L24: =IF(J24="","",INDEX(Autoevaluación!$G$8:$G$37,J24))
J25: =IF(MAX(0,COUNT(Autoevaluación!$B$8:$B$37)-10)+5>COUNT(Autoevaluación!$B$8:$B$37),"",MAX(0,COUNT(Autoevaluación!$B$8:$B$37)-10)+5) | K25: =IF(J25="","",INDEX(Autoevaluación!$B$8:$B$37,J25)) | L25: =IF(J25="","",INDEX(Autoevaluación!$G$8:$G$37,J25))
J26: =IF(MAX(0,COUNT(Autoevaluación!$B$8:$B$37)-10)+6>COUNT(Autoevaluación!$B$8:$B$37),"",MAX(0,COUNT(Autoevaluación!$B$8:$B$37)-10)+6) | K26: =IF(J26="","",INDEX(Autoevaluación!$B$8:$B$37,J26)) | L26: =IF(J26="","",INDEX(Autoevaluación!$G$8:$G$37,J26))
J27: =IF(MAX(0,COUNT(Autoevaluación!$B$8:$B$37)-10)+7>COUNT(Autoevaluación!$B$8:$B$37),"",MAX(0,COUNT(Autoevaluación!$B$8:$B$37)-10)+7) | K27: =IF(J27="","",INDEX(Autoevaluación!$B$8:$B$37,J27)) | L27: =IF(J27="","",INDEX(Autoevaluación!$G$8:$G$37,J27))
J28: =IF(MAX(0,COUNT(Autoevaluación!$B$8:$B$37)-10)+8>COUNT(Autoevaluación!$B$8:$B$37),"",MAX(0,COUNT(Autoevaluación!$B$8:$B$37)-10)+8) | K28: =IF(J28="","",INDEX(Autoevaluación!$B$8:$B$37,J28)) | L28: =IF(J28="","",INDEX(Autoevaluación!$G$8:$G$37,J28))
J29: =IF(MAX(0,COUNT(Autoevaluación!$B$8:$B$37)-10)+9>COUNT(Autoevaluación!$B$8:$B$37),"",MAX(0,COUNT(Autoevaluación!$B$8:$B$37)-10)+9) | K29: =IF(J29="","",INDEX(Autoevaluación!$B$8:$B$37,J29)) | L29: =IF(J29="","",INDEX(Autoevaluación!$G$8:$G$37,J29))
J30: =IF(MAX(0,COUNT(Autoevaluación!$B$8:$B$37)-10)+10>COUNT(Autoevaluación!$B$8:$B$37),"",MAX(0,COUNT(Autoevaluación!$B$8:$B$37)-10)+10) | K30: =IF(J30="","",INDEX(Autoevaluación!$B$8:$B$37,J30)) | L30: =IF(J30="","",INDEX(Autoevaluación!$G$8:$G$37,J30))

Sheet Vocabulario
B2: Cuaderno de vocabulario
B3: Apunta cada palabra con su traducción, un ejemplo y tu nivel (1-5). El archivo calcula cuándo toca repasarla.
B5: Idioma: | C5: Inglés | D5: Hoy: | E5: =TODAY()
B7: Palabra o expresión | C7: Traducción | D7: Categoría | E7: Frase de ejemplo | F7: Nivel (1-5) | G7: Última revisión | H7: Veces acertada | I7: Veces practicada | J7: % acierto | K7: Próximo repaso | L7: Días hasta repaso | M7: Estado
B8: reliable | C8: fiable, de confianza | D8: Trabajo | E8: He is a reliable colleague. | F8: 4 | G8: 46286 | H8: 7 | I8: 8 | J8: =IF(OR(B8="",I8="",I8=0),"",H8/I8) | K8: =IF(OR(G8="",F8=""),"",IFERROR(G8+INDEX(Panel!$K$12:$K$16,F8),"")) | L8: =IF(K8="","",K8-$E$5) | M8: =IF(B8="","",IF(F8="","Sin nivel",IF(G8="","Nueva",IF(K8<=$E$5,"Repasar",IF(F8=5,"Dominada","Al día")))))
B9: to book | C9: reservar | D9: Viajes | E9: I booked a room for two nights. | F9: 5 | G9: 46275 | H9: 9 | I9: 9 | J9: =IF(OR(B9="",I9="",I9=0),"",H9/I9) | K9: =IF(OR(G9="",F9=""),"",IFERROR(G9+INDEX(Panel!$K$12:$K$16,F9),"")) | L9: =IF(K9="","",K9-$E$5) | M9: =IF(B9="","",IF(F9="","Sin nivel",IF(G9="","Nueva",IF(K9<=$E$5,"Repasar",IF(F9=5,"Dominada","Al día")))))
B10: luggage | C10: equipaje | D10: Viajes | E10: My luggage got lost at the airport. | F10: 3 | G10: 46289 | H10: 5 | I10: 7 | J10: =IF(OR(B10="",I10="",I10=0),"",H10/I10) | K10: =IF(OR(G10="",F10=""),"",IFERROR(G10+INDEX(Panel!$K$12:$K$16,F10),"")) | L10: =IF(K10="","",K10-$E$5) | M10: =IF(B10="","",IF(F10="","Sin nivel",IF(G10="","Nueva",IF(K10<=$E$5,"Repasar",IF(F10=5,"Dominada","Al día")))))
B11: deadline | C11: fecha límite | D11: Trabajo | E11: The deadline is next Friday. | F11: 3 | G11: 46291 | H11: 4 | I11: 6 | J11: =IF(OR(B11="",I11="",I11=0),"",H11/I11) | K11: =IF(OR(G11="",F11=""),"",IFERROR(G11+INDEX(Panel!$K$12:$K$16,F11),"")) | L11: =IF(K11="","",K11-$E$5) | M11: =IF(B11="","",IF(F11="","Sin nivel",IF(G11="","Nueva",IF(K11<=$E$5,"Repasar",IF(F11=5,"Dominada","Al día")))))
B12: fridge | C12: nevera, frigorífico | D12: Casa | E12: There is some milk in the fridge. | F12: 5 | G12: 46264 | H12: 10 | I12: 10 | J12: =IF(OR(B12="",I12="",I12=0),"",H12/I12) | K12: =IF(OR(G12="",F12=""),"",IFERROR(G12+INDEX(Panel!$K$12:$K$16,F12),"")) | L12: =IF(K12="","",K12-$E$5) | M12: =IF(B12="","",IF(F12="","Sin nivel",IF(G12="","Nueva",IF(K12<=$E$5,"Repasar",IF(F12=5,"Dominada","Al día")))))
B13: to get along | C13: llevarse bien | D13: Verbos frecuentes | E13: I get along with my neighbours. | F13: 2 | G13: 46294 | H13: 3 | I13: 6 | J13: =IF(OR(B13="",I13="",I13=0),"",H13/I13) | K13: =IF(OR(G13="",F13=""),"",IFERROR(G13+INDEX(Panel!$K$12:$K$16,F13),"")) | L13: =IF(K13="","",K13-$E$5) | M13: =IF(B13="","",IF(F13="","Sin nivel",IF(G13="","Nueva",IF(K13<=$E$5,"Repasar",IF(F13=5,"Dominada","Al día")))))
B14: leftovers | C14: sobras | D14: Comida | E14: We had leftovers for dinner. | F14: 2 | G14: 46295 | H14: 2 | I14: 5 | J14: =IF(OR(B14="",I14="",I14=0),"",H14/I14) | K14: =IF(OR(G14="",F14=""),"",IFERROR(G14+INDEX(Panel!$K$12:$K$16,F14),"")) | L14: =IF(K14="","",K14-$E$5) | M14: =IF(B14="","",IF(F14="","Sin nivel",IF(G14="","Nueva",IF(K14<=$E$5,"Repasar",IF(F14=5,"Dominada","Al día")))))
B15: headache | C15: dolor de cabeza | D15: Salud | E15: I have a terrible headache. | F15: 4 | G15: 46283 | H15: 6 | I15: 7 | J15: =IF(OR(B15="",I15="",I15=0),"",H15/I15) | K15: =IF(OR(G15="",F15=""),"",IFERROR(G15+INDEX(Panel!$K$12:$K$16,F15),"")) | L15: =IF(K15="","",K15-$E$5) | M15: =IF(B15="","",IF(F15="","Sin nivel",IF(G15="","Nueva",IF(K15<=$E$5,"Repasar",IF(F15=5,"Dominada","Al día")))))
B16: to run out of | C16: quedarse sin | D16: Verbos frecuentes | E16: We ran out of coffee this morning. | F16: 3 | G16: 46290 | H16: 4 | I16: 6 | J16: =IF(OR(B16="",I16="",I16=0),"",H16/I16) | K16: =IF(OR(G16="",F16=""),"",IFERROR(G16+INDEX(Panel!$K$12:$K$16,F16),"")) | L16: =IF(K16="","",K16-$E$5) | M16: =IF(B16="","",IF(F16="","Sin nivel",IF(G16="","Nueva",IF(K16<=$E$5,"Repasar",IF(F16=5,"Dominada","Al día")))))
B17: spicy | C17: picante | D17: Comida | E17: This sauce is too spicy for me. | F17: 1 | G17: 46296 | H17: 1 | I17: 4 | J17: =IF(OR(B17="",I17="",I17=0),"",H17/I17) | K17: =IF(OR(G17="",F17=""),"",IFERROR(G17+INDEX(Panel!$K$12:$K$16,F17),"")) | L17: =IF(K17="","",K17-$E$5) | M17: =IF(B17="","",IF(F17="","Sin nivel",IF(G17="","Nueva",IF(K17<=$E$5,"Repasar",IF(F17=5,"Dominada","Al día")))))
B18: break a leg | C18: ¡mucha suerte! | D18: Expresiones | E18: Break a leg at your interview! | F18: 2 | G18: 46293 | H18: 2 | I18: 4 | J18: =IF(OR(B18="",I18="",I18=0),"",H18/I18) | K18: =IF(OR(G18="",F18=""),"",IFERROR(G18+INDEX(Panel!$K$12:$K$16,F18),"")) | L18: =IF(K18="","",K18-$E$5) | M18: =IF(B18="","",IF(F18="","Sin nivel",IF(G18="","Nueva",IF(K18<=$E$5,"Repasar",IF(F18=5,"Dominada","Al día")))))
B19: it's up to you | C19: tú decides | D19: Expresiones | E19: I don't mind, it's up to you. | F19: 3 | G19: 46287 | H19: 5 | I19: 6 | J19: =IF(OR(B19="",I19="",I19=0),"",H19/I19) | K19: =IF(OR(G19="",F19=""),"",IFERROR(G19+INDEX(Panel!$K$12:$K$16,F19),"")) | L19: =IF(K19="","",K19-$E$5) | M19: =IF(B19="","",IF(F19="","Sin nivel",IF(G19="","Nueva",IF(K19<=$E$5,"Repasar",IF(F19=5,"Dominada","Al día")))))
... B22: neighbour | C22: vecino/a | D22: Casa | E22: Our neighbour has two dogs. | F22: 4 | G22: 46285 | H22: 6 | I22: 7 | J22: =IF(OR(B22="",I22="",I22=0),"",H22/I22) | K22: =IF(OR(G22="",F22=""),"",IFERROR(G22+INDEX(Panel!$K$12:$K$16,F22),"")) | L22: =IF(K22="","",K22-$E$5) | M22: =IF(B22="","",IF(F22="","Sin nivel",IF(G22="","Nueva",IF(K22<=$E$5,"Repasar",IF(F22=5,"Dominada","Al día")))))
J23: =IF(OR(B23="",I23="",I23=0),"",H23/I23) | K23: =IF(OR(G23="",F23=""),"",IFERROR(G23+INDEX(Panel!$K$12:$K$16,F23),"")) | L23: =IF(K23="","",K23-$E$5) | M23: =IF(B23="","",IF(F23="","Sin nivel",IF(G23="","Nueva",IF(K23<=$E$5,"Repasar",IF(F23=5,"Dominada","Al día")))))
J24: =IF(OR(B24="",I24="",I24=0),"",H24/I24) | K24: =IF(OR(G24="",F24=""),"",IFERROR(G24+INDEX(Panel!$K$12:$K$16,F24),"")) | L24: =IF(K24="","",K24-$E$5) | M24: =IF(B24="","",IF(F24="","Sin nivel",IF(G24="","Nueva",IF(K24<=$E$5,"Repasar",IF(F24=5,"Dominada","Al día")))))
J25: =IF(OR(B25="",I25="",I25=0),"",H25/I25) | K25: =IF(OR(G25="",F25=""),"",IFERROR(G25+INDEX(Panel!$K$12:$K$16,F25),"")) | L25: =IF(K25="","",K25-$E$5) | M25: =IF(B25="","",IF(F25="","Sin nivel",IF(G25="","Nueva",IF(K25<=$E$5,"Repasar",IF(F25=5,"Dominada","Al día")))))
J26: =IF(OR(B26="",I26="",I26=0),"",H26/I26) | K26: =IF(OR(G26="",F26=""),"",IFERROR(G26+INDEX(Panel!$K$12:$K$16,F26),"")) | L26: =IF(K26="","",K26-$E$5) | M26: =IF(B26="","",IF(F26="","Sin nivel",IF(G26="","Nueva",IF(K26<=$E$5,"Repasar",IF(F26=5,"Dominada","Al día")))))
J27: =IF(OR(B27="",I27="",I27=0),"",H27/I27) | K27: =IF(OR(G27="",F27=""),"",IFERROR(G27+INDEX(Panel!$K$12:$K$16,F27),"")) | L27: =IF(K27="","",K27-$E$5) | M27: =IF(B27="","",IF(F27="","Sin nivel",IF(G27="","Nueva",IF(K27<=$E$5,"Repasar",IF(F27=5,"Dominada","Al día")))))
J28: =IF(OR(B28="",I28="",I28=0),"",H28/I28) | K28: =IF(OR(G28="",F28=""),"",IFERROR(G28+INDEX(Panel!$K$12:$K$16,F28),"")) | L28: =IF(K28="","",K28-$E$5) | M28: =IF(B28="","",IF(F28="","Sin nivel",IF(G28="","Nueva",IF(K28<=$E$5,"Repasar",IF(F28=5,"Dominada","Al día")))))
J29: =IF(OR(B29="",I29="",I29=0),"",H29/I29) | K29: =IF(OR(G29="",F29=""),"",IFERROR(G29+INDEX(Panel!$K$12:$K$16,F29),"")) | L29: =IF(K29="","",K29-$E$5) | M29: =IF(B29="","",IF(F29="","Sin nivel",IF(G29="","Nueva",IF(K29<=$E$5,"Repasar",IF(F29=5,"Dominada","Al día")))))
J30: =IF(OR(B30="",I30="",I30=0),"",H30/I30) | K30: =IF(OR(G30="",F30=""),"",IFERROR(G30+INDEX(Panel!$K$12:$K$16,F30),"")) | L30: =IF(K30="","",K30-$E$5) | M30: =IF(B30="","",IF(F30="","Sin nivel",IF(G30="","Nueva",IF(K30<=$E$5,"Repasar",IF(F30=5,"Dominada","Al día")))))
J31: =IF(OR(B31="",I31="",I31=0),"",H31/I31) | K31: =IF(OR(G31="",F31=""),"",IFERROR(G31+INDEX(Panel!$K$12:$K$16,F31),"")) | L31: =IF(K31="","",K31-$E$5) | M31: =IF(B31="","",IF(F31="","Sin nivel",IF(G31="","Nueva",IF(K31<=$E$5,"Repasar",IF(F31=5,"Dominada","Al día")))))
J32: =IF(OR(B32="",I32="",I32=0),"",H32/I32) | K32: =IF(OR(G32="",F32=""),"",IFERROR(G32+INDEX(Panel!$K$12:$K$16,F32),"")) | L32: =IF(K32="","",K32-$E$5) | M32: =IF(B32="","",IF(F32="","Sin nivel",IF(G32="","Nueva",IF(K32<=$E$5,"Repasar",IF(F32=5,"Dominada","Al día")))))
J33: =IF(OR(B33="",I33="",I33=0),"",H33/I33) | K33: =IF(OR(G33="",F33=""),"",IFERROR(G33+INDEX(Panel!$K$12:$K$16,F33),"")) | L33: =IF(K33="","",K33-$E$5) | M33: =IF(B33="","",IF(F33="","Sin nivel",IF(G33="","Nueva",IF(K33<=$E$5,"Repasar",IF(F33=5,"Dominada","Al día")))))
J34: =IF(OR(B34="",I34="",I34=0),"",H34/I34) | K34: =IF(OR(G34="",F34=""),"",IFERROR(G34+INDEX(Panel!$K$12:$K$16,F34),"")) | L34: =IF(K34="","",K34-$E$5) | M34: =IF(B34="","",IF(F34="","Sin nivel",IF(G34="","Nueva",IF(K34<=$E$5,"Repasar",IF(F34=5,"Dominada","Al día")))))
... J47: =IF(OR(B47="",I47="",I47=0),"",H47/I47) | K47: =IF(OR(G47="",F47=""),"",IFERROR(G47+INDEX(Panel!$K$12:$K$16,F47),"")) | L47: =IF(K47="","",K47-$E$5) | M47: =IF(B47="","",IF(F47="","Sin nivel",IF(G47="","Nueva",IF(K47<=$E$5,"Repasar",IF(F47=5,"Dominada","Al día")))))

Sheet Autoevaluación
B2: Autoevaluación
B3: Anota cada mini-test: cuántas palabras probaste y cuántas acertaste. Verás tu % de acierto y la tendencia.
B5: Objetivo de acierto: | E5: 0.8
B7: Fecha | C7: Categoría | D7: Palabras probadas | E7: Aciertos | F7: Fallos | G7: % acierto | H7: ¿Objetivo?
B8: 46258 | C8: Todas | D8: 15 | E8: 8 | F8: =IF(OR(D8="",E8=""),"",D8-E8) | G8: =IF(OR(D8="",E8="",D8=0),"",E8/D8) | H8: =IF(G8="","",IF(G8>=$E$5,"Sí","No"))
B9: 46262 | C9: Viajes | D9: 10 | E9: 6 | F9: =IF(OR(D9="",E9=""),"",D9-E9) | G9: =IF(OR(D9="",E9="",D9=0),"",E9/D9) | H9: =IF(G9="","",IF(G9>=$E$5,"Sí","No"))
B10: 46267 | C10: Verbos frecuentes | D10: 12 | E10: 7 | F10: =IF(OR(D10="",E10=""),"",D10-E10) | G10: =IF(OR(D10="",E10="",D10=0),"",E10/D10) | H10: =IF(G10="","",IF(G10>=$E$5,"Sí","No"))
B11: 46271 | C11: Trabajo | D11: 10 | E11: 7 | F11: =IF(OR(D11="",E11=""),"",D11-E11) | G11: =IF(OR(D11="",E11="",D11=0),"",E11/D11) | H11: =IF(G11="","",IF(G11>=$E$5,"Sí","No"))
B12: 46274 | C12: Todas | D12: 20 | E12: 13 | F12: =IF(OR(D12="",E12=""),"",D12-E12) | G12: =IF(OR(D12="",E12="",D12=0),"",E12/D12) | H12: =IF(G12="","",IF(G12>=$E$5,"Sí","No"))
B13: 46278 | C13: Comida | D13: 10 | E13: 7 | F13: =IF(OR(D13="",E13=""),"",D13-E13) | G13: =IF(OR(D13="",E13="",D13=0),"",E13/D13) | H13: =IF(G13="","",IF(G13>=$E$5,"Sí","No"))
B14: 46281 | C14: Casa | D14: 10 | E14: 8 | F14: =IF(OR(D14="",E14=""),"",D14-E14) | G14: =IF(OR(D14="",E14="",D14=0),"",E14/D14) | H14: =IF(G14="","",IF(G14>=$E$5,"Sí","No"))
B15: 46284 | C15: Expresiones | D15: 8 | E15: 6 | F15: =IF(OR(D15="",E15=""),"",D15-E15) | G15: =IF(OR(D15="",E15="",D15=0),"",E15/D15) | H15: =IF(G15="","",IF(G15>=$E$5,"Sí","No"))
B16: 46288 | C16: Todas | D16: 20 | E16: 15 | F16: =IF(OR(D16="",E16=""),"",D16-E16) | G16: =IF(OR(D16="",E16="",D16=0),"",E16/D16) | H16: =IF(G16="","",IF(G16>=$E$5,"Sí","No"))
B17: 46291 | C17: Verbos frecuentes | D17: 12 | E17: 10 | F17: =IF(OR(D17="",E17=""),"",D17-E17) | G17: =IF(OR(D17="",E17="",D17=0),"",E17/D17) | H17: =IF(G17="","",IF(G17>=$E$5,"Sí","No"))
B18: 46294 | C18: Viajes | D18: 10 | E18: 9 | F18: =IF(OR(D18="",E18=""),"",D18-E18) | G18: =IF(OR(D18="",E18="",D18=0),"",E18/D18) | H18: =IF(G18="","",IF(G18>=$E$5,"Sí","No"))
B19: 46296 | C19: Todas | D19: 15 | E19: 13 | F19: =IF(OR(D19="",E19=""),"",D19-E19) | G19: =IF(OR(D19="",E19="",D19=0),"",E19/D19) | H19: =IF(G19="","",IF(G19>=$E$5,"Sí","No"))
F20: =IF(OR(D20="",E20=""),"",D20-E20) | G20: =IF(OR(D20="",E20="",D20=0),"",E20/D20) | H20: =IF(G20="","",IF(G20>=$E$5,"Sí","No"))
F21: =IF(OR(D21="",E21=""),"",D21-E21) | G21: =IF(OR(D21="",E21="",D21=0),"",E21/D21) | H21: =IF(G21="","",IF(G21>=$E$5,"Sí","No"))
F22: =IF(OR(D22="",E22=""),"",D22-E22) | G22: =IF(OR(D22="",E22="",D22=0),"",E22/D22) | H22: =IF(G22="","",IF(G22>=$E$5,"Sí","No"))
F23: =IF(OR(D23="",E23=""),"",D23-E23) | G23: =IF(OR(D23="",E23="",D23=0),"",E23/D23) | H23: =IF(G23="","",IF(G23>=$E$5,"Sí","No"))
F24: =IF(OR(D24="",E24=""),"",D24-E24) | G24: =IF(OR(D24="",E24="",D24=0),"",E24/D24) | H24: =IF(G24="","",IF(G24>=$E$5,"Sí","No"))
F25: =IF(OR(D25="",E25=""),"",D25-E25) | G25: =IF(OR(D25="",E25="",D25=0),"",E25/D25) | H25: =IF(G25="","",IF(G25>=$E$5,"Sí","No"))
F26: =IF(OR(D26="",E26=""),"",D26-E26) | G26: =IF(OR(D26="",E26="",D26=0),"",E26/D26) | H26: =IF(G26="","",IF(G26>=$E$5,"Sí","No"))
F27: =IF(OR(D27="",E27=""),"",D27-E27) | G27: =IF(OR(D27="",E27="",D27=0),"",E27/D27) | H27: =IF(G27="","",IF(G27>=$E$5,"Sí","No"))
F28: =IF(OR(D28="",E28=""),"",D28-E28) | G28: =IF(OR(D28="",E28="",D28=0),"",E28/D28) | H28: =IF(G28="","",IF(G28>=$E$5,"Sí","No"))
F29: =IF(OR(D29="",E29=""),"",D29-E29) | G29: =IF(OR(D29="",E29="",D29=0),"",E29/D29) | H29: =IF(G29="","",IF(G29>=$E$5,"Sí","No"))
F30: =IF(OR(D30="",E30=""),"",D30-E30) | G30: =IF(OR(D30="",E30="",D30=0),"",E30/D30) | H30: =IF(G30="","",IF(G30>=$E$5,"Sí","No"))
F31: =IF(OR(D31="",E31=""),"",D31-E31) | G31: =IF(OR(D31="",E31="",D31=0),"",E31/D31) | H31: =IF(G31="","",IF(G31>=$E$5,"Sí","No"))
... F37: =IF(OR(D37="",E37=""),"",D37-E37) | G37: =IF(OR(D37="",E37="",D37=0),"",E37/D37) | H37: =IF(G37="","",IF(G37>=$E$5,"Sí","No"))
B38: Total | C38: =COUNT(B8:B37)&" tests" | D38: =SUM(D8:D37) | E38: =SUM(E8:E37) | F38: =SUM(F8:F37) | G38: =IF(D38=0,0,E38/D38)

Sheet Instrucciones
B2: Cuaderno de vocabulario · Cómo usarlo
B3: Plantilla gratuita de Plantillas de Cálculo · plantillasdecalculo.com
B5: CÓMO USARLA
B6: 1. En «Vocabulario» escribe en la celda C5 el idioma que estudias (solo es una etiqueta para ti).
B7: 2. Añade cada palabra nueva en una fila: palabra o expresión, traducción, categoría (desplegable) y una frase de ejemplo propia.
B8: 3. Pon tu nivel de dominio de 1 (la acabo de ver) a 5 (la uso con soltura) y la fecha de la última vez que la repasaste.
B9: 4. Cada vez que practiques una palabra suma 1 a «Veces practicada» y, si la has acertado, también a «Veces acertada».
B10: 5. Mira la columna «Estado»: las filas en ámbar con «Repasar» son las que ya han cumplido su plazo según el nivel.
B11: 6. Tras repasar una palabra, actualiza su nivel y pon la fecha de hoy en «Última revisión»: el próximo repaso se recalcula solo.
B12: 7. En «Autoevaluación» anota cada mini-test (fecha, categoría, palabras probadas y aciertos). Sin dejar filas vacías entre tests.
B13: 8. Abre el «Panel» para ver las palabras por categoría, las que toca repasar y la evolución de tu % de acierto. Allí también puedes cambiar los nombres de las categorías y los intervalos de repaso.
B15: CONSEJOS
... B23: Aviso: los intervalos de repaso son una referencia general de estudio, no un método con resultados garantizados; adáptalos a tu forma de aprender.
